{"text_format":"1","workbook":"xlsx","n_sheets":4,"sheets":["Readme","FromEvoM","Conversion","AME Template"],"not_rendered":{"charts":0,"images":0,"macros":1,"external_links":0,"defined_names":4,"comments":1,"pivot_tables":0},"unopened":[],"bounds":{"document_bytes":16777216,"sheet_cells":100000,"rows_first":2000,"rows_last":500,"rows_between":2000,"halvings":0,"cell_chars":16384,"cell_head_chars":4096},"cells_cut":0,"cells_raw":0,"read":"whole","date_system":"1900"}

{"sheet":"Readme","index":0,"n_rows":20,"n_cols":6,"rows_kept":20,"cut":false,"hidden":false,"merged":[[0,0,0,6],[2,0,2,2],[3,3,3,4],[4,3,4,4]]}
["Instructions for creation of the Aviva AME export file"]
[]
["Please ensure that macros are enabled before clicking on any of the buttons below. "]
[null,null,null,"Group Code:",null,"G00001"]
["1.",null,"Run the \"Pension Contribution\" report in Evolution M for the required single period.","Category ID:",null,"TK028208"]
[null,null,"Select the report called \"Export only - Aviva\" and once viewed on screen click the 'Excel' button."]
[null,null,"Once opened in Excel, highlight all of the cells and select 'copy'."]
[]
[]
["2.",null,"Click the button to the right ,\"Paste from Evolution M\" which will copy into the \"FromEvoM\" sheet. "]
[null,null,"This will also convert the data from the Pension Contribution report into the required format for AME which is shown in the \"Conversion\" sheet. (There are additional columns AF-AN which are used for workings but won't be included on the final .csv file)."]
[null,null,"Both of these sheets are protected so that the formulea aren't accidently changed."]
[]
[]
["3.",null,"Click the button to the right, \"Populate the AME Template\" which will copy the 'converted' data onto the \"SW Template\" sheet."]
[null,null,"If any changes are required then they can be made on the \"AME Template\" sheet."]
[]
[]
["4.",null,"Once any required changes have been made on the \"AME Template\" sheet, click the \"Create .csv\" button to the right."]
[null,null,"Save this file into the required location and upload to Aviva."]

{"sheet":"FromEvoM","index":1,"n_rows":0,"n_cols":0,"rows_kept":0,"cut":false,"hidden":false,"merged":[]}

{"sheet":"Conversion","index":2,"n_rows":700,"n_cols":40,"rows_kept":700,"cut":false,"hidden":false,"merged":[]}
["Group_code","Payroll_Reference_Code","NI_Number","Title","Surname","Forename","Gender","DOB","Address1","Address2","Address3","Address4","Postcode","Email","Marital_status","Employment_start_date","Pensionable_earnings(current)","Contractual_Earnings(current)","Noncontractual_Earnings(current)","Employee_pension_payment(current)","Employer_pension_payment(current)","Employee_Single_Contribution","Employer_Single_Contribution","Yearly_Pensionable_Earnings","Daytime_Telephone","Evening_Telephone","Existing_member","Category_ID",null,null,null,"Member of pension scheme?","Pension Name","Pension Ref","Pension Serial","Salary exchange pension","Tier 1 or Tier 2","Payroll Frequency","EE Pension","ER Pension"]
[{"$f":"IF(ISBLANK(FromEvoM!A2),\"\",Group_Code)","v":""},{"$f":"IF(ISBLANK(FromEvoM!A2),\"\",SUBSTITUTE(FromEvoM!A2,\" \",\"\"))","v":""},{"$f":"IF(ISBLANK(FromEvoM!C2),\"\",SUBSTITUTE(FromEvoM!G2,\" \",\"\"))","v":""},{"$f":"IF(ISBLANK(FromEvoM!D2),\"\",FromEvoM!B2)","v":""},{"$f":"IF(ISBLANK(FromEvoM!D2),\"\",FromEvoM!D2)","v":""},{"$f":"IF(ISBLANK(FromEvoM!C2),\"\",FromEvoM!C2)","v":""},{"$f":"REPLACE(FromEvoM!F2,2,6, )","v":""},{"$f":"IF(ISNUMBER(FromEvoM!E2),FromEvoM!E2,\"\")","v":""},{"$f":"IF(ISBLANK(FromEvoM!I2),\"\",FromEvoM!I2)","v":""},{"$f":"IF(ISBLANK(FromEvoM!J2),\"\",FromEvoM!J2)","v":""},{"$f":"IF(ISBLANK(FromEvoM!K2),\"\",FromEvoM!K2)","v":""},{"$f":"IF(ISBLANK(FromEvoM!L2),\"\",FromEvoM!L2)","v":""},{"$f":"IF(ISBLANK(FromEvoM!M2),\"\",FromEvoM!M2)","v":""},{"$f":"IF(ISBLANK(FromEvoM!P2),\"\",FromEvoM!P2)","v":""},null,{"$f":"IF(ISNUMBER(FromEvoM!X2),FromEvoM!X2,\"\")","v":""},{"$f":"IF(ISNUMBER(FromEvoM!AB2),FromEvoM!AB2,\"\")","v":""},{"$f":"IF(ISNUMBER(FromEvoM!AA2),FromEvoM!AA2,\"\")","v":""},null,{"$f":"AM2","v":""},{"$f":"AN2","v":""},null,null,{"$f":"IF(FromEvoM!W2=1,(FromEvoM!AB2*12),IF(FromEvoM!W2=7,(FromEvoM!AR2),\"\"))","v":""},null,null,{"$f":"IF(ISBLANK(FromEvoM!A2),\"\",IF(FromEvoM!AK2=\"y\",\"Y\",\"N\"))","v":""},{"$f":"IF(ISBLANK(FromEvoM!A2),\"\",Category_ID)","v":""},null,null,null,{"$f":"IF(ISBLANK(FromEvoM!AK2),\"\",FromEvoM!AK2)","v":""},{"$f":"IF(ISBLANK(FromEvoM!AM2),\"\",FromEvoM!AM2)","v":""},{"$f":"IF(ISBLANK(FromEvoM!AN2),\"\",FromEvoM!AN2)","v":""},{"$f":"IF(ISBLANK(FromEvoM!AL2),\"\",FromEvoM!AL2)","v":""},{"$f":"IF(ISBLANK(FromEvoM!A2),\"\",IF(AND(AF2=\"y\",AI2=1),\"Y\",\"N\"))","v":""},{"$f":"IF(ISBLANK(FromEvoM!A2),\"\",IF(FromEvoM!AS2=\"Yes\",2,1))","v":""},{"$f":"IF(FromEvoM!W2=1,\"M\",IF(FromEvoM!W2=7,\"W\",\"\"))","v":""},{"$f":"IF(AJ2=\"Y\",0,IF(AJ2=\"N\",FromEvoM!AF2+FromEvoM!AT2,\"\"))","v":""},{"$f":"IF(AJ2=\"Y\",(FromEvoM!AE2+FromEvoM!AF2-FromEvoM!AT2),IF(AJ2=\"N\",FromEvoM!AE2,\"\"))","v":""}]
[{"$f":"IF(ISBLANK(FromEvoM!A3),\"\",Group_Code)","v":""},{"$f":"IF(ISBLANK(FromEvoM!A3),\"\",SUBSTITUTE(FromEvoM!A3,\" \",\"\"))","v":""},{"$f":"IF(ISBLANK(FromEvoM!C3),\"\",SUBSTITUTE(FromEvoM!G3,\" \",\"\"))","v":""},{"$f":"IF(ISBLANK(FromEvoM!D3),\"\",FromEvoM!B3)","v":""},{"$f":"IF(ISBLANK(FromEvoM!D3),\"\",FromEvoM!D3)","v":""},{"$f":"IF(ISBLANK(FromEvoM!C3),\"\",FromEvoM!C3)","v":""},{"$f":"REPLACE(FromEvoM!F3,2,6, )","v":""},{"$f":"IF(ISNUMBER(FromEvoM!E3),FromEvoM!E3,\"\")","v":""},{"$f":"IF(ISBLANK(FromEvoM!I3),\"\",FromEvoM!I3)","v":""},{"$f":"IF(ISBLANK(FromEvoM!J3),\"\",FromEvoM!J3)","v":""},{"$f":"IF(ISBLANK(FromEvoM!K3),\"\",FromEvoM!K3)","v":""},{"$f":"IF(ISBLANK(FromEvoM!L3),\"\",FromEvoM!L3)","v":""},{"$f":"IF(ISBLANK(FromEvoM!M3),\"\",FromEvoM!M3)","v":""},{"$f":"IF(ISBLANK(FromEvoM!P3),\"\",FromEvoM!P3)","v":""},null,{"$f":"IF(ISNUMBER(FromEvoM!X3),FromEvoM!X3,\"\")","v":""},{"$f":"IF(ISNUMBER(FromEvoM!AB3),FromEvoM!AB3,\"\")","v":""},{"$f":"IF(ISNUMBER(FromEvoM!AA3),FromEvoM!AA3,\"\")","v":""},null,{"$f":"AM3","v":""},{"$f":"AN3","v":""},null,null,{"$f":"IF(FromEvoM!W3=1,(FromEvoM!AB3*12),IF(FromEvoM!W3=7,(FromEvoM!AR3),\"\"))","v":""},null,null,{"$f":"IF(ISBLANK(FromEvoM!A3),\"\",IF(FromEvoM!AK3=\"y\",\"Y\",\"N\"))","v":""},{"$f":"IF(ISBLANK(FromEvoM!A3),\"\",Category_ID)","v":""},null,null,null,{"$f":"IF(ISBLANK(FromEvoM!AK3),\"\",FromEvoM!AK3)","v":""},{"$f":"IF(ISBLANK(FromEvoM!AM3),\"\",FromEvoM!AM3)","v":""},{"$f":"IF(ISBLANK(FromEvoM!AN3),\"\",FromEvoM!AN3)","v":""},{"$f":"IF(ISBLANK(FromEvoM!AL3),\"\",FromEvoM!AL3)","v":""},{"$f":"IF(ISBLANK(FromEvoM!A3),\"\",IF(AND(AF3=\"y\",AI3=1),\"Y\",\"N\"))","v":""},{"$f":"IF(ISBLANK(FromEvoM!A3),\"\",IF(FromEvoM!AS3=\"Yes\",2,1))","v":""},{"$f":"IF(FromEvoM!W3=1,\"M\",IF(FromEvoM!W3=7,\"W\",\"\"))","v":""},{"$f":"IF(AJ3=\"Y\",0,IF(AJ3=\"N\",FromEvoM!AF3+FromEvoM!AT3,\"\"))","v":""},{"$f":"IF(AJ3=\"Y\",(FromEvoM!AE3+FromEvoM!AF3-FromEvoM!AT3),IF(AJ3=\"N\",FromEvoM!AE3,\"\"))","v":""}]
[{"$f":"IF(ISBLANK(FromEvoM!A4),\"\",Group_Code)","v":""},{"$f":"IF(ISBLANK(FromEvoM!A4),\"\",SUBSTITUTE(FromEvoM!A4,\" \",\"\"))","v":""},{"$f":"IF(ISBLANK(FromEvoM!C4),\"\",SUBSTITUTE(FromEvoM!G4,\" \",\"\"))","v":""},{"$f":"IF(ISBLANK(FromEvoM!D4),\"\",FromEvoM!B4)","v":""},{"$f":"IF(ISBLANK(FromEvoM!D4),\"\",FromEvoM!D4)","v":""},{"$f":"IF(ISBLANK(FromEvoM!C4),\"\",FromEvoM!C4)","v":""},{"$f":"REPLACE(FromEvoM!F4,2,6, )","v":""},{"$f":"IF(ISNUMBER(FromEvoM!E4),FromEvoM!E4,\"\")","v":""},{"$f":"IF(ISBLANK(FromEvoM!I4),\"\",FromEvoM!I4)","v":""},{"$f":"IF(ISBLANK(FromEvoM!J4),\"\",FromEvoM!J4)","v":""},{"$f":"IF(ISBLANK(FromEvoM!K4),\"\",FromEvoM!K4)","v":""},{"$f":"IF(ISBLANK(FromEvoM!L4),\"\",FromEvoM!L4)","v":""},{"$f":"IF(ISBLANK(FromEvoM!M4),\"\",FromEvoM!M4)","v":""},{"$f":"IF(ISBLANK(FromEvoM!P4),\"\",FromEvoM!P4)","v":""},null,{"$f":"IF(ISNUMBER(FromEvoM!X4),FromEvoM!X4,\"\")","v":""},{"$f":"IF(ISNUMBER(FromEvoM!AB4),FromEvoM!AB4,\"\")","v":""},{"$f":"IF(ISNUMBER(FromEvoM!AA4),FromEvoM!AA4,\"\")","v":""},null,"","",null,null,{"$f":"IF(FromEvoM!W4=1,(FromEvoM!AB4*12),IF(FromEvoM!W4=7,(FromEvoM!AR4),\"\"))","v":""},null,null,{"$f":"IF(ISBLANK(FromEvoM!A4),\"\",IF(FromEvoM!AK4=\"y\",\"Y\",\"N\"))","v":""},{"$f":"IF(ISBLANK(FromEvoM!A4),\"\",Category_ID)","v":""},null,null,null,{"$f":"IF(ISBLANK(FromEvoM!AK4),\"\",FromEvoM!AK4)","v":""},{"$f":"IF(ISBLANK(FromEvoM!AM4),\"\",FromEvoM!AM4)","v":""},{"$f":"IF(ISBLANK(FromEvoM!AN4),\"\",FromEvoM!AN4)","v":""},{"$f":"IF(ISBLANK(FromEvoM!AL4),\"\",FromEvoM!AL4)","v":""},{"$f":"IF(ISBLANK(FromEvoM!A4),\"\",IF(AND(AF4=\"y\",AI4=1),\"Y\",\"N\"))","v":""},{"$f":"IF(ISBLANK(FromEvoM!A4),\"\",IF(FromEvoM!AS4=\"Yes\",2,1))","v":""},{"$f":"IF(FromEvoM!W4=1,\"M\",IF(FromEvoM!W4=7,\"W\",\"\"))","v":""},{"$f":"IF(AJ4=\"Y\",0,IF(AJ4=\"N\",FromEvoM!AF4+FromEvoM!AT4,\"\"))","v":""},{"$f":"IF(AJ4=\"Y\",(FromEvoM!AE4+FromEvoM!AF4-FromEvoM!AT4),IF(AJ4=\"N\",FromEvoM!AE4,\"\"))","v":""}]
[{"$f":"IF(ISBLANK(FromEvoM!A5),\"\",Group_Code)","v":""},{"$f":"IF(ISBLANK(FromEvoM!A5),\"\",SUBSTITUTE(FromEvoM!A5,\" \",\"\"))","v":""},{"$f":"IF(ISBLANK(FromEvoM!C5),\"\",SUBSTITUTE(FromEvoM!G5,\" \",\"\"))","v":""},{"$f":"IF(ISBLANK(FromEvoM!D5),\"\",FromEvoM!B5)","v":""},{"$f":"IF(ISBLANK(FromEvoM!D5),\"\",FromEvoM!D5)","v":""},{"$f":"IF(ISBLANK(FromEvoM!C5),\"\",FromEvoM!C5)","v":""},{"$f":"REPLACE(FromEvoM!F5,2,6, )","v":""},{"$f":"IF(ISNUMBER(FromEvoM!E5),FromEvoM!E5,\"\")","v":""},{"$f":"IF(ISBLANK(FromEvoM!I5),\"\",FromEvoM!I5)","v":""},{"$f":"IF(ISBLANK(FromEvoM!J5),\"\",FromEvoM!J5)","v":""},{"$f":"IF(ISBLANK(FromEvoM!K5),\"\",FromEvoM!K5)","v":""},{"$f":"IF(ISBLANK(FromEvoM!L5),\"\",FromEvoM!L5)","v":""},{"$f":"IF(ISBLANK(FromEvoM!M5),\"\",FromEvoM!M5)","v":""},{"$f":"IF(ISBLANK(FromEvoM!P5),\"\",FromEvoM!P5)","v":""},null,{"$f":"IF(ISNUMBER(FromEvoM!X5),FromEvoM!X5,\"\")","v":""},{"$f":"IF(ISNUMBER(FromEvoM!AB5),FromEvoM!AB5,\"\")","v":""},{"$f":"IF(ISNUMBER(FromEvoM!AA5),FromEvoM!AA5,\"\")","v":""},null,"","",null,null,{"$f":"IF(FromEvoM!W5=1,(FromEvoM!AB5*12),IF(FromEvoM!W5=7,(FromEvoM!AR5),\"\"))","v":""},null,null,{"$f":"IF(ISBLANK(FromEvoM!A5),\"\",IF(FromEvoM!AK5=\"y\",\"Y\",\"N\"))","v":""},{"$f":"IF(ISBLANK(FromEvoM!A5),\"\",Category_ID)","v":""},null,null,null,{"$f":"IF(ISBLANK(FromEvoM!AK5),\"\",FromEvoM!AK5)","v":""},{"$f":"IF(ISBLANK(FromEvoM!AM5),\"\",FromEvoM!AM5)","v":""},{"$f":"IF(ISBLANK(FromEvoM!AN5),\"\",FromEvoM!AN5)","v":""},{"$f":"IF(ISBLANK(FromEvoM!AL5),\"\",FromEvoM!AL5)","v":""},{"$f":"IF(ISBLANK(FromEvoM!A5),\"\",IF(AND(AF5=\"y\",AI5=1),\"Y\",\"N\"))","v":""},{"$f":"IF(ISBLANK(FromEvoM!A5),\"\",IF(FromEvoM!AS5=\"Yes\",2,1))","v":""},{"$f":"IF(FromEvoM!W5=1,\"M\",IF(FromEvoM!W5=7,\"W\",\"\"))","v":""},{"$f":"IF(AJ5=\"Y\",0,IF(AJ5=\"N\",FromEvoM!AF5+FromEvoM!AT5,\"\"))","v":""},{"$f":"IF(AJ5=\"Y\",(FromEvoM!AE5+FromEvoM!AF5-FromEvoM!AT5),IF(AJ5=\"N\",FromEvoM!AE5,\"\"))","v":""}]
[{"$f":"IF(ISBLANK(FromEvoM!A6),\"\",Group_Code)","v":""},{"$f":"IF(ISBLANK(FromEvoM!A6),\"\",SUBSTITUTE(FromEvoM!A6,\" \",\"\"))","v":""},{"$f":"IF(ISBLANK(FromEvoM!C6),\"\",SUBSTITUTE(FromEvoM!G6,\" \",\"\"))","v":""},{"$f":"IF(ISBLANK(FromEvoM!D6),\"\",FromEvoM!B6)","v":""},{"$f":"IF(ISBLANK(FromEvoM!D6),\"\",FromEvoM!D6)","v":""},{"$f":"IF(ISBLANK(FromEvoM!C6),\"\",FromEvoM!C6)","v":""},{"$f":"REPLACE(FromEvoM!F6,2,6, )","v":""},{"$f":"IF(ISNUMBER(FromEvoM!E6),FromEvoM!E6,\"\")","v":""},{"$f":"IF(ISBLANK(FromEvoM!I6),\"\",FromEvoM!I6)","v":""},{"$f":"IF(ISBLANK(FromEvoM!J6),\"\",FromEvoM!J6)","v":""},{"$f":"IF(ISBLANK(FromEvoM!K6),\"\",FromEvoM!K6)","v":""},{"$f":"IF(ISBLANK(FromEvoM!L6),\"\",FromEvoM!L6)","v":""},{"$f":"IF(ISBLANK(FromEvoM!M6),\"\",FromEvoM!M6)","v":""},{"$f":"IF(ISBLANK(FromEvoM!P6),\"\",FromEvoM!P6)","v":""},null,{"$f":"IF(ISNUMBER(FromEvoM!X6),FromEvoM!X6,\"\")","v":""},{"$f":"IF(ISNUMBER(FromEvoM!AB6),FromEvoM!AB6,\"\")","v":""},{"$f":"IF(ISNUMBER(FromEvoM!AA6),FromEvoM!AA6,\"\")","v":""},null,"","",null,null,{"$f":"IF(FromEvoM!W6=1,(FromEvoM!AB6*12),IF(FromEvoM!W6=7,(FromEvoM!AR6),\"\"))","v":""},null,null,{"$f":"IF(ISBLANK(FromEvoM!A6),\"\",IF(FromEvoM!AK6=\"y\",\"Y\",\"N\"))","v":""},{"$f":"IF(ISBLANK(FromEvoM!A6),\"\",Category_ID)","v":""},null,null,null,{"$f":"IF(ISBLANK(FromEvoM!AK6),\"\",FromEvoM!AK6)","v":""},{"$f":"IF(ISBLANK(FromEvoM!AM6),\"\",FromEvoM!AM6)","v":""},{"$f":"IF(ISBLANK(FromEvoM!AN6),\"\",FromEvoM!AN6)","v":""},{"$f":"IF(ISBLANK(FromEvoM!AL6),\"\",FromEvoM!AL6)","v":""},{"$f":"IF(ISBLANK(FromEvoM!A6),\"\",IF(AND(AF6=\"y\",AI6=1),\"Y\",\"N\"))","v":""},{"$f":"IF(ISBLANK(FromEvoM!A6),\"\",IF(FromEvoM!AS6=\"Yes\",2,1))","v":""},{"$f":"IF(FromEvoM!W6=1,\"M\",IF(FromEvoM!W6=7,\"W\",\"\"))","v":""},{"$f":"IF(AJ6=\"Y\",0,IF(AJ6=\"N\",FromEvoM!AF6+FromEvoM!AT6,\"\"))","v":""},{"$f":"IF(AJ6=\"Y\",(FromEvoM!AE6+FromEvoM!AF6-FromEvoM!AT6),IF(AJ6=\"N\",FromEvoM!AE6,\"\"))","v":""}]
[{"$f":"IF(ISBLANK(FromEvoM!A7),\"\",Group_Code)","v":""},{"$f":"IF(ISBLANK(FromEvoM!A7),\"\",SUBSTITUTE(FromEvoM!A7,\" \",\"\"))","v":""},{"$f":"IF(ISBLANK(FromEvoM!C7),\"\",SUBSTITUTE(FromEvoM!G7,\" \",\"\"))","v":""},{"$f":"IF(ISBLANK(FromEvoM!D7),\"\",FromEvoM!B7)","v":""},{"$f":"IF(ISBLANK(FromEvoM!D7),\"\",FromEvoM!D7)","v":""},{"$f":"IF(ISBLANK(FromEvoM!C7),\"\",FromEvoM!C7)","v":""},{"$f":"REPLACE(FromEvoM!F7,2,6, )","v":""},{"$f":"IF(ISNUMBER(FromEvoM!E7),FromEvoM!E7,\"\")","v":""},{"$f":"IF(ISBLANK(FromEvoM!I7),\"\",FromEvoM!I7)","v":""},{"$f":"IF(ISBLANK(FromEvoM!J7),\"\",FromEvoM!J7)","v":""},{"$f":"IF(ISBLANK(FromEvoM!K7),\"\",FromEvoM!K7)","v":""},{"$f":"IF(ISBLANK(FromEvoM!L7),\"\",FromEvoM!L7)","v":""},{"$f":"IF(ISBLANK(FromEvoM!M7),\"\",FromEvoM!M7)","v":""},{"$f":"IF(ISBLANK(FromEvoM!P7),\"\",FromEvoM!P7)","v":""},null,{"$f":"IF(ISNUMBER(FromEvoM!X7),FromEvoM!X7,\"\")","v":""},{"$f":"IF(ISNUMBER(FromEvoM!AB7),FromEvoM!AB7,\"\")","v":""},{"$f":"IF(ISNUMBER(FromEvoM!AA7),FromEvoM!AA7,\"\")","v":""},null,"","",null,null,{"$f":"IF(FromEvoM!W7=1,(FromEvoM!AB7*12),IF(FromEvoM!W7=7,(FromEvoM!AR7),\"\"))","v":""},null,null,{"$f":"IF(ISBLANK(FromEvoM!A7),\"\",IF(FromEvoM!AK7=\"y\",\"Y\",\"N\"))","v":""},{"$f":"IF(ISBLANK(FromEvoM!A7),\"\",Category_ID)","v":""},null,null,null,{"$f":"IF(ISBLANK(FromEvoM!AK7),\"\",FromEvoM!AK7)","v":""},{"$f":"IF(ISBLANK(FromEvoM!AM7),\"\",FromEvoM!AM7)","v":""},{"$f":"IF(ISBLANK(FromEvoM!AN7),\"\",FromEvoM!AN7)","v":""},{"$f":"IF(ISBLANK(FromEvoM!AL7),\"\",FromEvoM!AL7)","v":""},{"$f":"IF(ISBLANK(FromEvoM!A7),\"\",IF(AND(AF7=\"y\",AI7=1),\"Y\",\"N\"))","v":""},{"$f":"IF(ISBLANK(FromEvoM!A7),\"\",IF(FromEvoM!AS7=\"Yes\",2,1))","v":""},{"$f":"IF(FromEvoM!W7=1,\"M\",IF(FromEvoM!W7=7,\"W\",\"\"))","v":""},{"$f":"IF(AJ7=\"Y\",0,IF(AJ7=\"N\",FromEvoM!AF7+FromEvoM!AT7,\"\"))","v":""},{"$f":"IF(AJ7=\"Y\",(FromEvoM!AE7+FromEvoM!AF7-FromEvoM!AT7),IF(AJ7=\"N\",FromEvoM!AE7,\"\"))","v":""}]
[{"$f":"IF(ISBLANK(FromEvoM!A8),\"\",Group_Code)","v":""},{"$f":"IF(ISBLANK(FromEvoM!A8),\"\",SUBSTITUTE(FromEvoM!A8,\" \",\"\"))","v":""},{"$f":"IF(ISBLANK(FromEvoM!C8),\"\",SUBSTITUTE(FromEvoM!G8,\" \",\"\"))","v":""},{"$f":"IF(ISBLANK(FromEvoM!D8),\"\",FromEvoM!B8)","v":""},{"$f":"IF(ISBLANK(FromEvoM!D8),\"\",FromEvoM!D8)","v":""},{"$f":"IF(ISBLANK(FromEvoM!C8),\"\",FromEvoM!C8)","v":""},{"$f":"REPLACE(FromEvoM!F8,2,6, )","v":""},{"$f":"IF(ISNUMBER(FromEvoM!E8),FromEvoM!E8,\"\")","v":""},{"$f":"IF(ISBLANK(FromEvoM!I8),\"\",FromEvoM!I8)","v":""},{"$f":"IF(ISBLANK(FromEvoM!J8),\"\",FromEvoM!J8)","v":""},{"$f":"IF(ISBLANK(FromEvoM!K8),\"\",FromEvoM!K8)","v":""},{"$f":"IF(ISBLANK(FromEvoM!L8),\"\",FromEvoM!L8)","v":""},{"$f":"IF(ISBLANK(FromEvoM!M8),\"\",FromEvoM!M8)","v":""},{"$f":"IF(ISBLANK(FromEvoM!P8),\"\",FromEvoM!P8)","v":""},null,{"$f":"IF(ISNUMBER(FromEvoM!X8),FromEvoM!X8,\"\")","v":""},{"$f":"IF(ISNUMBER(FromEvoM!AB8),FromEvoM!AB8,\"\")","v":""},{"$f":"IF(ISNUMBER(FromEvoM!AA8),FromEvoM!AA8,\"\")","v":""},null,"","",null,null,{"$f":"IF(FromEvoM!W8=1,(FromEvoM!AB8*12),IF(FromEvoM!W8=7,(FromEvoM!AR8),\"\"))","v":""},null,null,{"$f":"IF(ISBLANK(FromEvoM!A8),\"\",IF(FromEvoM!AK8=\"y\",\"Y\",\"N\"))","v":""},{"$f":"IF(ISBLANK(FromEvoM!A8),\"\",Category_ID)","v":""},null,null,null,{"$f":"IF(ISBLANK(FromEvoM!AK8),\"\",FromEvoM!AK8)","v":""},{"$f":"IF(ISBLANK(FromEvoM!AM8),\"\",FromEvoM!AM8)","v":""},{"$f":"IF(ISBLANK(FromEvoM!AN8),\"\",FromEvoM!AN8)","v":""},{"$f":"IF(ISBLANK(FromEvoM!AL8),\"\",FromEvoM!AL8)","v":""},{"$f":"IF(ISBLANK(FromEvoM!A8),\"\",IF(AND(AF8=\"y\",AI8=1),\"Y\",\"N\"))","v":""},{"$f":"IF(ISBLANK(FromEvoM!A8),\"\",IF(FromEvoM!AS8=\"Yes\",2,1))","v":""},{"$f":"IF(FromEvoM!W8=1,\"M\",IF(FromEvoM!W8=7,\"W\",\"\"))","v":""},{"$f":"IF(AJ8=\"Y\",0,IF(AJ8=\"N\",FromEvoM!AF8+FromEvoM!AT8,\"\"))","v":""},{"$f":"IF(AJ8=\"Y\",(FromEvoM!AE8+FromEvoM!AF8-FromEvoM!AT8),IF(AJ8=\"N\",FromEvoM!AE8,\"\"))","v":""}]
[{"$f":"IF(ISBLANK(FromEvoM!A9),\"\",Group_Code)","v":""},{"$f":"IF(ISBLANK(FromEvoM!A9),\"\",SUBSTITUTE(FromEvoM!A9,\" \",\"\"))","v":""},{"$f":"IF(ISBLANK(FromEvoM!C9),\"\",SUBSTITUTE(FromEvoM!G9,\" \",\"\"))","v":""},{"$f":"IF(ISBLANK(FromEvoM!D9),\"\",FromEvoM!B9)","v":""},{"$f":"IF(ISBLANK(FromEvoM!D9),\"\",FromEvoM!D9)","v":""},{"$f":"IF(ISBLANK(FromEvoM!C9),\"\",FromEvoM!C9)","v":""},{"$f":"REPLACE(FromEvoM!F9,2,6, )","v":""},{"$f":"IF(ISNUMBER(FromEvoM!E9),FromEvoM!E9,\"\")","v":""},{"$f":"IF(ISBLANK(FromEvoM!I9),\"\",FromEvoM!I9)","v":""},{"$f":"IF(ISBLANK(FromEvoM!J9),\"\",FromEvoM!J9)","v":""},{"$f":"IF(ISBLANK(FromEvoM!K9),\"\",FromEvoM!K9)","v":""},{"$f":"IF(ISBLANK(FromEvoM!L9),\"\",FromEvoM!L9)","v":""},{"$f":"IF(ISBLANK(FromEvoM!M9),\"\",FromEvoM!M9)","v":""},{"$f":"IF(ISBLANK(FromEvoM!P9),\"\",FromEvoM!P9)","v":""},null,{"$f":"IF(ISNUMBER(FromEvoM!X9),FromEvoM!X9,\"\")","v":""},{"$f":"IF(ISNUMBER(FromEvoM!AB9),FromEvoM!AB9,\"\")","v":""},{"$f":"IF(ISNUMBER(FromEvoM!AA9),FromEvoM!AA9,\"\")","v":""},null,"","",null,null,{"$f":"IF(FromEvoM!W9=1,(FromEvoM!AB9*12),IF(FromEvoM!W9=7,(FromEvoM!AR9),\"\"))","v":""},null,null,{"$f":"IF(ISBLANK(FromEvoM!A9),\"\",IF(FromEvoM!AK9=\"y\",\"Y\",\"N\"))","v":""},{"$f":"IF(ISBLANK(FromEvoM!A9),\"\",Category_ID)","v":""},null,null,null,{"$f":"IF(ISBLANK(FromEvoM!AK9),\"\",FromEvoM!AK9)","v":""},{"$f":"IF(ISBLANK(FromEvoM!AM9),\"\",FromEvoM!AM9)","v":""},{"$f":"IF(ISBLANK(FromEvoM!AN9),\"\",FromEvoM!AN9)","v":""},{"$f":"IF(ISBLANK(FromEvoM!AL9),\"\",FromEvoM!AL9)","v":""},{"$f":"IF(ISBLANK(FromEvoM!A9),\"\",IF(AND(AF9=\"y\",AI9=1),\"Y\",\"N\"))","v":""},{"$f":"IF(ISBLANK(FromEvoM!A9),\"\",IF(FromEvoM!AS9=\"Yes\",2,1))","v":""},{"$f":"IF(FromEvoM!W9=1,\"M\",IF(FromEvoM!W9=7,\"W\",\"\"))","v":""},{"$f":"IF(AJ9=\"Y\",0,IF(AJ9=\"N\",FromEvoM!AF9+FromEvoM!AT9,\"\"))","v":""},{"$f":"IF(AJ9=\"Y\",(FromEvoM!AE9+FromEvoM!AF9-FromEvoM!AT9),IF(AJ9=\"N\",FromEvoM!AE9,\"\"))","v":""}]
[{"$f":"IF(ISBLANK(FromEvoM!A10),\"\",Group_Code)","v":""},{"$f":"IF(ISBLANK(FromEvoM!A10),\"\",SUBSTITUTE(FromEvoM!A10,\" \",\"\"))","v":""},{"$f":"IF(ISBLANK(FromEvoM!C10),\"\",SUBSTITUTE(FromEvoM!G10,\" \",\"\"))","v":""},{"$f":"IF(ISBLANK(FromEvoM!D10),\"\",FromEvoM!B10)","v":""},{"$f":"IF(ISBLANK(FromEvoM!D10),\"\",FromEvoM!D10)","v":""},{"$f":"IF(ISBLANK(FromEvoM!C10),\"\",FromEvoM!C10)","v":""},{"$f":"REPLACE(FromEvoM!F10,2,6, )","v":""},{"$f":"IF(ISNUMBER(FromEvoM!E10),FromEvoM!E10,\"\")","v":""},{"$f":"IF(ISBLANK(FromEvoM!I10),\"\",FromEvoM!I10)","v":""},{"$f":"IF(ISBLANK(FromEvoM!J10),\"\",FromEvoM!J10)","v":""},{"$f":"IF(ISBLANK(FromEvoM!K10),\"\",FromEvoM!K10)","v":""},{"$f":"IF(ISBLANK(FromEvoM!L10),\"\",FromEvoM!L10)","v":""},{"$f":"IF(ISBLANK(FromEvoM!M10),\"\",FromEvoM!M10)","v":""},{"$f":"IF(ISBLANK(FromEvoM!P10),\"\",FromEvoM!P10)","v":""},null,{"$f":"IF(ISNUMBER(FromEvoM!X10),FromEvoM!X10,\"\")","v":""},{"$f":"IF(ISNUMBER(FromEvoM!AB10),FromEvoM!AB10,\"\")","v":""},{"$f":"IF(ISNUMBER(FromEvoM!AA10),FromEvoM!AA10,\"\")","v":""},null,"","",null,null,{"$f":"IF(FromEvoM!W10=1,(FromEvoM!AB10*12),IF(FromEvoM!W10=7,(FromEvoM!AR10),\"\"))","v":""},null,null,{"$f":"IF(ISBLANK(FromEvoM!A10),\"\",IF(FromEvoM!AK10=\"y\",\"Y\",\"N\"))","v":""},{"$f":"IF(ISBLANK(FromEvoM!A10),\"\",Category_ID)","v":""},null,null,null,{"$f":"IF(ISBLANK(FromEvoM!AK10),\"\",FromEvoM!AK10)","v":""},{"$f":"IF(ISBLANK(FromEvoM!AM10),\"\",FromEvoM!AM10)","v":""},{"$f":"IF(ISBLANK(FromEvoM!AN10),\"\",FromEvoM!AN10)","v":""},{"$f":"IF(ISBLANK(FromEvoM!AL10),\"\",FromEvoM!AL10)","v":""},{"$f":"IF(ISBLANK(FromEvoM!A10),\"\",IF(AND(AF10=\"y\",AI10=1),\"Y\",\"N\"))","v":""},{"$f":"IF(ISBLANK(FromEvoM!A10),\"\",IF(FromEvoM!AS10=\"Yes\",2,1))","v":""},{"$f":"IF(FromEvoM!W10=1,\"M\",IF(FromEvoM!W10=7,\"W\",\"\"))","v":""},{"$f":"IF(AJ10=\"Y\",0,IF(AJ10=\"N\",FromEvoM!AF10+FromEvoM!AT10,\"\"))","v":""},{"$f":"IF(AJ10=\"Y\",(FromEvoM!AE10+FromEvoM!AF10-FromEvoM!AT10),IF(AJ10=\"N\",FromEvoM!AE10,\"\"))","v":""}]
[{"$f":"IF(ISBLANK(FromEvoM!A11),\"\",Group_Code)","v":""},{"$f":"IF(ISBLANK(FromEvoM!A11),\"\",SUBSTITUTE(FromEvoM!A11,\" \",\"\"))","v":""},{"$f":"IF(ISBLANK(FromEvoM!C11),\"\",SUBSTITUTE(FromEvoM!G11,\" \",\"\"))","v":""},{"$f":"IF(ISBLANK(FromEvoM!D11),\"\",FromEvoM!B11)","v":""},{"$f":"IF(ISBLANK(FromEvoM!D11),\"\",FromEvoM!D11)","v":""},{"$f":"IF(ISBLANK(FromEvoM!C11),\"\",FromEvoM!C11)","v":""},{"$f":"REPLACE(FromEvoM!F11,2,6, )","v":""},{"$f":"IF(ISNUMBER(FromEvoM!E11),FromEvoM!E11,\"\")","v":""},{"$f":"IF(ISBLANK(FromEvoM!I11),\"\",FromEvoM!I11)","v":""},{"$f":"IF(ISBLANK(FromEvoM!J11),\"\",FromEvoM!J11)","v":""},{"$f":"IF(ISBLANK(FromEvoM!K11),\"\",FromEvoM!K11)","v":""},{"$f":"IF(ISBLANK(FromEvoM!L11),\"\",FromEvoM!L11)","v":""},{"$f":"IF(ISBLANK(FromEvoM!M11),\"\",FromEvoM!M11)","v":""},{"$f":"IF(ISBLANK(FromEvoM!P11),\"\",FromEvoM!P11)","v":""},null,{"$f":"IF(ISNUMBER(FromEvoM!X11),FromEvoM!X11,\"\")","v":""},{"$f":"IF(ISNUMBER(FromEvoM!AB11),FromEvoM!AB11,\"\")","v":""},{"$f":"IF(ISNUMBER(FromEvoM!AA11),FromEvoM!AA11,\"\")","v":""},null,"","",null,null,{"$f":"IF(FromEvoM!W11=1,(FromEvoM!AB11*12),IF(FromEvoM!W11=7,(FromEvoM!AR11),\"\"))","v":""},null,null,{"$f":"IF(ISBLANK(FromEvoM!A11),\"\",IF(FromEvoM!AK11=\"y\",\"Y\",\"N\"))","v":""},{"$f":"IF(ISBLANK(FromEvoM!A11),\"\",Category_ID)","v":""},null,null,null,{"$f":"IF(ISBLANK(FromEvoM!AK11),\"\",FromEvoM!AK11)","v":""},{"$f":"IF(ISBLANK(FromEvoM!AM11),\"\",FromEvoM!AM11)","v":""},{"$f":"IF(ISBLANK(FromEvoM!AN11),\"\",FromEvoM!AN11)","v":""},{"$f":"IF(ISBLANK(FromEvoM!AL11),\"\",FromEvoM!AL11)","v":""},{"$f":"IF(ISBLANK(FromEvoM!A11),\"\",IF(AND(AF11=\"y\",AI11=1),\"Y\",\"N\"))","v":""},{"$f":"IF(ISBLANK(FromEvoM!A11),\"\",IF(FromEvoM!AS11=\"Yes\",2,1))","v":""},{"$f":"IF(FromEvoM!W11=1,\"M\",IF(FromEvoM!W11=7,\"W\",\"\"))","v":""},{"$f":"IF(AJ11=\"Y\",0,IF(AJ11=\"N\",FromEvoM!AF11+FromEvoM!AT11,\"\"))","v":""},{"$f":"IF(AJ11=\"Y\",(FromEvoM!AE11+FromEvoM!AF11-FromEvoM!AT11),IF(AJ11=\"N\",FromEvoM!AE11,\"\"))","v":""}]
[{"$f":"IF(ISBLANK(FromEvoM!A12),\"\",Group_Code)","v":""},{"$f":"IF(ISBLANK(FromEvoM!A12),\"\",SUBSTITUTE(FromEvoM!A12,\" \",\"\"))","v":""},{"$f":"IF(ISBLANK(FromEvoM!C12),\"\",SUBSTITUTE(FromEvoM!G12,\" \",\"\"))","v":""},{"$f":"IF(ISBLANK(FromEvoM!D12),\"\",FromEvoM!B12)","v":""},{"$f":"IF(ISBLANK(FromEvoM!D12),\"\",FromEvoM!D12)","v":""},{"$f":"IF(ISBLANK(FromEvoM!C12),\"\",FromEvoM!C12)","v":""},{"$f":"REPLACE(FromEvoM!F12,2,6, )","v":""},{"$f":"IF(ISNUMBER(FromEvoM!E12),FromEvoM!E12,\"\")","v":""},{"$f":"IF(ISBLANK(FromEvoM!I12),\"\",FromEvoM!I12)","v":""},{"$f":"IF(ISBLANK(FromEvoM!J12),\"\",FromEvoM!J12)","v":""},{"$f":"IF(ISBLANK(FromEvoM!K12),\"\",FromEvoM!K12)","v":""},{"$f":"IF(ISBLANK(FromEvoM!L12),\"\",FromEvoM!L12)","v":""},{"$f":"IF(ISBLANK(FromEvoM!M12),\"\",FromEvoM!M12)","v":""},{"$f":"IF(ISBLANK(FromEvoM!P12),\"\",FromEvoM!P12)","v":""},null,{"$f":"IF(ISNUMBER(FromEvoM!X12),FromEvoM!X12,\"\")","v":""},{"$f":"IF(ISNUMBER(FromEvoM!AB12),FromEvoM!AB12,\"\")","v":""},{"$f":"IF(ISNUMBER(FromEvoM!AA12),FromEvoM!AA12,\"\")","v":""},null,"","",null,null,{"$f":"IF(FromEvoM!W12=1,(FromEvoM!AB12*12),IF(FromEvoM!W12=7,(FromEvoM!AR12),\"\"))","v":""},null,null,{"$f":"IF(ISBLANK(FromEvoM!A12),\"\",IF(FromEvoM!AK12=\"y\",\"Y\",\"N\"))","v":""},{"$f":"IF(ISBLANK(FromEvoM!A12),\"\",Category_ID)","v":""},null,null,null,{"$f":"IF(ISBLANK(FromEvoM!AK12),\"\",FromEvoM!AK12)","v":""},{"$f":"IF(ISBLANK(FromEvoM!AM12),\"\",FromEvoM!AM12)","v":""},{"$f":"IF(ISBLANK(FromEvoM!AN12),\"\",FromEvoM!AN12)","v":""},{"$f":"IF(ISBLANK(FromEvoM!AL12),\"\",FromEvoM!AL12)","v":""},{"$f":"IF(ISBLANK(FromEvoM!A12),\"\",IF(AND(AF12=\"y\",AI12=1),\"Y\",\"N\"))","v":""},{"$f":"IF(ISBLANK(FromEvoM!A12),\"\",IF(FromEvoM!AS12=\"Yes\",2,1))","v":""},{"$f":"IF(FromEvoM!W12=1,\"M\",IF(FromEvoM!W12=7,\"W\",\"\"))","v":""},{"$f":"IF(AJ12=\"Y\",0,IF(AJ12=\"N\",FromEvoM!AF12+FromEvoM!AT12,\"\"))","v":""},{"$f":"IF(AJ12=\"Y\",(FromEvoM!AE12+FromEvoM!AF12-FromEvoM!AT12),IF(AJ12=\"N\",FromEvoM!AE12,\"\"))","v":""}]
[{"$f":"IF(ISBLANK(FromEvoM!A13),\"\",Group_Code)","v":""},{"$f":"IF(ISBLANK(FromEvoM!A13),\"\",SUBSTITUTE(FromEvoM!A13,\" \",\"\"))","v":""},{"$f":"IF(ISBLANK(FromEvoM!C13),\"\",SUBSTITUTE(FromEvoM!G13,\" \",\"\"))","v":""},{"$f":"IF(ISBLANK(FromEvoM!D13),\"\",FromEvoM!B13)","v":""},{"$f":"IF(ISBLANK(FromEvoM!D13),\"\",FromEvoM!D13)","v":""},{"$f":"IF(ISBLANK(FromEvoM!C13),\"\",FromEvoM!C13)","v":""},{"$f":"REPLACE(FromEvoM!F13,2,6, )","v":""},{"$f":"IF(ISNUMBER(FromEvoM!E13),FromEvoM!E13,\"\")","v":""},{"$f":"IF(ISBLANK(FromEvoM!I13),\"\",FromEvoM!I13)","v":""},{"$f":"IF(ISBLANK(FromEvoM!J13),\"\",FromEvoM!J13)","v":""},{"$f":"IF(ISBLANK(FromEvoM!K13),\"\",FromEvoM!K13)","v":""},{"$f":"IF(ISBLANK(FromEvoM!L13),\"\",FromEvoM!L13)","v":""},{"$f":"IF(ISBLANK(FromEvoM!M13),\"\",FromEvoM!M13)","v":""},{"$f":"IF(ISBLANK(FromEvoM!P13),\"\",FromEvoM!P13)","v":""},null,{"$f":"IF(ISNUMBER(FromEvoM!X13),FromEvoM!X13,\"\")","v":""},{"$f":"IF(ISNUMBER(FromEvoM!AB13),FromEvoM!AB13,\"\")","v":""},{"$f":"IF(ISNUMBER(FromEvoM!AA13),FromEvoM!AA13,\"\")","v":""},null,"","",null,null,{"$f":"IF(FromEvoM!W13=1,(FromEvoM!AB13*12),IF(FromEvoM!W13=7,(FromEvoM!AR13),\"\"))","v":""},null,null,{"$f":"IF(ISBLANK(FromEvoM!A13),\"\",IF(FromEvoM!AK13=\"y\",\"Y\",\"N\"))","v":""},{"$f":"IF(ISBLANK(FromEvoM!A13),\"\",Category_ID)","v":""},null,null,null,{"$f":"IF(ISBLANK(FromEvoM!AK13),\"\",FromEvoM!AK13)","v":""},{"$f":"IF(ISBLANK(FromEvoM!AM13),\"\",FromEvoM!AM13)","v":""},{"$f":"IF(ISBLANK(FromEvoM!AN13),\"\",FromEvoM!AN13)","v":""},{"$f":"IF(ISBLANK(FromEvoM!AL13),\"\",FromEvoM!AL13)","v":""},{"$f":"IF(ISBLANK(FromEvoM!A13),\"\",IF(AND(AF13=\"y\",AI13=1),\"Y\",\"N\"))","v":""},{"$f":"IF(ISBLANK(FromEvoM!A13),\"\",IF(FromEvoM!AS13=\"Yes\",2,1))","v":""},{"$f":"IF(FromEvoM!W13=1,\"M\",IF(FromEvoM!W13=7,\"W\",\"\"))","v":""},{"$f":"IF(AJ13=\"Y\",0,IF(AJ13=\"N\",FromEvoM!AF13+FromEvoM!AT13,\"\"))","v":""},{"$f":"IF(AJ13=\"Y\",(FromEvoM!AE13+FromEvoM!AF13-FromEvoM!AT13),IF(AJ13=\"N\",FromEvoM!AE13,\"\"))","v":""}]
[{"$f":"IF(ISBLANK(FromEvoM!A14),\"\",Group_Code)","v":""},{"$f":"IF(ISBLANK(FromEvoM!A14),\"\",SUBSTITUTE(FromEvoM!A14,\" \",\"\"))","v":""},{"$f":"IF(ISBLANK(FromEvoM!C14),\"\",SUBSTITUTE(FromEvoM!G14,\" \",\"\"))","v":""},{"$f":"IF(ISBLANK(FromEvoM!D14),\"\",FromEvoM!B14)","v":""},{"$f":"IF(ISBLANK(FromEvoM!D14),\"\",FromEvoM!D14)","v":""},{"$f":"IF(ISBLANK(FromEvoM!C14),\"\",FromEvoM!C14)","v":""},{"$f":"REPLACE(FromEvoM!F14,2,6, )","v":""},{"$f":"IF(ISNUMBER(FromEvoM!E14),FromEvoM!E14,\"\")","v":""},{"$f":"IF(ISBLANK(FromEvoM!I14),\"\",FromEvoM!I14)","v":""},{"$f":"IF(ISBLANK(FromEvoM!J14),\"\",FromEvoM!J14)","v":""},{"$f":"IF(ISBLANK(FromEvoM!K14),\"\",FromEvoM!K14)","v":""},{"$f":"IF(ISBLANK(FromEvoM!L14),\"\",FromEvoM!L14)","v":""},{"$f":"IF(ISBLANK(FromEvoM!M14),\"\",FromEvoM!M14)","v":""},{"$f":"IF(ISBLANK(FromEvoM!P14),\"\",FromEvoM!P14)","v":""},null,{"$f":"IF(ISNUMBER(FromEvoM!X14),FromEvoM!X14,\"\")","v":""},{"$f":"IF(ISNUMBER(FromEvoM!AB14),FromEvoM!AB14,\"\")","v":""},{"$f":"IF(ISNUMBER(FromEvoM!AA14),FromEvoM!AA14,\"\")","v":""},null,"","",null,null,{"$f":"IF(FromEvoM!W14=1,(FromEvoM!AB14*12),IF(FromEvoM!W14=7,(FromEvoM!AR14),\"\"))","v":""},null,null,{"$f":"IF(ISBLANK(FromEvoM!A14),\"\",IF(FromEvoM!AK14=\"y\",\"Y\",\"N\"))","v":""},{"$f":"IF(ISBLANK(FromEvoM!A14),\"\",Category_ID)","v":""},null,null,null,{"$f":"IF(ISBLANK(FromEvoM!AK14),\"\",FromEvoM!AK14)","v":""},{"$f":"IF(ISBLANK(FromEvoM!AM14),\"\",FromEvoM!AM14)","v":""},{"$f":"IF(ISBLANK(FromEvoM!AN14),\"\",FromEvoM!AN14)","v":""},{"$f":"IF(ISBLANK(FromEvoM!AL14),\"\",FromEvoM!AL14)","v":""},{"$f":"IF(ISBLANK(FromEvoM!A14),\"\",IF(AND(AF14=\"y\",AI14=1),\"Y\",\"N\"))","v":""},{"$f":"IF(ISBLANK(FromEvoM!A14),\"\",IF(FromEvoM!AS14=\"Yes\",2,1))","v":""},{"$f":"IF(FromEvoM!W14=1,\"M\",IF(FromEvoM!W14=7,\"W\",\"\"))","v":""},{"$f":"IF(AJ14=\"Y\",0,IF(AJ14=\"N\",FromEvoM!AF14+FromEvoM!AT14,\"\"))","v":""},{"$f":"IF(AJ14=\"Y\",(FromEvoM!AE14+FromEvoM!AF14-FromEvoM!AT14),IF(AJ14=\"N\",FromEvoM!AE14,\"\"))","v":""}]
[{"$f":"IF(ISBLANK(FromEvoM!A15),\"\",Group_Code)","v":""},{"$f":"IF(ISBLANK(FromEvoM!A15),\"\",SUBSTITUTE(FromEvoM!A15,\" \",\"\"))","v":""},{"$f":"IF(ISBLANK(FromEvoM!C15),\"\",SUBSTITUTE(FromEvoM!G15,\" \",\"\"))","v":""},{"$f":"IF(ISBLANK(FromEvoM!D15),\"\",FromEvoM!B15)","v":""},{"$f":"IF(ISBLANK(FromEvoM!D15),\"\",FromEvoM!D15)","v":""},{"$f":"IF(ISBLANK(FromEvoM!C15),\"\",FromEvoM!C15)","v":""},{"$f":"REPLACE(FromEvoM!F15,2,6, )","v":""},{"$f":"IF(ISNUMBER(FromEvoM!E15),FromEvoM!E15,\"\")","v":""},{"$f":"IF(ISBLANK(FromEvoM!I15),\"\",FromEvoM!I15)","v":""},{"$f":"IF(ISBLANK(FromEvoM!J15),\"\",FromEvoM!J15)","v":""},{"$f":"IF(ISBLANK(FromEvoM!K15),\"\",FromEvoM!K15)","v":""},{"$f":"IF(ISBLANK(FromEvoM!L15),\"\",FromEvoM!L15)","v":""},{"$f":"IF(ISBLANK(FromEvoM!M15),\"\",FromEvoM!M15)","v":""},{"$f":"IF(ISBLANK(FromEvoM!P15),\"\",FromEvoM!P15)","v":""},null,{"$f":"IF(ISNUMBER(FromEvoM!X15),FromEvoM!X15,\"\")","v":""},{"$f":"IF(ISNUMBER(FromEvoM!AB15),FromEvoM!AB15,\"\")","v":""},{"$f":"IF(ISNUMBER(FromEvoM!AA15),FromEvoM!AA15,\"\")","v":""},null,"","",null,null,{"$f":"IF(FromEvoM!W15=1,(FromEvoM!AB15*12),IF(FromEvoM!W15=7,(FromEvoM!AR15),\"\"))","v":""},null,null,{"$f":"IF(ISBLANK(FromEvoM!A15),\"\",IF(FromEvoM!AK15=\"y\",\"Y\",\"N\"))","v":""},{"$f":"IF(ISBLANK(FromEvoM!A15),\"\",Category_ID)","v":""},null,null,null,{"$f":"IF(ISBLANK(FromEvoM!AK15),\"\",FromEvoM!AK15)","v":""},{"$f":"IF(ISBLANK(FromEvoM!AM15),\"\",FromEvoM!AM15)","v":""},{"$f":"IF(ISBLANK(FromEvoM!AN15),\"\",FromEvoM!AN15)","v":""},{"$f":"IF(ISBLANK(FromEvoM!AL15),\"\",FromEvoM!AL15)","v":""},{"$f":"IF(ISBLANK(FromEvoM!A15),\"\",IF(AND(AF15=\"y\",AI15=1),\"Y\",\"N\"))","v":""},{"$f":"IF(ISBLANK(FromEvoM!A15),\"\",IF(FromEvoM!AS15=\"Yes\",2,1))","v":""},{"$f":"IF(FromEvoM!W15=1,\"M\",IF(FromEvoM!W15=7,\"W\",\"\"))","v":""},{"$f":"IF(AJ15=\"Y\",0,IF(AJ15=\"N\",FromEvoM!AF15+FromEvoM!AT15,\"\"))","v":""},{"$f":"IF(AJ15=\"Y\",(FromEvoM!AE15+FromEvoM!AF15-FromEvoM!AT15),IF(AJ15=\"N\",FromEvoM!AE15,\"\"))","v":""}]
[{"$f":"IF(ISBLANK(FromEvoM!A16),\"\",Group_Code)","v":""},{"$f":"IF(ISBLANK(FromEvoM!A16),\"\",SUBSTITUTE(FromEvoM!A16,\" \",\"\"))","v":""},{"$f":"IF(ISBLANK(FromEvoM!C16),\"\",SUBSTITUTE(FromEvoM!G16,\" \",\"\"))","v":""},{"$f":"IF(ISBLANK(FromEvoM!D16),\"\",FromEvoM!B16)","v":""},{"$f":"IF(ISBLANK(FromEvoM!D16),\"\",FromEvoM!D16)","v":""},{"$f":"IF(ISBLANK(FromEvoM!C16),\"\",FromEvoM!C16)","v":""},{"$f":"REPLACE(FromEvoM!F16,2,6, )","v":""},{"$f":"IF(ISNUMBER(FromEvoM!E16),FromEvoM!E16,\"\")","v":""},{"$f":"IF(ISBLANK(FromEvoM!I16),\"\",FromEvoM!I16)","v":""},{"$f":"IF(ISBLANK(FromEvoM!J16),\"\",FromEvoM!J16)","v":""},{"$f":"IF(ISBLANK(FromEvoM!K16),\"\",FromEvoM!K16)","v":""},{"$f":"IF(ISBLANK(FromEvoM!L16),\"\",FromEvoM!L16)","v":""},{"$f":"IF(ISBLANK(FromEvoM!M16),\"\",FromEvoM!M16)","v":""},{"$f":"IF(ISBLANK(FromEvoM!P16),\"\",FromEvoM!P16)","v":""},null,{"$f":"IF(ISNUMBER(FromEvoM!X16),FromEvoM!X16,\"\")","v":""},{"$f":"IF(ISNUMBER(FromEvoM!AB16),FromEvoM!AB16,\"\")","v":""},{"$f":"IF(ISNUMBER(FromEvoM!AA16),FromEvoM!AA16,\"\")","v":""},null,"","",null,null,{"$f":"IF(FromEvoM!W16=1,(FromEvoM!AB16*12),IF(FromEvoM!W16=7,(FromEvoM!AR16),\"\"))","v":""},null,null,{"$f":"IF(ISBLANK(FromEvoM!A16),\"\",IF(FromEvoM!AK16=\"y\",\"Y\",\"N\"))","v":""},{"$f":"IF(ISBLANK(FromEvoM!A16),\"\",Category_ID)","v":""},null,null,null,{"$f":"IF(ISBLANK(FromEvoM!AK16),\"\",FromEvoM!AK16)","v":""},{"$f":"IF(ISBLANK(FromEvoM!AM16),\"\",FromEvoM!AM16)","v":""},{"$f":"IF(ISBLANK(FromEvoM!AN16),\"\",FromEvoM!AN16)","v":""},{"$f":"IF(ISBLANK(FromEvoM!AL16),\"\",FromEvoM!AL16)","v":""},{"$f":"IF(ISBLANK(FromEvoM!A16),\"\",IF(AND(AF16=\"y\",AI16=1),\"Y\",\"N\"))","v":""},{"$f":"IF(ISBLANK(FromEvoM!A16),\"\",IF(FromEvoM!AS16=\"Yes\",2,1))","v":""},{"$f":"IF(FromEvoM!W16=1,\"M\",IF(FromEvoM!W16=7,\"W\",\"\"))","v":""},{"$f":"IF(AJ16=\"Y\",0,IF(AJ16=\"N\",FromEvoM!AF16+FromEvoM!AT16,\"\"))","v":""},{"$f":"IF(AJ16=\"Y\",(FromEvoM!AE16+FromEvoM!AF16-FromEvoM!AT16),IF(AJ16=\"N\",FromEvoM!AE16,\"\"))","v":""}]
[{"$f":"IF(ISBLANK(FromEvoM!A17),\"\",Group_Code)","v":""},{"$f":"IF(ISBLANK(FromEvoM!A17),\"\",SUBSTITUTE(FromEvoM!A17,\" \",\"\"))","v":""},{"$f":"IF(ISBLANK(FromEvoM!C17),\"\",SUBSTITUTE(FromEvoM!G17,\" \",\"\"))","v":""},{"$f":"IF(ISBLANK(FromEvoM!D17),\"\",FromEvoM!B17)","v":""},{"$f":"IF(ISBLANK(FromEvoM!D17),\"\",FromEvoM!D17)","v":""},{"$f":"IF(ISBLANK(FromEvoM!C17),\"\",FromEvoM!C17)","v":""},{"$f":"REPLACE(FromEvoM!F17,2,6, )","v":""},{"$f":"IF(ISNUMBER(FromEvoM!E17),FromEvoM!E17,\"\")","v":""},{"$f":"IF(ISBLANK(FromEvoM!I17),\"\",FromEvoM!I17)","v":""},{"$f":"IF(ISBLANK(FromEvoM!J17),\"\",FromEvoM!J17)","v":""},{"$f":"IF(ISBLANK(FromEvoM!K17),\"\",FromEvoM!K17)","v":""},{"$f":"IF(ISBLANK(FromEvoM!L17),\"\",FromEvoM!L17)","v":""},{"$f":"IF(ISBLANK(FromEvoM!M17),\"\",FromEvoM!M17)","v":""},{"$f":"IF(ISBLANK(FromEvoM!P17),\"\",FromEvoM!P17)","v":""},null,{"$f":"IF(ISNUMBER(FromEvoM!X17),FromEvoM!X17,\"\")","v":""},{"$f":"IF(ISNUMBER(FromEvoM!AB17),FromEvoM!AB17,\"\")","v":""},{"$f":"IF(ISNUMBER(FromEvoM!AA17),FromEvoM!AA17,\"\")","v":""},null,"","",null,null,{"$f":"IF(FromEvoM!W17=1,(FromEvoM!AB17*12),IF(FromEvoM!W17=7,(FromEvoM!AR17),\"\"))","v":""},null,null,{"$f":"IF(ISBLANK(FromEvoM!A17),\"\",IF(FromEvoM!AK17=\"y\",\"Y\",\"N\"))","v":""},{"$f":"IF(ISBLANK(FromEvoM!A17),\"\",Category_ID)","v":""},null,null,null,{"$f":"IF(ISBLANK(FromEvoM!AK17),\"\",FromEvoM!AK17)","v":""},{"$f":"IF(ISBLANK(FromEvoM!AM17),\"\",FromEvoM!AM17)","v":""},{"$f":"IF(ISBLANK(FromEvoM!AN17),\"\",FromEvoM!AN17)","v":""},{"$f":"IF(ISBLANK(FromEvoM!AL17),\"\",FromEvoM!AL17)","v":""},{"$f":"IF(ISBLANK(FromEvoM!A17),\"\",IF(AND(AF17=\"y\",AI17=1),\"Y\",\"N\"))","v":""},{"$f":"IF(ISBLANK(FromEvoM!A17),\"\",IF(FromEvoM!AS17=\"Yes\",2,1))","v":""},{"$f":"IF(FromEvoM!W17=1,\"M\",IF(FromEvoM!W17=7,\"W\",\"\"))","v":""},{"$f":"IF(AJ17=\"Y\",0,IF(AJ17=\"N\",FromEvoM!AF17+FromEvoM!AT17,\"\"))","v":""},{"$f":"IF(AJ17=\"Y\",(FromEvoM!AE17+FromEvoM!AF17-FromEvoM!AT17),IF(AJ17=\"N\",FromEvoM!AE17,\"\"))","v":""}]
[{"$f":"IF(ISBLANK(FromEvoM!A18),\"\",Group_Code)","v":""},{"$f":"IF(ISBLANK(FromEvoM!A18),\"\",SUBSTITUTE(FromEvoM!A18,\" \",\"\"))","v":""},{"$f":"IF(ISBLANK(FromEvoM!C18),\"\",SUBSTITUTE(FromEvoM!G18,\" \",\"\"))","v":""},{"$f":"IF(ISBLANK(FromEvoM!D18),\"\",FromEvoM!B18)","v":""},{"$f":"IF(ISBLANK(FromEvoM!D18),\"\",FromEvoM!D18)","v":""},{"$f":"IF(ISBLANK(FromEvoM!C18),\"\",FromEvoM!C18)","v":""},{"$f":"REPLACE(FromEvoM!F18,2,6, )","v":""},{"$f":"IF(ISNUMBER(FromEvoM!E18),FromEvoM!E18,\"\")","v":""},{"$f":"IF(ISBLANK(FromEvoM!I18),\"\",FromEvoM!I18)","v":""},{"$f":"IF(ISBLANK(FromEvoM!J18),\"\",FromEvoM!J18)","v":""},{"$f":"IF(ISBLANK(FromEvoM!K18),\"\",FromEvoM!K18)","v":""},{"$f":"IF(ISBLANK(FromEvoM!L18),\"\",FromEvoM!L18)","v":""},{"$f":"IF(ISBLANK(FromEvoM!M18),\"\",FromEvoM!M18)","v":""},{"$f":"IF(ISBLANK(FromEvoM!P18),\"\",FromEvoM!P18)","v":""},null,{"$f":"IF(ISNUMBER(FromEvoM!X18),FromEvoM!X18,\"\")","v":""},{"$f":"IF(ISNUMBER(FromEvoM!AB18),FromEvoM!AB18,\"\")","v":""},{"$f":"IF(ISNUMBER(FromEvoM!AA18),FromEvoM!AA18,\"\")","v":""},null,"","",null,null,{"$f":"IF(FromEvoM!W18=1,(FromEvoM!AB18*12),IF(FromEvoM!W18=7,(FromEvoM!AR18),\"\"))","v":""},null,null,{"$f":"IF(ISBLANK(FromEvoM!A18),\"\",IF(FromEvoM!AK18=\"y\",\"Y\",\"N\"))","v":""},{"$f":"IF(ISBLANK(FromEvoM!A18),\"\",Category_ID)","v":""},null,null,null,{"$f":"IF(ISBLANK(FromEvoM!AK18),\"\",FromEvoM!AK18)","v":""},{"$f":"IF(ISBLANK(FromEvoM!AM18),\"\",FromEvoM!AM18)","v":""},{"$f":"IF(ISBLANK(FromEvoM!AN18),\"\",FromEvoM!AN18)","v":""},{"$f":"IF(ISBLANK(FromEvoM!AL18),\"\",FromEvoM!AL18)","v":""},{"$f":"IF(ISBLANK(FromEvoM!A18),\"\",IF(AND(AF18=\"y\",AI18=1),\"Y\",\"N\"))","v":""},{"$f":"IF(ISBLANK(FromEvoM!A18),\"\",IF(FromEvoM!AS18=\"Yes\",2,1))","v":""},{"$f":"IF(FromEvoM!W18=1,\"M\",IF(FromEvoM!W18=7,\"W\",\"\"))","v":""},{"$f":"IF(AJ18=\"Y\",0,IF(AJ18=\"N\",FromEvoM!AF18+FromEvoM!AT18,\"\"))","v":""},{"$f":"IF(AJ18=\"Y\",(FromEvoM!AE18+FromEvoM!AF18-FromEvoM!AT18),IF(AJ18=\"N\",FromEvoM!AE18,\"\"))","v":""}]
[{"$f":"IF(ISBLANK(FromEvoM!A19),\"\",Group_Code)","v":""},{"$f":"IF(ISBLANK(FromEvoM!A19),\"\",SUBSTITUTE(FromEvoM!A19,\" \",\"\"))","v":""},{"$f":"IF(ISBLANK(FromEvoM!C19),\"\",SUBSTITUTE(FromEvoM!G19,\" \",\"\"))","v":""},{"$f":"IF(ISBLANK(FromEvoM!D19),\"\",FromEvoM!B19)","v":""},{"$f":"IF(ISBLANK(FromEvoM!D19),\"\",FromEvoM!D19)","v":""},{"$f":"IF(ISBLANK(FromEvoM!C19),\"\",FromEvoM!C19)","v":""},{"$f":"REPLACE(FromEvoM!F19,2,6, )","v":""},{"$f":"IF(ISNUMBER(FromEvoM!E19),FromEvoM!E19,\"\")","v":""},{"$f":"IF(ISBLANK(FromEvoM!I19),\"\",FromEvoM!I19)","v":""},{"$f":"IF(ISBLANK(FromEvoM!J19),\"\",FromEvoM!J19)","v":""},{"$f":"IF(ISBLANK(FromEvoM!K19),\"\",FromEvoM!K19)","v":""},{"$f":"IF(ISBLANK(FromEvoM!L19),\"\",FromEvoM!L19)","v":""},{"$f":"IF(ISBLANK(FromEvoM!M19),\"\",FromEvoM!M19)","v":""},{"$f":"IF(ISBLANK(FromEvoM!P19),\"\",FromEvoM!P19)","v":""},null,{"$f":"IF(ISNUMBER(FromEvoM!X19),FromEvoM!X19,\"\")","v":""},{"$f":"IF(ISNUMBER(FromEvoM!AB19),FromEvoM!AB19,\"\")","v":""},{"$f":"IF(ISNUMBER(FromEvoM!AA19),FromEvoM!AA19,\"\")","v":""},null,"","",null,null,{"$f":"IF(FromEvoM!W19=1,(FromEvoM!AB19*12),IF(FromEvoM!W19=7,(FromEvoM!AR19),\"\"))","v":""},null,null,{"$f":"IF(ISBLANK(FromEvoM!A19),\"\",IF(FromEvoM!AK19=\"y\",\"Y\",\"N\"))","v":""},{"$f":"IF(ISBLANK(FromEvoM!A19),\"\",Category_ID)","v":""},null,null,null,{"$f":"IF(ISBLANK(FromEvoM!AK19),\"\",FromEvoM!AK19)","v":""},{"$f":"IF(ISBLANK(FromEvoM!AM19),\"\",FromEvoM!AM19)","v":""},{"$f":"IF(ISBLANK(FromEvoM!AN19),\"\",FromEvoM!AN19)","v":""},{"$f":"IF(ISBLANK(FromEvoM!AL19),\"\",FromEvoM!AL19)","v":""},{"$f":"IF(ISBLANK(FromEvoM!A19),\"\",IF(AND(AF19=\"y\",AI19=1),\"Y\",\"N\"))","v":""},{"$f":"IF(ISBLANK(FromEvoM!A19),\"\",IF(FromEvoM!AS19=\"Yes\",2,1))","v":""},{"$f":"IF(FromEvoM!W19=1,\"M\",IF(FromEvoM!W19=7,\"W\",\"\"))","v":""},{"$f":"IF(AJ19=\"Y\",0,IF(AJ19=\"N\",FromEvoM!AF19+FromEvoM!AT19,\"\"))","v":""},{"$f":"IF(AJ19=\"Y\",(FromEvoM!AE19+FromEvoM!AF19-FromEvoM!AT19),IF(AJ19=\"N\",FromEvoM!AE19,\"\"))","v":""}]
[{"$f":"IF(ISBLANK(FromEvoM!A20),\"\",Group_Code)","v":""},{"$f":"IF(ISBLANK(FromEvoM!A20),\"\",SUBSTITUTE(FromEvoM!A20,\" \",\"\"))","v":""},{"$f":"IF(ISBLANK(FromEvoM!C20),\"\",SUBSTITUTE(FromEvoM!G20,\" \",\"\"))","v":""},{"$f":"IF(ISBLANK(FromEvoM!D20),\"\",FromEvoM!B20)","v":""},{"$f":"IF(ISBLANK(FromEvoM!D20),\"\",FromEvoM!D20)","v":""},{"$f":"IF(ISBLANK(FromEvoM!C20),\"\",FromEvoM!C20)","v":""},{"$f":"REPLACE(FromEvoM!F20,2,6, )","v":""},{"$f":"IF(ISNUMBER(FromEvoM!E20),FromEvoM!E20,\"\")","v":""},{"$f":"IF(ISBLANK(FromEvoM!I20),\"\",FromEvoM!I20)","v":""},{"$f":"IF(ISBLANK(FromEvoM!J20),\"\",FromEvoM!J20)","v":""},{"$f":"IF(ISBLANK(FromEvoM!K20),\"\",FromEvoM!K20)","v":""},{"$f":"IF(ISBLANK(FromEvoM!L20),\"\",FromEvoM!L20)","v":""},{"$f":"IF(ISBLANK(FromEvoM!M20),\"\",FromEvoM!M20)","v":""},{"$f":"IF(ISBLANK(FromEvoM!P20),\"\",FromEvoM!P20)","v":""},null,{"$f":"IF(ISNUMBER(FromEvoM!X20),FromEvoM!X20,\"\")","v":""},{"$f":"IF(ISNUMBER(FromEvoM!AB20),FromEvoM!AB20,\"\")","v":""},{"$f":"IF(ISNUMBER(FromEvoM!AA20),FromEvoM!AA20,\"\")","v":""},null,"","",null,null,{"$f":"IF(FromEvoM!W20=1,(FromEvoM!AB20*12),IF(FromEvoM!W20=7,(FromEvoM!AR20),\"\"))","v":""},null,null,{"$f":"IF(ISBLANK(FromEvoM!A20),\"\",IF(FromEvoM!AK20=\"y\",\"Y\",\"N\"))","v":""},{"$f":"IF(ISBLANK(FromEvoM!A20),\"\",Category_ID)","v":""},null,null,null,{"$f":"IF(ISBLANK(FromEvoM!AK20),\"\",FromEvoM!AK20)","v":""},{"$f":"IF(ISBLANK(FromEvoM!AM20),\"\",FromEvoM!AM20)","v":""},{"$f":"IF(ISBLANK(FromEvoM!AN20),\"\",FromEvoM!AN20)","v":""},{"$f":"IF(ISBLANK(FromEvoM!AL20),\"\",FromEvoM!AL20)","v":""},{"$f":"IF(ISBLANK(FromEvoM!A20),\"\",IF(AND(AF20=\"y\",AI20=1),\"Y\",\"N\"))","v":""},{"$f":"IF(ISBLANK(FromEvoM!A20),\"\",IF(FromEvoM!AS20=\"Yes\",2,1))","v":""},{"$f":"IF(FromEvoM!W20=1,\"M\",IF(FromEvoM!W20=7,\"W\",\"\"))","v":""},{"$f":"IF(AJ20=\"Y\",0,IF(AJ20=\"N\",FromEvoM!AF20+FromEvoM!AT20,\"\"))","v":""},{"$f":"IF(AJ20=\"Y\",(FromEvoM!AE20+FromEvoM!AF20-FromEvoM!AT20),IF(AJ20=\"N\",FromEvoM!AE20,\"\"))","v":""}]
[{"$f":"IF(ISBLANK(FromEvoM!A21),\"\",Group_Code)","v":""},{"$f":"IF(ISBLANK(FromEvoM!A21),\"\",SUBSTITUTE(FromEvoM!A21,\" \",\"\"))","v":""},{"$f":"IF(ISBLANK(FromEvoM!C21),\"\",SUBSTITUTE(FromEvoM!G21,\" \",\"\"))","v":""},{"$f":"IF(ISBLANK(FromEvoM!D21),\"\",FromEvoM!B21)","v":""},{"$f":"IF(ISBLANK(FromEvoM!D21),\"\",FromEvoM!D21)","v":""},{"$f":"IF(ISBLANK(FromEvoM!C21),\"\",FromEvoM!C21)","v":""},{"$f":"REPLACE(FromEvoM!F21,2,6, )","v":""},{"$f":"IF(ISNUMBER(FromEvoM!E21),FromEvoM!E21,\"\")","v":""},{"$f":"IF(ISBLANK(FromEvoM!I21),\"\",FromEvoM!I21)","v":""},{"$f":"IF(ISBLANK(FromEvoM!J21),\"\",FromEvoM!J21)","v":""},{"$f":"IF(ISBLANK(FromEvoM!K21),\"\",FromEvoM!K21)","v":""},{"$f":"IF(ISBLANK(FromEvoM!L21),\"\",FromEvoM!L21)","v":""},{"$f":"IF(ISBLANK(FromEvoM!M21),\"\",FromEvoM!M21)","v":""},{"$f":"IF(ISBLANK(FromEvoM!P21),\"\",FromEvoM!P21)","v":""},null,{"$f":"IF(ISNUMBER(FromEvoM!X21),FromEvoM!X21,\"\")","v":""},{"$f":"IF(ISNUMBER(FromEvoM!AB21),FromEvoM!AB21,\"\")","v":""},{"$f":"IF(ISNUMBER(FromEvoM!AA21),FromEvoM!AA21,\"\")","v":""},null,"","",null,null,{"$f":"IF(FromEvoM!W21=1,(FromEvoM!AB21*12),IF(FromEvoM!W21=7,(FromEvoM!AR21),\"\"))","v":""},null,null,{"$f":"IF(ISBLANK(FromEvoM!A21),\"\",IF(FromEvoM!AK21=\"y\",\"Y\",\"N\"))","v":""},{"$f":"IF(ISBLANK(FromEvoM!A21),\"\",Category_ID)","v":""},null,null,null,{"$f":"IF(ISBLANK(FromEvoM!AK21),\"\",FromEvoM!AK21)","v":""},{"$f":"IF(ISBLANK(FromEvoM!AM21),\"\",FromEvoM!AM21)","v":""},{"$f":"IF(ISBLANK(FromEvoM!AN21),\"\",FromEvoM!AN21)","v":""},{"$f":"IF(ISBLANK(FromEvoM!AL21),\"\",FromEvoM!AL21)","v":""},{"$f":"IF(ISBLANK(FromEvoM!A21),\"\",IF(AND(AF21=\"y\",AI21=1),\"Y\",\"N\"))","v":""},{"$f":"IF(ISBLANK(FromEvoM!A21),\"\",IF(FromEvoM!AS21=\"Yes\",2,1))","v":""},{"$f":"IF(FromEvoM!W21=1,\"M\",IF(FromEvoM!W21=7,\"W\",\"\"))","v":""},{"$f":"IF(AJ21=\"Y\",0,IF(AJ21=\"N\",FromEvoM!AF21+FromEvoM!AT21,\"\"))","v":""},{"$f":"IF(AJ21=\"Y\",(FromEvoM!AE21+FromEvoM!AF21-FromEvoM!AT21),IF(AJ21=\"N\",FromEvoM!AE21,\"\"))","v":""}]
[{"$f":"IF(ISBLANK(FromEvoM!A22),\"\",Group_Code)","v":""},{"$f":"IF(ISBLANK(FromEvoM!A22),\"\",SUBSTITUTE(FromEvoM!A22,\" \",\"\"))","v":""},{"$f":"IF(ISBLANK(FromEvoM!C22),\"\",SUBSTITUTE(FromEvoM!G22,\" \",\"\"))","v":""},{"$f":"IF(ISBLANK(FromEvoM!D22),\"\",FromEvoM!B22)","v":""},{"$f":"IF(ISBLANK(FromEvoM!D22),\"\",FromEvoM!D22)","v":""},{"$f":"IF(ISBLANK(FromEvoM!C22),\"\",FromEvoM!C22)","v":""},{"$f":"REPLACE(FromEvoM!F22,2,6, )","v":""},{"$f":"IF(ISNUMBER(FromEvoM!E22),FromEvoM!E22,\"\")","v":""},{"$f":"IF(ISBLANK(FromEvoM!I22),\"\",FromEvoM!I22)","v":""},{"$f":"IF(ISBLANK(FromEvoM!J22),\"\",FromEvoM!J22)","v":""},{"$f":"IF(ISBLANK(FromEvoM!K22),\"\",FromEvoM!K22)","v":""},{"$f":"IF(ISBLANK(FromEvoM!L22),\"\",FromEvoM!L22)","v":""},{"$f":"IF(ISBLANK(FromEvoM!M22),\"\",FromEvoM!M22)","v":""},{"$f":"IF(ISBLANK(FromEvoM!P22),\"\",FromEvoM!P22)","v":""},null,{"$f":"IF(ISNUMBER(FromEvoM!X22),FromEvoM!X22,\"\")","v":""},{"$f":"IF(ISNUMBER(FromEvoM!AB22),FromEvoM!AB22,\"\")","v":""},{"$f":"IF(ISNUMBER(FromEvoM!AA22),FromEvoM!AA22,\"\")","v":""},null,"","",null,null,{"$f":"IF(FromEvoM!W22=1,(FromEvoM!AB22*12),IF(FromEvoM!W22=7,(FromEvoM!AR22),\"\"))","v":""},null,null,{"$f":"IF(ISBLANK(FromEvoM!A22),\"\",IF(FromEvoM!AK22=\"y\",\"Y\",\"N\"))","v":""},{"$f":"IF(ISBLANK(FromEvoM!A22),\"\",Category_ID)","v":""},null,null,null,{"$f":"IF(ISBLANK(FromEvoM!AK22),\"\",FromEvoM!AK22)","v":""},{"$f":"IF(ISBLANK(FromEvoM!AM22),\"\",FromEvoM!AM22)","v":""},{"$f":"IF(ISBLANK(FromEvoM!AN22),\"\",FromEvoM!AN22)","v":""},{"$f":"IF(ISBLANK(FromEvoM!AL22),\"\",FromEvoM!AL22)","v":""},{"$f":"IF(ISBLANK(FromEvoM!A22),\"\",IF(AND(AF22=\"y\",AI22=1),\"Y\",\"N\"))","v":""},{"$f":"IF(ISBLANK(FromEvoM!A22),\"\",IF(FromEvoM!AS22=\"Yes\",2,1))","v":""},{"$f":"IF(FromEvoM!W22=1,\"M\",IF(FromEvoM!W22=7,\"W\",\"\"))","v":""},{"$f":"IF(AJ22=\"Y\",0,IF(AJ22=\"N\",FromEvoM!AF22+FromEvoM!AT22,\"\"))","v":""},{"$f":"IF(AJ22=\"Y\",(FromEvoM!AE22+FromEvoM!AF22-FromEvoM!AT22),IF(AJ22=\"N\",FromEvoM!AE22,\"\"))","v":""}]
[{"$f":"IF(ISBLANK(FromEvoM!A23),\"\",Group_Code)","v":""},{"$f":"IF(ISBLANK(FromEvoM!A23),\"\",SUBSTITUTE(FromEvoM!A23,\" \",\"\"))","v":""},{"$f":"IF(ISBLANK(FromEvoM!C23),\"\",SUBSTITUTE(FromEvoM!G23,\" \",\"\"))","v":""},{"$f":"IF(ISBLANK(FromEvoM!D23),\"\",FromEvoM!B23)","v":""},{"$f":"IF(ISBLANK(FromEvoM!D23),\"\",FromEvoM!D23)","v":""},{"$f":"IF(ISBLANK(FromEvoM!C23),\"\",FromEvoM!C23)","v":""},{"$f":"REPLACE(FromEvoM!F23,2,6, )","v":""},{"$f":"IF(ISNUMBER(FromEvoM!E23),FromEvoM!E23,\"\")","v":""},{"$f":"IF(ISBLANK(FromEvoM!I23),\"\",FromEvoM!I23)","v":""},{"$f":"IF(ISBLANK(FromEvoM!J23),\"\",FromEvoM!J23)","v":""},{"$f":"IF(ISBLANK(FromEvoM!K23),\"\",FromEvoM!K23)","v":""},{"$f":"IF(ISBLANK(FromEvoM!L23),\"\",FromEvoM!L23)","v":""},{"$f":"IF(ISBLANK(FromEvoM!M23),\"\",FromEvoM!M23)","v":""},{"$f":"IF(ISBLANK(FromEvoM!P23),\"\",FromEvoM!P23)","v":""},null,{"$f":"IF(ISNUMBER(FromEvoM!X23),FromEvoM!X23,\"\")","v":""},{"$f":"IF(ISNUMBER(FromEvoM!AB23),FromEvoM!AB23,\"\")","v":""},{"$f":"IF(ISNUMBER(FromEvoM!AA23),FromEvoM!AA23,\"\")","v":""},null,"","",null,null,{"$f":"IF(FromEvoM!W23=1,(FromEvoM!AB23*12),IF(FromEvoM!W23=7,(FromEvoM!AR23),\"\"))","v":""},null,null,{"$f":"IF(ISBLANK(FromEvoM!A23),\"\",IF(FromEvoM!AK23=\"y\",\"Y\",\"N\"))","v":""},{"$f":"IF(ISBLANK(FromEvoM!A23),\"\",Category_ID)","v":""},null,null,null,{"$f":"IF(ISBLANK(FromEvoM!AK23),\"\",FromEvoM!AK23)","v":""},{"$f":"IF(ISBLANK(FromEvoM!AM23),\"\",FromEvoM!AM23)","v":""},{"$f":"IF(ISBLANK(FromEvoM!AN23),\"\",FromEvoM!AN23)","v":""},{"$f":"IF(ISBLANK(FromEvoM!AL23),\"\",FromEvoM!AL23)","v":""},{"$f":"IF(ISBLANK(FromEvoM!A23),\"\",IF(AND(AF23=\"y\",AI23=1),\"Y\",\"N\"))","v":""},{"$f":"IF(ISBLANK(FromEvoM!A23),\"\",IF(FromEvoM!AS23=\"Yes\",2,1))","v":""},{"$f":"IF(FromEvoM!W23=1,\"M\",IF(FromEvoM!W23=7,\"W\",\"\"))","v":""},{"$f":"IF(AJ23=\"Y\",0,IF(AJ23=\"N\",FromEvoM!AF23+FromEvoM!AT23,\"\"))","v":""},{"$f":"IF(AJ23=\"Y\",(FromEvoM!AE23+FromEvoM!AF23-FromEvoM!AT23),IF(AJ23=\"N\",FromEvoM!AE23,\"\"))","v":""}]
[{"$f":"IF(ISBLANK(FromEvoM!A24),\"\",Group_Code)","v":""},{"$f":"IF(ISBLANK(FromEvoM!A24),\"\",SUBSTITUTE(FromEvoM!A24,\" \",\"\"))","v":""},{"$f":"IF(ISBLANK(FromEvoM!C24),\"\",SUBSTITUTE(FromEvoM!G24,\" \",\"\"))","v":""},{"$f":"IF(ISBLANK(FromEvoM!D24),\"\",FromEvoM!B24)","v":""},{"$f":"IF(ISBLANK(FromEvoM!D24),\"\",FromEvoM!D24)","v":""},{"$f":"IF(ISBLANK(FromEvoM!C24),\"\",FromEvoM!C24)","v":""},{"$f":"REPLACE(FromEvoM!F24,2,6, )","v":""},{"$f":"IF(ISNUMBER(FromEvoM!E24),FromEvoM!E24,\"\")","v":""},{"$f":"IF(ISBLANK(FromEvoM!I24),\"\",FromEvoM!I24)","v":""},{"$f":"IF(ISBLANK(FromEvoM!J24),\"\",FromEvoM!J24)","v":""},{"$f":"IF(ISBLANK(FromEvoM!K24),\"\",FromEvoM!K24)","v":""},{"$f":"IF(ISBLANK(FromEvoM!L24),\"\",FromEvoM!L24)","v":""},{"$f":"IF(ISBLANK(FromEvoM!M24),\"\",FromEvoM!M24)","v":""},{"$f":"IF(ISBLANK(FromEvoM!P24),\"\",FromEvoM!P24)","v":""},null,{"$f":"IF(ISNUMBER(FromEvoM!X24),FromEvoM!X24,\"\")","v":""},{"$f":"IF(ISNUMBER(FromEvoM!AB24),FromEvoM!AB24,\"\")","v":""},{"$f":"IF(ISNUMBER(FromEvoM!AA24),FromEvoM!AA24,\"\")","v":""},null,"","",null,null,{"$f":"IF(FromEvoM!W24=1,(FromEvoM!AB24*12),IF(FromEvoM!W24=7,(FromEvoM!AR24),\"\"))","v":""},null,null,{"$f":"IF(ISBLANK(FromEvoM!A24),\"\",IF(FromEvoM!AK24=\"y\",\"Y\",\"N\"))","v":""},{"$f":"IF(ISBLANK(FromEvoM!A24),\"\",Category_ID)","v":""},null,null,null,{"$f":"IF(ISBLANK(FromEvoM!AK24),\"\",FromEvoM!AK24)","v":""},{"$f":"IF(ISBLANK(FromEvoM!AM24),\"\",FromEvoM!AM24)","v":""},{"$f":"IF(ISBLANK(FromEvoM!AN24),\"\",FromEvoM!AN24)","v":""},{"$f":"IF(ISBLANK(FromEvoM!AL24),\"\",FromEvoM!AL24)","v":""},{"$f":"IF(ISBLANK(FromEvoM!A24),\"\",IF(AND(AF24=\"y\",AI24=1),\"Y\",\"N\"))","v":""},{"$f":"IF(ISBLANK(FromEvoM!A24),\"\",IF(FromEvoM!AS24=\"Yes\",2,1))","v":""},{"$f":"IF(FromEvoM!W24=1,\"M\",IF(FromEvoM!W24=7,\"W\",\"\"))","v":""},{"$f":"IF(AJ24=\"Y\",0,IF(AJ24=\"N\",FromEvoM!AF24+FromEvoM!AT24,\"\"))","v":""},{"$f":"IF(AJ24=\"Y\",(FromEvoM!AE24+FromEvoM!AF24-FromEvoM!AT24),IF(AJ24=\"N\",FromEvoM!AE24,\"\"))","v":""}]
[{"$f":"IF(ISBLANK(FromEvoM!A25),\"\",Group_Code)","v":""},{"$f":"IF(ISBLANK(FromEvoM!A25),\"\",SUBSTITUTE(FromEvoM!A25,\" \",\"\"))","v":""},{"$f":"IF(ISBLANK(FromEvoM!C25),\"\",SUBSTITUTE(FromEvoM!G25,\" \",\"\"))","v":""},{"$f":"IF(ISBLANK(FromEvoM!D25),\"\",FromEvoM!B25)","v":""},{"$f":"IF(ISBLANK(FromEvoM!D25),\"\",FromEvoM!D25)","v":""},{"$f":"IF(ISBLANK(FromEvoM!C25),\"\",FromEvoM!C25)","v":""},{"$f":"REPLACE(FromEvoM!F25,2,6, )","v":""},{"$f":"IF(ISNUMBER(FromEvoM!E25),FromEvoM!E25,\"\")","v":""},{"$f":"IF(ISBLANK(FromEvoM!I25),\"\",FromEvoM!I25)","v":""},{"$f":"IF(ISBLANK(FromEvoM!J25),\"\",FromEvoM!J25)","v":""},{"$f":"IF(ISBLANK(FromEvoM!K25),\"\",FromEvoM!K25)","v":""},{"$f":"IF(ISBLANK(FromEvoM!L25),\"\",FromEvoM!L25)","v":""},{"$f":"IF(ISBLANK(FromEvoM!M25),\"\",FromEvoM!M25)","v":""},{"$f":"IF(ISBLANK(FromEvoM!P25),\"\",FromEvoM!P25)","v":""},null,{"$f":"IF(ISNUMBER(FromEvoM!X25),FromEvoM!X25,\"\")","v":""},{"$f":"IF(ISNUMBER(FromEvoM!AB25),FromEvoM!AB25,\"\")","v":""},{"$f":"IF(ISNUMBER(FromEvoM!AA25),FromEvoM!AA25,\"\")","v":""},null,"","",null,null,{"$f":"IF(FromEvoM!W25=1,(FromEvoM!AB25*12),IF(FromEvoM!W25=7,(FromEvoM!AR25),\"\"))","v":""},null,null,{"$f":"IF(ISBLANK(FromEvoM!A25),\"\",IF(FromEvoM!AK25=\"y\",\"Y\",\"N\"))","v":""},{"$f":"IF(ISBLANK(FromEvoM!A25),\"\",Category_ID)","v":""},null,null,null,{"$f":"IF(ISBLANK(FromEvoM!AK25),\"\",FromEvoM!AK25)","v":""},{"$f":"IF(ISBLANK(FromEvoM!AM25),\"\",FromEvoM!AM25)","v":""},{"$f":"IF(ISBLANK(FromEvoM!AN25),\"\",FromEvoM!AN25)","v":""},{"$f":"IF(ISBLANK(FromEvoM!AL25),\"\",FromEvoM!AL25)","v":""},{"$f":"IF(ISBLANK(FromEvoM!A25),\"\",IF(AND(AF25=\"y\",AI25=1),\"Y\",\"N\"))","v":""},{"$f":"IF(ISBLANK(FromEvoM!A25),\"\",IF(FromEvoM!AS25=\"Yes\",2,1))","v":""},{"$f":"IF(FromEvoM!W25=1,\"M\",IF(FromEvoM!W25=7,\"W\",\"\"))","v":""},{"$f":"IF(AJ25=\"Y\",0,IF(AJ25=\"N\",FromEvoM!AF25+FromEvoM!AT25,\"\"))","v":""},{"$f":"IF(AJ25=\"Y\",(FromEvoM!AE25+FromEvoM!AF25-FromEvoM!AT25),IF(AJ25=\"N\",FromEvoM!AE25,\"\"))","v":""}]
[{"$f":"IF(ISBLANK(FromEvoM!A26),\"\",Group_Code)","v":""},{"$f":"IF(ISBLANK(FromEvoM!A26),\"\",SUBSTITUTE(FromEvoM!A26,\" \",\"\"))","v":""},{"$f":"IF(ISBLANK(FromEvoM!C26),\"\",SUBSTITUTE(FromEvoM!G26,\" \",\"\"))","v":""},{"$f":"IF(ISBLANK(FromEvoM!D26),\"\",FromEvoM!B26)","v":""},{"$f":"IF(ISBLANK(FromEvoM!D26),\"\",FromEvoM!D26)","v":""},{"$f":"IF(ISBLANK(FromEvoM!C26),\"\",FromEvoM!C26)","v":""},{"$f":"REPLACE(FromEvoM!F26,2,6, )","v":""},{"$f":"IF(ISNUMBER(FromEvoM!E26),FromEvoM!E26,\"\")","v":""},{"$f":"IF(ISBLANK(FromEvoM!I26),\"\",FromEvoM!I26)","v":""},{"$f":"IF(ISBLANK(FromEvoM!J26),\"\",FromEvoM!J26)","v":""},{"$f":"IF(ISBLANK(FromEvoM!K26),\"\",FromEvoM!K26)","v":""},{"$f":"IF(ISBLANK(FromEvoM!L26),\"\",FromEvoM!L26)","v":""},{"$f":"IF(ISBLANK(FromEvoM!M26),\"\",FromEvoM!M26)","v":""},{"$f":"IF(ISBLANK(FromEvoM!P26),\"\",FromEvoM!P26)","v":""},null,{"$f":"IF(ISNUMBER(FromEvoM!X26),FromEvoM!X26,\"\")","v":""},{"$f":"IF(ISNUMBER(FromEvoM!AB26),FromEvoM!AB26,\"\")","v":""},{"$f":"IF(ISNUMBER(FromEvoM!AA26),FromEvoM!AA26,\"\")","v":""},null,"","",null,null,{"$f":"IF(FromEvoM!W26=1,(FromEvoM!AB26*12),IF(FromEvoM!W26=7,(FromEvoM!AR26),\"\"))","v":""},null,null,{"$f":"IF(ISBLANK(FromEvoM!A26),\"\",IF(FromEvoM!AK26=\"y\",\"Y\",\"N\"))","v":""},{"$f":"IF(ISBLANK(FromEvoM!A26),\"\",Category_ID)","v":""},null,null,null,{"$f":"IF(ISBLANK(FromEvoM!AK26),\"\",FromEvoM!AK26)","v":""},{"$f":"IF(ISBLANK(FromEvoM!AM26),\"\",FromEvoM!AM26)","v":""},{"$f":"IF(ISBLANK(FromEvoM!AN26),\"\",FromEvoM!AN26)","v":""},{"$f":"IF(ISBLANK(FromEvoM!AL26),\"\",FromEvoM!AL26)","v":""},{"$f":"IF(ISBLANK(FromEvoM!A26),\"\",IF(AND(AF26=\"y\",AI26=1),\"Y\",\"N\"))","v":""},{"$f":"IF(ISBLANK(FromEvoM!A26),\"\",IF(FromEvoM!AS26=\"Yes\",2,1))","v":""},{"$f":"IF(FromEvoM!W26=1,\"M\",IF(FromEvoM!W26=7,\"W\",\"\"))","v":""},{"$f":"IF(AJ26=\"Y\",0,IF(AJ26=\"N\",FromEvoM!AF26+FromEvoM!AT26,\"\"))","v":""},{"$f":"IF(AJ26=\"Y\",(FromEvoM!AE26+FromEvoM!AF26-FromEvoM!AT26),IF(AJ26=\"N\",FromEvoM!AE26,\"\"))","v":""}]
[{"$f":"IF(ISBLANK(FromEvoM!A27),\"\",Group_Code)","v":""},{"$f":"IF(ISBLANK(FromEvoM!A27),\"\",SUBSTITUTE(FromEvoM!A27,\" \",\"\"))","v":""},{"$f":"IF(ISBLANK(FromEvoM!C27),\"\",SUBSTITUTE(FromEvoM!G27,\" \",\"\"))","v":""},{"$f":"IF(ISBLANK(FromEvoM!D27),\"\",FromEvoM!B27)","v":""},{"$f":"IF(ISBLANK(FromEvoM!D27),\"\",FromEvoM!D27)","v":""},{"$f":"IF(ISBLANK(FromEvoM!C27),\"\",FromEvoM!C27)","v":""},{"$f":"REPLACE(FromEvoM!F27,2,6, )","v":""},{"$f":"IF(ISNUMBER(FromEvoM!E27),FromEvoM!E27,\"\")","v":""},{"$f":"IF(ISBLANK(FromEvoM!I27),\"\",FromEvoM!I27)","v":""},{"$f":"IF(ISBLANK(FromEvoM!J27),\"\",FromEvoM!J27)","v":""},{"$f":"IF(ISBLANK(FromEvoM!K27),\"\",FromEvoM!K27)","v":""},{"$f":"IF(ISBLANK(FromEvoM!L27),\"\",FromEvoM!L27)","v":""},{"$f":"IF(ISBLANK(FromEvoM!M27),\"\",FromEvoM!M27)","v":""},{"$f":"IF(ISBLANK(FromEvoM!P27),\"\",FromEvoM!P27)","v":""},null,{"$f":"IF(ISNUMBER(FromEvoM!X27),FromEvoM!X27,\"\")","v":""},{"$f":"IF(ISNUMBER(FromEvoM!AB27),FromEvoM!AB27,\"\")","v":""},{"$f":"IF(ISNUMBER(FromEvoM!AA27),FromEvoM!AA27,\"\")","v":""},null,"","",null,null,{"$f":"IF(FromEvoM!W27=1,(FromEvoM!AB27*12),IF(FromEvoM!W27=7,(FromEvoM!AR27),\"\"))","v":""},null,null,{"$f":"IF(ISBLANK(FromEvoM!A27),\"\",IF(FromEvoM!AK27=\"y\",\"Y\",\"N\"))","v":""},{"$f":"IF(ISBLANK(FromEvoM!A27),\"\",Category_ID)","v":""},null,null,null,{"$f":"IF(ISBLANK(FromEvoM!AK27),\"\",FromEvoM!AK27)","v":""},{"$f":"IF(ISBLANK(FromEvoM!AM27),\"\",FromEvoM!AM27)","v":""},{"$f":"IF(ISBLANK(FromEvoM!AN27),\"\",FromEvoM!AN27)","v":""},{"$f":"IF(ISBLANK(FromEvoM!AL27),\"\",FromEvoM!AL27)","v":""},{"$f":"IF(ISBLANK(FromEvoM!A27),\"\",IF(AND(AF27=\"y\",AI27=1),\"Y\",\"N\"))","v":""},{"$f":"IF(ISBLANK(FromEvoM!A27),\"\",IF(FromEvoM!AS27=\"Yes\",2,1))","v":""},{"$f":"IF(FromEvoM!W27=1,\"M\",IF(FromEvoM!W27=7,\"W\",\"\"))","v":""},{"$f":"IF(AJ27=\"Y\",0,IF(AJ27=\"N\",FromEvoM!AF27+FromEvoM!AT27,\"\"))","v":""},{"$f":"IF(AJ27=\"Y\",(FromEvoM!AE27+FromEvoM!AF27-FromEvoM!AT27),IF(AJ27=\"N\",FromEvoM!AE27,\"\"))","v":""}]
[{"$f":"IF(ISBLANK(FromEvoM!A28),\"\",Group_Code)","v":""},{"$f":"IF(ISBLANK(FromEvoM!A28),\"\",SUBSTITUTE(FromEvoM!A28,\" \",\"\"))","v":""},{"$f":"IF(ISBLANK(FromEvoM!C28),\"\",SUBSTITUTE(FromEvoM!G28,\" \",\"\"))","v":""},{"$f":"IF(ISBLANK(FromEvoM!D28),\"\",FromEvoM!B28)","v":""},{"$f":"IF(ISBLANK(FromEvoM!D28),\"\",FromEvoM!D28)","v":""},{"$f":"IF(ISBLANK(FromEvoM!C28),\"\",FromEvoM!C28)","v":""},{"$f":"REPLACE(FromEvoM!F28,2,6, )","v":""},{"$f":"IF(ISNUMBER(FromEvoM!E28),FromEvoM!E28,\"\")","v":""},{"$f":"IF(ISBLANK(FromEvoM!I28),\"\",FromEvoM!I28)","v":""},{"$f":"IF(ISBLANK(FromEvoM!J28),\"\",FromEvoM!J28)","v":""},{"$f":"IF(ISBLANK(FromEvoM!K28),\"\",FromEvoM!K28)","v":""},{"$f":"IF(ISBLANK(FromEvoM!L28),\"\",FromEvoM!L28)","v":""},{"$f":"IF(ISBLANK(FromEvoM!M28),\"\",FromEvoM!M28)","v":""},{"$f":"IF(ISBLANK(FromEvoM!P28),\"\",FromEvoM!P28)","v":""},null,{"$f":"IF(ISNUMBER(FromEvoM!X28),FromEvoM!X28,\"\")","v":""},{"$f":"IF(ISNUMBER(FromEvoM!AB28),FromEvoM!AB28,\"\")","v":""},{"$f":"IF(ISNUMBER(FromEvoM!AA28),FromEvoM!AA28,\"\")","v":""},null,"","",null,null,{"$f":"IF(FromEvoM!W28=1,(FromEvoM!AB28*12),IF(FromEvoM!W28=7,(FromEvoM!AR28),\"\"))","v":""},null,null,{"$f":"IF(ISBLANK(FromEvoM!A28),\"\",IF(FromEvoM!AK28=\"y\",\"Y\",\"N\"))","v":""},{"$f":"IF(ISBLANK(FromEvoM!A28),\"\",Category_ID)","v":""},null,null,null,{"$f":"IF(ISBLANK(FromEvoM!AK28),\"\",FromEvoM!AK28)","v":""},{"$f":"IF(ISBLANK(FromEvoM!AM28),\"\",FromEvoM!AM28)","v":""},{"$f":"IF(ISBLANK(FromEvoM!AN28),\"\",FromEvoM!AN28)","v":""},{"$f":"IF(ISBLANK(FromEvoM!AL28),\"\",FromEvoM!AL28)","v":""},{"$f":"IF(ISBLANK(FromEvoM!A28),\"\",IF(AND(AF28=\"y\",AI28=1),\"Y\",\"N\"))","v":""},{"$f":"IF(ISBLANK(FromEvoM!A28),\"\",IF(FromEvoM!AS28=\"Yes\",2,1))","v":""},{"$f":"IF(FromEvoM!W28=1,\"M\",IF(FromEvoM!W28=7,\"W\",\"\"))","v":""},{"$f":"IF(AJ28=\"Y\",0,IF(AJ28=\"N\",FromEvoM!AF28+FromEvoM!AT28,\"\"))","v":""},{"$f":"IF(AJ28=\"Y\",(FromEvoM!AE28+FromEvoM!AF28-FromEvoM!AT28),IF(AJ28=\"N\",FromEvoM!AE28,\"\"))","v":""}]
[{"$f":"IF(ISBLANK(FromEvoM!A29),\"\",Group_Code)","v":""},{"$f":"IF(ISBLANK(FromEvoM!A29),\"\",SUBSTITUTE(FromEvoM!A29,\" \",\"\"))","v":""},{"$f":"IF(ISBLANK(FromEvoM!C29),\"\",SUBSTITUTE(FromEvoM!G29,\" \",\"\"))","v":""},{"$f":"IF(ISBLANK(FromEvoM!D29),\"\",FromEvoM!B29)","v":""},{"$f":"IF(ISBLANK(FromEvoM!D29),\"\",FromEvoM!D29)","v":""},{"$f":"IF(ISBLANK(FromEvoM!C29),\"\",FromEvoM!C29)","v":""},{"$f":"REPLACE(FromEvoM!F29,2,6, )","v":""},{"$f":"IF(ISNUMBER(FromEvoM!E29),FromEvoM!E29,\"\")","v":""},{"$f":"IF(ISBLANK(FromEvoM!I29),\"\",FromEvoM!I29)","v":""},{"$f":"IF(ISBLANK(FromEvoM!J29),\"\",FromEvoM!J29)","v":""},{"$f":"IF(ISBLANK(FromEvoM!K29),\"\",FromEvoM!K29)","v":""},{"$f":"IF(ISBLANK(FromEvoM!L29),\"\",FromEvoM!L29)","v":""},{"$f":"IF(ISBLANK(FromEvoM!M29),\"\",FromEvoM!M29)","v":""},{"$f":"IF(ISBLANK(FromEvoM!P29),\"\",FromEvoM!P29)","v":""},null,{"$f":"IF(ISNUMBER(FromEvoM!X29),FromEvoM!X29,\"\")","v":""},{"$f":"IF(ISNUMBER(FromEvoM!AB29),FromEvoM!AB29,\"\")","v":""},{"$f":"IF(ISNUMBER(FromEvoM!AA29),FromEvoM!AA29,\"\")","v":""},null,"","",null,null,{"$f":"IF(FromEvoM!W29=1,(FromEvoM!AB29*12),IF(FromEvoM!W29=7,(FromEvoM!AR29),\"\"))","v":""},null,null,{"$f":"IF(ISBLANK(FromEvoM!A29),\"\",IF(FromEvoM!AK29=\"y\",\"Y\",\"N\"))","v":""},{"$f":"IF(ISBLANK(FromEvoM!A29),\"\",Category_ID)","v":""},null,null,null,{"$f":"IF(ISBLANK(FromEvoM!AK29),\"\",FromEvoM!AK29)","v":""},{"$f":"IF(ISBLANK(FromEvoM!AM29),\"\",FromEvoM!AM29)","v":""},{"$f":"IF(ISBLANK(FromEvoM!AN29),\"\",FromEvoM!AN29)","v":""},{"$f":"IF(ISBLANK(FromEvoM!AL29),\"\",FromEvoM!AL29)","v":""},{"$f":"IF(ISBLANK(FromEvoM!A29),\"\",IF(AND(AF29=\"y\",AI29=1),\"Y\",\"N\"))","v":""},{"$f":"IF(ISBLANK(FromEvoM!A29),\"\",IF(FromEvoM!AS29=\"Yes\",2,1))","v":""},{"$f":"IF(FromEvoM!W29=1,\"M\",IF(FromEvoM!W29=7,\"W\",\"\"))","v":""},{"$f":"IF(AJ29=\"Y\",0,IF(AJ29=\"N\",FromEvoM!AF29+FromEvoM!AT29,\"\"))","v":""},{"$f":"IF(AJ29=\"Y\",(FromEvoM!AE29+FromEvoM!AF29-FromEvoM!AT29),IF(AJ29=\"N\",FromEvoM!AE29,\"\"))","v":""}]
[{"$f":"IF(ISBLANK(FromEvoM!A30),\"\",Group_Code)","v":""},{"$f":"IF(ISBLANK(FromEvoM!A30),\"\",SUBSTITUTE(FromEvoM!A30,\" \",\"\"))","v":""},{"$f":"IF(ISBLANK(FromEvoM!C30),\"\",SUBSTITUTE(FromEvoM!G30,\" \",\"\"))","v":""},{"$f":"IF(ISBLANK(FromEvoM!D30),\"\",FromEvoM!B30)","v":""},{"$f":"IF(ISBLANK(FromEvoM!D30),\"\",FromEvoM!D30)","v":""},{"$f":"IF(ISBLANK(FromEvoM!C30),\"\",FromEvoM!C30)","v":""},{"$f":"REPLACE(FromEvoM!F30,2,6, )","v":""},{"$f":"IF(ISNUMBER(FromEvoM!E30),FromEvoM!E30,\"\")","v":""},{"$f":"IF(ISBLANK(FromEvoM!I30),\"\",FromEvoM!I30)","v":""},{"$f":"IF(ISBLANK(FromEvoM!J30),\"\",FromEvoM!J30)","v":""},{"$f":"IF(ISBLANK(FromEvoM!K30),\"\",FromEvoM!K30)","v":""},{"$f":"IF(ISBLANK(FromEvoM!L30),\"\",FromEvoM!L30)","v":""},{"$f":"IF(ISBLANK(FromEvoM!M30),\"\",FromEvoM!M30)","v":""},{"$f":"IF(ISBLANK(FromEvoM!P30),\"\",FromEvoM!P30)","v":""},null,{"$f":"IF(ISNUMBER(FromEvoM!X30),FromEvoM!X30,\"\")","v":""},{"$f":"IF(ISNUMBER(FromEvoM!AB30),FromEvoM!AB30,\"\")","v":""},{"$f":"IF(ISNUMBER(FromEvoM!AA30),FromEvoM!AA30,\"\")","v":""},null,"","",null,null,{"$f":"IF(FromEvoM!W30=1,(FromEvoM!AB30*12),IF(FromEvoM!W30=7,(FromEvoM!AR30),\"\"))","v":""},null,null,{"$f":"IF(ISBLANK(FromEvoM!A30),\"\",IF(FromEvoM!AK30=\"y\",\"Y\",\"N\"))","v":""},{"$f":"IF(ISBLANK(FromEvoM!A30),\"\",Category_ID)","v":""},null,null,null,{"$f":"IF(ISBLANK(FromEvoM!AK30),\"\",FromEvoM!AK30)","v":""},{"$f":"IF(ISBLANK(FromEvoM!AM30),\"\",FromEvoM!AM30)","v":""},{"$f":"IF(ISBLANK(FromEvoM!AN30),\"\",FromEvoM!AN30)","v":""},{"$f":"IF(ISBLANK(FromEvoM!AL30),\"\",FromEvoM!AL30)","v":""},{"$f":"IF(ISBLANK(FromEvoM!A30),\"\",IF(AND(AF30=\"y\",AI30=1),\"Y\",\"N\"))","v":""},{"$f":"IF(ISBLANK(FromEvoM!A30),\"\",IF(FromEvoM!AS30=\"Yes\",2,1))","v":""},{"$f":"IF(FromEvoM!W30=1,\"M\",IF(FromEvoM!W30=7,\"W\",\"\"))","v":""},{"$f":"IF(AJ30=\"Y\",0,IF(AJ30=\"N\",FromEvoM!AF30+FromEvoM!AT30,\"\"))","v":""},{"$f":"IF(AJ30=\"Y\",(FromEvoM!AE30+FromEvoM!AF30-FromEvoM!AT30),IF(AJ30=\"N\",FromEvoM!AE30,\"\"))","v":""}]
[{"$f":"IF(ISBLANK(FromEvoM!A31),\"\",Group_Code)","v":""},{"$f":"IF(ISBLANK(FromEvoM!A31),\"\",SUBSTITUTE(FromEvoM!A31,\" \",\"\"))","v":""},{"$f":"IF(ISBLANK(FromEvoM!C31),\"\",SUBSTITUTE(FromEvoM!G31,\" \",\"\"))","v":""},{"$f":"IF(ISBLANK(FromEvoM!D31),\"\",FromEvoM!B31)","v":""},{"$f":"IF(ISBLANK(FromEvoM!D31),\"\",FromEvoM!D31)","v":""},{"$f":"IF(ISBLANK(FromEvoM!C31),\"\",FromEvoM!C31)","v":""},{"$f":"REPLACE(FromEvoM!F31,2,6, )","v":""},{"$f":"IF(ISNUMBER(FromEvoM!E31),FromEvoM!E31,\"\")","v":""},{"$f":"IF(ISBLANK(FromEvoM!I31),\"\",FromEvoM!I31)","v":""},{"$f":"IF(ISBLANK(FromEvoM!J31),\"\",FromEvoM!J31)","v":""},{"$f":"IF(ISBLANK(FromEvoM!K31),\"\",FromEvoM!K31)","v":""},{"$f":"IF(ISBLANK(FromEvoM!L31),\"\",FromEvoM!L31)","v":""},{"$f":"IF(ISBLANK(FromEvoM!M31),\"\",FromEvoM!M31)","v":""},{"$f":"IF(ISBLANK(FromEvoM!P31),\"\",FromEvoM!P31)","v":""},null,{"$f":"IF(ISNUMBER(FromEvoM!X31),FromEvoM!X31,\"\")","v":""},{"$f":"IF(ISNUMBER(FromEvoM!AB31),FromEvoM!AB31,\"\")","v":""},{"$f":"IF(ISNUMBER(FromEvoM!AA31),FromEvoM!AA31,\"\")","v":""},null,"","",null,null,{"$f":"IF(FromEvoM!W31=1,(FromEvoM!AB31*12),IF(FromEvoM!W31=7,(FromEvoM!AR31),\"\"))","v":""},null,null,{"$f":"IF(ISBLANK(FromEvoM!A31),\"\",IF(FromEvoM!AK31=\"y\",\"Y\",\"N\"))","v":""},{"$f":"IF(ISBLANK(FromEvoM!A31),\"\",Category_ID)","v":""},null,null,null,{"$f":"IF(ISBLANK(FromEvoM!AK31),\"\",FromEvoM!AK31)","v":""},{"$f":"IF(ISBLANK(FromEvoM!AM31),\"\",FromEvoM!AM31)","v":""},{"$f":"IF(ISBLANK(FromEvoM!AN31),\"\",FromEvoM!AN31)","v":""},{"$f":"IF(ISBLANK(FromEvoM!AL31),\"\",FromEvoM!AL31)","v":""},{"$f":"IF(ISBLANK(FromEvoM!A31),\"\",IF(AND(AF31=\"y\",AI31=1),\"Y\",\"N\"))","v":""},{"$f":"IF(ISBLANK(FromEvoM!A31),\"\",IF(FromEvoM!AS31=\"Yes\",2,1))","v":""},{"$f":"IF(FromEvoM!W31=1,\"M\",IF(FromEvoM!W31=7,\"W\",\"\"))","v":""},{"$f":"IF(AJ31=\"Y\",0,IF(AJ31=\"N\",FromEvoM!AF31+FromEvoM!AT31,\"\"))","v":""},{"$f":"IF(AJ31=\"Y\",(FromEvoM!AE31+FromEvoM!AF31-FromEvoM!AT31),IF(AJ31=\"N\",FromEvoM!AE31,\"\"))","v":""}]
[{"$f":"IF(ISBLANK(FromEvoM!A32),\"\",Group_Code)","v":""},{"$f":"IF(ISBLANK(FromEvoM!A32),\"\",SUBSTITUTE(FromEvoM!A32,\" \",\"\"))","v":""},{"$f":"IF(ISBLANK(FromEvoM!C32),\"\",SUBSTITUTE(FromEvoM!G32,\" \",\"\"))","v":""},{"$f":"IF(ISBLANK(FromEvoM!D32),\"\",FromEvoM!B32)","v":""},{"$f":"IF(ISBLANK(FromEvoM!D32),\"\",FromEvoM!D32)","v":""},{"$f":"IF(ISBLANK(FromEvoM!C32),\"\",FromEvoM!C32)","v":""},{"$f":"REPLACE(FromEvoM!F32,2,6, )","v":""},{"$f":"IF(ISNUMBER(FromEvoM!E32),FromEvoM!E32,\"\")","v":""},{"$f":"IF(ISBLANK(FromEvoM!I32),\"\",FromEvoM!I32)","v":""},{"$f":"IF(ISBLANK(FromEvoM!J32),\"\",FromEvoM!J32)","v":""},{"$f":"IF(ISBLANK(FromEvoM!K32),\"\",FromEvoM!K32)","v":""},{"$f":"IF(ISBLANK(FromEvoM!L32),\"\",FromEvoM!L32)","v":""},{"$f":"IF(ISBLANK(FromEvoM!M32),\"\",FromEvoM!M32)","v":""},{"$f":"IF(ISBLANK(FromEvoM!P32),\"\",FromEvoM!P32)","v":""},null,{"$f":"IF(ISNUMBER(FromEvoM!X32),FromEvoM!X32,\"\")","v":""},{"$f":"IF(ISNUMBER(FromEvoM!AB32),FromEvoM!AB32,\"\")","v":""},{"$f":"IF(ISNUMBER(FromEvoM!AA32),FromEvoM!AA32,\"\")","v":""},null,"","",null,null,{"$f":"IF(FromEvoM!W32=1,(FromEvoM!AB32*12),IF(FromEvoM!W32=7,(FromEvoM!AR32),\"\"))","v":""},null,null,{"$f":"IF(ISBLANK(FromEvoM!A32),\"\",IF(FromEvoM!AK32=\"y\",\"Y\",\"N\"))","v":""},{"$f":"IF(ISBLANK(FromEvoM!A32),\"\",Category_ID)","v":""},null,null,null,{"$f":"IF(ISBLANK(FromEvoM!AK32),\"\",FromEvoM!AK32)","v":""},{"$f":"IF(ISBLANK(FromEvoM!AM32),\"\",FromEvoM!AM32)","v":""},{"$f":"IF(ISBLANK(FromEvoM!AN32),\"\",FromEvoM!AN32)","v":""},{"$f":"IF(ISBLANK(FromEvoM!AL32),\"\",FromEvoM!AL32)","v":""},{"$f":"IF(ISBLANK(FromEvoM!A32),\"\",IF(AND(AF32=\"y\",AI32=1),\"Y\",\"N\"))","v":""},{"$f":"IF(ISBLANK(FromEvoM!A32),\"\",IF(FromEvoM!AS32=\"Yes\",2,1))","v":""},{"$f":"IF(FromEvoM!W32=1,\"M\",IF(FromEvoM!W32=7,\"W\",\"\"))","v":""},{"$f":"IF(AJ32=\"Y\",0,IF(AJ32=\"N\",FromEvoM!AF32+FromEvoM!AT32,\"\"))","v":""},{"$f":"IF(AJ32=\"Y\",(FromEvoM!AE32+FromEvoM!AF32-FromEvoM!AT32),IF(AJ32=\"N\",FromEvoM!AE32,\"\"))","v":""}]
[{"$f":"IF(ISBLANK(FromEvoM!A33),\"\",Group_Code)","v":""},{"$f":"IF(ISBLANK(FromEvoM!A33),\"\",SUBSTITUTE(FromEvoM!A33,\" \",\"\"))","v":""},{"$f":"IF(ISBLANK(FromEvoM!C33),\"\",SUBSTITUTE(FromEvoM!G33,\" \",\"\"))","v":""},{"$f":"IF(ISBLANK(FromEvoM!D33),\"\",FromEvoM!B33)","v":""},{"$f":"IF(ISBLANK(FromEvoM!D33),\"\",FromEvoM!D33)","v":""},{"$f":"IF(ISBLANK(FromEvoM!C33),\"\",FromEvoM!C33)","v":""},{"$f":"REPLACE(FromEvoM!F33,2,6, )","v":""},{"$f":"IF(ISNUMBER(FromEvoM!E33),FromEvoM!E33,\"\")","v":""},{"$f":"IF(ISBLANK(FromEvoM!I33),\"\",FromEvoM!I33)","v":""},{"$f":"IF(ISBLANK(FromEvoM!J33),\"\",FromEvoM!J33)","v":""},{"$f":"IF(ISBLANK(FromEvoM!K33),\"\",FromEvoM!K33)","v":""},{"$f":"IF(ISBLANK(FromEvoM!L33),\"\",FromEvoM!L33)","v":""},{"$f":"IF(ISBLANK(FromEvoM!M33),\"\",FromEvoM!M33)","v":""},{"$f":"IF(ISBLANK(FromEvoM!P33),\"\",FromEvoM!P33)","v":""},null,{"$f":"IF(ISNUMBER(FromEvoM!X33),FromEvoM!X33,\"\")","v":""},{"$f":"IF(ISNUMBER(FromEvoM!AB33),FromEvoM!AB33,\"\")","v":""},{"$f":"IF(ISNUMBER(FromEvoM!AA33),FromEvoM!AA33,\"\")","v":""},null,"","",null,null,{"$f":"IF(FromEvoM!W33=1,(FromEvoM!AB33*12),IF(FromEvoM!W33=7,(FromEvoM!AR33),\"\"))","v":""},null,null,{"$f":"IF(ISBLANK(FromEvoM!A33),\"\",IF(FromEvoM!AK33=\"y\",\"Y\",\"N\"))","v":""},{"$f":"IF(ISBLANK(FromEvoM!A33),\"\",Category_ID)","v":""},null,null,null,{"$f":"IF(ISBLANK(FromEvoM!AK33),\"\",FromEvoM!AK33)","v":""},{"$f":"IF(ISBLANK(FromEvoM!AM33),\"\",FromEvoM!AM33)","v":""},{"$f":"IF(ISBLANK(FromEvoM!AN33),\"\",FromEvoM!AN33)","v":""},{"$f":"IF(ISBLANK(FromEvoM!AL33),\"\",FromEvoM!AL33)","v":""},{"$f":"IF(ISBLANK(FromEvoM!A33),\"\",IF(AND(AF33=\"y\",AI33=1),\"Y\",\"N\"))","v":""},{"$f":"IF(ISBLANK(FromEvoM!A33),\"\",IF(FromEvoM!AS33=\"Yes\",2,1))","v":""},{"$f":"IF(FromEvoM!W33=1,\"M\",IF(FromEvoM!W33=7,\"W\",\"\"))","v":""},{"$f":"IF(AJ33=\"Y\",0,IF(AJ33=\"N\",FromEvoM!AF33+FromEvoM!AT33,\"\"))","v":""},{"$f":"IF(AJ33=\"Y\",(FromEvoM!AE33+FromEvoM!AF33-FromEvoM!AT33),IF(AJ33=\"N\",FromEvoM!AE33,\"\"))","v":""}]
[{"$f":"IF(ISBLANK(FromEvoM!A34),\"\",Group_Code)","v":""},{"$f":"IF(ISBLANK(FromEvoM!A34),\"\",SUBSTITUTE(FromEvoM!A34,\" \",\"\"))","v":""},{"$f":"IF(ISBLANK(FromEvoM!C34),\"\",SUBSTITUTE(FromEvoM!G34,\" \",\"\"))","v":""},{"$f":"IF(ISBLANK(FromEvoM!D34),\"\",FromEvoM!B34)","v":""},{"$f":"IF(ISBLANK(FromEvoM!D34),\"\",FromEvoM!D34)","v":""},{"$f":"IF(ISBLANK(FromEvoM!C34),\"\",FromEvoM!C34)","v":""},{"$f":"REPLACE(FromEvoM!F34,2,6, )","v":""},{"$f":"IF(ISNUMBER(FromEvoM!E34),FromEvoM!E34,\"\")","v":""},{"$f":"IF(ISBLANK(FromEvoM!I34),\"\",FromEvoM!I34)","v":""},{"$f":"IF(ISBLANK(FromEvoM!J34),\"\",FromEvoM!J34)","v":""},{"$f":"IF(ISBLANK(FromEvoM!K34),\"\",FromEvoM!K34)","v":""},{"$f":"IF(ISBLANK(FromEvoM!L34),\"\",FromEvoM!L34)","v":""},{"$f":"IF(ISBLANK(FromEvoM!M34),\"\",FromEvoM!M34)","v":""},{"$f":"IF(ISBLANK(FromEvoM!P34),\"\",FromEvoM!P34)","v":""},null,{"$f":"IF(ISNUMBER(FromEvoM!X34),FromEvoM!X34,\"\")","v":""},{"$f":"IF(ISNUMBER(FromEvoM!AB34),FromEvoM!AB34,\"\")","v":""},{"$f":"IF(ISNUMBER(FromEvoM!AA34),FromEvoM!AA34,\"\")","v":""},null,"","",null,null,{"$f":"IF(FromEvoM!W34=1,(FromEvoM!AB34*12),IF(FromEvoM!W34=7,(FromEvoM!AR34),\"\"))","v":""},null,null,{"$f":"IF(ISBLANK(FromEvoM!A34),\"\",IF(FromEvoM!AK34=\"y\",\"Y\",\"N\"))","v":""},{"$f":"IF(ISBLANK(FromEvoM!A34),\"\",Category_ID)","v":""},null,null,null,{"$f":"IF(ISBLANK(FromEvoM!AK34),\"\",FromEvoM!AK34)","v":""},{"$f":"IF(ISBLANK(FromEvoM!AM34),\"\",FromEvoM!AM34)","v":""},{"$f":"IF(ISBLANK(FromEvoM!AN34),\"\",FromEvoM!AN34)","v":""},{"$f":"IF(ISBLANK(FromEvoM!AL34),\"\",FromEvoM!AL34)","v":""},{"$f":"IF(ISBLANK(FromEvoM!A34),\"\",IF(AND(AF34=\"y\",AI34=1),\"Y\",\"N\"))","v":""},{"$f":"IF(ISBLANK(FromEvoM!A34),\"\",IF(FromEvoM!AS34=\"Yes\",2,1))","v":""},{"$f":"IF(FromEvoM!W34=1,\"M\",IF(FromEvoM!W34=7,\"W\",\"\"))","v":""},{"$f":"IF(AJ34=\"Y\",0,IF(AJ34=\"N\",FromEvoM!AF34+FromEvoM!AT34,\"\"))","v":""},{"$f":"IF(AJ34=\"Y\",(FromEvoM!AE34+FromEvoM!AF34-FromEvoM!AT34),IF(AJ34=\"N\",FromEvoM!AE34,\"\"))","v":""}]
[{"$f":"IF(ISBLANK(FromEvoM!A35),\"\",Group_Code)","v":""},{"$f":"IF(ISBLANK(FromEvoM!A35),\"\",SUBSTITUTE(FromEvoM!A35,\" \",\"\"))","v":""},{"$f":"IF(ISBLANK(FromEvoM!C35),\"\",SUBSTITUTE(FromEvoM!G35,\" \",\"\"))","v":""},{"$f":"IF(ISBLANK(FromEvoM!D35),\"\",FromEvoM!B35)","v":""},{"$f":"IF(ISBLANK(FromEvoM!D35),\"\",FromEvoM!D35)","v":""},{"$f":"IF(ISBLANK(FromEvoM!C35),\"\",FromEvoM!C35)","v":""},{"$f":"REPLACE(FromEvoM!F35,2,6, )","v":""},{"$f":"IF(ISNUMBER(FromEvoM!E35),FromEvoM!E35,\"\")","v":""},{"$f":"IF(ISBLANK(FromEvoM!I35),\"\",FromEvoM!I35)","v":""},{"$f":"IF(ISBLANK(FromEvoM!J35),\"\",FromEvoM!J35)","v":""},{"$f":"IF(ISBLANK(FromEvoM!K35),\"\",FromEvoM!K35)","v":""},{"$f":"IF(ISBLANK(FromEvoM!L35),\"\",FromEvoM!L35)","v":""},{"$f":"IF(ISBLANK(FromEvoM!M35),\"\",FromEvoM!M35)","v":""},{"$f":"IF(ISBLANK(FromEvoM!P35),\"\",FromEvoM!P35)","v":""},null,{"$f":"IF(ISNUMBER(FromEvoM!X35),FromEvoM!X35,\"\")","v":""},{"$f":"IF(ISNUMBER(FromEvoM!AB35),FromEvoM!AB35,\"\")","v":""},{"$f":"IF(ISNUMBER(FromEvoM!AA35),FromEvoM!AA35,\"\")","v":""},null,"","",null,null,{"$f":"IF(FromEvoM!W35=1,(FromEvoM!AB35*12),IF(FromEvoM!W35=7,(FromEvoM!AR35),\"\"))","v":""},null,null,{"$f":"IF(ISBLANK(FromEvoM!A35),\"\",IF(FromEvoM!AK35=\"y\",\"Y\",\"N\"))","v":""},{"$f":"IF(ISBLANK(FromEvoM!A35),\"\",Category_ID)","v":""},null,null,null,{"$f":"IF(ISBLANK(FromEvoM!AK35),\"\",FromEvoM!AK35)","v":""},{"$f":"IF(ISBLANK(FromEvoM!AM35),\"\",FromEvoM!AM35)","v":""},{"$f":"IF(ISBLANK(FromEvoM!AN35),\"\",FromEvoM!AN35)","v":""},{"$f":"IF(ISBLANK(FromEvoM!AL35),\"\",FromEvoM!AL35)","v":""},{"$f":"IF(ISBLANK(FromEvoM!A35),\"\",IF(AND(AF35=\"y\",AI35=1),\"Y\",\"N\"))","v":""},{"$f":"IF(ISBLANK(FromEvoM!A35),\"\",IF(FromEvoM!AS35=\"Yes\",2,1))","v":""},{"$f":"IF(FromEvoM!W35=1,\"M\",IF(FromEvoM!W35=7,\"W\",\"\"))","v":""},{"$f":"IF(AJ35=\"Y\",0,IF(AJ35=\"N\",FromEvoM!AF35+FromEvoM!AT35,\"\"))","v":""},{"$f":"IF(AJ35=\"Y\",(FromEvoM!AE35+FromEvoM!AF35-FromEvoM!AT35),IF(AJ35=\"N\",FromEvoM!AE35,\"\"))","v":""}]
[{"$f":"IF(ISBLANK(FromEvoM!A36),\"\",Group_Code)","v":""},{"$f":"IF(ISBLANK(FromEvoM!A36),\"\",SUBSTITUTE(FromEvoM!A36,\" \",\"\"))","v":""},{"$f":"IF(ISBLANK(FromEvoM!C36),\"\",SUBSTITUTE(FromEvoM!G36,\" \",\"\"))","v":""},{"$f":"IF(ISBLANK(FromEvoM!D36),\"\",FromEvoM!B36)","v":""},{"$f":"IF(ISBLANK(FromEvoM!D36),\"\",FromEvoM!D36)","v":""},{"$f":"IF(ISBLANK(FromEvoM!C36),\"\",FromEvoM!C36)","v":""},{"$f":"REPLACE(FromEvoM!F36,2,6, )","v":""},{"$f":"IF(ISNUMBER(FromEvoM!E36),FromEvoM!E36,\"\")","v":""},{"$f":"IF(ISBLANK(FromEvoM!I36),\"\",FromEvoM!I36)","v":""},{"$f":"IF(ISBLANK(FromEvoM!J36),\"\",FromEvoM!J36)","v":""},{"$f":"IF(ISBLANK(FromEvoM!K36),\"\",FromEvoM!K36)","v":""},{"$f":"IF(ISBLANK(FromEvoM!L36),\"\",FromEvoM!L36)","v":""},{"$f":"IF(ISBLANK(FromEvoM!M36),\"\",FromEvoM!M36)","v":""},{"$f":"IF(ISBLANK(FromEvoM!P36),\"\",FromEvoM!P36)","v":""},null,{"$f":"IF(ISNUMBER(FromEvoM!X36),FromEvoM!X36,\"\")","v":""},{"$f":"IF(ISNUMBER(FromEvoM!AB36),FromEvoM!AB36,\"\")","v":""},{"$f":"IF(ISNUMBER(FromEvoM!AA36),FromEvoM!AA36,\"\")","v":""},null,"","",null,null,{"$f":"IF(FromEvoM!W36=1,(FromEvoM!AB36*12),IF(FromEvoM!W36=7,(FromEvoM!AR36),\"\"))","v":""},null,null,{"$f":"IF(ISBLANK(FromEvoM!A36),\"\",IF(FromEvoM!AK36=\"y\",\"Y\",\"N\"))","v":""},{"$f":"IF(ISBLANK(FromEvoM!A36),\"\",Category_ID)","v":""},null,null,null,{"$f":"IF(ISBLANK(FromEvoM!AK36),\"\",FromEvoM!AK36)","v":""},{"$f":"IF(ISBLANK(FromEvoM!AM36),\"\",FromEvoM!AM36)","v":""},{"$f":"IF(ISBLANK(FromEvoM!AN36),\"\",FromEvoM!AN36)","v":""},{"$f":"IF(ISBLANK(FromEvoM!AL36),\"\",FromEvoM!AL36)","v":""},{"$f":"IF(ISBLANK(FromEvoM!A36),\"\",IF(AND(AF36=\"y\",AI36=1),\"Y\",\"N\"))","v":""},{"$f":"IF(ISBLANK(FromEvoM!A36),\"\",IF(FromEvoM!AS36=\"Yes\",2,1))","v":""},{"$f":"IF(FromEvoM!W36=1,\"M\",IF(FromEvoM!W36=7,\"W\",\"\"))","v":""},{"$f":"IF(AJ36=\"Y\",0,IF(AJ36=\"N\",FromEvoM!AF36+FromEvoM!AT36,\"\"))","v":""},{"$f":"IF(AJ36=\"Y\",(FromEvoM!AE36+FromEvoM!AF36-FromEvoM!AT36),IF(AJ36=\"N\",FromEvoM!AE36,\"\"))","v":""}]
[{"$f":"IF(ISBLANK(FromEvoM!A37),\"\",Group_Code)","v":""},{"$f":"IF(ISBLANK(FromEvoM!A37),\"\",SUBSTITUTE(FromEvoM!A37,\" \",\"\"))","v":""},{"$f":"IF(ISBLANK(FromEvoM!C37),\"\",SUBSTITUTE(FromEvoM!G37,\" \",\"\"))","v":""},{"$f":"IF(ISBLANK(FromEvoM!D37),\"\",FromEvoM!B37)","v":""},{"$f":"IF(ISBLANK(FromEvoM!D37),\"\",FromEvoM!D37)","v":""},{"$f":"IF(ISBLANK(FromEvoM!C37),\"\",FromEvoM!C37)","v":""},{"$f":"REPLACE(FromEvoM!F37,2,6, )","v":""},{"$f":"IF(ISNUMBER(FromEvoM!E37),FromEvoM!E37,\"\")","v":""},{"$f":"IF(ISBLANK(FromEvoM!I37),\"\",FromEvoM!I37)","v":""},{"$f":"IF(ISBLANK(FromEvoM!J37),\"\",FromEvoM!J37)","v":""},{"$f":"IF(ISBLANK(FromEvoM!K37),\"\",FromEvoM!K37)","v":""},{"$f":"IF(ISBLANK(FromEvoM!L37),\"\",FromEvoM!L37)","v":""},{"$f":"IF(ISBLANK(FromEvoM!M37),\"\",FromEvoM!M37)","v":""},{"$f":"IF(ISBLANK(FromEvoM!P37),\"\",FromEvoM!P37)","v":""},null,{"$f":"IF(ISNUMBER(FromEvoM!X37),FromEvoM!X37,\"\")","v":""},{"$f":"IF(ISNUMBER(FromEvoM!AB37),FromEvoM!AB37,\"\")","v":""},{"$f":"IF(ISNUMBER(FromEvoM!AA37),FromEvoM!AA37,\"\")","v":""},null,"","",null,null,{"$f":"IF(FromEvoM!W37=1,(FromEvoM!AB37*12),IF(FromEvoM!W37=7,(FromEvoM!AR37),\"\"))","v":""},null,null,{"$f":"IF(ISBLANK(FromEvoM!A37),\"\",IF(FromEvoM!AK37=\"y\",\"Y\",\"N\"))","v":""},{"$f":"IF(ISBLANK(FromEvoM!A37),\"\",Category_ID)","v":""},null,null,null,{"$f":"IF(ISBLANK(FromEvoM!AK37),\"\",FromEvoM!AK37)","v":""},{"$f":"IF(ISBLANK(FromEvoM!AM37),\"\",FromEvoM!AM37)","v":""},{"$f":"IF(ISBLANK(FromEvoM!AN37),\"\",FromEvoM!AN37)","v":""},{"$f":"IF(ISBLANK(FromEvoM!AL37),\"\",FromEvoM!AL37)","v":""},{"$f":"IF(ISBLANK(FromEvoM!A37),\"\",IF(AND(AF37=\"y\",AI37=1),\"Y\",\"N\"))","v":""},{"$f":"IF(ISBLANK(FromEvoM!A37),\"\",IF(FromEvoM!AS37=\"Yes\",2,1))","v":""},{"$f":"IF(FromEvoM!W37=1,\"M\",IF(FromEvoM!W37=7,\"W\",\"\"))","v":""},{"$f":"IF(AJ37=\"Y\",0,IF(AJ37=\"N\",FromEvoM!AF37+FromEvoM!AT37,\"\"))","v":""},{"$f":"IF(AJ37=\"Y\",(FromEvoM!AE37+FromEvoM!AF37-FromEvoM!AT37),IF(AJ37=\"N\",FromEvoM!AE37,\"\"))","v":""}]
[{"$f":"IF(ISBLANK(FromEvoM!A38),\"\",Group_Code)","v":""},{"$f":"IF(ISBLANK(FromEvoM!A38),\"\",SUBSTITUTE(FromEvoM!A38,\" \",\"\"))","v":""},{"$f":"IF(ISBLANK(FromEvoM!C38),\"\",SUBSTITUTE(FromEvoM!G38,\" \",\"\"))","v":""},{"$f":"IF(ISBLANK(FromEvoM!D38),\"\",FromEvoM!B38)","v":""},{"$f":"IF(ISBLANK(FromEvoM!D38),\"\",FromEvoM!D38)","v":""},{"$f":"IF(ISBLANK(FromEvoM!C38),\"\",FromEvoM!C38)","v":""},{"$f":"REPLACE(FromEvoM!F38,2,6, )","v":""},{"$f":"IF(ISNUMBER(FromEvoM!E38),FromEvoM!E38,\"\")","v":""},{"$f":"IF(ISBLANK(FromEvoM!I38),\"\",FromEvoM!I38)","v":""},{"$f":"IF(ISBLANK(FromEvoM!J38),\"\",FromEvoM!J38)","v":""},{"$f":"IF(ISBLANK(FromEvoM!K38),\"\",FromEvoM!K38)","v":""},{"$f":"IF(ISBLANK(FromEvoM!L38),\"\",FromEvoM!L38)","v":""},{"$f":"IF(ISBLANK(FromEvoM!M38),\"\",FromEvoM!M38)","v":""},{"$f":"IF(ISBLANK(FromEvoM!P38),\"\",FromEvoM!P38)","v":""},null,{"$f":"IF(ISNUMBER(FromEvoM!X38),FromEvoM!X38,\"\")","v":""},{"$f":"IF(ISNUMBER(FromEvoM!AB38),FromEvoM!AB38,\"\")","v":""},{"$f":"IF(ISNUMBER(FromEvoM!AA38),FromEvoM!AA38,\"\")","v":""},null,"","",null,null,{"$f":"IF(FromEvoM!W38=1,(FromEvoM!AB38*12),IF(FromEvoM!W38=7,(FromEvoM!AR38),\"\"))","v":""},null,null,{"$f":"IF(ISBLANK(FromEvoM!A38),\"\",IF(FromEvoM!AK38=\"y\",\"Y\",\"N\"))","v":""},{"$f":"IF(ISBLANK(FromEvoM!A38),\"\",Category_ID)","v":""},null,null,null,{"$f":"IF(ISBLANK(FromEvoM!AK38),\"\",FromEvoM!AK38)","v":""},{"$f":"IF(ISBLANK(FromEvoM!AM38),\"\",FromEvoM!AM38)","v":""},{"$f":"IF(ISBLANK(FromEvoM!AN38),\"\",FromEvoM!AN38)","v":""},{"$f":"IF(ISBLANK(FromEvoM!AL38),\"\",FromEvoM!AL38)","v":""},{"$f":"IF(ISBLANK(FromEvoM!A38),\"\",IF(AND(AF38=\"y\",AI38=1),\"Y\",\"N\"))","v":""},{"$f":"IF(ISBLANK(FromEvoM!A38),\"\",IF(FromEvoM!AS38=\"Yes\",2,1))","v":""},{"$f":"IF(FromEvoM!W38=1,\"M\",IF(FromEvoM!W38=7,\"W\",\"\"))","v":""},{"$f":"IF(AJ38=\"Y\",0,IF(AJ38=\"N\",FromEvoM!AF38+FromEvoM!AT38,\"\"))","v":""},{"$f":"IF(AJ38=\"Y\",(FromEvoM!AE38+FromEvoM!AF38-FromEvoM!AT38),IF(AJ38=\"N\",FromEvoM!AE38,\"\"))","v":""}]
[{"$f":"IF(ISBLANK(FromEvoM!A39),\"\",Group_Code)","v":""},{"$f":"IF(ISBLANK(FromEvoM!A39),\"\",SUBSTITUTE(FromEvoM!A39,\" \",\"\"))","v":""},{"$f":"IF(ISBLANK(FromEvoM!C39),\"\",SUBSTITUTE(FromEvoM!G39,\" \",\"\"))","v":""},{"$f":"IF(ISBLANK(FromEvoM!D39),\"\",FromEvoM!B39)","v":""},{"$f":"IF(ISBLANK(FromEvoM!D39),\"\",FromEvoM!D39)","v":""},{"$f":"IF(ISBLANK(FromEvoM!C39),\"\",FromEvoM!C39)","v":""},{"$f":"REPLACE(FromEvoM!F39,2,6, )","v":""},{"$f":"IF(ISNUMBER(FromEvoM!E39),FromEvoM!E39,\"\")","v":""},{"$f":"IF(ISBLANK(FromEvoM!I39),\"\",FromEvoM!I39)","v":""},{"$f":"IF(ISBLANK(FromEvoM!J39),\"\",FromEvoM!J39)","v":""},{"$f":"IF(ISBLANK(FromEvoM!K39),\"\",FromEvoM!K39)","v":""},{"$f":"IF(ISBLANK(FromEvoM!L39),\"\",FromEvoM!L39)","v":""},{"$f":"IF(ISBLANK(FromEvoM!M39),\"\",FromEvoM!M39)","v":""},{"$f":"IF(ISBLANK(FromEvoM!P39),\"\",FromEvoM!P39)","v":""},null,{"$f":"IF(ISNUMBER(FromEvoM!X39),FromEvoM!X39,\"\")","v":""},{"$f":"IF(ISNUMBER(FromEvoM!AB39),FromEvoM!AB39,\"\")","v":""},{"$f":"IF(ISNUMBER(FromEvoM!AA39),FromEvoM!AA39,\"\")","v":""},null,"","",null,null,{"$f":"IF(FromEvoM!W39=1,(FromEvoM!AB39*12),IF(FromEvoM!W39=7,(FromEvoM!AR39),\"\"))","v":""},null,null,{"$f":"IF(ISBLANK(FromEvoM!A39),\"\",IF(FromEvoM!AK39=\"y\",\"Y\",\"N\"))","v":""},{"$f":"IF(ISBLANK(FromEvoM!A39),\"\",Category_ID)","v":""},null,null,null,{"$f":"IF(ISBLANK(FromEvoM!AK39),\"\",FromEvoM!AK39)","v":""},{"$f":"IF(ISBLANK(FromEvoM!AM39),\"\",FromEvoM!AM39)","v":""},{"$f":"IF(ISBLANK(FromEvoM!AN39),\"\",FromEvoM!AN39)","v":""},{"$f":"IF(ISBLANK(FromEvoM!AL39),\"\",FromEvoM!AL39)","v":""},{"$f":"IF(ISBLANK(FromEvoM!A39),\"\",IF(AND(AF39=\"y\",AI39=1),\"Y\",\"N\"))","v":""},{"$f":"IF(ISBLANK(FromEvoM!A39),\"\",IF(FromEvoM!AS39=\"Yes\",2,1))","v":""},{"$f":"IF(FromEvoM!W39=1,\"M\",IF(FromEvoM!W39=7,\"W\",\"\"))","v":""},{"$f":"IF(AJ39=\"Y\",0,IF(AJ39=\"N\",FromEvoM!AF39+FromEvoM!AT39,\"\"))","v":""},{"$f":"IF(AJ39=\"Y\",(FromEvoM!AE39+FromEvoM!AF39-FromEvoM!AT39),IF(AJ39=\"N\",FromEvoM!AE39,\"\"))","v":""}]
[{"$f":"IF(ISBLANK(FromEvoM!A40),\"\",Group_Code)","v":""},{"$f":"IF(ISBLANK(FromEvoM!A40),\"\",SUBSTITUTE(FromEvoM!A40,\" \",\"\"))","v":""},{"$f":"IF(ISBLANK(FromEvoM!C40),\"\",SUBSTITUTE(FromEvoM!G40,\" \",\"\"))","v":""},{"$f":"IF(ISBLANK(FromEvoM!D40),\"\",FromEvoM!B40)","v":""},{"$f":"IF(ISBLANK(FromEvoM!D40),\"\",FromEvoM!D40)","v":""},{"$f":"IF(ISBLANK(FromEvoM!C40),\"\",FromEvoM!C40)","v":""},{"$f":"REPLACE(FromEvoM!F40,2,6, )","v":""},{"$f":"IF(ISNUMBER(FromEvoM!E40),FromEvoM!E40,\"\")","v":""},{"$f":"IF(ISBLANK(FromEvoM!I40),\"\",FromEvoM!I40)","v":""},{"$f":"IF(ISBLANK(FromEvoM!J40),\"\",FromEvoM!J40)","v":""},{"$f":"IF(ISBLANK(FromEvoM!K40),\"\",FromEvoM!K40)","v":""},{"$f":"IF(ISBLANK(FromEvoM!L40),\"\",FromEvoM!L40)","v":""},{"$f":"IF(ISBLANK(FromEvoM!M40),\"\",FromEvoM!M40)","v":""},{"$f":"IF(ISBLANK(FromEvoM!P40),\"\",FromEvoM!P40)","v":""},null,{"$f":"IF(ISNUMBER(FromEvoM!X40),FromEvoM!X40,\"\")","v":""},{"$f":"IF(ISNUMBER(FromEvoM!AB40),FromEvoM!AB40,\"\")","v":""},{"$f":"IF(ISNUMBER(FromEvoM!AA40),FromEvoM!AA40,\"\")","v":""},null,"","",null,null,{"$f":"IF(FromEvoM!W40=1,(FromEvoM!AB40*12),IF(FromEvoM!W40=7,(FromEvoM!AR40),\"\"))","v":""},null,null,{"$f":"IF(ISBLANK(FromEvoM!A40),\"\",IF(FromEvoM!AK40=\"y\",\"Y\",\"N\"))","v":""},{"$f":"IF(ISBLANK(FromEvoM!A40),\"\",Category_ID)","v":""},null,null,null,{"$f":"IF(ISBLANK(FromEvoM!AK40),\"\",FromEvoM!AK40)","v":""},{"$f":"IF(ISBLANK(FromEvoM!AM40),\"\",FromEvoM!AM40)","v":""},{"$f":"IF(ISBLANK(FromEvoM!AN40),\"\",FromEvoM!AN40)","v":""},{"$f":"IF(ISBLANK(FromEvoM!AL40),\"\",FromEvoM!AL40)","v":""},{"$f":"IF(ISBLANK(FromEvoM!A40),\"\",IF(AND(AF40=\"y\",AI40=1),\"Y\",\"N\"))","v":""},{"$f":"IF(ISBLANK(FromEvoM!A40),\"\",IF(FromEvoM!AS40=\"Yes\",2,1))","v":""},{"$f":"IF(FromEvoM!W40=1,\"M\",IF(FromEvoM!W40=7,\"W\",\"\"))","v":""},{"$f":"IF(AJ40=\"Y\",0,IF(AJ40=\"N\",FromEvoM!AF40+FromEvoM!AT40,\"\"))","v":""},{"$f":"IF(AJ40=\"Y\",(FromEvoM!AE40+FromEvoM!AF40-FromEvoM!AT40),IF(AJ40=\"N\",FromEvoM!AE40,\"\"))","v":""}]
[{"$f":"IF(ISBLANK(FromEvoM!A41),\"\",Group_Code)","v":""},{"$f":"IF(ISBLANK(FromEvoM!A41),\"\",SUBSTITUTE(FromEvoM!A41,\" \",\"\"))","v":""},{"$f":"IF(ISBLANK(FromEvoM!C41),\"\",SUBSTITUTE(FromEvoM!G41,\" \",\"\"))","v":""},{"$f":"IF(ISBLANK(FromEvoM!D41),\"\",FromEvoM!B41)","v":""},{"$f":"IF(ISBLANK(FromEvoM!D41),\"\",FromEvoM!D41)","v":""},{"$f":"IF(ISBLANK(FromEvoM!C41),\"\",FromEvoM!C41)","v":""},{"$f":"REPLACE(FromEvoM!F41,2,6, )","v":""},{"$f":"IF(ISNUMBER(FromEvoM!E41),FromEvoM!E41,\"\")","v":""},{"$f":"IF(ISBLANK(FromEvoM!I41),\"\",FromEvoM!I41)","v":""},{"$f":"IF(ISBLANK(FromEvoM!J41),\"\",FromEvoM!J41)","v":""},{"$f":"IF(ISBLANK(FromEvoM!K41),\"\",FromEvoM!K41)","v":""},{"$f":"IF(ISBLANK(FromEvoM!L41),\"\",FromEvoM!L41)","v":""},{"$f":"IF(ISBLANK(FromEvoM!M41),\"\",FromEvoM!M41)","v":""},{"$f":"IF(ISBLANK(FromEvoM!P41),\"\",FromEvoM!P41)","v":""},null,{"$f":"IF(ISNUMBER(FromEvoM!X41),FromEvoM!X41,\"\")","v":""},{"$f":"IF(ISNUMBER(FromEvoM!AB41),FromEvoM!AB41,\"\")","v":""},{"$f":"IF(ISNUMBER(FromEvoM!AA41),FromEvoM!AA41,\"\")","v":""},null,"","",null,null,{"$f":"IF(FromEvoM!W41=1,(FromEvoM!AB41*12),IF(FromEvoM!W41=7,(FromEvoM!AR41),\"\"))","v":""},null,null,{"$f":"IF(ISBLANK(FromEvoM!A41),\"\",IF(FromEvoM!AK41=\"y\",\"Y\",\"N\"))","v":""},{"$f":"IF(ISBLANK(FromEvoM!A41),\"\",Category_ID)","v":""},null,null,null,{"$f":"IF(ISBLANK(FromEvoM!AK41),\"\",FromEvoM!AK41)","v":""},{"$f":"IF(ISBLANK(FromEvoM!AM41),\"\",FromEvoM!AM41)","v":""},{"$f":"IF(ISBLANK(FromEvoM!AN41),\"\",FromEvoM!AN41)","v":""},{"$f":"IF(ISBLANK(FromEvoM!AL41),\"\",FromEvoM!AL41)","v":""},{"$f":"IF(ISBLANK(FromEvoM!A41),\"\",IF(AND(AF41=\"y\",AI41=1),\"Y\",\"N\"))","v":""},{"$f":"IF(ISBLANK(FromEvoM!A41),\"\",IF(FromEvoM!AS41=\"Yes\",2,1))","v":""},{"$f":"IF(FromEvoM!W41=1,\"M\",IF(FromEvoM!W41=7,\"W\",\"\"))","v":""},{"$f":"IF(AJ41=\"Y\",0,IF(AJ41=\"N\",FromEvoM!AF41+FromEvoM!AT41,\"\"))","v":""},{"$f":"IF(AJ41=\"Y\",(FromEvoM!AE41+FromEvoM!AF41-FromEvoM!AT41),IF(AJ41=\"N\",FromEvoM!AE41,\"\"))","v":""}]
[{"$f":"IF(ISBLANK(FromEvoM!A42),\"\",Group_Code)","v":""},{"$f":"IF(ISBLANK(FromEvoM!A42),\"\",SUBSTITUTE(FromEvoM!A42,\" \",\"\"))","v":""},{"$f":"IF(ISBLANK(FromEvoM!C42),\"\",SUBSTITUTE(FromEvoM!G42,\" \",\"\"))","v":""},{"$f":"IF(ISBLANK(FromEvoM!D42),\"\",FromEvoM!B42)","v":""},{"$f":"IF(ISBLANK(FromEvoM!D42),\"\",FromEvoM!D42)","v":""},{"$f":"IF(ISBLANK(FromEvoM!C42),\"\",FromEvoM!C42)","v":""},{"$f":"REPLACE(FromEvoM!F42,2,6, )","v":""},{"$f":"IF(ISNUMBER(FromEvoM!E42),FromEvoM!E42,\"\")","v":""},{"$f":"IF(ISBLANK(FromEvoM!I42),\"\",FromEvoM!I42)","v":""},{"$f":"IF(ISBLANK(FromEvoM!J42),\"\",FromEvoM!J42)","v":""},{"$f":"IF(ISBLANK(FromEvoM!K42),\"\",FromEvoM!K42)","v":""},{"$f":"IF(ISBLANK(FromEvoM!L42),\"\",FromEvoM!L42)","v":""},{"$f":"IF(ISBLANK(FromEvoM!M42),\"\",FromEvoM!M42)","v":""},{"$f":"IF(ISBLANK(FromEvoM!P42),\"\",FromEvoM!P42)","v":""},null,{"$f":"IF(ISNUMBER(FromEvoM!X42),FromEvoM!X42,\"\")","v":""},{"$f":"IF(ISNUMBER(FromEvoM!AB42),FromEvoM!AB42,\"\")","v":""},{"$f":"IF(ISNUMBER(FromEvoM!AA42),FromEvoM!AA42,\"\")","v":""},null,"","",null,null,{"$f":"IF(FromEvoM!W42=1,(FromEvoM!AB42*12),IF(FromEvoM!W42=7,(FromEvoM!AR42),\"\"))","v":""},null,null,{"$f":"IF(ISBLANK(FromEvoM!A42),\"\",IF(FromEvoM!AK42=\"y\",\"Y\",\"N\"))","v":""},{"$f":"IF(ISBLANK(FromEvoM!A42),\"\",Category_ID)","v":""},null,null,null,{"$f":"IF(ISBLANK(FromEvoM!AK42),\"\",FromEvoM!AK42)","v":""},{"$f":"IF(ISBLANK(FromEvoM!AM42),\"\",FromEvoM!AM42)","v":""},{"$f":"IF(ISBLANK(FromEvoM!AN42),\"\",FromEvoM!AN42)","v":""},{"$f":"IF(ISBLANK(FromEvoM!AL42),\"\",FromEvoM!AL42)","v":""},{"$f":"IF(ISBLANK(FromEvoM!A42),\"\",IF(AND(AF42=\"y\",AI42=1),\"Y\",\"N\"))","v":""},{"$f":"IF(ISBLANK(FromEvoM!A42),\"\",IF(FromEvoM!AS42=\"Yes\",2,1))","v":""},{"$f":"IF(FromEvoM!W42=1,\"M\",IF(FromEvoM!W42=7,\"W\",\"\"))","v":""},{"$f":"IF(AJ42=\"Y\",0,IF(AJ42=\"N\",FromEvoM!AF42+FromEvoM!AT42,\"\"))","v":""},{"$f":"IF(AJ42=\"Y\",(FromEvoM!AE42+FromEvoM!AF42-FromEvoM!AT42),IF(AJ42=\"N\",FromEvoM!AE42,\"\"))","v":""}]
[{"$f":"IF(ISBLANK(FromEvoM!A43),\"\",Group_Code)","v":""},{"$f":"IF(ISBLANK(FromEvoM!A43),\"\",SUBSTITUTE(FromEvoM!A43,\" \",\"\"))","v":""},{"$f":"IF(ISBLANK(FromEvoM!C43),\"\",SUBSTITUTE(FromEvoM!G43,\" \",\"\"))","v":""},{"$f":"IF(ISBLANK(FromEvoM!D43),\"\",FromEvoM!B43)","v":""},{"$f":"IF(ISBLANK(FromEvoM!D43),\"\",FromEvoM!D43)","v":""},{"$f":"IF(ISBLANK(FromEvoM!C43),\"\",FromEvoM!C43)","v":""},{"$f":"REPLACE(FromEvoM!F43,2,6, )","v":""},{"$f":"IF(ISNUMBER(FromEvoM!E43),FromEvoM!E43,\"\")","v":""},{"$f":"IF(ISBLANK(FromEvoM!I43),\"\",FromEvoM!I43)","v":""},{"$f":"IF(ISBLANK(FromEvoM!J43),\"\",FromEvoM!J43)","v":""},{"$f":"IF(ISBLANK(FromEvoM!K43),\"\",FromEvoM!K43)","v":""},{"$f":"IF(ISBLANK(FromEvoM!L43),\"\",FromEvoM!L43)","v":""},{"$f":"IF(ISBLANK(FromEvoM!M43),\"\",FromEvoM!M43)","v":""},{"$f":"IF(ISBLANK(FromEvoM!P43),\"\",FromEvoM!P43)","v":""},null,{"$f":"IF(ISNUMBER(FromEvoM!X43),FromEvoM!X43,\"\")","v":""},{"$f":"IF(ISNUMBER(FromEvoM!AB43),FromEvoM!AB43,\"\")","v":""},{"$f":"IF(ISNUMBER(FromEvoM!AA43),FromEvoM!AA43,\"\")","v":""},null,"","",null,null,{"$f":"IF(FromEvoM!W43=1,(FromEvoM!AB43*12),IF(FromEvoM!W43=7,(FromEvoM!AR43),\"\"))","v":""},null,null,{"$f":"IF(ISBLANK(FromEvoM!A43),\"\",IF(FromEvoM!AK43=\"y\",\"Y\",\"N\"))","v":""},{"$f":"IF(ISBLANK(FromEvoM!A43),\"\",Category_ID)","v":""},null,null,null,{"$f":"IF(ISBLANK(FromEvoM!AK43),\"\",FromEvoM!AK43)","v":""},{"$f":"IF(ISBLANK(FromEvoM!AM43),\"\",FromEvoM!AM43)","v":""},{"$f":"IF(ISBLANK(FromEvoM!AN43),\"\",FromEvoM!AN43)","v":""},{"$f":"IF(ISBLANK(FromEvoM!AL43),\"\",FromEvoM!AL43)","v":""},{"$f":"IF(ISBLANK(FromEvoM!A43),\"\",IF(AND(AF43=\"y\",AI43=1),\"Y\",\"N\"))","v":""},{"$f":"IF(ISBLANK(FromEvoM!A43),\"\",IF(FromEvoM!AS43=\"Yes\",2,1))","v":""},{"$f":"IF(FromEvoM!W43=1,\"M\",IF(FromEvoM!W43=7,\"W\",\"\"))","v":""},{"$f":"IF(AJ43=\"Y\",0,IF(AJ43=\"N\",FromEvoM!AF43+FromEvoM!AT43,\"\"))","v":""},{"$f":"IF(AJ43=\"Y\",(FromEvoM!AE43+FromEvoM!AF43-FromEvoM!AT43),IF(AJ43=\"N\",FromEvoM!AE43,\"\"))","v":""}]
[{"$f":"IF(ISBLANK(FromEvoM!A44),\"\",Group_Code)","v":""},{"$f":"IF(ISBLANK(FromEvoM!A44),\"\",SUBSTITUTE(FromEvoM!A44,\" \",\"\"))","v":""},{"$f":"IF(ISBLANK(FromEvoM!C44),\"\",SUBSTITUTE(FromEvoM!G44,\" \",\"\"))","v":""},{"$f":"IF(ISBLANK(FromEvoM!D44),\"\",FromEvoM!B44)","v":""},{"$f":"IF(ISBLANK(FromEvoM!D44),\"\",FromEvoM!D44)","v":""},{"$f":"IF(ISBLANK(FromEvoM!C44),\"\",FromEvoM!C44)","v":""},{"$f":"REPLACE(FromEvoM!F44,2,6, )","v":""},{"$f":"IF(ISNUMBER(FromEvoM!E44),FromEvoM!E44,\"\")","v":""},{"$f":"IF(ISBLANK(FromEvoM!I44),\"\",FromEvoM!I44)","v":""},{"$f":"IF(ISBLANK(FromEvoM!J44),\"\",FromEvoM!J44)","v":""},{"$f":"IF(ISBLANK(FromEvoM!K44),\"\",FromEvoM!K44)","v":""},{"$f":"IF(ISBLANK(FromEvoM!L44),\"\",FromEvoM!L44)","v":""},{"$f":"IF(ISBLANK(FromEvoM!M44),\"\",FromEvoM!M44)","v":""},{"$f":"IF(ISBLANK(FromEvoM!P44),\"\",FromEvoM!P44)","v":""},null,{"$f":"IF(ISNUMBER(FromEvoM!X44),FromEvoM!X44,\"\")","v":""},{"$f":"IF(ISNUMBER(FromEvoM!AB44),FromEvoM!AB44,\"\")","v":""},{"$f":"IF(ISNUMBER(FromEvoM!AA44),FromEvoM!AA44,\"\")","v":""},null,"","",null,null,{"$f":"IF(FromEvoM!W44=1,(FromEvoM!AB44*12),IF(FromEvoM!W44=7,(FromEvoM!AR44),\"\"))","v":""},null,null,{"$f":"IF(ISBLANK(FromEvoM!A44),\"\",IF(FromEvoM!AK44=\"y\",\"Y\",\"N\"))","v":""},{"$f":"IF(ISBLANK(FromEvoM!A44),\"\",Category_ID)","v":""},null,null,null,{"$f":"IF(ISBLANK(FromEvoM!AK44),\"\",FromEvoM!AK44)","v":""},{"$f":"IF(ISBLANK(FromEvoM!AM44),\"\",FromEvoM!AM44)","v":""},{"$f":"IF(ISBLANK(FromEvoM!AN44),\"\",FromEvoM!AN44)","v":""},{"$f":"IF(ISBLANK(FromEvoM!AL44),\"\",FromEvoM!AL44)","v":""},{"$f":"IF(ISBLANK(FromEvoM!A44),\"\",IF(AND(AF44=\"y\",AI44=1),\"Y\",\"N\"))","v":""},{"$f":"IF(ISBLANK(FromEvoM!A44),\"\",IF(FromEvoM!AS44=\"Yes\",2,1))","v":""},{"$f":"IF(FromEvoM!W44=1,\"M\",IF(FromEvoM!W44=7,\"W\",\"\"))","v":""},{"$f":"IF(AJ44=\"Y\",0,IF(AJ44=\"N\",FromEvoM!AF44+FromEvoM!AT44,\"\"))","v":""},{"$f":"IF(AJ44=\"Y\",(FromEvoM!AE44+FromEvoM!AF44-FromEvoM!AT44),IF(AJ44=\"N\",FromEvoM!AE44,\"\"))","v":""}]
[{"$f":"IF(ISBLANK(FromEvoM!A45),\"\",Group_Code)","v":""},{"$f":"IF(ISBLANK(FromEvoM!A45),\"\",SUBSTITUTE(FromEvoM!A45,\" \",\"\"))","v":""},{"$f":"IF(ISBLANK(FromEvoM!C45),\"\",SUBSTITUTE(FromEvoM!G45,\" \",\"\"))","v":""},{"$f":"IF(ISBLANK(FromEvoM!D45),\"\",FromEvoM!B45)","v":""},{"$f":"IF(ISBLANK(FromEvoM!D45),\"\",FromEvoM!D45)","v":""},{"$f":"IF(ISBLANK(FromEvoM!C45),\"\",FromEvoM!C45)","v":""},{"$f":"REPLACE(FromEvoM!F45,2,6, )","v":""},{"$f":"IF(ISNUMBER(FromEvoM!E45),FromEvoM!E45,\"\")","v":""},{"$f":"IF(ISBLANK(FromEvoM!I45),\"\",FromEvoM!I45)","v":""},{"$f":"IF(ISBLANK(FromEvoM!J45),\"\",FromEvoM!J45)","v":""},{"$f":"IF(ISBLANK(FromEvoM!K45),\"\",FromEvoM!K45)","v":""},{"$f":"IF(ISBLANK(FromEvoM!L45),\"\",FromEvoM!L45)","v":""},{"$f":"IF(ISBLANK(FromEvoM!M45),\"\",FromEvoM!M45)","v":""},{"$f":"IF(ISBLANK(FromEvoM!P45),\"\",FromEvoM!P45)","v":""},null,{"$f":"IF(ISNUMBER(FromEvoM!X45),FromEvoM!X45,\"\")","v":""},{"$f":"IF(ISNUMBER(FromEvoM!AB45),FromEvoM!AB45,\"\")","v":""},{"$f":"IF(ISNUMBER(FromEvoM!AA45),FromEvoM!AA45,\"\")","v":""},null,"","",null,null,{"$f":"IF(FromEvoM!W45=1,(FromEvoM!AB45*12),IF(FromEvoM!W45=7,(FromEvoM!AR45),\"\"))","v":""},null,null,{"$f":"IF(ISBLANK(FromEvoM!A45),\"\",IF(FromEvoM!AK45=\"y\",\"Y\",\"N\"))","v":""},{"$f":"IF(ISBLANK(FromEvoM!A45),\"\",Category_ID)","v":""},null,null,null,{"$f":"IF(ISBLANK(FromEvoM!AK45),\"\",FromEvoM!AK45)","v":""},{"$f":"IF(ISBLANK(FromEvoM!AM45),\"\",FromEvoM!AM45)","v":""},{"$f":"IF(ISBLANK(FromEvoM!AN45),\"\",FromEvoM!AN45)","v":""},{"$f":"IF(ISBLANK(FromEvoM!AL45),\"\",FromEvoM!AL45)","v":""},{"$f":"IF(ISBLANK(FromEvoM!A45),\"\",IF(AND(AF45=\"y\",AI45=1),\"Y\",\"N\"))","v":""},{"$f":"IF(ISBLANK(FromEvoM!A45),\"\",IF(FromEvoM!AS45=\"Yes\",2,1))","v":""},{"$f":"IF(FromEvoM!W45=1,\"M\",IF(FromEvoM!W45=7,\"W\",\"\"))","v":""},{"$f":"IF(AJ45=\"Y\",0,IF(AJ45=\"N\",FromEvoM!AF45+FromEvoM!AT45,\"\"))","v":""},{"$f":"IF(AJ45=\"Y\",(FromEvoM!AE45+FromEvoM!AF45-FromEvoM!AT45),IF(AJ45=\"N\",FromEvoM!AE45,\"\"))","v":""}]
[{"$f":"IF(ISBLANK(FromEvoM!A46),\"\",Group_Code)","v":""},{"$f":"IF(ISBLANK(FromEvoM!A46),\"\",SUBSTITUTE(FromEvoM!A46,\" \",\"\"))","v":""},{"$f":"IF(ISBLANK(FromEvoM!C46),\"\",SUBSTITUTE(FromEvoM!G46,\" \",\"\"))","v":""},{"$f":"IF(ISBLANK(FromEvoM!D46),\"\",FromEvoM!B46)","v":""},{"$f":"IF(ISBLANK(FromEvoM!D46),\"\",FromEvoM!D46)","v":""},{"$f":"IF(ISBLANK(FromEvoM!C46),\"\",FromEvoM!C46)","v":""},{"$f":"REPLACE(FromEvoM!F46,2,6, )","v":""},{"$f":"IF(ISNUMBER(FromEvoM!E46),FromEvoM!E46,\"\")","v":""},{"$f":"IF(ISBLANK(FromEvoM!I46),\"\",FromEvoM!I46)","v":""},{"$f":"IF(ISBLANK(FromEvoM!J46),\"\",FromEvoM!J46)","v":""},{"$f":"IF(ISBLANK(FromEvoM!K46),\"\",FromEvoM!K46)","v":""},{"$f":"IF(ISBLANK(FromEvoM!L46),\"\",FromEvoM!L46)","v":""},{"$f":"IF(ISBLANK(FromEvoM!M46),\"\",FromEvoM!M46)","v":""},{"$f":"IF(ISBLANK(FromEvoM!P46),\"\",FromEvoM!P46)","v":""},null,{"$f":"IF(ISNUMBER(FromEvoM!X46),FromEvoM!X46,\"\")","v":""},{"$f":"IF(ISNUMBER(FromEvoM!AB46),FromEvoM!AB46,\"\")","v":""},{"$f":"IF(ISNUMBER(FromEvoM!AA46),FromEvoM!AA46,\"\")","v":""},null,"","",null,null,{"$f":"IF(FromEvoM!W46=1,(FromEvoM!AB46*12),IF(FromEvoM!W46=7,(FromEvoM!AR46),\"\"))","v":""},null,null,{"$f":"IF(ISBLANK(FromEvoM!A46),\"\",IF(FromEvoM!AK46=\"y\",\"Y\",\"N\"))","v":""},{"$f":"IF(ISBLANK(FromEvoM!A46),\"\",Category_ID)","v":""},null,null,null,{"$f":"IF(ISBLANK(FromEvoM!AK46),\"\",FromEvoM!AK46)","v":""},{"$f":"IF(ISBLANK(FromEvoM!AM46),\"\",FromEvoM!AM46)","v":""},{"$f":"IF(ISBLANK(FromEvoM!AN46),\"\",FromEvoM!AN46)","v":""},{"$f":"IF(ISBLANK(FromEvoM!AL46),\"\",FromEvoM!AL46)","v":""},{"$f":"IF(ISBLANK(FromEvoM!A46),\"\",IF(AND(AF46=\"y\",AI46=1),\"Y\",\"N\"))","v":""},{"$f":"IF(ISBLANK(FromEvoM!A46),\"\",IF(FromEvoM!AS46=\"Yes\",2,1))","v":""},{"$f":"IF(FromEvoM!W46=1,\"M\",IF(FromEvoM!W46=7,\"W\",\"\"))","v":""},{"$f":"IF(AJ46=\"Y\",0,IF(AJ46=\"N\",FromEvoM!AF46+FromEvoM!AT46,\"\"))","v":""},{"$f":"IF(AJ46=\"Y\",(FromEvoM!AE46+FromEvoM!AF46-FromEvoM!AT46),IF(AJ46=\"N\",FromEvoM!AE46,\"\"))","v":""}]
[{"$f":"IF(ISBLANK(FromEvoM!A47),\"\",Group_Code)","v":""},{"$f":"IF(ISBLANK(FromEvoM!A47),\"\",SUBSTITUTE(FromEvoM!A47,\" \",\"\"))","v":""},{"$f":"IF(ISBLANK(FromEvoM!C47),\"\",SUBSTITUTE(FromEvoM!G47,\" \",\"\"))","v":""},{"$f":"IF(ISBLANK(FromEvoM!D47),\"\",FromEvoM!B47)","v":""},{"$f":"IF(ISBLANK(FromEvoM!D47),\"\",FromEvoM!D47)","v":""},{"$f":"IF(ISBLANK(FromEvoM!C47),\"\",FromEvoM!C47)","v":""},{"$f":"REPLACE(FromEvoM!F47,2,6, )","v":""},{"$f":"IF(ISNUMBER(FromEvoM!E47),FromEvoM!E47,\"\")","v":""},{"$f":"IF(ISBLANK(FromEvoM!I47),\"\",FromEvoM!I47)","v":""},{"$f":"IF(ISBLANK(FromEvoM!J47),\"\",FromEvoM!J47)","v":""},{"$f":"IF(ISBLANK(FromEvoM!K47),\"\",FromEvoM!K47)","v":""},{"$f":"IF(ISBLANK(FromEvoM!L47),\"\",FromEvoM!L47)","v":""},{"$f":"IF(ISBLANK(FromEvoM!M47),\"\",FromEvoM!M47)","v":""},{"$f":"IF(ISBLANK(FromEvoM!P47),\"\",FromEvoM!P47)","v":""},null,{"$f":"IF(ISNUMBER(FromEvoM!X47),FromEvoM!X47,\"\")","v":""},{"$f":"IF(ISNUMBER(FromEvoM!AB47),FromEvoM!AB47,\"\")","v":""},{"$f":"IF(ISNUMBER(FromEvoM!AA47),FromEvoM!AA47,\"\")","v":""},null,"","",null,null,{"$f":"IF(FromEvoM!W47=1,(FromEvoM!AB47*12),IF(FromEvoM!W47=7,(FromEvoM!AR47),\"\"))","v":""},null,null,{"$f":"IF(ISBLANK(FromEvoM!A47),\"\",IF(FromEvoM!AK47=\"y\",\"Y\",\"N\"))","v":""},{"$f":"IF(ISBLANK(FromEvoM!A47),\"\",Category_ID)","v":""},null,null,null,{"$f":"IF(ISBLANK(FromEvoM!AK47),\"\",FromEvoM!AK47)","v":""},{"$f":"IF(ISBLANK(FromEvoM!AM47),\"\",FromEvoM!AM47)","v":""},{"$f":"IF(ISBLANK(FromEvoM!AN47),\"\",FromEvoM!AN47)","v":""},{"$f":"IF(ISBLANK(FromEvoM!AL47),\"\",FromEvoM!AL47)","v":""},{"$f":"IF(ISBLANK(FromEvoM!A47),\"\",IF(AND(AF47=\"y\",AI47=1),\"Y\",\"N\"))","v":""},{"$f":"IF(ISBLANK(FromEvoM!A47),\"\",IF(FromEvoM!AS47=\"Yes\",2,1))","v":""},{"$f":"IF(FromEvoM!W47=1,\"M\",IF(FromEvoM!W47=7,\"W\",\"\"))","v":""},{"$f":"IF(AJ47=\"Y\",0,IF(AJ47=\"N\",FromEvoM!AF47+FromEvoM!AT47,\"\"))","v":""},{"$f":"IF(AJ47=\"Y\",(FromEvoM!AE47+FromEvoM!AF47-FromEvoM!AT47),IF(AJ47=\"N\",FromEvoM!AE47,\"\"))","v":""}]
[{"$f":"IF(ISBLANK(FromEvoM!A48),\"\",Group_Code)","v":""},{"$f":"IF(ISBLANK(FromEvoM!A48),\"\",SUBSTITUTE(FromEvoM!A48,\" \",\"\"))","v":""},{"$f":"IF(ISBLANK(FromEvoM!C48),\"\",SUBSTITUTE(FromEvoM!G48,\" \",\"\"))","v":""},{"$f":"IF(ISBLANK(FromEvoM!D48),\"\",FromEvoM!B48)","v":""},{"$f":"IF(ISBLANK(FromEvoM!D48),\"\",FromEvoM!D48)","v":""},{"$f":"IF(ISBLANK(FromEvoM!C48),\"\",FromEvoM!C48)","v":""},{"$f":"REPLACE(FromEvoM!F48,2,6, )","v":""},{"$f":"IF(ISNUMBER(FromEvoM!E48),FromEvoM!E48,\"\")","v":""},{"$f":"IF(ISBLANK(FromEvoM!I48),\"\",FromEvoM!I48)","v":""},{"$f":"IF(ISBLANK(FromEvoM!J48),\"\",FromEvoM!J48)","v":""},{"$f":"IF(ISBLANK(FromEvoM!K48),\"\",FromEvoM!K48)","v":""},{"$f":"IF(ISBLANK(FromEvoM!L48),\"\",FromEvoM!L48)","v":""},{"$f":"IF(ISBLANK(FromEvoM!M48),\"\",FromEvoM!M48)","v":""},{"$f":"IF(ISBLANK(FromEvoM!P48),\"\",FromEvoM!P48)","v":""},null,{"$f":"IF(ISNUMBER(FromEvoM!X48),FromEvoM!X48,\"\")","v":""},{"$f":"IF(ISNUMBER(FromEvoM!AB48),FromEvoM!AB48,\"\")","v":""},{"$f":"IF(ISNUMBER(FromEvoM!AA48),FromEvoM!AA48,\"\")","v":""},null,"","",null,null,{"$f":"IF(FromEvoM!W48=1,(FromEvoM!AB48*12),IF(FromEvoM!W48=7,(FromEvoM!AR48),\"\"))","v":""},null,null,{"$f":"IF(ISBLANK(FromEvoM!A48),\"\",IF(FromEvoM!AK48=\"y\",\"Y\",\"N\"))","v":""},{"$f":"IF(ISBLANK(FromEvoM!A48),\"\",Category_ID)","v":""},null,null,null,{"$f":"IF(ISBLANK(FromEvoM!AK48),\"\",FromEvoM!AK48)","v":""},{"$f":"IF(ISBLANK(FromEvoM!AM48),\"\",FromEvoM!AM48)","v":""},{"$f":"IF(ISBLANK(FromEvoM!AN48),\"\",FromEvoM!AN48)","v":""},{"$f":"IF(ISBLANK(FromEvoM!AL48),\"\",FromEvoM!AL48)","v":""},{"$f":"IF(ISBLANK(FromEvoM!A48),\"\",IF(AND(AF48=\"y\",AI48=1),\"Y\",\"N\"))","v":""},{"$f":"IF(ISBLANK(FromEvoM!A48),\"\",IF(FromEvoM!AS48=\"Yes\",2,1))","v":""},{"$f":"IF(FromEvoM!W48=1,\"M\",IF(FromEvoM!W48=7,\"W\",\"\"))","v":""},{"$f":"IF(AJ48=\"Y\",0,IF(AJ48=\"N\",FromEvoM!AF48+FromEvoM!AT48,\"\"))","v":""},{"$f":"IF(AJ48=\"Y\",(FromEvoM!AE48+FromEvoM!AF48-FromEvoM!AT48),IF(AJ48=\"N\",FromEvoM!AE48,\"\"))","v":""}]
[{"$f":"IF(ISBLANK(FromEvoM!A49),\"\",Group_Code)","v":""},{"$f":"IF(ISBLANK(FromEvoM!A49),\"\",SUBSTITUTE(FromEvoM!A49,\" \",\"\"))","v":""},{"$f":"IF(ISBLANK(FromEvoM!C49),\"\",SUBSTITUTE(FromEvoM!G49,\" \",\"\"))","v":""},{"$f":"IF(ISBLANK(FromEvoM!D49),\"\",FromEvoM!B49)","v":""},{"$f":"IF(ISBLANK(FromEvoM!D49),\"\",FromEvoM!D49)","v":""},{"$f":"IF(ISBLANK(FromEvoM!C49),\"\",FromEvoM!C49)","v":""},{"$f":"REPLACE(FromEvoM!F49,2,6, )","v":""},{"$f":"IF(ISNUMBER(FromEvoM!E49),FromEvoM!E49,\"\")","v":""},{"$f":"IF(ISBLANK(FromEvoM!I49),\"\",FromEvoM!I49)","v":""},{"$f":"IF(ISBLANK(FromEvoM!J49),\"\",FromEvoM!J49)","v":""},{"$f":"IF(ISBLANK(FromEvoM!K49),\"\",FromEvoM!K49)","v":""},{"$f":"IF(ISBLANK(FromEvoM!L49),\"\",FromEvoM!L49)","v":""},{"$f":"IF(ISBLANK(FromEvoM!M49),\"\",FromEvoM!M49)","v":""},{"$f":"IF(ISBLANK(FromEvoM!P49),\"\",FromEvoM!P49)","v":""},null,{"$f":"IF(ISNUMBER(FromEvoM!X49),FromEvoM!X49,\"\")","v":""},{"$f":"IF(ISNUMBER(FromEvoM!AB49),FromEvoM!AB49,\"\")","v":""},{"$f":"IF(ISNUMBER(FromEvoM!AA49),FromEvoM!AA49,\"\")","v":""},null,"","",null,null,{"$f":"IF(FromEvoM!W49=1,(FromEvoM!AB49*12),IF(FromEvoM!W49=7,(FromEvoM!AR49),\"\"))","v":""},null,null,{"$f":"IF(ISBLANK(FromEvoM!A49),\"\",IF(FromEvoM!AK49=\"y\",\"Y\",\"N\"))","v":""},{"$f":"IF(ISBLANK(FromEvoM!A49),\"\",Category_ID)","v":""},null,null,null,{"$f":"IF(ISBLANK(FromEvoM!AK49),\"\",FromEvoM!AK49)","v":""},{"$f":"IF(ISBLANK(FromEvoM!AM49),\"\",FromEvoM!AM49)","v":""},{"$f":"IF(ISBLANK(FromEvoM!AN49),\"\",FromEvoM!AN49)","v":""},{"$f":"IF(ISBLANK(FromEvoM!AL49),\"\",FromEvoM!AL49)","v":""},{"$f":"IF(ISBLANK(FromEvoM!A49),\"\",IF(AND(AF49=\"y\",AI49=1),\"Y\",\"N\"))","v":""},{"$f":"IF(ISBLANK(FromEvoM!A49),\"\",IF(FromEvoM!AS49=\"Yes\",2,1))","v":""},{"$f":"IF(FromEvoM!W49=1,\"M\",IF(FromEvoM!W49=7,\"W\",\"\"))","v":""},{"$f":"IF(AJ49=\"Y\",0,IF(AJ49=\"N\",FromEvoM!AF49+FromEvoM!AT49,\"\"))","v":""},{"$f":"IF(AJ49=\"Y\",(FromEvoM!AE49+FromEvoM!AF49-FromEvoM!AT49),IF(AJ49=\"N\",FromEvoM!AE49,\"\"))","v":""}]
[{"$f":"IF(ISBLANK(FromEvoM!A50),\"\",Group_Code)","v":""},{"$f":"IF(ISBLANK(FromEvoM!A50),\"\",SUBSTITUTE(FromEvoM!A50,\" \",\"\"))","v":""},{"$f":"IF(ISBLANK(FromEvoM!C50),\"\",SUBSTITUTE(FromEvoM!G50,\" \",\"\"))","v":""},{"$f":"IF(ISBLANK(FromEvoM!D50),\"\",FromEvoM!B50)","v":""},{"$f":"IF(ISBLANK(FromEvoM!D50),\"\",FromEvoM!D50)","v":""},{"$f":"IF(ISBLANK(FromEvoM!C50),\"\",FromEvoM!C50)","v":""},{"$f":"REPLACE(FromEvoM!F50,2,6, )","v":""},{"$f":"IF(ISNUMBER(FromEvoM!E50),FromEvoM!E50,\"\")","v":""},{"$f":"IF(ISBLANK(FromEvoM!I50),\"\",FromEvoM!I50)","v":""},{"$f":"IF(ISBLANK(FromEvoM!J50),\"\",FromEvoM!J50)","v":""},{"$f":"IF(ISBLANK(FromEvoM!K50),\"\",FromEvoM!K50)","v":""},{"$f":"IF(ISBLANK(FromEvoM!L50),\"\",FromEvoM!L50)","v":""},{"$f":"IF(ISBLANK(FromEvoM!M50),\"\",FromEvoM!M50)","v":""},{"$f":"IF(ISBLANK(FromEvoM!P50),\"\",FromEvoM!P50)","v":""},null,{"$f":"IF(ISNUMBER(FromEvoM!X50),FromEvoM!X50,\"\")","v":""},{"$f":"IF(ISNUMBER(FromEvoM!AB50),FromEvoM!AB50,\"\")","v":""},{"$f":"IF(ISNUMBER(FromEvoM!AA50),FromEvoM!AA50,\"\")","v":""},null,"","",null,null,{"$f":"IF(FromEvoM!W50=1,(FromEvoM!AB50*12),IF(FromEvoM!W50=7,(FromEvoM!AR50),\"\"))","v":""},null,null,{"$f":"IF(ISBLANK(FromEvoM!A50),\"\",IF(FromEvoM!AK50=\"y\",\"Y\",\"N\"))","v":""},{"$f":"IF(ISBLANK(FromEvoM!A50),\"\",Category_ID)","v":""},null,null,null,{"$f":"IF(ISBLANK(FromEvoM!AK50),\"\",FromEvoM!AK50)","v":""},{"$f":"IF(ISBLANK(FromEvoM!AM50),\"\",FromEvoM!AM50)","v":""},{"$f":"IF(ISBLANK(FromEvoM!AN50),\"\",FromEvoM!AN50)","v":""},{"$f":"IF(ISBLANK(FromEvoM!AL50),\"\",FromEvoM!AL50)","v":""},{"$f":"IF(ISBLANK(FromEvoM!A50),\"\",IF(AND(AF50=\"y\",AI50=1),\"Y\",\"N\"))","v":""},{"$f":"IF(ISBLANK(FromEvoM!A50),\"\",IF(FromEvoM!AS50=\"Yes\",2,1))","v":""},{"$f":"IF(FromEvoM!W50=1,\"M\",IF(FromEvoM!W50=7,\"W\",\"\"))","v":""},{"$f":"IF(AJ50=\"Y\",0,IF(AJ50=\"N\",FromEvoM!AF50+FromEvoM!AT50,\"\"))","v":""},{"$f":"IF(AJ50=\"Y\",(FromEvoM!AE50+FromEvoM!AF50-FromEvoM!AT50),IF(AJ50=\"N\",FromEvoM!AE50,\"\"))","v":""}]
[{"$f":"IF(ISBLANK(FromEvoM!A51),\"\",Group_Code)","v":""},{"$f":"IF(ISBLANK(FromEvoM!A51),\"\",SUBSTITUTE(FromEvoM!A51,\" \",\"\"))","v":""},{"$f":"IF(ISBLANK(FromEvoM!C51),\"\",SUBSTITUTE(FromEvoM!G51,\" \",\"\"))","v":""},{"$f":"IF(ISBLANK(FromEvoM!D51),\"\",FromEvoM!B51)","v":""},{"$f":"IF(ISBLANK(FromEvoM!D51),\"\",FromEvoM!D51)","v":""},{"$f":"IF(ISBLANK(FromEvoM!C51),\"\",FromEvoM!C51)","v":""},{"$f":"REPLACE(FromEvoM!F51,2,6, )","v":""},{"$f":"IF(ISNUMBER(FromEvoM!E51),FromEvoM!E51,\"\")","v":""},{"$f":"IF(ISBLANK(FromEvoM!I51),\"\",FromEvoM!I51)","v":""},{"$f":"IF(ISBLANK(FromEvoM!J51),\"\",FromEvoM!J51)","v":""},{"$f":"IF(ISBLANK(FromEvoM!K51),\"\",FromEvoM!K51)","v":""},{"$f":"IF(ISBLANK(FromEvoM!L51),\"\",FromEvoM!L51)","v":""},{"$f":"IF(ISBLANK(FromEvoM!M51),\"\",FromEvoM!M51)","v":""},{"$f":"IF(ISBLANK(FromEvoM!P51),\"\",FromEvoM!P51)","v":""},null,{"$f":"IF(ISNUMBER(FromEvoM!X51),FromEvoM!X51,\"\")","v":""},{"$f":"IF(ISNUMBER(FromEvoM!AB51),FromEvoM!AB51,\"\")","v":""},{"$f":"IF(ISNUMBER(FromEvoM!AA51),FromEvoM!AA51,\"\")","v":""},null,"","",null,null,{"$f":"IF(FromEvoM!W51=1,(FromEvoM!AB51*12),IF(FromEvoM!W51=7,(FromEvoM!AR51),\"\"))","v":""},null,null,{"$f":"IF(ISBLANK(FromEvoM!A51),\"\",IF(FromEvoM!AK51=\"y\",\"Y\",\"N\"))","v":""},{"$f":"IF(ISBLANK(FromEvoM!A51),\"\",Category_ID)","v":""},null,null,null,{"$f":"IF(ISBLANK(FromEvoM!AK51),\"\",FromEvoM!AK51)","v":""},{"$f":"IF(ISBLANK(FromEvoM!AM51),\"\",FromEvoM!AM51)","v":""},{"$f":"IF(ISBLANK(FromEvoM!AN51),\"\",FromEvoM!AN51)","v":""},{"$f":"IF(ISBLANK(FromEvoM!AL51),\"\",FromEvoM!AL51)","v":""},{"$f":"IF(ISBLANK(FromEvoM!A51),\"\",IF(AND(AF51=\"y\",AI51=1),\"Y\",\"N\"))","v":""},{"$f":"IF(ISBLANK(FromEvoM!A51),\"\",IF(FromEvoM!AS51=\"Yes\",2,1))","v":""},{"$f":"IF(FromEvoM!W51=1,\"M\",IF(FromEvoM!W51=7,\"W\",\"\"))","v":""},{"$f":"IF(AJ51=\"Y\",0,IF(AJ51=\"N\",FromEvoM!AF51+FromEvoM!AT51,\"\"))","v":""},{"$f":"IF(AJ51=\"Y\",(FromEvoM!AE51+FromEvoM!AF51-FromEvoM!AT51),IF(AJ51=\"N\",FromEvoM!AE51,\"\"))","v":""}]
[{"$f":"IF(ISBLANK(FromEvoM!A52),\"\",Group_Code)","v":""},{"$f":"IF(ISBLANK(FromEvoM!A52),\"\",SUBSTITUTE(FromEvoM!A52,\" \",\"\"))","v":""},{"$f":"IF(ISBLANK(FromEvoM!C52),\"\",SUBSTITUTE(FromEvoM!G52,\" \",\"\"))","v":""},{"$f":"IF(ISBLANK(FromEvoM!D52),\"\",FromEvoM!B52)","v":""},{"$f":"IF(ISBLANK(FromEvoM!D52),\"\",FromEvoM!D52)","v":""},{"$f":"IF(ISBLANK(FromEvoM!C52),\"\",FromEvoM!C52)","v":""},{"$f":"REPLACE(FromEvoM!F52,2,6, )","v":""},{"$f":"IF(ISNUMBER(FromEvoM!E52),FromEvoM!E52,\"\")","v":""},{"$f":"IF(ISBLANK(FromEvoM!I52),\"\",FromEvoM!I52)","v":""},{"$f":"IF(ISBLANK(FromEvoM!J52),\"\",FromEvoM!J52)","v":""},{"$f":"IF(ISBLANK(FromEvoM!K52),\"\",FromEvoM!K52)","v":""},{"$f":"IF(ISBLANK(FromEvoM!L52),\"\",FromEvoM!L52)","v":""},{"$f":"IF(ISBLANK(FromEvoM!M52),\"\",FromEvoM!M52)","v":""},{"$f":"IF(ISBLANK(FromEvoM!P52),\"\",FromEvoM!P52)","v":""},null,{"$f":"IF(ISNUMBER(FromEvoM!X52),FromEvoM!X52,\"\")","v":""},{"$f":"IF(ISNUMBER(FromEvoM!AB52),FromEvoM!AB52,\"\")","v":""},{"$f":"IF(ISNUMBER(FromEvoM!AA52),FromEvoM!AA52,\"\")","v":""},null,"","",null,null,{"$f":"IF(FromEvoM!W52=1,(FromEvoM!AB52*12),IF(FromEvoM!W52=7,(FromEvoM!AR52),\"\"))","v":""},null,null,{"$f":"IF(ISBLANK(FromEvoM!A52),\"\",IF(FromEvoM!AK52=\"y\",\"Y\",\"N\"))","v":""},{"$f":"IF(ISBLANK(FromEvoM!A52),\"\",Category_ID)","v":""},null,null,null,{"$f":"IF(ISBLANK(FromEvoM!AK52),\"\",FromEvoM!AK52)","v":""},{"$f":"IF(ISBLANK(FromEvoM!AM52),\"\",FromEvoM!AM52)","v":""},{"$f":"IF(ISBLANK(FromEvoM!AN52),\"\",FromEvoM!AN52)","v":""},{"$f":"IF(ISBLANK(FromEvoM!AL52),\"\",FromEvoM!AL52)","v":""},{"$f":"IF(ISBLANK(FromEvoM!A52),\"\",IF(AND(AF52=\"y\",AI52=1),\"Y\",\"N\"))","v":""},{"$f":"IF(ISBLANK(FromEvoM!A52),\"\",IF(FromEvoM!AS52=\"Yes\",2,1))","v":""},{"$f":"IF(FromEvoM!W52=1,\"M\",IF(FromEvoM!W52=7,\"W\",\"\"))","v":""},{"$f":"IF(AJ52=\"Y\",0,IF(AJ52=\"N\",FromEvoM!AF52+FromEvoM!AT52,\"\"))","v":""},{"$f":"IF(AJ52=\"Y\",(FromEvoM!AE52+FromEvoM!AF52-FromEvoM!AT52),IF(AJ52=\"N\",FromEvoM!AE52,\"\"))","v":""}]
[{"$f":"IF(ISBLANK(FromEvoM!A53),\"\",Group_Code)","v":""},{"$f":"IF(ISBLANK(FromEvoM!A53),\"\",SUBSTITUTE(FromEvoM!A53,\" \",\"\"))","v":""},{"$f":"IF(ISBLANK(FromEvoM!C53),\"\",SUBSTITUTE(FromEvoM!G53,\" \",\"\"))","v":""},{"$f":"IF(ISBLANK(FromEvoM!D53),\"\",FromEvoM!B53)","v":""},{"$f":"IF(ISBLANK(FromEvoM!D53),\"\",FromEvoM!D53)","v":""},{"$f":"IF(ISBLANK(FromEvoM!C53),\"\",FromEvoM!C53)","v":""},{"$f":"REPLACE(FromEvoM!F53,2,6, )","v":""},{"$f":"IF(ISNUMBER(FromEvoM!E53),FromEvoM!E53,\"\")","v":""},{"$f":"IF(ISBLANK(FromEvoM!I53),\"\",FromEvoM!I53)","v":""},{"$f":"IF(ISBLANK(FromEvoM!J53),\"\",FromEvoM!J53)","v":""},{"$f":"IF(ISBLANK(FromEvoM!K53),\"\",FromEvoM!K53)","v":""},{"$f":"IF(ISBLANK(FromEvoM!L53),\"\",FromEvoM!L53)","v":""},{"$f":"IF(ISBLANK(FromEvoM!M53),\"\",FromEvoM!M53)","v":""},{"$f":"IF(ISBLANK(FromEvoM!P53),\"\",FromEvoM!P53)","v":""},null,{"$f":"IF(ISNUMBER(FromEvoM!X53),FromEvoM!X53,\"\")","v":""},{"$f":"IF(ISNUMBER(FromEvoM!AB53),FromEvoM!AB53,\"\")","v":""},{"$f":"IF(ISNUMBER(FromEvoM!AA53),FromEvoM!AA53,\"\")","v":""},null,"","",null,null,{"$f":"IF(FromEvoM!W53=1,(FromEvoM!AB53*12),IF(FromEvoM!W53=7,(FromEvoM!AR53),\"\"))","v":""},null,null,{"$f":"IF(ISBLANK(FromEvoM!A53),\"\",IF(FromEvoM!AK53=\"y\",\"Y\",\"N\"))","v":""},{"$f":"IF(ISBLANK(FromEvoM!A53),\"\",Category_ID)","v":""},null,null,null,{"$f":"IF(ISBLANK(FromEvoM!AK53),\"\",FromEvoM!AK53)","v":""},{"$f":"IF(ISBLANK(FromEvoM!AM53),\"\",FromEvoM!AM53)","v":""},{"$f":"IF(ISBLANK(FromEvoM!AN53),\"\",FromEvoM!AN53)","v":""},{"$f":"IF(ISBLANK(FromEvoM!AL53),\"\",FromEvoM!AL53)","v":""},{"$f":"IF(ISBLANK(FromEvoM!A53),\"\",IF(AND(AF53=\"y\",AI53=1),\"Y\",\"N\"))","v":""},{"$f":"IF(ISBLANK(FromEvoM!A53),\"\",IF(FromEvoM!AS53=\"Yes\",2,1))","v":""},{"$f":"IF(FromEvoM!W53=1,\"M\",IF(FromEvoM!W53=7,\"W\",\"\"))","v":""},{"$f":"IF(AJ53=\"Y\",0,IF(AJ53=\"N\",FromEvoM!AF53+FromEvoM!AT53,\"\"))","v":""},{"$f":"IF(AJ53=\"Y\",(FromEvoM!AE53+FromEvoM!AF53-FromEvoM!AT53),IF(AJ53=\"N\",FromEvoM!AE53,\"\"))","v":""}]
[{"$f":"IF(ISBLANK(FromEvoM!A54),\"\",Group_Code)","v":""},{"$f":"IF(ISBLANK(FromEvoM!A54),\"\",SUBSTITUTE(FromEvoM!A54,\" \",\"\"))","v":""},{"$f":"IF(ISBLANK(FromEvoM!C54),\"\",SUBSTITUTE(FromEvoM!G54,\" \",\"\"))","v":""},{"$f":"IF(ISBLANK(FromEvoM!D54),\"\",FromEvoM!B54)","v":""},{"$f":"IF(ISBLANK(FromEvoM!D54),\"\",FromEvoM!D54)","v":""},{"$f":"IF(ISBLANK(FromEvoM!C54),\"\",FromEvoM!C54)","v":""},{"$f":"REPLACE(FromEvoM!F54,2,6, )","v":""},{"$f":"IF(ISNUMBER(FromEvoM!E54),FromEvoM!E54,\"\")","v":""},{"$f":"IF(ISBLANK(FromEvoM!I54),\"\",FromEvoM!I54)","v":""},{"$f":"IF(ISBLANK(FromEvoM!J54),\"\",FromEvoM!J54)","v":""},{"$f":"IF(ISBLANK(FromEvoM!K54),\"\",FromEvoM!K54)","v":""},{"$f":"IF(ISBLANK(FromEvoM!L54),\"\",FromEvoM!L54)","v":""},{"$f":"IF(ISBLANK(FromEvoM!M54),\"\",FromEvoM!M54)","v":""},{"$f":"IF(ISBLANK(FromEvoM!P54),\"\",FromEvoM!P54)","v":""},null,{"$f":"IF(ISNUMBER(FromEvoM!X54),FromEvoM!X54,\"\")","v":""},{"$f":"IF(ISNUMBER(FromEvoM!AB54),FromEvoM!AB54,\"\")","v":""},{"$f":"IF(ISNUMBER(FromEvoM!AA54),FromEvoM!AA54,\"\")","v":""},null,"","",null,null,{"$f":"IF(FromEvoM!W54=1,(FromEvoM!AB54*12),IF(FromEvoM!W54=7,(FromEvoM!AR54),\"\"))","v":""},null,null,{"$f":"IF(ISBLANK(FromEvoM!A54),\"\",IF(FromEvoM!AK54=\"y\",\"Y\",\"N\"))","v":""},{"$f":"IF(ISBLANK(FromEvoM!A54),\"\",Category_ID)","v":""},null,null,null,{"$f":"IF(ISBLANK(FromEvoM!AK54),\"\",FromEvoM!AK54)","v":""},{"$f":"IF(ISBLANK(FromEvoM!AM54),\"\",FromEvoM!AM54)","v":""},{"$f":"IF(ISBLANK(FromEvoM!AN54),\"\",FromEvoM!AN54)","v":""},{"$f":"IF(ISBLANK(FromEvoM!AL54),\"\",FromEvoM!AL54)","v":""},{"$f":"IF(ISBLANK(FromEvoM!A54),\"\",IF(AND(AF54=\"y\",AI54=1),\"Y\",\"N\"))","v":""},{"$f":"IF(ISBLANK(FromEvoM!A54),\"\",IF(FromEvoM!AS54=\"Yes\",2,1))","v":""},{"$f":"IF(FromEvoM!W54=1,\"M\",IF(FromEvoM!W54=7,\"W\",\"\"))","v":""},{"$f":"IF(AJ54=\"Y\",0,IF(AJ54=\"N\",FromEvoM!AF54+FromEvoM!AT54,\"\"))","v":""},{"$f":"IF(AJ54=\"Y\",(FromEvoM!AE54+FromEvoM!AF54-FromEvoM!AT54),IF(AJ54=\"N\",FromEvoM!AE54,\"\"))","v":""}]
[{"$f":"IF(ISBLANK(FromEvoM!A55),\"\",Group_Code)","v":""},{"$f":"IF(ISBLANK(FromEvoM!A55),\"\",SUBSTITUTE(FromEvoM!A55,\" \",\"\"))","v":""},{"$f":"IF(ISBLANK(FromEvoM!C55),\"\",SUBSTITUTE(FromEvoM!G55,\" \",\"\"))","v":""},{"$f":"IF(ISBLANK(FromEvoM!D55),\"\",FromEvoM!B55)","v":""},{"$f":"IF(ISBLANK(FromEvoM!D55),\"\",FromEvoM!D55)","v":""},{"$f":"IF(ISBLANK(FromEvoM!C55),\"\",FromEvoM!C55)","v":""},{"$f":"REPLACE(FromEvoM!F55,2,6, )","v":""},{"$f":"IF(ISNUMBER(FromEvoM!E55),FromEvoM!E55,\"\")","v":""},{"$f":"IF(ISBLANK(FromEvoM!I55),\"\",FromEvoM!I55)","v":""},{"$f":"IF(ISBLANK(FromEvoM!J55),\"\",FromEvoM!J55)","v":""},{"$f":"IF(ISBLANK(FromEvoM!K55),\"\",FromEvoM!K55)","v":""},{"$f":"IF(ISBLANK(FromEvoM!L55),\"\",FromEvoM!L55)","v":""},{"$f":"IF(ISBLANK(FromEvoM!M55),\"\",FromEvoM!M55)","v":""},{"$f":"IF(ISBLANK(FromEvoM!P55),\"\",FromEvoM!P55)","v":""},null,{"$f":"IF(ISNUMBER(FromEvoM!X55),FromEvoM!X55,\"\")","v":""},{"$f":"IF(ISNUMBER(FromEvoM!AB55),FromEvoM!AB55,\"\")","v":""},{"$f":"IF(ISNUMBER(FromEvoM!AA55),FromEvoM!AA55,\"\")","v":""},null,"","",null,null,{"$f":"IF(FromEvoM!W55=1,(FromEvoM!AB55*12),IF(FromEvoM!W55=7,(FromEvoM!AR55),\"\"))","v":""},null,null,{"$f":"IF(ISBLANK(FromEvoM!A55),\"\",IF(FromEvoM!AK55=\"y\",\"Y\",\"N\"))","v":""},{"$f":"IF(ISBLANK(FromEvoM!A55),\"\",Category_ID)","v":""},null,null,null,{"$f":"IF(ISBLANK(FromEvoM!AK55),\"\",FromEvoM!AK55)","v":""},{"$f":"IF(ISBLANK(FromEvoM!AM55),\"\",FromEvoM!AM55)","v":""},{"$f":"IF(ISBLANK(FromEvoM!AN55),\"\",FromEvoM!AN55)","v":""},{"$f":"IF(ISBLANK(FromEvoM!AL55),\"\",FromEvoM!AL55)","v":""},{"$f":"IF(ISBLANK(FromEvoM!A55),\"\",IF(AND(AF55=\"y\",AI55=1),\"Y\",\"N\"))","v":""},{"$f":"IF(ISBLANK(FromEvoM!A55),\"\",IF(FromEvoM!AS55=\"Yes\",2,1))","v":""},{"$f":"IF(FromEvoM!W55=1,\"M\",IF(FromEvoM!W55=7,\"W\",\"\"))","v":""},{"$f":"IF(AJ55=\"Y\",0,IF(AJ55=\"N\",FromEvoM!AF55+FromEvoM!AT55,\"\"))","v":""},{"$f":"IF(AJ55=\"Y\",(FromEvoM!AE55+FromEvoM!AF55-FromEvoM!AT55),IF(AJ55=\"N\",FromEvoM!AE55,\"\"))","v":""}]
[{"$f":"IF(ISBLANK(FromEvoM!A56),\"\",Group_Code)","v":""},{"$f":"IF(ISBLANK(FromEvoM!A56),\"\",SUBSTITUTE(FromEvoM!A56,\" \",\"\"))","v":""},{"$f":"IF(ISBLANK(FromEvoM!C56),\"\",SUBSTITUTE(FromEvoM!G56,\" \",\"\"))","v":""},{"$f":"IF(ISBLANK(FromEvoM!D56),\"\",FromEvoM!B56)","v":""},{"$f":"IF(ISBLANK(FromEvoM!D56),\"\",FromEvoM!D56)","v":""},{"$f":"IF(ISBLANK(FromEvoM!C56),\"\",FromEvoM!C56)","v":""},{"$f":"REPLACE(FromEvoM!F56,2,6, )","v":""},{"$f":"IF(ISNUMBER(FromEvoM!E56),FromEvoM!E56,\"\")","v":""},{"$f":"IF(ISBLANK(FromEvoM!I56),\"\",FromEvoM!I56)","v":""},{"$f":"IF(ISBLANK(FromEvoM!J56),\"\",FromEvoM!J56)","v":""},{"$f":"IF(ISBLANK(FromEvoM!K56),\"\",FromEvoM!K56)","v":""},{"$f":"IF(ISBLANK(FromEvoM!L56),\"\",FromEvoM!L56)","v":""},{"$f":"IF(ISBLANK(FromEvoM!M56),\"\",FromEvoM!M56)","v":""},{"$f":"IF(ISBLANK(FromEvoM!P56),\"\",FromEvoM!P56)","v":""},null,{"$f":"IF(ISNUMBER(FromEvoM!X56),FromEvoM!X56,\"\")","v":""},{"$f":"IF(ISNUMBER(FromEvoM!AB56),FromEvoM!AB56,\"\")","v":""},{"$f":"IF(ISNUMBER(FromEvoM!AA56),FromEvoM!AA56,\"\")","v":""},null,"","",null,null,{"$f":"IF(FromEvoM!W56=1,(FromEvoM!AB56*12),IF(FromEvoM!W56=7,(FromEvoM!AR56),\"\"))","v":""},null,null,{"$f":"IF(ISBLANK(FromEvoM!A56),\"\",IF(FromEvoM!AK56=\"y\",\"Y\",\"N\"))","v":""},{"$f":"IF(ISBLANK(FromEvoM!A56),\"\",Category_ID)","v":""},null,null,null,{"$f":"IF(ISBLANK(FromEvoM!AK56),\"\",FromEvoM!AK56)","v":""},{"$f":"IF(ISBLANK(FromEvoM!AM56),\"\",FromEvoM!AM56)","v":""},{"$f":"IF(ISBLANK(FromEvoM!AN56),\"\",FromEvoM!AN56)","v":""},{"$f":"IF(ISBLANK(FromEvoM!AL56),\"\",FromEvoM!AL56)","v":""},{"$f":"IF(ISBLANK(FromEvoM!A56),\"\",IF(AND(AF56=\"y\",AI56=1),\"Y\",\"N\"))","v":""},{"$f":"IF(ISBLANK(FromEvoM!A56),\"\",IF(FromEvoM!AS56=\"Yes\",2,1))","v":""},{"$f":"IF(FromEvoM!W56=1,\"M\",IF(FromEvoM!W56=7,\"W\",\"\"))","v":""},{"$f":"IF(AJ56=\"Y\",0,IF(AJ56=\"N\",FromEvoM!AF56+FromEvoM!AT56,\"\"))","v":""},{"$f":"IF(AJ56=\"Y\",(FromEvoM!AE56+FromEvoM!AF56-FromEvoM!AT56),IF(AJ56=\"N\",FromEvoM!AE56,\"\"))","v":""}]
[{"$f":"IF(ISBLANK(FromEvoM!A57),\"\",Group_Code)","v":""},{"$f":"IF(ISBLANK(FromEvoM!A57),\"\",SUBSTITUTE(FromEvoM!A57,\" \",\"\"))","v":""},{"$f":"IF(ISBLANK(FromEvoM!C57),\"\",SUBSTITUTE(FromEvoM!G57,\" \",\"\"))","v":""},{"$f":"IF(ISBLANK(FromEvoM!D57),\"\",FromEvoM!B57)","v":""},{"$f":"IF(ISBLANK(FromEvoM!D57),\"\",FromEvoM!D57)","v":""},{"$f":"IF(ISBLANK(FromEvoM!C57),\"\",FromEvoM!C57)","v":""},{"$f":"REPLACE(FromEvoM!F57,2,6, )","v":""},{"$f":"IF(ISNUMBER(FromEvoM!E57),FromEvoM!E57,\"\")","v":""},{"$f":"IF(ISBLANK(FromEvoM!I57),\"\",FromEvoM!I57)","v":""},{"$f":"IF(ISBLANK(FromEvoM!J57),\"\",FromEvoM!J57)","v":""},{"$f":"IF(ISBLANK(FromEvoM!K57),\"\",FromEvoM!K57)","v":""},{"$f":"IF(ISBLANK(FromEvoM!L57),\"\",FromEvoM!L57)","v":""},{"$f":"IF(ISBLANK(FromEvoM!M57),\"\",FromEvoM!M57)","v":""},{"$f":"IF(ISBLANK(FromEvoM!P57),\"\",FromEvoM!P57)","v":""},null,{"$f":"IF(ISNUMBER(FromEvoM!X57),FromEvoM!X57,\"\")","v":""},{"$f":"IF(ISNUMBER(FromEvoM!AB57),FromEvoM!AB57,\"\")","v":""},{"$f":"IF(ISNUMBER(FromEvoM!AA57),FromEvoM!AA57,\"\")","v":""},null,"","",null,null,{"$f":"IF(FromEvoM!W57=1,(FromEvoM!AB57*12),IF(FromEvoM!W57=7,(FromEvoM!AR57),\"\"))","v":""},null,null,{"$f":"IF(ISBLANK(FromEvoM!A57),\"\",IF(FromEvoM!AK57=\"y\",\"Y\",\"N\"))","v":""},{"$f":"IF(ISBLANK(FromEvoM!A57),\"\",Category_ID)","v":""},null,null,null,{"$f":"IF(ISBLANK(FromEvoM!AK57),\"\",FromEvoM!AK57)","v":""},{"$f":"IF(ISBLANK(FromEvoM!AM57),\"\",FromEvoM!AM57)","v":""},{"$f":"IF(ISBLANK(FromEvoM!AN57),\"\",FromEvoM!AN57)","v":""},{"$f":"IF(ISBLANK(FromEvoM!AL57),\"\",FromEvoM!AL57)","v":""},{"$f":"IF(ISBLANK(FromEvoM!A57),\"\",IF(AND(AF57=\"y\",AI57=1),\"Y\",\"N\"))","v":""},{"$f":"IF(ISBLANK(FromEvoM!A57),\"\",IF(FromEvoM!AS57=\"Yes\",2,1))","v":""},{"$f":"IF(FromEvoM!W57=1,\"M\",IF(FromEvoM!W57=7,\"W\",\"\"))","v":""},{"$f":"IF(AJ57=\"Y\",0,IF(AJ57=\"N\",FromEvoM!AF57+FromEvoM!AT57,\"\"))","v":""},{"$f":"IF(AJ57=\"Y\",(FromEvoM!AE57+FromEvoM!AF57-FromEvoM!AT57),IF(AJ57=\"N\",FromEvoM!AE57,\"\"))","v":""}]
[{"$f":"IF(ISBLANK(FromEvoM!A58),\"\",Group_Code)","v":""},{"$f":"IF(ISBLANK(FromEvoM!A58),\"\",SUBSTITUTE(FromEvoM!A58,\" \",\"\"))","v":""},{"$f":"IF(ISBLANK(FromEvoM!C58),\"\",SUBSTITUTE(FromEvoM!G58,\" \",\"\"))","v":""},{"$f":"IF(ISBLANK(FromEvoM!D58),\"\",FromEvoM!B58)","v":""},{"$f":"IF(ISBLANK(FromEvoM!D58),\"\",FromEvoM!D58)","v":""},{"$f":"IF(ISBLANK(FromEvoM!C58),\"\",FromEvoM!C58)","v":""},{"$f":"REPLACE(FromEvoM!F58,2,6, )","v":""},{"$f":"IF(ISNUMBER(FromEvoM!E58),FromEvoM!E58,\"\")","v":""},{"$f":"IF(ISBLANK(FromEvoM!I58),\"\",FromEvoM!I58)","v":""},{"$f":"IF(ISBLANK(FromEvoM!J58),\"\",FromEvoM!J58)","v":""},{"$f":"IF(ISBLANK(FromEvoM!K58),\"\",FromEvoM!K58)","v":""},{"$f":"IF(ISBLANK(FromEvoM!L58),\"\",FromEvoM!L58)","v":""},{"$f":"IF(ISBLANK(FromEvoM!M58),\"\",FromEvoM!M58)","v":""},{"$f":"IF(ISBLANK(FromEvoM!P58),\"\",FromEvoM!P58)","v":""},null,{"$f":"IF(ISNUMBER(FromEvoM!X58),FromEvoM!X58,\"\")","v":""},{"$f":"IF(ISNUMBER(FromEvoM!AB58),FromEvoM!AB58,\"\")","v":""},{"$f":"IF(ISNUMBER(FromEvoM!AA58),FromEvoM!AA58,\"\")","v":""},null,"","",null,null,{"$f":"IF(FromEvoM!W58=1,(FromEvoM!AB58*12),IF(FromEvoM!W58=7,(FromEvoM!AR58),\"\"))","v":""},null,null,{"$f":"IF(ISBLANK(FromEvoM!A58),\"\",IF(FromEvoM!AK58=\"y\",\"Y\",\"N\"))","v":""},{"$f":"IF(ISBLANK(FromEvoM!A58),\"\",Category_ID)","v":""},null,null,null,{"$f":"IF(ISBLANK(FromEvoM!AK58),\"\",FromEvoM!AK58)","v":""},{"$f":"IF(ISBLANK(FromEvoM!AM58),\"\",FromEvoM!AM58)","v":""},{"$f":"IF(ISBLANK(FromEvoM!AN58),\"\",FromEvoM!AN58)","v":""},{"$f":"IF(ISBLANK(FromEvoM!AL58),\"\",FromEvoM!AL58)","v":""},{"$f":"IF(ISBLANK(FromEvoM!A58),\"\",IF(AND(AF58=\"y\",AI58=1),\"Y\",\"N\"))","v":""},{"$f":"IF(ISBLANK(FromEvoM!A58),\"\",IF(FromEvoM!AS58=\"Yes\",2,1))","v":""},{"$f":"IF(FromEvoM!W58=1,\"M\",IF(FromEvoM!W58=7,\"W\",\"\"))","v":""},{"$f":"IF(AJ58=\"Y\",0,IF(AJ58=\"N\",FromEvoM!AF58+FromEvoM!AT58,\"\"))","v":""},{"$f":"IF(AJ58=\"Y\",(FromEvoM!AE58+FromEvoM!AF58-FromEvoM!AT58),IF(AJ58=\"N\",FromEvoM!AE58,\"\"))","v":""}]
[{"$f":"IF(ISBLANK(FromEvoM!A59),\"\",Group_Code)","v":""},{"$f":"IF(ISBLANK(FromEvoM!A59),\"\",SUBSTITUTE(FromEvoM!A59,\" \",\"\"))","v":""},{"$f":"IF(ISBLANK(FromEvoM!C59),\"\",SUBSTITUTE(FromEvoM!G59,\" \",\"\"))","v":""},{"$f":"IF(ISBLANK(FromEvoM!D59),\"\",FromEvoM!B59)","v":""},{"$f":"IF(ISBLANK(FromEvoM!D59),\"\",FromEvoM!D59)","v":""},{"$f":"IF(ISBLANK(FromEvoM!C59),\"\",FromEvoM!C59)","v":""},{"$f":"REPLACE(FromEvoM!F59,2,6, )","v":""},{"$f":"IF(ISNUMBER(FromEvoM!E59),FromEvoM!E59,\"\")","v":""},{"$f":"IF(ISBLANK(FromEvoM!I59),\"\",FromEvoM!I59)","v":""},{"$f":"IF(ISBLANK(FromEvoM!J59),\"\",FromEvoM!J59)","v":""},{"$f":"IF(ISBLANK(FromEvoM!K59),\"\",FromEvoM!K59)","v":""},{"$f":"IF(ISBLANK(FromEvoM!L59),\"\",FromEvoM!L59)","v":""},{"$f":"IF(ISBLANK(FromEvoM!M59),\"\",FromEvoM!M59)","v":""},{"$f":"IF(ISBLANK(FromEvoM!P59),\"\",FromEvoM!P59)","v":""},null,{"$f":"IF(ISNUMBER(FromEvoM!X59),FromEvoM!X59,\"\")","v":""},{"$f":"IF(ISNUMBER(FromEvoM!AB59),FromEvoM!AB59,\"\")","v":""},{"$f":"IF(ISNUMBER(FromEvoM!AA59),FromEvoM!AA59,\"\")","v":""},null,"","",null,null,{"$f":"IF(FromEvoM!W59=1,(FromEvoM!AB59*12),IF(FromEvoM!W59=7,(FromEvoM!AR59),\"\"))","v":""},null,null,{"$f":"IF(ISBLANK(FromEvoM!A59),\"\",IF(FromEvoM!AK59=\"y\",\"Y\",\"N\"))","v":""},{"$f":"IF(ISBLANK(FromEvoM!A59),\"\",Category_ID)","v":""},null,null,null,{"$f":"IF(ISBLANK(FromEvoM!AK59),\"\",FromEvoM!AK59)","v":""},{"$f":"IF(ISBLANK(FromEvoM!AM59),\"\",FromEvoM!AM59)","v":""},{"$f":"IF(ISBLANK(FromEvoM!AN59),\"\",FromEvoM!AN59)","v":""},{"$f":"IF(ISBLANK(FromEvoM!AL59),\"\",FromEvoM!AL59)","v":""},{"$f":"IF(ISBLANK(FromEvoM!A59),\"\",IF(AND(AF59=\"y\",AI59=1),\"Y\",\"N\"))","v":""},{"$f":"IF(ISBLANK(FromEvoM!A59),\"\",IF(FromEvoM!AS59=\"Yes\",2,1))","v":""},{"$f":"IF(FromEvoM!W59=1,\"M\",IF(FromEvoM!W59=7,\"W\",\"\"))","v":""},{"$f":"IF(AJ59=\"Y\",0,IF(AJ59=\"N\",FromEvoM!AF59+FromEvoM!AT59,\"\"))","v":""},{"$f":"IF(AJ59=\"Y\",(FromEvoM!AE59+FromEvoM!AF59-FromEvoM!AT59),IF(AJ59=\"N\",FromEvoM!AE59,\"\"))","v":""}]
[{"$f":"IF(ISBLANK(FromEvoM!A60),\"\",Group_Code)","v":""},{"$f":"IF(ISBLANK(FromEvoM!A60),\"\",SUBSTITUTE(FromEvoM!A60,\" \",\"\"))","v":""},{"$f":"IF(ISBLANK(FromEvoM!C60),\"\",SUBSTITUTE(FromEvoM!G60,\" \",\"\"))","v":""},{"$f":"IF(ISBLANK(FromEvoM!D60),\"\",FromEvoM!B60)","v":""},{"$f":"IF(ISBLANK(FromEvoM!D60),\"\",FromEvoM!D60)","v":""},{"$f":"IF(ISBLANK(FromEvoM!C60),\"\",FromEvoM!C60)","v":""},{"$f":"REPLACE(FromEvoM!F60,2,6, )","v":""},{"$f":"IF(ISNUMBER(FromEvoM!E60),FromEvoM!E60,\"\")","v":""},{"$f":"IF(ISBLANK(FromEvoM!I60),\"\",FromEvoM!I60)","v":""},{"$f":"IF(ISBLANK(FromEvoM!J60),\"\",FromEvoM!J60)","v":""},{"$f":"IF(ISBLANK(FromEvoM!K60),\"\",FromEvoM!K60)","v":""},{"$f":"IF(ISBLANK(FromEvoM!L60),\"\",FromEvoM!L60)","v":""},{"$f":"IF(ISBLANK(FromEvoM!M60),\"\",FromEvoM!M60)","v":""},{"$f":"IF(ISBLANK(FromEvoM!P60),\"\",FromEvoM!P60)","v":""},null,{"$f":"IF(ISNUMBER(FromEvoM!X60),FromEvoM!X60,\"\")","v":""},{"$f":"IF(ISNUMBER(FromEvoM!AB60),FromEvoM!AB60,\"\")","v":""},{"$f":"IF(ISNUMBER(FromEvoM!AA60),FromEvoM!AA60,\"\")","v":""},null,"","",null,null,{"$f":"IF(FromEvoM!W60=1,(FromEvoM!AB60*12),IF(FromEvoM!W60=7,(FromEvoM!AR60),\"\"))","v":""},null,null,{"$f":"IF(ISBLANK(FromEvoM!A60),\"\",IF(FromEvoM!AK60=\"y\",\"Y\",\"N\"))","v":""},{"$f":"IF(ISBLANK(FromEvoM!A60),\"\",Category_ID)","v":""},null,null,null,{"$f":"IF(ISBLANK(FromEvoM!AK60),\"\",FromEvoM!AK60)","v":""},{"$f":"IF(ISBLANK(FromEvoM!AM60),\"\",FromEvoM!AM60)","v":""},{"$f":"IF(ISBLANK(FromEvoM!AN60),\"\",FromEvoM!AN60)","v":""},{"$f":"IF(ISBLANK(FromEvoM!AL60),\"\",FromEvoM!AL60)","v":""},{"$f":"IF(ISBLANK(FromEvoM!A60),\"\",IF(AND(AF60=\"y\",AI60=1),\"Y\",\"N\"))","v":""},{"$f":"IF(ISBLANK(FromEvoM!A60),\"\",IF(FromEvoM!AS60=\"Yes\",2,1))","v":""},{"$f":"IF(FromEvoM!W60=1,\"M\",IF(FromEvoM!W60=7,\"W\",\"\"))","v":""},{"$f":"IF(AJ60=\"Y\",0,IF(AJ60=\"N\",FromEvoM!AF60+FromEvoM!AT60,\"\"))","v":""},{"$f":"IF(AJ60=\"Y\",(FromEvoM!AE60+FromEvoM!AF60-FromEvoM!AT60),IF(AJ60=\"N\",FromEvoM!AE60,\"\"))","v":""}]
[{"$f":"IF(ISBLANK(FromEvoM!A61),\"\",Group_Code)","v":""},{"$f":"IF(ISBLANK(FromEvoM!A61),\"\",SUBSTITUTE(FromEvoM!A61,\" \",\"\"))","v":""},{"$f":"IF(ISBLANK(FromEvoM!C61),\"\",SUBSTITUTE(FromEvoM!G61,\" \",\"\"))","v":""},{"$f":"IF(ISBLANK(FromEvoM!D61),\"\",FromEvoM!B61)","v":""},{"$f":"IF(ISBLANK(FromEvoM!D61),\"\",FromEvoM!D61)","v":""},{"$f":"IF(ISBLANK(FromEvoM!C61),\"\",FromEvoM!C61)","v":""},{"$f":"REPLACE(FromEvoM!F61,2,6, )","v":""},{"$f":"IF(ISNUMBER(FromEvoM!E61),FromEvoM!E61,\"\")","v":""},{"$f":"IF(ISBLANK(FromEvoM!I61),\"\",FromEvoM!I61)","v":""},{"$f":"IF(ISBLANK(FromEvoM!J61),\"\",FromEvoM!J61)","v":""},{"$f":"IF(ISBLANK(FromEvoM!K61),\"\",FromEvoM!K61)","v":""},{"$f":"IF(ISBLANK(FromEvoM!L61),\"\",FromEvoM!L61)","v":""},{"$f":"IF(ISBLANK(FromEvoM!M61),\"\",FromEvoM!M61)","v":""},{"$f":"IF(ISBLANK(FromEvoM!P61),\"\",FromEvoM!P61)","v":""},null,{"$f":"IF(ISNUMBER(FromEvoM!X61),FromEvoM!X61,\"\")","v":""},{"$f":"IF(ISNUMBER(FromEvoM!AB61),FromEvoM!AB61,\"\")","v":""},{"$f":"IF(ISNUMBER(FromEvoM!AA61),FromEvoM!AA61,\"\")","v":""},null,"","",null,null,{"$f":"IF(FromEvoM!W61=1,(FromEvoM!AB61*12),IF(FromEvoM!W61=7,(FromEvoM!AR61),\"\"))","v":""},null,null,{"$f":"IF(ISBLANK(FromEvoM!A61),\"\",IF(FromEvoM!AK61=\"y\",\"Y\",\"N\"))","v":""},{"$f":"IF(ISBLANK(FromEvoM!A61),\"\",Category_ID)","v":""},null,null,null,{"$f":"IF(ISBLANK(FromEvoM!AK61),\"\",FromEvoM!AK61)","v":""},{"$f":"IF(ISBLANK(FromEvoM!AM61),\"\",FromEvoM!AM61)","v":""},{"$f":"IF(ISBLANK(FromEvoM!AN61),\"\",FromEvoM!AN61)","v":""},{"$f":"IF(ISBLANK(FromEvoM!AL61),\"\",FromEvoM!AL61)","v":""},{"$f":"IF(ISBLANK(FromEvoM!A61),\"\",IF(AND(AF61=\"y\",AI61=1),\"Y\",\"N\"))","v":""},{"$f":"IF(ISBLANK(FromEvoM!A61),\"\",IF(FromEvoM!AS61=\"Yes\",2,1))","v":""},{"$f":"IF(FromEvoM!W61=1,\"M\",IF(FromEvoM!W61=7,\"W\",\"\"))","v":""},{"$f":"IF(AJ61=\"Y\",0,IF(AJ61=\"N\",FromEvoM!AF61+FromEvoM!AT61,\"\"))","v":""},{"$f":"IF(AJ61=\"Y\",(FromEvoM!AE61+FromEvoM!AF61-FromEvoM!AT61),IF(AJ61=\"N\",FromEvoM!AE61,\"\"))","v":""}]
[{"$f":"IF(ISBLANK(FromEvoM!A62),\"\",Group_Code)","v":""},{"$f":"IF(ISBLANK(FromEvoM!A62),\"\",SUBSTITUTE(FromEvoM!A62,\" \",\"\"))","v":""},{"$f":"IF(ISBLANK(FromEvoM!C62),\"\",SUBSTITUTE(FromEvoM!G62,\" \",\"\"))","v":""},{"$f":"IF(ISBLANK(FromEvoM!D62),\"\",FromEvoM!B62)","v":""},{"$f":"IF(ISBLANK(FromEvoM!D62),\"\",FromEvoM!D62)","v":""},{"$f":"IF(ISBLANK(FromEvoM!C62),\"\",FromEvoM!C62)","v":""},{"$f":"REPLACE(FromEvoM!F62,2,6, )","v":""},{"$f":"IF(ISNUMBER(FromEvoM!E62),FromEvoM!E62,\"\")","v":""},{"$f":"IF(ISBLANK(FromEvoM!I62),\"\",FromEvoM!I62)","v":""},{"$f":"IF(ISBLANK(FromEvoM!J62),\"\",FromEvoM!J62)","v":""},{"$f":"IF(ISBLANK(FromEvoM!K62),\"\",FromEvoM!K62)","v":""},{"$f":"IF(ISBLANK(FromEvoM!L62),\"\",FromEvoM!L62)","v":""},{"$f":"IF(ISBLANK(FromEvoM!M62),\"\",FromEvoM!M62)","v":""},{"$f":"IF(ISBLANK(FromEvoM!P62),\"\",FromEvoM!P62)","v":""},null,{"$f":"IF(ISNUMBER(FromEvoM!X62),FromEvoM!X62,\"\")","v":""},{"$f":"IF(ISNUMBER(FromEvoM!AB62),FromEvoM!AB62,\"\")","v":""},{"$f":"IF(ISNUMBER(FromEvoM!AA62),FromEvoM!AA62,\"\")","v":""},null,"","",null,null,{"$f":"IF(FromEvoM!W62=1,(FromEvoM!AB62*12),IF(FromEvoM!W62=7,(FromEvoM!AR62),\"\"))","v":""},null,null,{"$f":"IF(ISBLANK(FromEvoM!A62),\"\",IF(FromEvoM!AK62=\"y\",\"Y\",\"N\"))","v":""},{"$f":"IF(ISBLANK(FromEvoM!A62),\"\",Category_ID)","v":""},null,null,null,{"$f":"IF(ISBLANK(FromEvoM!AK62),\"\",FromEvoM!AK62)","v":""},{"$f":"IF(ISBLANK(FromEvoM!AM62),\"\",FromEvoM!AM62)","v":""},{"$f":"IF(ISBLANK(FromEvoM!AN62),\"\",FromEvoM!AN62)","v":""},{"$f":"IF(ISBLANK(FromEvoM!AL62),\"\",FromEvoM!AL62)","v":""},{"$f":"IF(ISBLANK(FromEvoM!A62),\"\",IF(AND(AF62=\"y\",AI62=1),\"Y\",\"N\"))","v":""},{"$f":"IF(ISBLANK(FromEvoM!A62),\"\",IF(FromEvoM!AS62=\"Yes\",2,1))","v":""},{"$f":"IF(FromEvoM!W62=1,\"M\",IF(FromEvoM!W62=7,\"W\",\"\"))","v":""},{"$f":"IF(AJ62=\"Y\",0,IF(AJ62=\"N\",FromEvoM!AF62+FromEvoM!AT62,\"\"))","v":""},{"$f":"IF(AJ62=\"Y\",(FromEvoM!AE62+FromEvoM!AF62-FromEvoM!AT62),IF(AJ62=\"N\",FromEvoM!AE62,\"\"))","v":""}]
[{"$f":"IF(ISBLANK(FromEvoM!A63),\"\",Group_Code)","v":""},{"$f":"IF(ISBLANK(FromEvoM!A63),\"\",SUBSTITUTE(FromEvoM!A63,\" \",\"\"))","v":""},{"$f":"IF(ISBLANK(FromEvoM!C63),\"\",SUBSTITUTE(FromEvoM!G63,\" \",\"\"))","v":""},{"$f":"IF(ISBLANK(FromEvoM!D63),\"\",FromEvoM!B63)","v":""},{"$f":"IF(ISBLANK(FromEvoM!D63),\"\",FromEvoM!D63)","v":""},{"$f":"IF(ISBLANK(FromEvoM!C63),\"\",FromEvoM!C63)","v":""},{"$f":"REPLACE(FromEvoM!F63,2,6, )","v":""},{"$f":"IF(ISNUMBER(FromEvoM!E63),FromEvoM!E63,\"\")","v":""},{"$f":"IF(ISBLANK(FromEvoM!I63),\"\",FromEvoM!I63)","v":""},{"$f":"IF(ISBLANK(FromEvoM!J63),\"\",FromEvoM!J63)","v":""},{"$f":"IF(ISBLANK(FromEvoM!K63),\"\",FromEvoM!K63)","v":""},{"$f":"IF(ISBLANK(FromEvoM!L63),\"\",FromEvoM!L63)","v":""},{"$f":"IF(ISBLANK(FromEvoM!M63),\"\",FromEvoM!M63)","v":""},{"$f":"IF(ISBLANK(FromEvoM!P63),\"\",FromEvoM!P63)","v":""},null,{"$f":"IF(ISNUMBER(FromEvoM!X63),FromEvoM!X63,\"\")","v":""},{"$f":"IF(ISNUMBER(FromEvoM!AB63),FromEvoM!AB63,\"\")","v":""},{"$f":"IF(ISNUMBER(FromEvoM!AA63),FromEvoM!AA63,\"\")","v":""},null,"","",null,null,{"$f":"IF(FromEvoM!W63=1,(FromEvoM!AB63*12),IF(FromEvoM!W63=7,(FromEvoM!AR63),\"\"))","v":""},null,null,{"$f":"IF(ISBLANK(FromEvoM!A63),\"\",IF(FromEvoM!AK63=\"y\",\"Y\",\"N\"))","v":""},{"$f":"IF(ISBLANK(FromEvoM!A63),\"\",Category_ID)","v":""},null,null,null,{"$f":"IF(ISBLANK(FromEvoM!AK63),\"\",FromEvoM!AK63)","v":""},{"$f":"IF(ISBLANK(FromEvoM!AM63),\"\",FromEvoM!AM63)","v":""},{"$f":"IF(ISBLANK(FromEvoM!AN63),\"\",FromEvoM!AN63)","v":""},{"$f":"IF(ISBLANK(FromEvoM!AL63),\"\",FromEvoM!AL63)","v":""},{"$f":"IF(ISBLANK(FromEvoM!A63),\"\",IF(AND(AF63=\"y\",AI63=1),\"Y\",\"N\"))","v":""},{"$f":"IF(ISBLANK(FromEvoM!A63),\"\",IF(FromEvoM!AS63=\"Yes\",2,1))","v":""},{"$f":"IF(FromEvoM!W63=1,\"M\",IF(FromEvoM!W63=7,\"W\",\"\"))","v":""},{"$f":"IF(AJ63=\"Y\",0,IF(AJ63=\"N\",FromEvoM!AF63+FromEvoM!AT63,\"\"))","v":""},{"$f":"IF(AJ63=\"Y\",(FromEvoM!AE63+FromEvoM!AF63-FromEvoM!AT63),IF(AJ63=\"N\",FromEvoM!AE63,\"\"))","v":""}]
[{"$f":"IF(ISBLANK(FromEvoM!A64),\"\",Group_Code)","v":""},{"$f":"IF(ISBLANK(FromEvoM!A64),\"\",SUBSTITUTE(FromEvoM!A64,\" \",\"\"))","v":""},{"$f":"IF(ISBLANK(FromEvoM!C64),\"\",SUBSTITUTE(FromEvoM!G64,\" \",\"\"))","v":""},{"$f":"IF(ISBLANK(FromEvoM!D64),\"\",FromEvoM!B64)","v":""},{"$f":"IF(ISBLANK(FromEvoM!D64),\"\",FromEvoM!D64)","v":""},{"$f":"IF(ISBLANK(FromEvoM!C64),\"\",FromEvoM!C64)","v":""},{"$f":"REPLACE(FromEvoM!F64,2,6, )","v":""},{"$f":"IF(ISNUMBER(FromEvoM!E64),FromEvoM!E64,\"\")","v":""},{"$f":"IF(ISBLANK(FromEvoM!I64),\"\",FromEvoM!I64)","v":""},{"$f":"IF(ISBLANK(FromEvoM!J64),\"\",FromEvoM!J64)","v":""},{"$f":"IF(ISBLANK(FromEvoM!K64),\"\",FromEvoM!K64)","v":""},{"$f":"IF(ISBLANK(FromEvoM!L64),\"\",FromEvoM!L64)","v":""},{"$f":"IF(ISBLANK(FromEvoM!M64),\"\",FromEvoM!M64)","v":""},{"$f":"IF(ISBLANK(FromEvoM!P64),\"\",FromEvoM!P64)","v":""},null,{"$f":"IF(ISNUMBER(FromEvoM!X64),FromEvoM!X64,\"\")","v":""},{"$f":"IF(ISNUMBER(FromEvoM!AB64),FromEvoM!AB64,\"\")","v":""},{"$f":"IF(ISNUMBER(FromEvoM!AA64),FromEvoM!AA64,\"\")","v":""},null,"","",null,null,{"$f":"IF(FromEvoM!W64=1,(FromEvoM!AB64*12),IF(FromEvoM!W64=7,(FromEvoM!AR64),\"\"))","v":""},null,null,{"$f":"IF(ISBLANK(FromEvoM!A64),\"\",IF(FromEvoM!AK64=\"y\",\"Y\",\"N\"))","v":""},{"$f":"IF(ISBLANK(FromEvoM!A64),\"\",Category_ID)","v":""},null,null,null,{"$f":"IF(ISBLANK(FromEvoM!AK64),\"\",FromEvoM!AK64)","v":""},{"$f":"IF(ISBLANK(FromEvoM!AM64),\"\",FromEvoM!AM64)","v":""},{"$f":"IF(ISBLANK(FromEvoM!AN64),\"\",FromEvoM!AN64)","v":""},{"$f":"IF(ISBLANK(FromEvoM!AL64),\"\",FromEvoM!AL64)","v":""},{"$f":"IF(ISBLANK(FromEvoM!A64),\"\",IF(AND(AF64=\"y\",AI64=1),\"Y\",\"N\"))","v":""},{"$f":"IF(ISBLANK(FromEvoM!A64),\"\",IF(FromEvoM!AS64=\"Yes\",2,1))","v":""},{"$f":"IF(FromEvoM!W64=1,\"M\",IF(FromEvoM!W64=7,\"W\",\"\"))","v":""},{"$f":"IF(AJ64=\"Y\",0,IF(AJ64=\"N\",FromEvoM!AF64+FromEvoM!AT64,\"\"))","v":""},{"$f":"IF(AJ64=\"Y\",(FromEvoM!AE64+FromEvoM!AF64-FromEvoM!AT64),IF(AJ64=\"N\",FromEvoM!AE64,\"\"))","v":""}]
[{"$f":"IF(ISBLANK(FromEvoM!A65),\"\",Group_Code)","v":""},{"$f":"IF(ISBLANK(FromEvoM!A65),\"\",SUBSTITUTE(FromEvoM!A65,\" \",\"\"))","v":""},{"$f":"IF(ISBLANK(FromEvoM!C65),\"\",SUBSTITUTE(FromEvoM!G65,\" \",\"\"))","v":""},{"$f":"IF(ISBLANK(FromEvoM!D65),\"\",FromEvoM!B65)","v":""},{"$f":"IF(ISBLANK(FromEvoM!D65),\"\",FromEvoM!D65)","v":""},{"$f":"IF(ISBLANK(FromEvoM!C65),\"\",FromEvoM!C65)","v":""},{"$f":"REPLACE(FromEvoM!F65,2,6, )","v":""},{"$f":"IF(ISNUMBER(FromEvoM!E65),FromEvoM!E65,\"\")","v":""},{"$f":"IF(ISBLANK(FromEvoM!I65),\"\",FromEvoM!I65)","v":""},{"$f":"IF(ISBLANK(FromEvoM!J65),\"\",FromEvoM!J65)","v":""},{"$f":"IF(ISBLANK(FromEvoM!K65),\"\",FromEvoM!K65)","v":""},{"$f":"IF(ISBLANK(FromEvoM!L65),\"\",FromEvoM!L65)","v":""},{"$f":"IF(ISBLANK(FromEvoM!M65),\"\",FromEvoM!M65)","v":""},{"$f":"IF(ISBLANK(FromEvoM!P65),\"\",FromEvoM!P65)","v":""},null,{"$f":"IF(ISNUMBER(FromEvoM!X65),FromEvoM!X65,\"\")","v":""},{"$f":"IF(ISNUMBER(FromEvoM!AB65),FromEvoM!AB65,\"\")","v":""},{"$f":"IF(ISNUMBER(FromEvoM!AA65),FromEvoM!AA65,\"\")","v":""},null,"","",null,null,{"$f":"IF(FromEvoM!W65=1,(FromEvoM!AB65*12),IF(FromEvoM!W65=7,(FromEvoM!AR65),\"\"))","v":""},null,null,{"$f":"IF(ISBLANK(FromEvoM!A65),\"\",IF(FromEvoM!AK65=\"y\",\"Y\",\"N\"))","v":""},{"$f":"IF(ISBLANK(FromEvoM!A65),\"\",Category_ID)","v":""},null,null,null,{"$f":"IF(ISBLANK(FromEvoM!AK65),\"\",FromEvoM!AK65)","v":""},{"$f":"IF(ISBLANK(FromEvoM!AM65),\"\",FromEvoM!AM65)","v":""},{"$f":"IF(ISBLANK(FromEvoM!AN65),\"\",FromEvoM!AN65)","v":""},{"$f":"IF(ISBLANK(FromEvoM!AL65),\"\",FromEvoM!AL65)","v":""},{"$f":"IF(ISBLANK(FromEvoM!A65),\"\",IF(AND(AF65=\"y\",AI65=1),\"Y\",\"N\"))","v":""},{"$f":"IF(ISBLANK(FromEvoM!A65),\"\",IF(FromEvoM!AS65=\"Yes\",2,1))","v":""},{"$f":"IF(FromEvoM!W65=1,\"M\",IF(FromEvoM!W65=7,\"W\",\"\"))","v":""},{"$f":"IF(AJ65=\"Y\",0,IF(AJ65=\"N\",FromEvoM!AF65+FromEvoM!AT65,\"\"))","v":""},{"$f":"IF(AJ65=\"Y\",(FromEvoM!AE65+FromEvoM!AF65-FromEvoM!AT65),IF(AJ65=\"N\",FromEvoM!AE65,\"\"))","v":""}]
[{"$f":"IF(ISBLANK(FromEvoM!A66),\"\",Group_Code)","v":""},{"$f":"IF(ISBLANK(FromEvoM!A66),\"\",SUBSTITUTE(FromEvoM!A66,\" \",\"\"))","v":""},{"$f":"IF(ISBLANK(FromEvoM!C66),\"\",SUBSTITUTE(FromEvoM!G66,\" \",\"\"))","v":""},{"$f":"IF(ISBLANK(FromEvoM!D66),\"\",FromEvoM!B66)","v":""},{"$f":"IF(ISBLANK(FromEvoM!D66),\"\",FromEvoM!D66)","v":""},{"$f":"IF(ISBLANK(FromEvoM!C66),\"\",FromEvoM!C66)","v":""},{"$f":"REPLACE(FromEvoM!F66,2,6, )","v":""},{"$f":"IF(ISNUMBER(FromEvoM!E66),FromEvoM!E66,\"\")","v":""},{"$f":"IF(ISBLANK(FromEvoM!I66),\"\",FromEvoM!I66)","v":""},{"$f":"IF(ISBLANK(FromEvoM!J66),\"\",FromEvoM!J66)","v":""},{"$f":"IF(ISBLANK(FromEvoM!K66),\"\",FromEvoM!K66)","v":""},{"$f":"IF(ISBLANK(FromEvoM!L66),\"\",FromEvoM!L66)","v":""},{"$f":"IF(ISBLANK(FromEvoM!M66),\"\",FromEvoM!M66)","v":""},{"$f":"IF(ISBLANK(FromEvoM!P66),\"\",FromEvoM!P66)","v":""},null,{"$f":"IF(ISNUMBER(FromEvoM!X66),FromEvoM!X66,\"\")","v":""},{"$f":"IF(ISNUMBER(FromEvoM!AB66),FromEvoM!AB66,\"\")","v":""},{"$f":"IF(ISNUMBER(FromEvoM!AA66),FromEvoM!AA66,\"\")","v":""},null,"","",null,null,{"$f":"IF(FromEvoM!W66=1,(FromEvoM!AB66*12),IF(FromEvoM!W66=7,(FromEvoM!AR66),\"\"))","v":""},null,null,{"$f":"IF(ISBLANK(FromEvoM!A66),\"\",IF(FromEvoM!AK66=\"y\",\"Y\",\"N\"))","v":""},{"$f":"IF(ISBLANK(FromEvoM!A66),\"\",Category_ID)","v":""},null,null,null,{"$f":"IF(ISBLANK(FromEvoM!AK66),\"\",FromEvoM!AK66)","v":""},{"$f":"IF(ISBLANK(FromEvoM!AM66),\"\",FromEvoM!AM66)","v":""},{"$f":"IF(ISBLANK(FromEvoM!AN66),\"\",FromEvoM!AN66)","v":""},{"$f":"IF(ISBLANK(FromEvoM!AL66),\"\",FromEvoM!AL66)","v":""},{"$f":"IF(ISBLANK(FromEvoM!A66),\"\",IF(AND(AF66=\"y\",AI66=1),\"Y\",\"N\"))","v":""},{"$f":"IF(ISBLANK(FromEvoM!A66),\"\",IF(FromEvoM!AS66=\"Yes\",2,1))","v":""},{"$f":"IF(FromEvoM!W66=1,\"M\",IF(FromEvoM!W66=7,\"W\",\"\"))","v":""},{"$f":"IF(AJ66=\"Y\",0,IF(AJ66=\"N\",FromEvoM!AF66+FromEvoM!AT66,\"\"))","v":""},{"$f":"IF(AJ66=\"Y\",(FromEvoM!AE66+FromEvoM!AF66-FromEvoM!AT66),IF(AJ66=\"N\",FromEvoM!AE66,\"\"))","v":""}]
[{"$f":"IF(ISBLANK(FromEvoM!A67),\"\",Group_Code)","v":""},{"$f":"IF(ISBLANK(FromEvoM!A67),\"\",SUBSTITUTE(FromEvoM!A67,\" \",\"\"))","v":""},{"$f":"IF(ISBLANK(FromEvoM!C67),\"\",SUBSTITUTE(FromEvoM!G67,\" \",\"\"))","v":""},{"$f":"IF(ISBLANK(FromEvoM!D67),\"\",FromEvoM!B67)","v":""},{"$f":"IF(ISBLANK(FromEvoM!D67),\"\",FromEvoM!D67)","v":""},{"$f":"IF(ISBLANK(FromEvoM!C67),\"\",FromEvoM!C67)","v":""},{"$f":"REPLACE(FromEvoM!F67,2,6, )","v":""},{"$f":"IF(ISNUMBER(FromEvoM!E67),FromEvoM!E67,\"\")","v":""},{"$f":"IF(ISBLANK(FromEvoM!I67),\"\",FromEvoM!I67)","v":""},{"$f":"IF(ISBLANK(FromEvoM!J67),\"\",FromEvoM!J67)","v":""},{"$f":"IF(ISBLANK(FromEvoM!K67),\"\",FromEvoM!K67)","v":""},{"$f":"IF(ISBLANK(FromEvoM!L67),\"\",FromEvoM!L67)","v":""},{"$f":"IF(ISBLANK(FromEvoM!M67),\"\",FromEvoM!M67)","v":""},{"$f":"IF(ISBLANK(FromEvoM!P67),\"\",FromEvoM!P67)","v":""},null,{"$f":"IF(ISNUMBER(FromEvoM!X67),FromEvoM!X67,\"\")","v":""},{"$f":"IF(ISNUMBER(FromEvoM!AB67),FromEvoM!AB67,\"\")","v":""},{"$f":"IF(ISNUMBER(FromEvoM!AA67),FromEvoM!AA67,\"\")","v":""},null,{"$f":"AM67","v":""},{"$f":"AN67","v":""},null,null,{"$f":"IF(FromEvoM!W67=1,(FromEvoM!AB67*12),IF(FromEvoM!W67=7,(FromEvoM!AR67),\"\"))","v":""},null,null,{"$f":"IF(ISBLANK(FromEvoM!A67),\"\",IF(FromEvoM!AK67=\"y\",\"Y\",\"N\"))","v":""},{"$f":"IF(ISBLANK(FromEvoM!A67),\"\",Category_ID)","v":""},null,null,null,{"$f":"IF(ISBLANK(FromEvoM!AK67),\"\",FromEvoM!AK67)","v":""},{"$f":"IF(ISBLANK(FromEvoM!AM67),\"\",FromEvoM!AM67)","v":""},{"$f":"IF(ISBLANK(FromEvoM!AN67),\"\",FromEvoM!AN67)","v":""},{"$f":"IF(ISBLANK(FromEvoM!AL67),\"\",FromEvoM!AL67)","v":""},{"$f":"IF(ISBLANK(FromEvoM!A67),\"\",IF(AND(AF67=\"y\",AI67=1),\"Y\",\"N\"))","v":""},{"$f":"IF(ISBLANK(FromEvoM!A67),\"\",IF(FromEvoM!AS67=\"Yes\",2,1))","v":""},{"$f":"IF(FromEvoM!W67=1,\"M\",IF(FromEvoM!W67=7,\"W\",\"\"))","v":""},{"$f":"IF(AJ67=\"Y\",0,IF(AJ67=\"N\",FromEvoM!AF67+FromEvoM!AT67,\"\"))","v":""},{"$f":"IF(AJ67=\"Y\",(FromEvoM!AE67+FromEvoM!AF67-FromEvoM!AT67),IF(AJ67=\"N\",FromEvoM!AE67,\"\"))","v":""}]
[{"$f":"IF(ISBLANK(FromEvoM!A68),\"\",Group_Code)","v":""},{"$f":"IF(ISBLANK(FromEvoM!A68),\"\",SUBSTITUTE(FromEvoM!A68,\" \",\"\"))","v":""},{"$f":"IF(ISBLANK(FromEvoM!C68),\"\",SUBSTITUTE(FromEvoM!G68,\" \",\"\"))","v":""},{"$f":"IF(ISBLANK(FromEvoM!D68),\"\",FromEvoM!B68)","v":""},{"$f":"IF(ISBLANK(FromEvoM!D68),\"\",FromEvoM!D68)","v":""},{"$f":"IF(ISBLANK(FromEvoM!C68),\"\",FromEvoM!C68)","v":""},{"$f":"REPLACE(FromEvoM!F68,2,6, )","v":""},{"$f":"IF(ISNUMBER(FromEvoM!E68),FromEvoM!E68,\"\")","v":""},{"$f":"IF(ISBLANK(FromEvoM!I68),\"\",FromEvoM!I68)","v":""},{"$f":"IF(ISBLANK(FromEvoM!J68),\"\",FromEvoM!J68)","v":""},{"$f":"IF(ISBLANK(FromEvoM!K68),\"\",FromEvoM!K68)","v":""},{"$f":"IF(ISBLANK(FromEvoM!L68),\"\",FromEvoM!L68)","v":""},{"$f":"IF(ISBLANK(FromEvoM!M68),\"\",FromEvoM!M68)","v":""},{"$f":"IF(ISBLANK(FromEvoM!P68),\"\",FromEvoM!P68)","v":""},null,{"$f":"IF(ISNUMBER(FromEvoM!X68),FromEvoM!X68,\"\")","v":""},{"$f":"IF(ISNUMBER(FromEvoM!AB68),FromEvoM!AB68,\"\")","v":""},{"$f":"IF(ISNUMBER(FromEvoM!AA68),FromEvoM!AA68,\"\")","v":""},null,"","",null,null,{"$f":"IF(FromEvoM!W68=1,(FromEvoM!AB68*12),IF(FromEvoM!W68=7,(FromEvoM!AR68),\"\"))","v":""},null,null,{"$f":"IF(ISBLANK(FromEvoM!A68),\"\",IF(FromEvoM!AK68=\"y\",\"Y\",\"N\"))","v":""},{"$f":"IF(ISBLANK(FromEvoM!A68),\"\",Category_ID)","v":""},null,null,null,{"$f":"IF(ISBLANK(FromEvoM!AK68),\"\",FromEvoM!AK68)","v":""},{"$f":"IF(ISBLANK(FromEvoM!AM68),\"\",FromEvoM!AM68)","v":""},{"$f":"IF(ISBLANK(FromEvoM!AN68),\"\",FromEvoM!AN68)","v":""},{"$f":"IF(ISBLANK(FromEvoM!AL68),\"\",FromEvoM!AL68)","v":""},{"$f":"IF(ISBLANK(FromEvoM!A68),\"\",IF(AND(AF68=\"y\",AI68=1),\"Y\",\"N\"))","v":""},{"$f":"IF(ISBLANK(FromEvoM!A68),\"\",IF(FromEvoM!AS68=\"Yes\",2,1))","v":""},{"$f":"IF(FromEvoM!W68=1,\"M\",IF(FromEvoM!W68=7,\"W\",\"\"))","v":""},{"$f":"IF(AJ68=\"Y\",0,IF(AJ68=\"N\",FromEvoM!AF68+FromEvoM!AT68,\"\"))","v":""},{"$f":"IF(AJ68=\"Y\",(FromEvoM!AE68+FromEvoM!AF68-FromEvoM!AT68),IF(AJ68=\"N\",FromEvoM!AE68,\"\"))","v":""}]
[{"$f":"IF(ISBLANK(FromEvoM!A69),\"\",Group_Code)","v":""},{"$f":"IF(ISBLANK(FromEvoM!A69),\"\",SUBSTITUTE(FromEvoM!A69,\" \",\"\"))","v":""},{"$f":"IF(ISBLANK(FromEvoM!C69),\"\",SUBSTITUTE(FromEvoM!G69,\" \",\"\"))","v":""},{"$f":"IF(ISBLANK(FromEvoM!D69),\"\",FromEvoM!B69)","v":""},{"$f":"IF(ISBLANK(FromEvoM!D69),\"\",FromEvoM!D69)","v":""},{"$f":"IF(ISBLANK(FromEvoM!C69),\"\",FromEvoM!C69)","v":""},{"$f":"REPLACE(FromEvoM!F69,2,6, )","v":""},{"$f":"IF(ISNUMBER(FromEvoM!E69),FromEvoM!E69,\"\")","v":""},{"$f":"IF(ISBLANK(FromEvoM!I69),\"\",FromEvoM!I69)","v":""},{"$f":"IF(ISBLANK(FromEvoM!J69),\"\",FromEvoM!J69)","v":""},{"$f":"IF(ISBLANK(FromEvoM!K69),\"\",FromEvoM!K69)","v":""},{"$f":"IF(ISBLANK(FromEvoM!L69),\"\",FromEvoM!L69)","v":""},{"$f":"IF(ISBLANK(FromEvoM!M69),\"\",FromEvoM!M69)","v":""},{"$f":"IF(ISBLANK(FromEvoM!P69),\"\",FromEvoM!P69)","v":""},null,{"$f":"IF(ISNUMBER(FromEvoM!X69),FromEvoM!X69,\"\")","v":""},{"$f":"IF(ISNUMBER(FromEvoM!AB69),FromEvoM!AB69,\"\")","v":""},{"$f":"IF(ISNUMBER(FromEvoM!AA69),FromEvoM!AA69,\"\")","v":""},null,"","",null,null,{"$f":"IF(FromEvoM!W69=1,(FromEvoM!AB69*12),IF(FromEvoM!W69=7,(FromEvoM!AR69),\"\"))","v":""},null,null,{"$f":"IF(ISBLANK(FromEvoM!A69),\"\",IF(FromEvoM!AK69=\"y\",\"Y\",\"N\"))","v":""},{"$f":"IF(ISBLANK(FromEvoM!A69),\"\",Category_ID)","v":""},null,null,null,{"$f":"IF(ISBLANK(FromEvoM!AK69),\"\",FromEvoM!AK69)","v":""},{"$f":"IF(ISBLANK(FromEvoM!AM69),\"\",FromEvoM!AM69)","v":""},{"$f":"IF(ISBLANK(FromEvoM!AN69),\"\",FromEvoM!AN69)","v":""},{"$f":"IF(ISBLANK(FromEvoM!AL69),\"\",FromEvoM!AL69)","v":""},{"$f":"IF(ISBLANK(FromEvoM!A69),\"\",IF(AND(AF69=\"y\",AI69=1),\"Y\",\"N\"))","v":""},{"$f":"IF(ISBLANK(FromEvoM!A69),\"\",IF(FromEvoM!AS69=\"Yes\",2,1))","v":""},{"$f":"IF(FromEvoM!W69=1,\"M\",IF(FromEvoM!W69=7,\"W\",\"\"))","v":""},{"$f":"IF(AJ69=\"Y\",0,IF(AJ69=\"N\",FromEvoM!AF69+FromEvoM!AT69,\"\"))","v":""},{"$f":"IF(AJ69=\"Y\",(FromEvoM!AE69+FromEvoM!AF69-FromEvoM!AT69),IF(AJ69=\"N\",FromEvoM!AE69,\"\"))","v":""}]
[{"$f":"IF(ISBLANK(FromEvoM!A70),\"\",Group_Code)","v":""},{"$f":"IF(ISBLANK(FromEvoM!A70),\"\",SUBSTITUTE(FromEvoM!A70,\" \",\"\"))","v":""},{"$f":"IF(ISBLANK(FromEvoM!C70),\"\",SUBSTITUTE(FromEvoM!G70,\" \",\"\"))","v":""},{"$f":"IF(ISBLANK(FromEvoM!D70),\"\",FromEvoM!B70)","v":""},{"$f":"IF(ISBLANK(FromEvoM!D70),\"\",FromEvoM!D70)","v":""},{"$f":"IF(ISBLANK(FromEvoM!C70),\"\",FromEvoM!C70)","v":""},{"$f":"REPLACE(FromEvoM!F70,2,6, )","v":""},{"$f":"IF(ISNUMBER(FromEvoM!E70),FromEvoM!E70,\"\")","v":""},{"$f":"IF(ISBLANK(FromEvoM!I70),\"\",FromEvoM!I70)","v":""},{"$f":"IF(ISBLANK(FromEvoM!J70),\"\",FromEvoM!J70)","v":""},{"$f":"IF(ISBLANK(FromEvoM!K70),\"\",FromEvoM!K70)","v":""},{"$f":"IF(ISBLANK(FromEvoM!L70),\"\",FromEvoM!L70)","v":""},{"$f":"IF(ISBLANK(FromEvoM!M70),\"\",FromEvoM!M70)","v":""},{"$f":"IF(ISBLANK(FromEvoM!P70),\"\",FromEvoM!P70)","v":""},null,{"$f":"IF(ISNUMBER(FromEvoM!X70),FromEvoM!X70,\"\")","v":""},{"$f":"IF(ISNUMBER(FromEvoM!AB70),FromEvoM!AB70,\"\")","v":""},{"$f":"IF(ISNUMBER(FromEvoM!AA70),FromEvoM!AA70,\"\")","v":""},null,"","",null,null,{"$f":"IF(FromEvoM!W70=1,(FromEvoM!AB70*12),IF(FromEvoM!W70=7,(FromEvoM!AR70),\"\"))","v":""},null,null,{"$f":"IF(ISBLANK(FromEvoM!A70),\"\",IF(FromEvoM!AK70=\"y\",\"Y\",\"N\"))","v":""},{"$f":"IF(ISBLANK(FromEvoM!A70),\"\",Category_ID)","v":""},null,null,null,{"$f":"IF(ISBLANK(FromEvoM!AK70),\"\",FromEvoM!AK70)","v":""},{"$f":"IF(ISBLANK(FromEvoM!AM70),\"\",FromEvoM!AM70)","v":""},{"$f":"IF(ISBLANK(FromEvoM!AN70),\"\",FromEvoM!AN70)","v":""},{"$f":"IF(ISBLANK(FromEvoM!AL70),\"\",FromEvoM!AL70)","v":""},{"$f":"IF(ISBLANK(FromEvoM!A70),\"\",IF(AND(AF70=\"y\",AI70=1),\"Y\",\"N\"))","v":""},{"$f":"IF(ISBLANK(FromEvoM!A70),\"\",IF(FromEvoM!AS70=\"Yes\",2,1))","v":""},{"$f":"IF(FromEvoM!W70=1,\"M\",IF(FromEvoM!W70=7,\"W\",\"\"))","v":""},{"$f":"IF(AJ70=\"Y\",0,IF(AJ70=\"N\",FromEvoM!AF70+FromEvoM!AT70,\"\"))","v":""},{"$f":"IF(AJ70=\"Y\",(FromEvoM!AE70+FromEvoM!AF70-FromEvoM!AT70),IF(AJ70=\"N\",FromEvoM!AE70,\"\"))","v":""}]
[{"$f":"IF(ISBLANK(FromEvoM!A71),\"\",Group_Code)","v":""},{"$f":"IF(ISBLANK(FromEvoM!A71),\"\",SUBSTITUTE(FromEvoM!A71,\" \",\"\"))","v":""},{"$f":"IF(ISBLANK(FromEvoM!C71),\"\",SUBSTITUTE(FromEvoM!G71,\" \",\"\"))","v":""},{"$f":"IF(ISBLANK(FromEvoM!D71),\"\",FromEvoM!B71)","v":""},{"$f":"IF(ISBLANK(FromEvoM!D71),\"\",FromEvoM!D71)","v":""},{"$f":"IF(ISBLANK(FromEvoM!C71),\"\",FromEvoM!C71)","v":""},{"$f":"REPLACE(FromEvoM!F71,2,6, )","v":""},{"$f":"IF(ISNUMBER(FromEvoM!E71),FromEvoM!E71,\"\")","v":""},{"$f":"IF(ISBLANK(FromEvoM!I71),\"\",FromEvoM!I71)","v":""},{"$f":"IF(ISBLANK(FromEvoM!J71),\"\",FromEvoM!J71)","v":""},{"$f":"IF(ISBLANK(FromEvoM!K71),\"\",FromEvoM!K71)","v":""},{"$f":"IF(ISBLANK(FromEvoM!L71),\"\",FromEvoM!L71)","v":""},{"$f":"IF(ISBLANK(FromEvoM!M71),\"\",FromEvoM!M71)","v":""},{"$f":"IF(ISBLANK(FromEvoM!P71),\"\",FromEvoM!P71)","v":""},null,{"$f":"IF(ISNUMBER(FromEvoM!X71),FromEvoM!X71,\"\")","v":""},{"$f":"IF(ISNUMBER(FromEvoM!AB71),FromEvoM!AB71,\"\")","v":""},{"$f":"IF(ISNUMBER(FromEvoM!AA71),FromEvoM!AA71,\"\")","v":""},null,"","",null,null,{"$f":"IF(FromEvoM!W71=1,(FromEvoM!AB71*12),IF(FromEvoM!W71=7,(FromEvoM!AR71),\"\"))","v":""},null,null,{"$f":"IF(ISBLANK(FromEvoM!A71),\"\",IF(FromEvoM!AK71=\"y\",\"Y\",\"N\"))","v":""},{"$f":"IF(ISBLANK(FromEvoM!A71),\"\",Category_ID)","v":""},null,null,null,{"$f":"IF(ISBLANK(FromEvoM!AK71),\"\",FromEvoM!AK71)","v":""},{"$f":"IF(ISBLANK(FromEvoM!AM71),\"\",FromEvoM!AM71)","v":""},{"$f":"IF(ISBLANK(FromEvoM!AN71),\"\",FromEvoM!AN71)","v":""},{"$f":"IF(ISBLANK(FromEvoM!AL71),\"\",FromEvoM!AL71)","v":""},{"$f":"IF(ISBLANK(FromEvoM!A71),\"\",IF(AND(AF71=\"y\",AI71=1),\"Y\",\"N\"))","v":""},{"$f":"IF(ISBLANK(FromEvoM!A71),\"\",IF(FromEvoM!AS71=\"Yes\",2,1))","v":""},{"$f":"IF(FromEvoM!W71=1,\"M\",IF(FromEvoM!W71=7,\"W\",\"\"))","v":""},{"$f":"IF(AJ71=\"Y\",0,IF(AJ71=\"N\",FromEvoM!AF71+FromEvoM!AT71,\"\"))","v":""},{"$f":"IF(AJ71=\"Y\",(FromEvoM!AE71+FromEvoM!AF71-FromEvoM!AT71),IF(AJ71=\"N\",FromEvoM!AE71,\"\"))","v":""}]
[{"$f":"IF(ISBLANK(FromEvoM!A72),\"\",Group_Code)","v":""},{"$f":"IF(ISBLANK(FromEvoM!A72),\"\",SUBSTITUTE(FromEvoM!A72,\" \",\"\"))","v":""},{"$f":"IF(ISBLANK(FromEvoM!C72),\"\",SUBSTITUTE(FromEvoM!G72,\" \",\"\"))","v":""},{"$f":"IF(ISBLANK(FromEvoM!D72),\"\",FromEvoM!B72)","v":""},{"$f":"IF(ISBLANK(FromEvoM!D72),\"\",FromEvoM!D72)","v":""},{"$f":"IF(ISBLANK(FromEvoM!C72),\"\",FromEvoM!C72)","v":""},{"$f":"REPLACE(FromEvoM!F72,2,6, )","v":""},{"$f":"IF(ISNUMBER(FromEvoM!E72),FromEvoM!E72,\"\")","v":""},{"$f":"IF(ISBLANK(FromEvoM!I72),\"\",FromEvoM!I72)","v":""},{"$f":"IF(ISBLANK(FromEvoM!J72),\"\",FromEvoM!J72)","v":""},{"$f":"IF(ISBLANK(FromEvoM!K72),\"\",FromEvoM!K72)","v":""},{"$f":"IF(ISBLANK(FromEvoM!L72),\"\",FromEvoM!L72)","v":""},{"$f":"IF(ISBLANK(FromEvoM!M72),\"\",FromEvoM!M72)","v":""},{"$f":"IF(ISBLANK(FromEvoM!P72),\"\",FromEvoM!P72)","v":""},null,{"$f":"IF(ISNUMBER(FromEvoM!X72),FromEvoM!X72,\"\")","v":""},{"$f":"IF(ISNUMBER(FromEvoM!AB72),FromEvoM!AB72,\"\")","v":""},{"$f":"IF(ISNUMBER(FromEvoM!AA72),FromEvoM!AA72,\"\")","v":""},null,"","",null,null,{"$f":"IF(FromEvoM!W72=1,(FromEvoM!AB72*12),IF(FromEvoM!W72=7,(FromEvoM!AR72),\"\"))","v":""},null,null,{"$f":"IF(ISBLANK(FromEvoM!A72),\"\",IF(FromEvoM!AK72=\"y\",\"Y\",\"N\"))","v":""},{"$f":"IF(ISBLANK(FromEvoM!A72),\"\",Category_ID)","v":""},null,null,null,{"$f":"IF(ISBLANK(FromEvoM!AK72),\"\",FromEvoM!AK72)","v":""},{"$f":"IF(ISBLANK(FromEvoM!AM72),\"\",FromEvoM!AM72)","v":""},{"$f":"IF(ISBLANK(FromEvoM!AN72),\"\",FromEvoM!AN72)","v":""},{"$f":"IF(ISBLANK(FromEvoM!AL72),\"\",FromEvoM!AL72)","v":""},{"$f":"IF(ISBLANK(FromEvoM!A72),\"\",IF(AND(AF72=\"y\",AI72=1),\"Y\",\"N\"))","v":""},{"$f":"IF(ISBLANK(FromEvoM!A72),\"\",IF(FromEvoM!AS72=\"Yes\",2,1))","v":""},{"$f":"IF(FromEvoM!W72=1,\"M\",IF(FromEvoM!W72=7,\"W\",\"\"))","v":""},{"$f":"IF(AJ72=\"Y\",0,IF(AJ72=\"N\",FromEvoM!AF72+FromEvoM!AT72,\"\"))","v":""},{"$f":"IF(AJ72=\"Y\",(FromEvoM!AE72+FromEvoM!AF72-FromEvoM!AT72),IF(AJ72=\"N\",FromEvoM!AE72,\"\"))","v":""}]
[{"$f":"IF(ISBLANK(FromEvoM!A73),\"\",Group_Code)","v":""},{"$f":"IF(ISBLANK(FromEvoM!A73),\"\",SUBSTITUTE(FromEvoM!A73,\" \",\"\"))","v":""},{"$f":"IF(ISBLANK(FromEvoM!C73),\"\",SUBSTITUTE(FromEvoM!G73,\" \",\"\"))","v":""},{"$f":"IF(ISBLANK(FromEvoM!D73),\"\",FromEvoM!B73)","v":""},{"$f":"IF(ISBLANK(FromEvoM!D73),\"\",FromEvoM!D73)","v":""},{"$f":"IF(ISBLANK(FromEvoM!C73),\"\",FromEvoM!C73)","v":""},{"$f":"REPLACE(FromEvoM!F73,2,6, )","v":""},{"$f":"IF(ISNUMBER(FromEvoM!E73),FromEvoM!E73,\"\")","v":""},{"$f":"IF(ISBLANK(FromEvoM!I73),\"\",FromEvoM!I73)","v":""},{"$f":"IF(ISBLANK(FromEvoM!J73),\"\",FromEvoM!J73)","v":""},{"$f":"IF(ISBLANK(FromEvoM!K73),\"\",FromEvoM!K73)","v":""},{"$f":"IF(ISBLANK(FromEvoM!L73),\"\",FromEvoM!L73)","v":""},{"$f":"IF(ISBLANK(FromEvoM!M73),\"\",FromEvoM!M73)","v":""},{"$f":"IF(ISBLANK(FromEvoM!P73),\"\",FromEvoM!P73)","v":""},null,{"$f":"IF(ISNUMBER(FromEvoM!X73),FromEvoM!X73,\"\")","v":""},{"$f":"IF(ISNUMBER(FromEvoM!AB73),FromEvoM!AB73,\"\")","v":""},{"$f":"IF(ISNUMBER(FromEvoM!AA73),FromEvoM!AA73,\"\")","v":""},null,"","",null,null,{"$f":"IF(FromEvoM!W73=1,(FromEvoM!AB73*12),IF(FromEvoM!W73=7,(FromEvoM!AR73),\"\"))","v":""},null,null,{"$f":"IF(ISBLANK(FromEvoM!A73),\"\",IF(FromEvoM!AK73=\"y\",\"Y\",\"N\"))","v":""},{"$f":"IF(ISBLANK(FromEvoM!A73),\"\",Category_ID)","v":""},null,null,null,{"$f":"IF(ISBLANK(FromEvoM!AK73),\"\",FromEvoM!AK73)","v":""},{"$f":"IF(ISBLANK(FromEvoM!AM73),\"\",FromEvoM!AM73)","v":""},{"$f":"IF(ISBLANK(FromEvoM!AN73),\"\",FromEvoM!AN73)","v":""},{"$f":"IF(ISBLANK(FromEvoM!AL73),\"\",FromEvoM!AL73)","v":""},{"$f":"IF(ISBLANK(FromEvoM!A73),\"\",IF(AND(AF73=\"y\",AI73=1),\"Y\",\"N\"))","v":""},{"$f":"IF(ISBLANK(FromEvoM!A73),\"\",IF(FromEvoM!AS73=\"Yes\",2,1))","v":""},{"$f":"IF(FromEvoM!W73=1,\"M\",IF(FromEvoM!W73=7,\"W\",\"\"))","v":""},{"$f":"IF(AJ73=\"Y\",0,IF(AJ73=\"N\",FromEvoM!AF73+FromEvoM!AT73,\"\"))","v":""},{"$f":"IF(AJ73=\"Y\",(FromEvoM!AE73+FromEvoM!AF73-FromEvoM!AT73),IF(AJ73=\"N\",FromEvoM!AE73,\"\"))","v":""}]
[{"$f":"IF(ISBLANK(FromEvoM!A74),\"\",Group_Code)","v":""},{"$f":"IF(ISBLANK(FromEvoM!A74),\"\",SUBSTITUTE(FromEvoM!A74,\" \",\"\"))","v":""},{"$f":"IF(ISBLANK(FromEvoM!C74),\"\",SUBSTITUTE(FromEvoM!G74,\" \",\"\"))","v":""},{"$f":"IF(ISBLANK(FromEvoM!D74),\"\",FromEvoM!B74)","v":""},{"$f":"IF(ISBLANK(FromEvoM!D74),\"\",FromEvoM!D74)","v":""},{"$f":"IF(ISBLANK(FromEvoM!C74),\"\",FromEvoM!C74)","v":""},{"$f":"REPLACE(FromEvoM!F74,2,6, )","v":""},{"$f":"IF(ISNUMBER(FromEvoM!E74),FromEvoM!E74,\"\")","v":""},{"$f":"IF(ISBLANK(FromEvoM!I74),\"\",FromEvoM!I74)","v":""},{"$f":"IF(ISBLANK(FromEvoM!J74),\"\",FromEvoM!J74)","v":""},{"$f":"IF(ISBLANK(FromEvoM!K74),\"\",FromEvoM!K74)","v":""},{"$f":"IF(ISBLANK(FromEvoM!L74),\"\",FromEvoM!L74)","v":""},{"$f":"IF(ISBLANK(FromEvoM!M74),\"\",FromEvoM!M74)","v":""},{"$f":"IF(ISBLANK(FromEvoM!P74),\"\",FromEvoM!P74)","v":""},null,{"$f":"IF(ISNUMBER(FromEvoM!X74),FromEvoM!X74,\"\")","v":""},{"$f":"IF(ISNUMBER(FromEvoM!AB74),FromEvoM!AB74,\"\")","v":""},{"$f":"IF(ISNUMBER(FromEvoM!AA74),FromEvoM!AA74,\"\")","v":""},null,"","",null,null,{"$f":"IF(FromEvoM!W74=1,(FromEvoM!AB74*12),IF(FromEvoM!W74=7,(FromEvoM!AR74),\"\"))","v":""},null,null,{"$f":"IF(ISBLANK(FromEvoM!A74),\"\",IF(FromEvoM!AK74=\"y\",\"Y\",\"N\"))","v":""},{"$f":"IF(ISBLANK(FromEvoM!A74),\"\",Category_ID)","v":""},null,null,null,{"$f":"IF(ISBLANK(FromEvoM!AK74),\"\",FromEvoM!AK74)","v":""},{"$f":"IF(ISBLANK(FromEvoM!AM74),\"\",FromEvoM!AM74)","v":""},{"$f":"IF(ISBLANK(FromEvoM!AN74),\"\",FromEvoM!AN74)","v":""},{"$f":"IF(ISBLANK(FromEvoM!AL74),\"\",FromEvoM!AL74)","v":""},{"$f":"IF(ISBLANK(FromEvoM!A74),\"\",IF(AND(AF74=\"y\",AI74=1),\"Y\",\"N\"))","v":""},{"$f":"IF(ISBLANK(FromEvoM!A74),\"\",IF(FromEvoM!AS74=\"Yes\",2,1))","v":""},{"$f":"IF(FromEvoM!W74=1,\"M\",IF(FromEvoM!W74=7,\"W\",\"\"))","v":""},{"$f":"IF(AJ74=\"Y\",0,IF(AJ74=\"N\",FromEvoM!AF74+FromEvoM!AT74,\"\"))","v":""},{"$f":"IF(AJ74=\"Y\",(FromEvoM!AE74+FromEvoM!AF74-FromEvoM!AT74),IF(AJ74=\"N\",FromEvoM!AE74,\"\"))","v":""}]
[{"$f":"IF(ISBLANK(FromEvoM!A75),\"\",Group_Code)","v":""},{"$f":"IF(ISBLANK(FromEvoM!A75),\"\",SUBSTITUTE(FromEvoM!A75,\" \",\"\"))","v":""},{"$f":"IF(ISBLANK(FromEvoM!C75),\"\",SUBSTITUTE(FromEvoM!G75,\" \",\"\"))","v":""},{"$f":"IF(ISBLANK(FromEvoM!D75),\"\",FromEvoM!B75)","v":""},{"$f":"IF(ISBLANK(FromEvoM!D75),\"\",FromEvoM!D75)","v":""},{"$f":"IF(ISBLANK(FromEvoM!C75),\"\",FromEvoM!C75)","v":""},{"$f":"REPLACE(FromEvoM!F75,2,6, )","v":""},{"$f":"IF(ISNUMBER(FromEvoM!E75),FromEvoM!E75,\"\")","v":""},{"$f":"IF(ISBLANK(FromEvoM!I75),\"\",FromEvoM!I75)","v":""},{"$f":"IF(ISBLANK(FromEvoM!J75),\"\",FromEvoM!J75)","v":""},{"$f":"IF(ISBLANK(FromEvoM!K75),\"\",FromEvoM!K75)","v":""},{"$f":"IF(ISBLANK(FromEvoM!L75),\"\",FromEvoM!L75)","v":""},{"$f":"IF(ISBLANK(FromEvoM!M75),\"\",FromEvoM!M75)","v":""},{"$f":"IF(ISBLANK(FromEvoM!P75),\"\",FromEvoM!P75)","v":""},null,{"$f":"IF(ISNUMBER(FromEvoM!X75),FromEvoM!X75,\"\")","v":""},{"$f":"IF(ISNUMBER(FromEvoM!AB75),FromEvoM!AB75,\"\")","v":""},{"$f":"IF(ISNUMBER(FromEvoM!AA75),FromEvoM!AA75,\"\")","v":""},null,"","",null,null,{"$f":"IF(FromEvoM!W75=1,(FromEvoM!AB75*12),IF(FromEvoM!W75=7,(FromEvoM!AR75),\"\"))","v":""},null,null,{"$f":"IF(ISBLANK(FromEvoM!A75),\"\",IF(FromEvoM!AK75=\"y\",\"Y\",\"N\"))","v":""},{"$f":"IF(ISBLANK(FromEvoM!A75),\"\",Category_ID)","v":""},null,null,null,{"$f":"IF(ISBLANK(FromEvoM!AK75),\"\",FromEvoM!AK75)","v":""},{"$f":"IF(ISBLANK(FromEvoM!AM75),\"\",FromEvoM!AM75)","v":""},{"$f":"IF(ISBLANK(FromEvoM!AN75),\"\",FromEvoM!AN75)","v":""},{"$f":"IF(ISBLANK(FromEvoM!AL75),\"\",FromEvoM!AL75)","v":""},{"$f":"IF(ISBLANK(FromEvoM!A75),\"\",IF(AND(AF75=\"y\",AI75=1),\"Y\",\"N\"))","v":""},{"$f":"IF(ISBLANK(FromEvoM!A75),\"\",IF(FromEvoM!AS75=\"Yes\",2,1))","v":""},{"$f":"IF(FromEvoM!W75=1,\"M\",IF(FromEvoM!W75=7,\"W\",\"\"))","v":""},{"$f":"IF(AJ75=\"Y\",0,IF(AJ75=\"N\",FromEvoM!AF75+FromEvoM!AT75,\"\"))","v":""},{"$f":"IF(AJ75=\"Y\",(FromEvoM!AE75+FromEvoM!AF75-FromEvoM!AT75),IF(AJ75=\"N\",FromEvoM!AE75,\"\"))","v":""}]
[{"$f":"IF(ISBLANK(FromEvoM!A76),\"\",Group_Code)","v":""},{"$f":"IF(ISBLANK(FromEvoM!A76),\"\",SUBSTITUTE(FromEvoM!A76,\" \",\"\"))","v":""},{"$f":"IF(ISBLANK(FromEvoM!C76),\"\",SUBSTITUTE(FromEvoM!G76,\" \",\"\"))","v":""},{"$f":"IF(ISBLANK(FromEvoM!D76),\"\",FromEvoM!B76)","v":""},{"$f":"IF(ISBLANK(FromEvoM!D76),\"\",FromEvoM!D76)","v":""},{"$f":"IF(ISBLANK(FromEvoM!C76),\"\",FromEvoM!C76)","v":""},{"$f":"REPLACE(FromEvoM!F76,2,6, )","v":""},{"$f":"IF(ISNUMBER(FromEvoM!E76),FromEvoM!E76,\"\")","v":""},{"$f":"IF(ISBLANK(FromEvoM!I76),\"\",FromEvoM!I76)","v":""},{"$f":"IF(ISBLANK(FromEvoM!J76),\"\",FromEvoM!J76)","v":""},{"$f":"IF(ISBLANK(FromEvoM!K76),\"\",FromEvoM!K76)","v":""},{"$f":"IF(ISBLANK(FromEvoM!L76),\"\",FromEvoM!L76)","v":""},{"$f":"IF(ISBLANK(FromEvoM!M76),\"\",FromEvoM!M76)","v":""},{"$f":"IF(ISBLANK(FromEvoM!P76),\"\",FromEvoM!P76)","v":""},null,{"$f":"IF(ISNUMBER(FromEvoM!X76),FromEvoM!X76,\"\")","v":""},{"$f":"IF(ISNUMBER(FromEvoM!AB76),FromEvoM!AB76,\"\")","v":""},{"$f":"IF(ISNUMBER(FromEvoM!AA76),FromEvoM!AA76,\"\")","v":""},null,"","",null,null,{"$f":"IF(FromEvoM!W76=1,(FromEvoM!AB76*12),IF(FromEvoM!W76=7,(FromEvoM!AR76),\"\"))","v":""},null,null,{"$f":"IF(ISBLANK(FromEvoM!A76),\"\",IF(FromEvoM!AK76=\"y\",\"Y\",\"N\"))","v":""},{"$f":"IF(ISBLANK(FromEvoM!A76),\"\",Category_ID)","v":""},null,null,null,{"$f":"IF(ISBLANK(FromEvoM!AK76),\"\",FromEvoM!AK76)","v":""},{"$f":"IF(ISBLANK(FromEvoM!AM76),\"\",FromEvoM!AM76)","v":""},{"$f":"IF(ISBLANK(FromEvoM!AN76),\"\",FromEvoM!AN76)","v":""},{"$f":"IF(ISBLANK(FromEvoM!AL76),\"\",FromEvoM!AL76)","v":""},{"$f":"IF(ISBLANK(FromEvoM!A76),\"\",IF(AND(AF76=\"y\",AI76=1),\"Y\",\"N\"))","v":""},{"$f":"IF(ISBLANK(FromEvoM!A76),\"\",IF(FromEvoM!AS76=\"Yes\",2,1))","v":""},{"$f":"IF(FromEvoM!W76=1,\"M\",IF(FromEvoM!W76=7,\"W\",\"\"))","v":""},{"$f":"IF(AJ76=\"Y\",0,IF(AJ76=\"N\",FromEvoM!AF76+FromEvoM!AT76,\"\"))","v":""},{"$f":"IF(AJ76=\"Y\",(FromEvoM!AE76+FromEvoM!AF76-FromEvoM!AT76),IF(AJ76=\"N\",FromEvoM!AE76,\"\"))","v":""}]
[{"$f":"IF(ISBLANK(FromEvoM!A77),\"\",Group_Code)","v":""},{"$f":"IF(ISBLANK(FromEvoM!A77),\"\",SUBSTITUTE(FromEvoM!A77,\" \",\"\"))","v":""},{"$f":"IF(ISBLANK(FromEvoM!C77),\"\",SUBSTITUTE(FromEvoM!G77,\" \",\"\"))","v":""},{"$f":"IF(ISBLANK(FromEvoM!D77),\"\",FromEvoM!B77)","v":""},{"$f":"IF(ISBLANK(FromEvoM!D77),\"\",FromEvoM!D77)","v":""},{"$f":"IF(ISBLANK(FromEvoM!C77),\"\",FromEvoM!C77)","v":""},{"$f":"REPLACE(FromEvoM!F77,2,6, )","v":""},{"$f":"IF(ISNUMBER(FromEvoM!E77),FromEvoM!E77,\"\")","v":""},{"$f":"IF(ISBLANK(FromEvoM!I77),\"\",FromEvoM!I77)","v":""},{"$f":"IF(ISBLANK(FromEvoM!J77),\"\",FromEvoM!J77)","v":""},{"$f":"IF(ISBLANK(FromEvoM!K77),\"\",FromEvoM!K77)","v":""},{"$f":"IF(ISBLANK(FromEvoM!L77),\"\",FromEvoM!L77)","v":""},{"$f":"IF(ISBLANK(FromEvoM!M77),\"\",FromEvoM!M77)","v":""},{"$f":"IF(ISBLANK(FromEvoM!P77),\"\",FromEvoM!P77)","v":""},null,{"$f":"IF(ISNUMBER(FromEvoM!X77),FromEvoM!X77,\"\")","v":""},{"$f":"IF(ISNUMBER(FromEvoM!AB77),FromEvoM!AB77,\"\")","v":""},{"$f":"IF(ISNUMBER(FromEvoM!AA77),FromEvoM!AA77,\"\")","v":""},null,"","",null,null,{"$f":"IF(FromEvoM!W77=1,(FromEvoM!AB77*12),IF(FromEvoM!W77=7,(FromEvoM!AR77),\"\"))","v":""},null,null,{"$f":"IF(ISBLANK(FromEvoM!A77),\"\",IF(FromEvoM!AK77=\"y\",\"Y\",\"N\"))","v":""},{"$f":"IF(ISBLANK(FromEvoM!A77),\"\",Category_ID)","v":""},null,null,null,{"$f":"IF(ISBLANK(FromEvoM!AK77),\"\",FromEvoM!AK77)","v":""},{"$f":"IF(ISBLANK(FromEvoM!AM77),\"\",FromEvoM!AM77)","v":""},{"$f":"IF(ISBLANK(FromEvoM!AN77),\"\",FromEvoM!AN77)","v":""},{"$f":"IF(ISBLANK(FromEvoM!AL77),\"\",FromEvoM!AL77)","v":""},{"$f":"IF(ISBLANK(FromEvoM!A77),\"\",IF(AND(AF77=\"y\",AI77=1),\"Y\",\"N\"))","v":""},{"$f":"IF(ISBLANK(FromEvoM!A77),\"\",IF(FromEvoM!AS77=\"Yes\",2,1))","v":""},{"$f":"IF(FromEvoM!W77=1,\"M\",IF(FromEvoM!W77=7,\"W\",\"\"))","v":""},{"$f":"IF(AJ77=\"Y\",0,IF(AJ77=\"N\",FromEvoM!AF77+FromEvoM!AT77,\"\"))","v":""},{"$f":"IF(AJ77=\"Y\",(FromEvoM!AE77+FromEvoM!AF77-FromEvoM!AT77),IF(AJ77=\"N\",FromEvoM!AE77,\"\"))","v":""}]
[{"$f":"IF(ISBLANK(FromEvoM!A78),\"\",Group_Code)","v":""},{"$f":"IF(ISBLANK(FromEvoM!A78),\"\",SUBSTITUTE(FromEvoM!A78,\" \",\"\"))","v":""},{"$f":"IF(ISBLANK(FromEvoM!C78),\"\",SUBSTITUTE(FromEvoM!G78,\" \",\"\"))","v":""},{"$f":"IF(ISBLANK(FromEvoM!D78),\"\",FromEvoM!B78)","v":""},{"$f":"IF(ISBLANK(FromEvoM!D78),\"\",FromEvoM!D78)","v":""},{"$f":"IF(ISBLANK(FromEvoM!C78),\"\",FromEvoM!C78)","v":""},{"$f":"REPLACE(FromEvoM!F78,2,6, )","v":""},{"$f":"IF(ISNUMBER(FromEvoM!E78),FromEvoM!E78,\"\")","v":""},{"$f":"IF(ISBLANK(FromEvoM!I78),\"\",FromEvoM!I78)","v":""},{"$f":"IF(ISBLANK(FromEvoM!J78),\"\",FromEvoM!J78)","v":""},{"$f":"IF(ISBLANK(FromEvoM!K78),\"\",FromEvoM!K78)","v":""},{"$f":"IF(ISBLANK(FromEvoM!L78),\"\",FromEvoM!L78)","v":""},{"$f":"IF(ISBLANK(FromEvoM!M78),\"\",FromEvoM!M78)","v":""},{"$f":"IF(ISBLANK(FromEvoM!P78),\"\",FromEvoM!P78)","v":""},null,{"$f":"IF(ISNUMBER(FromEvoM!X78),FromEvoM!X78,\"\")","v":""},{"$f":"IF(ISNUMBER(FromEvoM!AB78),FromEvoM!AB78,\"\")","v":""},{"$f":"IF(ISNUMBER(FromEvoM!AA78),FromEvoM!AA78,\"\")","v":""},null,"","",null,null,{"$f":"IF(FromEvoM!W78=1,(FromEvoM!AB78*12),IF(FromEvoM!W78=7,(FromEvoM!AR78),\"\"))","v":""},null,null,{"$f":"IF(ISBLANK(FromEvoM!A78),\"\",IF(FromEvoM!AK78=\"y\",\"Y\",\"N\"))","v":""},{"$f":"IF(ISBLANK(FromEvoM!A78),\"\",Category_ID)","v":""},null,null,null,{"$f":"IF(ISBLANK(FromEvoM!AK78),\"\",FromEvoM!AK78)","v":""},{"$f":"IF(ISBLANK(FromEvoM!AM78),\"\",FromEvoM!AM78)","v":""},{"$f":"IF(ISBLANK(FromEvoM!AN78),\"\",FromEvoM!AN78)","v":""},{"$f":"IF(ISBLANK(FromEvoM!AL78),\"\",FromEvoM!AL78)","v":""},{"$f":"IF(ISBLANK(FromEvoM!A78),\"\",IF(AND(AF78=\"y\",AI78=1),\"Y\",\"N\"))","v":""},{"$f":"IF(ISBLANK(FromEvoM!A78),\"\",IF(FromEvoM!AS78=\"Yes\",2,1))","v":""},{"$f":"IF(FromEvoM!W78=1,\"M\",IF(FromEvoM!W78=7,\"W\",\"\"))","v":""},{"$f":"IF(AJ78=\"Y\",0,IF(AJ78=\"N\",FromEvoM!AF78+FromEvoM!AT78,\"\"))","v":""},{"$f":"IF(AJ78=\"Y\",(FromEvoM!AE78+FromEvoM!AF78-FromEvoM!AT78),IF(AJ78=\"N\",FromEvoM!AE78,\"\"))","v":""}]
[{"$f":"IF(ISBLANK(FromEvoM!A79),\"\",Group_Code)","v":""},{"$f":"IF(ISBLANK(FromEvoM!A79),\"\",SUBSTITUTE(FromEvoM!A79,\" \",\"\"))","v":""},{"$f":"IF(ISBLANK(FromEvoM!C79),\"\",SUBSTITUTE(FromEvoM!G79,\" \",\"\"))","v":""},{"$f":"IF(ISBLANK(FromEvoM!D79),\"\",FromEvoM!B79)","v":""},{"$f":"IF(ISBLANK(FromEvoM!D79),\"\",FromEvoM!D79)","v":""},{"$f":"IF(ISBLANK(FromEvoM!C79),\"\",FromEvoM!C79)","v":""},{"$f":"REPLACE(FromEvoM!F79,2,6, )","v":""},{"$f":"IF(ISNUMBER(FromEvoM!E79),FromEvoM!E79,\"\")","v":""},{"$f":"IF(ISBLANK(FromEvoM!I79),\"\",FromEvoM!I79)","v":""},{"$f":"IF(ISBLANK(FromEvoM!J79),\"\",FromEvoM!J79)","v":""},{"$f":"IF(ISBLANK(FromEvoM!K79),\"\",FromEvoM!K79)","v":""},{"$f":"IF(ISBLANK(FromEvoM!L79),\"\",FromEvoM!L79)","v":""},{"$f":"IF(ISBLANK(FromEvoM!M79),\"\",FromEvoM!M79)","v":""},{"$f":"IF(ISBLANK(FromEvoM!P79),\"\",FromEvoM!P79)","v":""},null,{"$f":"IF(ISNUMBER(FromEvoM!X79),FromEvoM!X79,\"\")","v":""},{"$f":"IF(ISNUMBER(FromEvoM!AB79),FromEvoM!AB79,\"\")","v":""},{"$f":"IF(ISNUMBER(FromEvoM!AA79),FromEvoM!AA79,\"\")","v":""},null,"","",null,null,{"$f":"IF(FromEvoM!W79=1,(FromEvoM!AB79*12),IF(FromEvoM!W79=7,(FromEvoM!AR79),\"\"))","v":""},null,null,{"$f":"IF(ISBLANK(FromEvoM!A79),\"\",IF(FromEvoM!AK79=\"y\",\"Y\",\"N\"))","v":""},{"$f":"IF(ISBLANK(FromEvoM!A79),\"\",Category_ID)","v":""},null,null,null,{"$f":"IF(ISBLANK(FromEvoM!AK79),\"\",FromEvoM!AK79)","v":""},{"$f":"IF(ISBLANK(FromEvoM!AM79),\"\",FromEvoM!AM79)","v":""},{"$f":"IF(ISBLANK(FromEvoM!AN79),\"\",FromEvoM!AN79)","v":""},{"$f":"IF(ISBLANK(FromEvoM!AL79),\"\",FromEvoM!AL79)","v":""},{"$f":"IF(ISBLANK(FromEvoM!A79),\"\",IF(AND(AF79=\"y\",AI79=1),\"Y\",\"N\"))","v":""},{"$f":"IF(ISBLANK(FromEvoM!A79),\"\",IF(FromEvoM!AS79=\"Yes\",2,1))","v":""},{"$f":"IF(FromEvoM!W79=1,\"M\",IF(FromEvoM!W79=7,\"W\",\"\"))","v":""},{"$f":"IF(AJ79=\"Y\",0,IF(AJ79=\"N\",FromEvoM!AF79+FromEvoM!AT79,\"\"))","v":""},{"$f":"IF(AJ79=\"Y\",(FromEvoM!AE79+FromEvoM!AF79-FromEvoM!AT79),IF(AJ79=\"N\",FromEvoM!AE79,\"\"))","v":""}]
[{"$f":"IF(ISBLANK(FromEvoM!A80),\"\",Group_Code)","v":""},{"$f":"IF(ISBLANK(FromEvoM!A80),\"\",SUBSTITUTE(FromEvoM!A80,\" \",\"\"))","v":""},{"$f":"IF(ISBLANK(FromEvoM!C80),\"\",SUBSTITUTE(FromEvoM!G80,\" \",\"\"))","v":""},{"$f":"IF(ISBLANK(FromEvoM!D80),\"\",FromEvoM!B80)","v":""},{"$f":"IF(ISBLANK(FromEvoM!D80),\"\",FromEvoM!D80)","v":""},{"$f":"IF(ISBLANK(FromEvoM!C80),\"\",FromEvoM!C80)","v":""},{"$f":"REPLACE(FromEvoM!F80,2,6, )","v":""},{"$f":"IF(ISNUMBER(FromEvoM!E80),FromEvoM!E80,\"\")","v":""},{"$f":"IF(ISBLANK(FromEvoM!I80),\"\",FromEvoM!I80)","v":""},{"$f":"IF(ISBLANK(FromEvoM!J80),\"\",FromEvoM!J80)","v":""},{"$f":"IF(ISBLANK(FromEvoM!K80),\"\",FromEvoM!K80)","v":""},{"$f":"IF(ISBLANK(FromEvoM!L80),\"\",FromEvoM!L80)","v":""},{"$f":"IF(ISBLANK(FromEvoM!M80),\"\",FromEvoM!M80)","v":""},{"$f":"IF(ISBLANK(FromEvoM!P80),\"\",FromEvoM!P80)","v":""},null,{"$f":"IF(ISNUMBER(FromEvoM!X80),FromEvoM!X80,\"\")","v":""},{"$f":"IF(ISNUMBER(FromEvoM!AB80),FromEvoM!AB80,\"\")","v":""},{"$f":"IF(ISNUMBER(FromEvoM!AA80),FromEvoM!AA80,\"\")","v":""},null,"","",null,null,{"$f":"IF(FromEvoM!W80=1,(FromEvoM!AB80*12),IF(FromEvoM!W80=7,(FromEvoM!AR80),\"\"))","v":""},null,null,{"$f":"IF(ISBLANK(FromEvoM!A80),\"\",IF(FromEvoM!AK80=\"y\",\"Y\",\"N\"))","v":""},{"$f":"IF(ISBLANK(FromEvoM!A80),\"\",Category_ID)","v":""},null,null,null,{"$f":"IF(ISBLANK(FromEvoM!AK80),\"\",FromEvoM!AK80)","v":""},{"$f":"IF(ISBLANK(FromEvoM!AM80),\"\",FromEvoM!AM80)","v":""},{"$f":"IF(ISBLANK(FromEvoM!AN80),\"\",FromEvoM!AN80)","v":""},{"$f":"IF(ISBLANK(FromEvoM!AL80),\"\",FromEvoM!AL80)","v":""},{"$f":"IF(ISBLANK(FromEvoM!A80),\"\",IF(AND(AF80=\"y\",AI80=1),\"Y\",\"N\"))","v":""},{"$f":"IF(ISBLANK(FromEvoM!A80),\"\",IF(FromEvoM!AS80=\"Yes\",2,1))","v":""},{"$f":"IF(FromEvoM!W80=1,\"M\",IF(FromEvoM!W80=7,\"W\",\"\"))","v":""},{"$f":"IF(AJ80=\"Y\",0,IF(AJ80=\"N\",FromEvoM!AF80+FromEvoM!AT80,\"\"))","v":""},{"$f":"IF(AJ80=\"Y\",(FromEvoM!AE80+FromEvoM!AF80-FromEvoM!AT80),IF(AJ80=\"N\",FromEvoM!AE80,\"\"))","v":""}]
[{"$f":"IF(ISBLANK(FromEvoM!A81),\"\",Group_Code)","v":""},{"$f":"IF(ISBLANK(FromEvoM!A81),\"\",SUBSTITUTE(FromEvoM!A81,\" \",\"\"))","v":""},{"$f":"IF(ISBLANK(FromEvoM!C81),\"\",SUBSTITUTE(FromEvoM!G81,\" \",\"\"))","v":""},{"$f":"IF(ISBLANK(FromEvoM!D81),\"\",FromEvoM!B81)","v":""},{"$f":"IF(ISBLANK(FromEvoM!D81),\"\",FromEvoM!D81)","v":""},{"$f":"IF(ISBLANK(FromEvoM!C81),\"\",FromEvoM!C81)","v":""},{"$f":"REPLACE(FromEvoM!F81,2,6, )","v":""},{"$f":"IF(ISNUMBER(FromEvoM!E81),FromEvoM!E81,\"\")","v":""},{"$f":"IF(ISBLANK(FromEvoM!I81),\"\",FromEvoM!I81)","v":""},{"$f":"IF(ISBLANK(FromEvoM!J81),\"\",FromEvoM!J81)","v":""},{"$f":"IF(ISBLANK(FromEvoM!K81),\"\",FromEvoM!K81)","v":""},{"$f":"IF(ISBLANK(FromEvoM!L81),\"\",FromEvoM!L81)","v":""},{"$f":"IF(ISBLANK(FromEvoM!M81),\"\",FromEvoM!M81)","v":""},{"$f":"IF(ISBLANK(FromEvoM!P81),\"\",FromEvoM!P81)","v":""},null,{"$f":"IF(ISNUMBER(FromEvoM!X81),FromEvoM!X81,\"\")","v":""},{"$f":"IF(ISNUMBER(FromEvoM!AB81),FromEvoM!AB81,\"\")","v":""},{"$f":"IF(ISNUMBER(FromEvoM!AA81),FromEvoM!AA81,\"\")","v":""},null,"","",null,null,{"$f":"IF(FromEvoM!W81=1,(FromEvoM!AB81*12),IF(FromEvoM!W81=7,(FromEvoM!AR81),\"\"))","v":""},null,null,{"$f":"IF(ISBLANK(FromEvoM!A81),\"\",IF(FromEvoM!AK81=\"y\",\"Y\",\"N\"))","v":""},{"$f":"IF(ISBLANK(FromEvoM!A81),\"\",Category_ID)","v":""},null,null,null,{"$f":"IF(ISBLANK(FromEvoM!AK81),\"\",FromEvoM!AK81)","v":""},{"$f":"IF(ISBLANK(FromEvoM!AM81),\"\",FromEvoM!AM81)","v":""},{"$f":"IF(ISBLANK(FromEvoM!AN81),\"\",FromEvoM!AN81)","v":""},{"$f":"IF(ISBLANK(FromEvoM!AL81),\"\",FromEvoM!AL81)","v":""},{"$f":"IF(ISBLANK(FromEvoM!A81),\"\",IF(AND(AF81=\"y\",AI81=1),\"Y\",\"N\"))","v":""},{"$f":"IF(ISBLANK(FromEvoM!A81),\"\",IF(FromEvoM!AS81=\"Yes\",2,1))","v":""},{"$f":"IF(FromEvoM!W81=1,\"M\",IF(FromEvoM!W81=7,\"W\",\"\"))","v":""},{"$f":"IF(AJ81=\"Y\",0,IF(AJ81=\"N\",FromEvoM!AF81+FromEvoM!AT81,\"\"))","v":""},{"$f":"IF(AJ81=\"Y\",(FromEvoM!AE81+FromEvoM!AF81-FromEvoM!AT81),IF(AJ81=\"N\",FromEvoM!AE81,\"\"))","v":""}]
[{"$f":"IF(ISBLANK(FromEvoM!A82),\"\",Group_Code)","v":""},{"$f":"IF(ISBLANK(FromEvoM!A82),\"\",SUBSTITUTE(FromEvoM!A82,\" \",\"\"))","v":""},{"$f":"IF(ISBLANK(FromEvoM!C82),\"\",SUBSTITUTE(FromEvoM!G82,\" \",\"\"))","v":""},{"$f":"IF(ISBLANK(FromEvoM!D82),\"\",FromEvoM!B82)","v":""},{"$f":"IF(ISBLANK(FromEvoM!D82),\"\",FromEvoM!D82)","v":""},{"$f":"IF(ISBLANK(FromEvoM!C82),\"\",FromEvoM!C82)","v":""},{"$f":"REPLACE(FromEvoM!F82,2,6, )","v":""},{"$f":"IF(ISNUMBER(FromEvoM!E82),FromEvoM!E82,\"\")","v":""},{"$f":"IF(ISBLANK(FromEvoM!I82),\"\",FromEvoM!I82)","v":""},{"$f":"IF(ISBLANK(FromEvoM!J82),\"\",FromEvoM!J82)","v":""},{"$f":"IF(ISBLANK(FromEvoM!K82),\"\",FromEvoM!K82)","v":""},{"$f":"IF(ISBLANK(FromEvoM!L82),\"\",FromEvoM!L82)","v":""},{"$f":"IF(ISBLANK(FromEvoM!M82),\"\",FromEvoM!M82)","v":""},{"$f":"IF(ISBLANK(FromEvoM!P82),\"\",FromEvoM!P82)","v":""},null,{"$f":"IF(ISNUMBER(FromEvoM!X82),FromEvoM!X82,\"\")","v":""},{"$f":"IF(ISNUMBER(FromEvoM!AB82),FromEvoM!AB82,\"\")","v":""},{"$f":"IF(ISNUMBER(FromEvoM!AA82),FromEvoM!AA82,\"\")","v":""},null,"","",null,null,{"$f":"IF(FromEvoM!W82=1,(FromEvoM!AB82*12),IF(FromEvoM!W82=7,(FromEvoM!AR82),\"\"))","v":""},null,null,{"$f":"IF(ISBLANK(FromEvoM!A82),\"\",IF(FromEvoM!AK82=\"y\",\"Y\",\"N\"))","v":""},{"$f":"IF(ISBLANK(FromEvoM!A82),\"\",Category_ID)","v":""},null,null,null,{"$f":"IF(ISBLANK(FromEvoM!AK82),\"\",FromEvoM!AK82)","v":""},{"$f":"IF(ISBLANK(FromEvoM!AM82),\"\",FromEvoM!AM82)","v":""},{"$f":"IF(ISBLANK(FromEvoM!AN82),\"\",FromEvoM!AN82)","v":""},{"$f":"IF(ISBLANK(FromEvoM!AL82),\"\",FromEvoM!AL82)","v":""},{"$f":"IF(ISBLANK(FromEvoM!A82),\"\",IF(AND(AF82=\"y\",AI82=1),\"Y\",\"N\"))","v":""},{"$f":"IF(ISBLANK(FromEvoM!A82),\"\",IF(FromEvoM!AS82=\"Yes\",2,1))","v":""},{"$f":"IF(FromEvoM!W82=1,\"M\",IF(FromEvoM!W82=7,\"W\",\"\"))","v":""},{"$f":"IF(AJ82=\"Y\",0,IF(AJ82=\"N\",FromEvoM!AF82+FromEvoM!AT82,\"\"))","v":""},{"$f":"IF(AJ82=\"Y\",(FromEvoM!AE82+FromEvoM!AF82-FromEvoM!AT82),IF(AJ82=\"N\",FromEvoM!AE82,\"\"))","v":""}]
[{"$f":"IF(ISBLANK(FromEvoM!A83),\"\",Group_Code)","v":""},{"$f":"IF(ISBLANK(FromEvoM!A83),\"\",SUBSTITUTE(FromEvoM!A83,\" \",\"\"))","v":""},{"$f":"IF(ISBLANK(FromEvoM!C83),\"\",SUBSTITUTE(FromEvoM!G83,\" \",\"\"))","v":""},{"$f":"IF(ISBLANK(FromEvoM!D83),\"\",FromEvoM!B83)","v":""},{"$f":"IF(ISBLANK(FromEvoM!D83),\"\",FromEvoM!D83)","v":""},{"$f":"IF(ISBLANK(FromEvoM!C83),\"\",FromEvoM!C83)","v":""},{"$f":"REPLACE(FromEvoM!F83,2,6, )","v":""},{"$f":"IF(ISNUMBER(FromEvoM!E83),FromEvoM!E83,\"\")","v":""},{"$f":"IF(ISBLANK(FromEvoM!I83),\"\",FromEvoM!I83)","v":""},{"$f":"IF(ISBLANK(FromEvoM!J83),\"\",FromEvoM!J83)","v":""},{"$f":"IF(ISBLANK(FromEvoM!K83),\"\",FromEvoM!K83)","v":""},{"$f":"IF(ISBLANK(FromEvoM!L83),\"\",FromEvoM!L83)","v":""},{"$f":"IF(ISBLANK(FromEvoM!M83),\"\",FromEvoM!M83)","v":""},{"$f":"IF(ISBLANK(FromEvoM!P83),\"\",FromEvoM!P83)","v":""},null,{"$f":"IF(ISNUMBER(FromEvoM!X83),FromEvoM!X83,\"\")","v":""},{"$f":"IF(ISNUMBER(FromEvoM!AB83),FromEvoM!AB83,\"\")","v":""},{"$f":"IF(ISNUMBER(FromEvoM!AA83),FromEvoM!AA83,\"\")","v":""},null,"","",null,null,{"$f":"IF(FromEvoM!W83=1,(FromEvoM!AB83*12),IF(FromEvoM!W83=7,(FromEvoM!AR83),\"\"))","v":""},null,null,{"$f":"IF(ISBLANK(FromEvoM!A83),\"\",IF(FromEvoM!AK83=\"y\",\"Y\",\"N\"))","v":""},{"$f":"IF(ISBLANK(FromEvoM!A83),\"\",Category_ID)","v":""},null,null,null,{"$f":"IF(ISBLANK(FromEvoM!AK83),\"\",FromEvoM!AK83)","v":""},{"$f":"IF(ISBLANK(FromEvoM!AM83),\"\",FromEvoM!AM83)","v":""},{"$f":"IF(ISBLANK(FromEvoM!AN83),\"\",FromEvoM!AN83)","v":""},{"$f":"IF(ISBLANK(FromEvoM!AL83),\"\",FromEvoM!AL83)","v":""},{"$f":"IF(ISBLANK(FromEvoM!A83),\"\",IF(AND(AF83=\"y\",AI83=1),\"Y\",\"N\"))","v":""},{"$f":"IF(ISBLANK(FromEvoM!A83),\"\",IF(FromEvoM!AS83=\"Yes\",2,1))","v":""},{"$f":"IF(FromEvoM!W83=1,\"M\",IF(FromEvoM!W83=7,\"W\",\"\"))","v":""},{"$f":"IF(AJ83=\"Y\",0,IF(AJ83=\"N\",FromEvoM!AF83+FromEvoM!AT83,\"\"))","v":""},{"$f":"IF(AJ83=\"Y\",(FromEvoM!AE83+FromEvoM!AF83-FromEvoM!AT83),IF(AJ83=\"N\",FromEvoM!AE83,\"\"))","v":""}]
[{"$f":"IF(ISBLANK(FromEvoM!A84),\"\",Group_Code)","v":""},{"$f":"IF(ISBLANK(FromEvoM!A84),\"\",SUBSTITUTE(FromEvoM!A84,\" \",\"\"))","v":""},{"$f":"IF(ISBLANK(FromEvoM!C84),\"\",SUBSTITUTE(FromEvoM!G84,\" \",\"\"))","v":""},{"$f":"IF(ISBLANK(FromEvoM!D84),\"\",FromEvoM!B84)","v":""},{"$f":"IF(ISBLANK(FromEvoM!D84),\"\",FromEvoM!D84)","v":""},{"$f":"IF(ISBLANK(FromEvoM!C84),\"\",FromEvoM!C84)","v":""},{"$f":"REPLACE(FromEvoM!F84,2,6, )","v":""},{"$f":"IF(ISNUMBER(FromEvoM!E84),FromEvoM!E84,\"\")","v":""},{"$f":"IF(ISBLANK(FromEvoM!I84),\"\",FromEvoM!I84)","v":""},{"$f":"IF(ISBLANK(FromEvoM!J84),\"\",FromEvoM!J84)","v":""},{"$f":"IF(ISBLANK(FromEvoM!K84),\"\",FromEvoM!K84)","v":""},{"$f":"IF(ISBLANK(FromEvoM!L84),\"\",FromEvoM!L84)","v":""},{"$f":"IF(ISBLANK(FromEvoM!M84),\"\",FromEvoM!M84)","v":""},{"$f":"IF(ISBLANK(FromEvoM!P84),\"\",FromEvoM!P84)","v":""},null,{"$f":"IF(ISNUMBER(FromEvoM!X84),FromEvoM!X84,\"\")","v":""},{"$f":"IF(ISNUMBER(FromEvoM!AB84),FromEvoM!AB84,\"\")","v":""},{"$f":"IF(ISNUMBER(FromEvoM!AA84),FromEvoM!AA84,\"\")","v":""},null,"","",null,null,{"$f":"IF(FromEvoM!W84=1,(FromEvoM!AB84*12),IF(FromEvoM!W84=7,(FromEvoM!AR84),\"\"))","v":""},null,null,{"$f":"IF(ISBLANK(FromEvoM!A84),\"\",IF(FromEvoM!AK84=\"y\",\"Y\",\"N\"))","v":""},{"$f":"IF(ISBLANK(FromEvoM!A84),\"\",Category_ID)","v":""},null,null,null,{"$f":"IF(ISBLANK(FromEvoM!AK84),\"\",FromEvoM!AK84)","v":""},{"$f":"IF(ISBLANK(FromEvoM!AM84),\"\",FromEvoM!AM84)","v":""},{"$f":"IF(ISBLANK(FromEvoM!AN84),\"\",FromEvoM!AN84)","v":""},{"$f":"IF(ISBLANK(FromEvoM!AL84),\"\",FromEvoM!AL84)","v":""},{"$f":"IF(ISBLANK(FromEvoM!A84),\"\",IF(AND(AF84=\"y\",AI84=1),\"Y\",\"N\"))","v":""},{"$f":"IF(ISBLANK(FromEvoM!A84),\"\",IF(FromEvoM!AS84=\"Yes\",2,1))","v":""},{"$f":"IF(FromEvoM!W84=1,\"M\",IF(FromEvoM!W84=7,\"W\",\"\"))","v":""},{"$f":"IF(AJ84=\"Y\",0,IF(AJ84=\"N\",FromEvoM!AF84+FromEvoM!AT84,\"\"))","v":""},{"$f":"IF(AJ84=\"Y\",(FromEvoM!AE84+FromEvoM!AF84-FromEvoM!AT84),IF(AJ84=\"N\",FromEvoM!AE84,\"\"))","v":""}]
[{"$f":"IF(ISBLANK(FromEvoM!A85),\"\",Group_Code)","v":""},{"$f":"IF(ISBLANK(FromEvoM!A85),\"\",SUBSTITUTE(FromEvoM!A85,\" \",\"\"))","v":""},{"$f":"IF(ISBLANK(FromEvoM!C85),\"\",SUBSTITUTE(FromEvoM!G85,\" \",\"\"))","v":""},{"$f":"IF(ISBLANK(FromEvoM!D85),\"\",FromEvoM!B85)","v":""},{"$f":"IF(ISBLANK(FromEvoM!D85),\"\",FromEvoM!D85)","v":""},{"$f":"IF(ISBLANK(FromEvoM!C85),\"\",FromEvoM!C85)","v":""},{"$f":"REPLACE(FromEvoM!F85,2,6, )","v":""},{"$f":"IF(ISNUMBER(FromEvoM!E85),FromEvoM!E85,\"\")","v":""},{"$f":"IF(ISBLANK(FromEvoM!I85),\"\",FromEvoM!I85)","v":""},{"$f":"IF(ISBLANK(FromEvoM!J85),\"\",FromEvoM!J85)","v":""},{"$f":"IF(ISBLANK(FromEvoM!K85),\"\",FromEvoM!K85)","v":""},{"$f":"IF(ISBLANK(FromEvoM!L85),\"\",FromEvoM!L85)","v":""},{"$f":"IF(ISBLANK(FromEvoM!M85),\"\",FromEvoM!M85)","v":""},{"$f":"IF(ISBLANK(FromEvoM!P85),\"\",FromEvoM!P85)","v":""},null,{"$f":"IF(ISNUMBER(FromEvoM!X85),FromEvoM!X85,\"\")","v":""},{"$f":"IF(ISNUMBER(FromEvoM!AB85),FromEvoM!AB85,\"\")","v":""},{"$f":"IF(ISNUMBER(FromEvoM!AA85),FromEvoM!AA85,\"\")","v":""},null,"","",null,null,{"$f":"IF(FromEvoM!W85=1,(FromEvoM!AB85*12),IF(FromEvoM!W85=7,(FromEvoM!AR85),\"\"))","v":""},null,null,{"$f":"IF(ISBLANK(FromEvoM!A85),\"\",IF(FromEvoM!AK85=\"y\",\"Y\",\"N\"))","v":""},{"$f":"IF(ISBLANK(FromEvoM!A85),\"\",Category_ID)","v":""},null,null,null,{"$f":"IF(ISBLANK(FromEvoM!AK85),\"\",FromEvoM!AK85)","v":""},{"$f":"IF(ISBLANK(FromEvoM!AM85),\"\",FromEvoM!AM85)","v":""},{"$f":"IF(ISBLANK(FromEvoM!AN85),\"\",FromEvoM!AN85)","v":""},{"$f":"IF(ISBLANK(FromEvoM!AL85),\"\",FromEvoM!AL85)","v":""},{"$f":"IF(ISBLANK(FromEvoM!A85),\"\",IF(AND(AF85=\"y\",AI85=1),\"Y\",\"N\"))","v":""},{"$f":"IF(ISBLANK(FromEvoM!A85),\"\",IF(FromEvoM!AS85=\"Yes\",2,1))","v":""},{"$f":"IF(FromEvoM!W85=1,\"M\",IF(FromEvoM!W85=7,\"W\",\"\"))","v":""},{"$f":"IF(AJ85=\"Y\",0,IF(AJ85=\"N\",FromEvoM!AF85+FromEvoM!AT85,\"\"))","v":""},{"$f":"IF(AJ85=\"Y\",(FromEvoM!AE85+FromEvoM!AF85-FromEvoM!AT85),IF(AJ85=\"N\",FromEvoM!AE85,\"\"))","v":""}]
[{"$f":"IF(ISBLANK(FromEvoM!A86),\"\",Group_Code)","v":""},{"$f":"IF(ISBLANK(FromEvoM!A86),\"\",SUBSTITUTE(FromEvoM!A86,\" \",\"\"))","v":""},{"$f":"IF(ISBLANK(FromEvoM!C86),\"\",SUBSTITUTE(FromEvoM!G86,\" \",\"\"))","v":""},{"$f":"IF(ISBLANK(FromEvoM!D86),\"\",FromEvoM!B86)","v":""},{"$f":"IF(ISBLANK(FromEvoM!D86),\"\",FromEvoM!D86)","v":""},{"$f":"IF(ISBLANK(FromEvoM!C86),\"\",FromEvoM!C86)","v":""},{"$f":"REPLACE(FromEvoM!F86,2,6, )","v":""},{"$f":"IF(ISNUMBER(FromEvoM!E86),FromEvoM!E86,\"\")","v":""},{"$f":"IF(ISBLANK(FromEvoM!I86),\"\",FromEvoM!I86)","v":""},{"$f":"IF(ISBLANK(FromEvoM!J86),\"\",FromEvoM!J86)","v":""},{"$f":"IF(ISBLANK(FromEvoM!K86),\"\",FromEvoM!K86)","v":""},{"$f":"IF(ISBLANK(FromEvoM!L86),\"\",FromEvoM!L86)","v":""},{"$f":"IF(ISBLANK(FromEvoM!M86),\"\",FromEvoM!M86)","v":""},{"$f":"IF(ISBLANK(FromEvoM!P86),\"\",FromEvoM!P86)","v":""},null,{"$f":"IF(ISNUMBER(FromEvoM!X86),FromEvoM!X86,\"\")","v":""},{"$f":"IF(ISNUMBER(FromEvoM!AB86),FromEvoM!AB86,\"\")","v":""},{"$f":"IF(ISNUMBER(FromEvoM!AA86),FromEvoM!AA86,\"\")","v":""},null,"","",null,null,{"$f":"IF(FromEvoM!W86=1,(FromEvoM!AB86*12),IF(FromEvoM!W86=7,(FromEvoM!AR86),\"\"))","v":""},null,null,{"$f":"IF(ISBLANK(FromEvoM!A86),\"\",IF(FromEvoM!AK86=\"y\",\"Y\",\"N\"))","v":""},{"$f":"IF(ISBLANK(FromEvoM!A86),\"\",Category_ID)","v":""},null,null,null,{"$f":"IF(ISBLANK(FromEvoM!AK86),\"\",FromEvoM!AK86)","v":""},{"$f":"IF(ISBLANK(FromEvoM!AM86),\"\",FromEvoM!AM86)","v":""},{"$f":"IF(ISBLANK(FromEvoM!AN86),\"\",FromEvoM!AN86)","v":""},{"$f":"IF(ISBLANK(FromEvoM!AL86),\"\",FromEvoM!AL86)","v":""},{"$f":"IF(ISBLANK(FromEvoM!A86),\"\",IF(AND(AF86=\"y\",AI86=1),\"Y\",\"N\"))","v":""},{"$f":"IF(ISBLANK(FromEvoM!A86),\"\",IF(FromEvoM!AS86=\"Yes\",2,1))","v":""},{"$f":"IF(FromEvoM!W86=1,\"M\",IF(FromEvoM!W86=7,\"W\",\"\"))","v":""},{"$f":"IF(AJ86=\"Y\",0,IF(AJ86=\"N\",FromEvoM!AF86+FromEvoM!AT86,\"\"))","v":""},{"$f":"IF(AJ86=\"Y\",(FromEvoM!AE86+FromEvoM!AF86-FromEvoM!AT86),IF(AJ86=\"N\",FromEvoM!AE86,\"\"))","v":""}]
[{"$f":"IF(ISBLANK(FromEvoM!A87),\"\",Group_Code)","v":""},{"$f":"IF(ISBLANK(FromEvoM!A87),\"\",SUBSTITUTE(FromEvoM!A87,\" \",\"\"))","v":""},{"$f":"IF(ISBLANK(FromEvoM!C87),\"\",SUBSTITUTE(FromEvoM!G87,\" \",\"\"))","v":""},{"$f":"IF(ISBLANK(FromEvoM!D87),\"\",FromEvoM!B87)","v":""},{"$f":"IF(ISBLANK(FromEvoM!D87),\"\",FromEvoM!D87)","v":""},{"$f":"IF(ISBLANK(FromEvoM!C87),\"\",FromEvoM!C87)","v":""},{"$f":"REPLACE(FromEvoM!F87,2,6, )","v":""},{"$f":"IF(ISNUMBER(FromEvoM!E87),FromEvoM!E87,\"\")","v":""},{"$f":"IF(ISBLANK(FromEvoM!I87),\"\",FromEvoM!I87)","v":""},{"$f":"IF(ISBLANK(FromEvoM!J87),\"\",FromEvoM!J87)","v":""},{"$f":"IF(ISBLANK(FromEvoM!K87),\"\",FromEvoM!K87)","v":""},{"$f":"IF(ISBLANK(FromEvoM!L87),\"\",FromEvoM!L87)","v":""},{"$f":"IF(ISBLANK(FromEvoM!M87),\"\",FromEvoM!M87)","v":""},{"$f":"IF(ISBLANK(FromEvoM!P87),\"\",FromEvoM!P87)","v":""},null,{"$f":"IF(ISNUMBER(FromEvoM!X87),FromEvoM!X87,\"\")","v":""},{"$f":"IF(ISNUMBER(FromEvoM!AB87),FromEvoM!AB87,\"\")","v":""},{"$f":"IF(ISNUMBER(FromEvoM!AA87),FromEvoM!AA87,\"\")","v":""},null,"","",null,null,{"$f":"IF(FromEvoM!W87=1,(FromEvoM!AB87*12),IF(FromEvoM!W87=7,(FromEvoM!AR87),\"\"))","v":""},null,null,{"$f":"IF(ISBLANK(FromEvoM!A87),\"\",IF(FromEvoM!AK87=\"y\",\"Y\",\"N\"))","v":""},{"$f":"IF(ISBLANK(FromEvoM!A87),\"\",Category_ID)","v":""},null,null,null,{"$f":"IF(ISBLANK(FromEvoM!AK87),\"\",FromEvoM!AK87)","v":""},{"$f":"IF(ISBLANK(FromEvoM!AM87),\"\",FromEvoM!AM87)","v":""},{"$f":"IF(ISBLANK(FromEvoM!AN87),\"\",FromEvoM!AN87)","v":""},{"$f":"IF(ISBLANK(FromEvoM!AL87),\"\",FromEvoM!AL87)","v":""},{"$f":"IF(ISBLANK(FromEvoM!A87),\"\",IF(AND(AF87=\"y\",AI87=1),\"Y\",\"N\"))","v":""},{"$f":"IF(ISBLANK(FromEvoM!A87),\"\",IF(FromEvoM!AS87=\"Yes\",2,1))","v":""},{"$f":"IF(FromEvoM!W87=1,\"M\",IF(FromEvoM!W87=7,\"W\",\"\"))","v":""},{"$f":"IF(AJ87=\"Y\",0,IF(AJ87=\"N\",FromEvoM!AF87+FromEvoM!AT87,\"\"))","v":""},{"$f":"IF(AJ87=\"Y\",(FromEvoM!AE87+FromEvoM!AF87-FromEvoM!AT87),IF(AJ87=\"N\",FromEvoM!AE87,\"\"))","v":""}]
[{"$f":"IF(ISBLANK(FromEvoM!A88),\"\",Group_Code)","v":""},{"$f":"IF(ISBLANK(FromEvoM!A88),\"\",SUBSTITUTE(FromEvoM!A88,\" \",\"\"))","v":""},{"$f":"IF(ISBLANK(FromEvoM!C88),\"\",SUBSTITUTE(FromEvoM!G88,\" \",\"\"))","v":""},{"$f":"IF(ISBLANK(FromEvoM!D88),\"\",FromEvoM!B88)","v":""},{"$f":"IF(ISBLANK(FromEvoM!D88),\"\",FromEvoM!D88)","v":""},{"$f":"IF(ISBLANK(FromEvoM!C88),\"\",FromEvoM!C88)","v":""},{"$f":"REPLACE(FromEvoM!F88,2,6, )","v":""},{"$f":"IF(ISNUMBER(FromEvoM!E88),FromEvoM!E88,\"\")","v":""},{"$f":"IF(ISBLANK(FromEvoM!I88),\"\",FromEvoM!I88)","v":""},{"$f":"IF(ISBLANK(FromEvoM!J88),\"\",FromEvoM!J88)","v":""},{"$f":"IF(ISBLANK(FromEvoM!K88),\"\",FromEvoM!K88)","v":""},{"$f":"IF(ISBLANK(FromEvoM!L88),\"\",FromEvoM!L88)","v":""},{"$f":"IF(ISBLANK(FromEvoM!M88),\"\",FromEvoM!M88)","v":""},{"$f":"IF(ISBLANK(FromEvoM!P88),\"\",FromEvoM!P88)","v":""},null,{"$f":"IF(ISNUMBER(FromEvoM!X88),FromEvoM!X88,\"\")","v":""},{"$f":"IF(ISNUMBER(FromEvoM!AB88),FromEvoM!AB88,\"\")","v":""},{"$f":"IF(ISNUMBER(FromEvoM!AA88),FromEvoM!AA88,\"\")","v":""},null,"","",null,null,{"$f":"IF(FromEvoM!W88=1,(FromEvoM!AB88*12),IF(FromEvoM!W88=7,(FromEvoM!AR88),\"\"))","v":""},null,null,{"$f":"IF(ISBLANK(FromEvoM!A88),\"\",IF(FromEvoM!AK88=\"y\",\"Y\",\"N\"))","v":""},{"$f":"IF(ISBLANK(FromEvoM!A88),\"\",Category_ID)","v":""},null,null,null,{"$f":"IF(ISBLANK(FromEvoM!AK88),\"\",FromEvoM!AK88)","v":""},{"$f":"IF(ISBLANK(FromEvoM!AM88),\"\",FromEvoM!AM88)","v":""},{"$f":"IF(ISBLANK(FromEvoM!AN88),\"\",FromEvoM!AN88)","v":""},{"$f":"IF(ISBLANK(FromEvoM!AL88),\"\",FromEvoM!AL88)","v":""},{"$f":"IF(ISBLANK(FromEvoM!A88),\"\",IF(AND(AF88=\"y\",AI88=1),\"Y\",\"N\"))","v":""},{"$f":"IF(ISBLANK(FromEvoM!A88),\"\",IF(FromEvoM!AS88=\"Yes\",2,1))","v":""},{"$f":"IF(FromEvoM!W88=1,\"M\",IF(FromEvoM!W88=7,\"W\",\"\"))","v":""},{"$f":"IF(AJ88=\"Y\",0,IF(AJ88=\"N\",FromEvoM!AF88+FromEvoM!AT88,\"\"))","v":""},{"$f":"IF(AJ88=\"Y\",(FromEvoM!AE88+FromEvoM!AF88-FromEvoM!AT88),IF(AJ88=\"N\",FromEvoM!AE88,\"\"))","v":""}]
[{"$f":"IF(ISBLANK(FromEvoM!A89),\"\",Group_Code)","v":""},{"$f":"IF(ISBLANK(FromEvoM!A89),\"\",SUBSTITUTE(FromEvoM!A89,\" \",\"\"))","v":""},{"$f":"IF(ISBLANK(FromEvoM!C89),\"\",SUBSTITUTE(FromEvoM!G89,\" \",\"\"))","v":""},{"$f":"IF(ISBLANK(FromEvoM!D89),\"\",FromEvoM!B89)","v":""},{"$f":"IF(ISBLANK(FromEvoM!D89),\"\",FromEvoM!D89)","v":""},{"$f":"IF(ISBLANK(FromEvoM!C89),\"\",FromEvoM!C89)","v":""},{"$f":"REPLACE(FromEvoM!F89,2,6, )","v":""},{"$f":"IF(ISNUMBER(FromEvoM!E89),FromEvoM!E89,\"\")","v":""},{"$f":"IF(ISBLANK(FromEvoM!I89),\"\",FromEvoM!I89)","v":""},{"$f":"IF(ISBLANK(FromEvoM!J89),\"\",FromEvoM!J89)","v":""},{"$f":"IF(ISBLANK(FromEvoM!K89),\"\",FromEvoM!K89)","v":""},{"$f":"IF(ISBLANK(FromEvoM!L89),\"\",FromEvoM!L89)","v":""},{"$f":"IF(ISBLANK(FromEvoM!M89),\"\",FromEvoM!M89)","v":""},{"$f":"IF(ISBLANK(FromEvoM!P89),\"\",FromEvoM!P89)","v":""},null,{"$f":"IF(ISNUMBER(FromEvoM!X89),FromEvoM!X89,\"\")","v":""},{"$f":"IF(ISNUMBER(FromEvoM!AB89),FromEvoM!AB89,\"\")","v":""},{"$f":"IF(ISNUMBER(FromEvoM!AA89),FromEvoM!AA89,\"\")","v":""},null,"","",null,null,{"$f":"IF(FromEvoM!W89=1,(FromEvoM!AB89*12),IF(FromEvoM!W89=7,(FromEvoM!AR89),\"\"))","v":""},null,null,{"$f":"IF(ISBLANK(FromEvoM!A89),\"\",IF(FromEvoM!AK89=\"y\",\"Y\",\"N\"))","v":""},{"$f":"IF(ISBLANK(FromEvoM!A89),\"\",Category_ID)","v":""},null,null,null,{"$f":"IF(ISBLANK(FromEvoM!AK89),\"\",FromEvoM!AK89)","v":""},{"$f":"IF(ISBLANK(FromEvoM!AM89),\"\",FromEvoM!AM89)","v":""},{"$f":"IF(ISBLANK(FromEvoM!AN89),\"\",FromEvoM!AN89)","v":""},{"$f":"IF(ISBLANK(FromEvoM!AL89),\"\",FromEvoM!AL89)","v":""},{"$f":"IF(ISBLANK(FromEvoM!A89),\"\",IF(AND(AF89=\"y\",AI89=1),\"Y\",\"N\"))","v":""},{"$f":"IF(ISBLANK(FromEvoM!A89),\"\",IF(FromEvoM!AS89=\"Yes\",2,1))","v":""},{"$f":"IF(FromEvoM!W89=1,\"M\",IF(FromEvoM!W89=7,\"W\",\"\"))","v":""},{"$f":"IF(AJ89=\"Y\",0,IF(AJ89=\"N\",FromEvoM!AF89+FromEvoM!AT89,\"\"))","v":""},{"$f":"IF(AJ89=\"Y\",(FromEvoM!AE89+FromEvoM!AF89-FromEvoM!AT89),IF(AJ89=\"N\",FromEvoM!AE89,\"\"))","v":""}]
[{"$f":"IF(ISBLANK(FromEvoM!A90),\"\",Group_Code)","v":""},{"$f":"IF(ISBLANK(FromEvoM!A90),\"\",SUBSTITUTE(FromEvoM!A90,\" \",\"\"))","v":""},{"$f":"IF(ISBLANK(FromEvoM!C90),\"\",SUBSTITUTE(FromEvoM!G90,\" \",\"\"))","v":""},{"$f":"IF(ISBLANK(FromEvoM!D90),\"\",FromEvoM!B90)","v":""},{"$f":"IF(ISBLANK(FromEvoM!D90),\"\",FromEvoM!D90)","v":""},{"$f":"IF(ISBLANK(FromEvoM!C90),\"\",FromEvoM!C90)","v":""},{"$f":"REPLACE(FromEvoM!F90,2,6, )","v":""},{"$f":"IF(ISNUMBER(FromEvoM!E90),FromEvoM!E90,\"\")","v":""},{"$f":"IF(ISBLANK(FromEvoM!I90),\"\",FromEvoM!I90)","v":""},{"$f":"IF(ISBLANK(FromEvoM!J90),\"\",FromEvoM!J90)","v":""},{"$f":"IF(ISBLANK(FromEvoM!K90),\"\",FromEvoM!K90)","v":""},{"$f":"IF(ISBLANK(FromEvoM!L90),\"\",FromEvoM!L90)","v":""},{"$f":"IF(ISBLANK(FromEvoM!M90),\"\",FromEvoM!M90)","v":""},{"$f":"IF(ISBLANK(FromEvoM!P90),\"\",FromEvoM!P90)","v":""},null,{"$f":"IF(ISNUMBER(FromEvoM!X90),FromEvoM!X90,\"\")","v":""},{"$f":"IF(ISNUMBER(FromEvoM!AB90),FromEvoM!AB90,\"\")","v":""},{"$f":"IF(ISNUMBER(FromEvoM!AA90),FromEvoM!AA90,\"\")","v":""},null,"","",null,null,{"$f":"IF(FromEvoM!W90=1,(FromEvoM!AB90*12),IF(FromEvoM!W90=7,(FromEvoM!AR90),\"\"))","v":""},null,null,{"$f":"IF(ISBLANK(FromEvoM!A90),\"\",IF(FromEvoM!AK90=\"y\",\"Y\",\"N\"))","v":""},{"$f":"IF(ISBLANK(FromEvoM!A90),\"\",Category_ID)","v":""},null,null,null,{"$f":"IF(ISBLANK(FromEvoM!AK90),\"\",FromEvoM!AK90)","v":""},{"$f":"IF(ISBLANK(FromEvoM!AM90),\"\",FromEvoM!AM90)","v":""},{"$f":"IF(ISBLANK(FromEvoM!AN90),\"\",FromEvoM!AN90)","v":""},{"$f":"IF(ISBLANK(FromEvoM!AL90),\"\",FromEvoM!AL90)","v":""},{"$f":"IF(ISBLANK(FromEvoM!A90),\"\",IF(AND(AF90=\"y\",AI90=1),\"Y\",\"N\"))","v":""},{"$f":"IF(ISBLANK(FromEvoM!A90),\"\",IF(FromEvoM!AS90=\"Yes\",2,1))","v":""},{"$f":"IF(FromEvoM!W90=1,\"M\",IF(FromEvoM!W90=7,\"W\",\"\"))","v":""},{"$f":"IF(AJ90=\"Y\",0,IF(AJ90=\"N\",FromEvoM!AF90+FromEvoM!AT90,\"\"))","v":""},{"$f":"IF(AJ90=\"Y\",(FromEvoM!AE90+FromEvoM!AF90-FromEvoM!AT90),IF(AJ90=\"N\",FromEvoM!AE90,\"\"))","v":""}]
[{"$f":"IF(ISBLANK(FromEvoM!A91),\"\",Group_Code)","v":""},{"$f":"IF(ISBLANK(FromEvoM!A91),\"\",SUBSTITUTE(FromEvoM!A91,\" \",\"\"))","v":""},{"$f":"IF(ISBLANK(FromEvoM!C91),\"\",SUBSTITUTE(FromEvoM!G91,\" \",\"\"))","v":""},{"$f":"IF(ISBLANK(FromEvoM!D91),\"\",FromEvoM!B91)","v":""},{"$f":"IF(ISBLANK(FromEvoM!D91),\"\",FromEvoM!D91)","v":""},{"$f":"IF(ISBLANK(FromEvoM!C91),\"\",FromEvoM!C91)","v":""},{"$f":"REPLACE(FromEvoM!F91,2,6, )","v":""},{"$f":"IF(ISNUMBER(FromEvoM!E91),FromEvoM!E91,\"\")","v":""},{"$f":"IF(ISBLANK(FromEvoM!I91),\"\",FromEvoM!I91)","v":""},{"$f":"IF(ISBLANK(FromEvoM!J91),\"\",FromEvoM!J91)","v":""},{"$f":"IF(ISBLANK(FromEvoM!K91),\"\",FromEvoM!K91)","v":""},{"$f":"IF(ISBLANK(FromEvoM!L91),\"\",FromEvoM!L91)","v":""},{"$f":"IF(ISBLANK(FromEvoM!M91),\"\",FromEvoM!M91)","v":""},{"$f":"IF(ISBLANK(FromEvoM!P91),\"\",FromEvoM!P91)","v":""},null,{"$f":"IF(ISNUMBER(FromEvoM!X91),FromEvoM!X91,\"\")","v":""},{"$f":"IF(ISNUMBER(FromEvoM!AB91),FromEvoM!AB91,\"\")","v":""},{"$f":"IF(ISNUMBER(FromEvoM!AA91),FromEvoM!AA91,\"\")","v":""},null,"","",null,null,{"$f":"IF(FromEvoM!W91=1,(FromEvoM!AB91*12),IF(FromEvoM!W91=7,(FromEvoM!AR91),\"\"))","v":""},null,null,{"$f":"IF(ISBLANK(FromEvoM!A91),\"\",IF(FromEvoM!AK91=\"y\",\"Y\",\"N\"))","v":""},{"$f":"IF(ISBLANK(FromEvoM!A91),\"\",Category_ID)","v":""},null,null,null,{"$f":"IF(ISBLANK(FromEvoM!AK91),\"\",FromEvoM!AK91)","v":""},{"$f":"IF(ISBLANK(FromEvoM!AM91),\"\",FromEvoM!AM91)","v":""},{"$f":"IF(ISBLANK(FromEvoM!AN91),\"\",FromEvoM!AN91)","v":""},{"$f":"IF(ISBLANK(FromEvoM!AL91),\"\",FromEvoM!AL91)","v":""},{"$f":"IF(ISBLANK(FromEvoM!A91),\"\",IF(AND(AF91=\"y\",AI91=1),\"Y\",\"N\"))","v":""},{"$f":"IF(ISBLANK(FromEvoM!A91),\"\",IF(FromEvoM!AS91=\"Yes\",2,1))","v":""},{"$f":"IF(FromEvoM!W91=1,\"M\",IF(FromEvoM!W91=7,\"W\",\"\"))","v":""},{"$f":"IF(AJ91=\"Y\",0,IF(AJ91=\"N\",FromEvoM!AF91+FromEvoM!AT91,\"\"))","v":""},{"$f":"IF(AJ91=\"Y\",(FromEvoM!AE91+FromEvoM!AF91-FromEvoM!AT91),IF(AJ91=\"N\",FromEvoM!AE91,\"\"))","v":""}]
[{"$f":"IF(ISBLANK(FromEvoM!A92),\"\",Group_Code)","v":""},{"$f":"IF(ISBLANK(FromEvoM!A92),\"\",SUBSTITUTE(FromEvoM!A92,\" \",\"\"))","v":""},{"$f":"IF(ISBLANK(FromEvoM!C92),\"\",SUBSTITUTE(FromEvoM!G92,\" \",\"\"))","v":""},{"$f":"IF(ISBLANK(FromEvoM!D92),\"\",FromEvoM!B92)","v":""},{"$f":"IF(ISBLANK(FromEvoM!D92),\"\",FromEvoM!D92)","v":""},{"$f":"IF(ISBLANK(FromEvoM!C92),\"\",FromEvoM!C92)","v":""},{"$f":"REPLACE(FromEvoM!F92,2,6, )","v":""},{"$f":"IF(ISNUMBER(FromEvoM!E92),FromEvoM!E92,\"\")","v":""},{"$f":"IF(ISBLANK(FromEvoM!I92),\"\",FromEvoM!I92)","v":""},{"$f":"IF(ISBLANK(FromEvoM!J92),\"\",FromEvoM!J92)","v":""},{"$f":"IF(ISBLANK(FromEvoM!K92),\"\",FromEvoM!K92)","v":""},{"$f":"IF(ISBLANK(FromEvoM!L92),\"\",FromEvoM!L92)","v":""},{"$f":"IF(ISBLANK(FromEvoM!M92),\"\",FromEvoM!M92)","v":""},{"$f":"IF(ISBLANK(FromEvoM!P92),\"\",FromEvoM!P92)","v":""},null,{"$f":"IF(ISNUMBER(FromEvoM!X92),FromEvoM!X92,\"\")","v":""},{"$f":"IF(ISNUMBER(FromEvoM!AB92),FromEvoM!AB92,\"\")","v":""},{"$f":"IF(ISNUMBER(FromEvoM!AA92),FromEvoM!AA92,\"\")","v":""},null,"","",null,null,{"$f":"IF(FromEvoM!W92=1,(FromEvoM!AB92*12),IF(FromEvoM!W92=7,(FromEvoM!AR92),\"\"))","v":""},null,null,{"$f":"IF(ISBLANK(FromEvoM!A92),\"\",IF(FromEvoM!AK92=\"y\",\"Y\",\"N\"))","v":""},{"$f":"IF(ISBLANK(FromEvoM!A92),\"\",Category_ID)","v":""},null,null,null,{"$f":"IF(ISBLANK(FromEvoM!AK92),\"\",FromEvoM!AK92)","v":""},{"$f":"IF(ISBLANK(FromEvoM!AM92),\"\",FromEvoM!AM92)","v":""},{"$f":"IF(ISBLANK(FromEvoM!AN92),\"\",FromEvoM!AN92)","v":""},{"$f":"IF(ISBLANK(FromEvoM!AL92),\"\",FromEvoM!AL92)","v":""},{"$f":"IF(ISBLANK(FromEvoM!A92),\"\",IF(AND(AF92=\"y\",AI92=1),\"Y\",\"N\"))","v":""},{"$f":"IF(ISBLANK(FromEvoM!A92),\"\",IF(FromEvoM!AS92=\"Yes\",2,1))","v":""},{"$f":"IF(FromEvoM!W92=1,\"M\",IF(FromEvoM!W92=7,\"W\",\"\"))","v":""},{"$f":"IF(AJ92=\"Y\",0,IF(AJ92=\"N\",FromEvoM!AF92+FromEvoM!AT92,\"\"))","v":""},{"$f":"IF(AJ92=\"Y\",(FromEvoM!AE92+FromEvoM!AF92-FromEvoM!AT92),IF(AJ92=\"N\",FromEvoM!AE92,\"\"))","v":""}]
[{"$f":"IF(ISBLANK(FromEvoM!A93),\"\",Group_Code)","v":""},{"$f":"IF(ISBLANK(FromEvoM!A93),\"\",SUBSTITUTE(FromEvoM!A93,\" \",\"\"))","v":""},{"$f":"IF(ISBLANK(FromEvoM!C93),\"\",SUBSTITUTE(FromEvoM!G93,\" \",\"\"))","v":""},{"$f":"IF(ISBLANK(FromEvoM!D93),\"\",FromEvoM!B93)","v":""},{"$f":"IF(ISBLANK(FromEvoM!D93),\"\",FromEvoM!D93)","v":""},{"$f":"IF(ISBLANK(FromEvoM!C93),\"\",FromEvoM!C93)","v":""},{"$f":"REPLACE(FromEvoM!F93,2,6, )","v":""},{"$f":"IF(ISNUMBER(FromEvoM!E93),FromEvoM!E93,\"\")","v":""},{"$f":"IF(ISBLANK(FromEvoM!I93),\"\",FromEvoM!I93)","v":""},{"$f":"IF(ISBLANK(FromEvoM!J93),\"\",FromEvoM!J93)","v":""},{"$f":"IF(ISBLANK(FromEvoM!K93),\"\",FromEvoM!K93)","v":""},{"$f":"IF(ISBLANK(FromEvoM!L93),\"\",FromEvoM!L93)","v":""},{"$f":"IF(ISBLANK(FromEvoM!M93),\"\",FromEvoM!M93)","v":""},{"$f":"IF(ISBLANK(FromEvoM!P93),\"\",FromEvoM!P93)","v":""},null,{"$f":"IF(ISNUMBER(FromEvoM!X93),FromEvoM!X93,\"\")","v":""},{"$f":"IF(ISNUMBER(FromEvoM!AB93),FromEvoM!AB93,\"\")","v":""},{"$f":"IF(ISNUMBER(FromEvoM!AA93),FromEvoM!AA93,\"\")","v":""},null,"","",null,null,{"$f":"IF(FromEvoM!W93=1,(FromEvoM!AB93*12),IF(FromEvoM!W93=7,(FromEvoM!AR93),\"\"))","v":""},null,null,{"$f":"IF(ISBLANK(FromEvoM!A93),\"\",IF(FromEvoM!AK93=\"y\",\"Y\",\"N\"))","v":""},{"$f":"IF(ISBLANK(FromEvoM!A93),\"\",Category_ID)","v":""},null,null,null,{"$f":"IF(ISBLANK(FromEvoM!AK93),\"\",FromEvoM!AK93)","v":""},{"$f":"IF(ISBLANK(FromEvoM!AM93),\"\",FromEvoM!AM93)","v":""},{"$f":"IF(ISBLANK(FromEvoM!AN93),\"\",FromEvoM!AN93)","v":""},{"$f":"IF(ISBLANK(FromEvoM!AL93),\"\",FromEvoM!AL93)","v":""},{"$f":"IF(ISBLANK(FromEvoM!A93),\"\",IF(AND(AF93=\"y\",AI93=1),\"Y\",\"N\"))","v":""},{"$f":"IF(ISBLANK(FromEvoM!A93),\"\",IF(FromEvoM!AS93=\"Yes\",2,1))","v":""},{"$f":"IF(FromEvoM!W93=1,\"M\",IF(FromEvoM!W93=7,\"W\",\"\"))","v":""},{"$f":"IF(AJ93=\"Y\",0,IF(AJ93=\"N\",FromEvoM!AF93+FromEvoM!AT93,\"\"))","v":""},{"$f":"IF(AJ93=\"Y\",(FromEvoM!AE93+FromEvoM!AF93-FromEvoM!AT93),IF(AJ93=\"N\",FromEvoM!AE93,\"\"))","v":""}]
[{"$f":"IF(ISBLANK(FromEvoM!A94),\"\",Group_Code)","v":""},{"$f":"IF(ISBLANK(FromEvoM!A94),\"\",SUBSTITUTE(FromEvoM!A94,\" \",\"\"))","v":""},{"$f":"IF(ISBLANK(FromEvoM!C94),\"\",SUBSTITUTE(FromEvoM!G94,\" \",\"\"))","v":""},{"$f":"IF(ISBLANK(FromEvoM!D94),\"\",FromEvoM!B94)","v":""},{"$f":"IF(ISBLANK(FromEvoM!D94),\"\",FromEvoM!D94)","v":""},{"$f":"IF(ISBLANK(FromEvoM!C94),\"\",FromEvoM!C94)","v":""},{"$f":"REPLACE(FromEvoM!F94,2,6, )","v":""},{"$f":"IF(ISNUMBER(FromEvoM!E94),FromEvoM!E94,\"\")","v":""},{"$f":"IF(ISBLANK(FromEvoM!I94),\"\",FromEvoM!I94)","v":""},{"$f":"IF(ISBLANK(FromEvoM!J94),\"\",FromEvoM!J94)","v":""},{"$f":"IF(ISBLANK(FromEvoM!K94),\"\",FromEvoM!K94)","v":""},{"$f":"IF(ISBLANK(FromEvoM!L94),\"\",FromEvoM!L94)","v":""},{"$f":"IF(ISBLANK(FromEvoM!M94),\"\",FromEvoM!M94)","v":""},{"$f":"IF(ISBLANK(FromEvoM!P94),\"\",FromEvoM!P94)","v":""},null,{"$f":"IF(ISNUMBER(FromEvoM!X94),FromEvoM!X94,\"\")","v":""},{"$f":"IF(ISNUMBER(FromEvoM!AB94),FromEvoM!AB94,\"\")","v":""},{"$f":"IF(ISNUMBER(FromEvoM!AA94),FromEvoM!AA94,\"\")","v":""},null,"","",null,null,{"$f":"IF(FromEvoM!W94=1,(FromEvoM!AB94*12),IF(FromEvoM!W94=7,(FromEvoM!AR94),\"\"))","v":""},null,null,{"$f":"IF(ISBLANK(FromEvoM!A94),\"\",IF(FromEvoM!AK94=\"y\",\"Y\",\"N\"))","v":""},{"$f":"IF(ISBLANK(FromEvoM!A94),\"\",Category_ID)","v":""},null,null,null,{"$f":"IF(ISBLANK(FromEvoM!AK94),\"\",FromEvoM!AK94)","v":""},{"$f":"IF(ISBLANK(FromEvoM!AM94),\"\",FromEvoM!AM94)","v":""},{"$f":"IF(ISBLANK(FromEvoM!AN94),\"\",FromEvoM!AN94)","v":""},{"$f":"IF(ISBLANK(FromEvoM!AL94),\"\",FromEvoM!AL94)","v":""},{"$f":"IF(ISBLANK(FromEvoM!A94),\"\",IF(AND(AF94=\"y\",AI94=1),\"Y\",\"N\"))","v":""},{"$f":"IF(ISBLANK(FromEvoM!A94),\"\",IF(FromEvoM!AS94=\"Yes\",2,1))","v":""},{"$f":"IF(FromEvoM!W94=1,\"M\",IF(FromEvoM!W94=7,\"W\",\"\"))","v":""},{"$f":"IF(AJ94=\"Y\",0,IF(AJ94=\"N\",FromEvoM!AF94+FromEvoM!AT94,\"\"))","v":""},{"$f":"IF(AJ94=\"Y\",(FromEvoM!AE94+FromEvoM!AF94-FromEvoM!AT94),IF(AJ94=\"N\",FromEvoM!AE94,\"\"))","v":""}]
[{"$f":"IF(ISBLANK(FromEvoM!A95),\"\",Group_Code)","v":""},{"$f":"IF(ISBLANK(FromEvoM!A95),\"\",SUBSTITUTE(FromEvoM!A95,\" \",\"\"))","v":""},{"$f":"IF(ISBLANK(FromEvoM!C95),\"\",SUBSTITUTE(FromEvoM!G95,\" \",\"\"))","v":""},{"$f":"IF(ISBLANK(FromEvoM!D95),\"\",FromEvoM!B95)","v":""},{"$f":"IF(ISBLANK(FromEvoM!D95),\"\",FromEvoM!D95)","v":""},{"$f":"IF(ISBLANK(FromEvoM!C95),\"\",FromEvoM!C95)","v":""},{"$f":"REPLACE(FromEvoM!F95,2,6, )","v":""},{"$f":"IF(ISNUMBER(FromEvoM!E95),FromEvoM!E95,\"\")","v":""},{"$f":"IF(ISBLANK(FromEvoM!I95),\"\",FromEvoM!I95)","v":""},{"$f":"IF(ISBLANK(FromEvoM!J95),\"\",FromEvoM!J95)","v":""},{"$f":"IF(ISBLANK(FromEvoM!K95),\"\",FromEvoM!K95)","v":""},{"$f":"IF(ISBLANK(FromEvoM!L95),\"\",FromEvoM!L95)","v":""},{"$f":"IF(ISBLANK(FromEvoM!M95),\"\",FromEvoM!M95)","v":""},{"$f":"IF(ISBLANK(FromEvoM!P95),\"\",FromEvoM!P95)","v":""},null,{"$f":"IF(ISNUMBER(FromEvoM!X95),FromEvoM!X95,\"\")","v":""},{"$f":"IF(ISNUMBER(FromEvoM!AB95),FromEvoM!AB95,\"\")","v":""},{"$f":"IF(ISNUMBER(FromEvoM!AA95),FromEvoM!AA95,\"\")","v":""},null,"","",null,null,{"$f":"IF(FromEvoM!W95=1,(FromEvoM!AB95*12),IF(FromEvoM!W95=7,(FromEvoM!AR95),\"\"))","v":""},null,null,{"$f":"IF(ISBLANK(FromEvoM!A95),\"\",IF(FromEvoM!AK95=\"y\",\"Y\",\"N\"))","v":""},{"$f":"IF(ISBLANK(FromEvoM!A95),\"\",Category_ID)","v":""},null,null,null,{"$f":"IF(ISBLANK(FromEvoM!AK95),\"\",FromEvoM!AK95)","v":""},{"$f":"IF(ISBLANK(FromEvoM!AM95),\"\",FromEvoM!AM95)","v":""},{"$f":"IF(ISBLANK(FromEvoM!AN95),\"\",FromEvoM!AN95)","v":""},{"$f":"IF(ISBLANK(FromEvoM!AL95),\"\",FromEvoM!AL95)","v":""},{"$f":"IF(ISBLANK(FromEvoM!A95),\"\",IF(AND(AF95=\"y\",AI95=1),\"Y\",\"N\"))","v":""},{"$f":"IF(ISBLANK(FromEvoM!A95),\"\",IF(FromEvoM!AS95=\"Yes\",2,1))","v":""},{"$f":"IF(FromEvoM!W95=1,\"M\",IF(FromEvoM!W95=7,\"W\",\"\"))","v":""},{"$f":"IF(AJ95=\"Y\",0,IF(AJ95=\"N\",FromEvoM!AF95+FromEvoM!AT95,\"\"))","v":""},{"$f":"IF(AJ95=\"Y\",(FromEvoM!AE95+FromEvoM!AF95-FromEvoM!AT95),IF(AJ95=\"N\",FromEvoM!AE95,\"\"))","v":""}]
[{"$f":"IF(ISBLANK(FromEvoM!A96),\"\",Group_Code)","v":""},{"$f":"IF(ISBLANK(FromEvoM!A96),\"\",SUBSTITUTE(FromEvoM!A96,\" \",\"\"))","v":""},{"$f":"IF(ISBLANK(FromEvoM!C96),\"\",SUBSTITUTE(FromEvoM!G96,\" \",\"\"))","v":""},{"$f":"IF(ISBLANK(FromEvoM!D96),\"\",FromEvoM!B96)","v":""},{"$f":"IF(ISBLANK(FromEvoM!D96),\"\",FromEvoM!D96)","v":""},{"$f":"IF(ISBLANK(FromEvoM!C96),\"\",FromEvoM!C96)","v":""},{"$f":"REPLACE(FromEvoM!F96,2,6, )","v":""},{"$f":"IF(ISNUMBER(FromEvoM!E96),FromEvoM!E96,\"\")","v":""},{"$f":"IF(ISBLANK(FromEvoM!I96),\"\",FromEvoM!I96)","v":""},{"$f":"IF(ISBLANK(FromEvoM!J96),\"\",FromEvoM!J96)","v":""},{"$f":"IF(ISBLANK(FromEvoM!K96),\"\",FromEvoM!K96)","v":""},{"$f":"IF(ISBLANK(FromEvoM!L96),\"\",FromEvoM!L96)","v":""},{"$f":"IF(ISBLANK(FromEvoM!M96),\"\",FromEvoM!M96)","v":""},{"$f":"IF(ISBLANK(FromEvoM!P96),\"\",FromEvoM!P96)","v":""},null,{"$f":"IF(ISNUMBER(FromEvoM!X96),FromEvoM!X96,\"\")","v":""},{"$f":"IF(ISNUMBER(FromEvoM!AB96),FromEvoM!AB96,\"\")","v":""},{"$f":"IF(ISNUMBER(FromEvoM!AA96),FromEvoM!AA96,\"\")","v":""},null,"","",null,null,{"$f":"IF(FromEvoM!W96=1,(FromEvoM!AB96*12),IF(FromEvoM!W96=7,(FromEvoM!AR96),\"\"))","v":""},null,null,{"$f":"IF(ISBLANK(FromEvoM!A96),\"\",IF(FromEvoM!AK96=\"y\",\"Y\",\"N\"))","v":""},{"$f":"IF(ISBLANK(FromEvoM!A96),\"\",Category_ID)","v":""},null,null,null,{"$f":"IF(ISBLANK(FromEvoM!AK96),\"\",FromEvoM!AK96)","v":""},{"$f":"IF(ISBLANK(FromEvoM!AM96),\"\",FromEvoM!AM96)","v":""},{"$f":"IF(ISBLANK(FromEvoM!AN96),\"\",FromEvoM!AN96)","v":""},{"$f":"IF(ISBLANK(FromEvoM!AL96),\"\",FromEvoM!AL96)","v":""},{"$f":"IF(ISBLANK(FromEvoM!A96),\"\",IF(AND(AF96=\"y\",AI96=1),\"Y\",\"N\"))","v":""},{"$f":"IF(ISBLANK(FromEvoM!A96),\"\",IF(FromEvoM!AS96=\"Yes\",2,1))","v":""},{"$f":"IF(FromEvoM!W96=1,\"M\",IF(FromEvoM!W96=7,\"W\",\"\"))","v":""},{"$f":"IF(AJ96=\"Y\",0,IF(AJ96=\"N\",FromEvoM!AF96+FromEvoM!AT96,\"\"))","v":""},{"$f":"IF(AJ96=\"Y\",(FromEvoM!AE96+FromEvoM!AF96-FromEvoM!AT96),IF(AJ96=\"N\",FromEvoM!AE96,\"\"))","v":""}]
[{"$f":"IF(ISBLANK(FromEvoM!A97),\"\",Group_Code)","v":""},{"$f":"IF(ISBLANK(FromEvoM!A97),\"\",SUBSTITUTE(FromEvoM!A97,\" \",\"\"))","v":""},{"$f":"IF(ISBLANK(FromEvoM!C97),\"\",SUBSTITUTE(FromEvoM!G97,\" \",\"\"))","v":""},{"$f":"IF(ISBLANK(FromEvoM!D97),\"\",FromEvoM!B97)","v":""},{"$f":"IF(ISBLANK(FromEvoM!D97),\"\",FromEvoM!D97)","v":""},{"$f":"IF(ISBLANK(FromEvoM!C97),\"\",FromEvoM!C97)","v":""},{"$f":"REPLACE(FromEvoM!F97,2,6, )","v":""},{"$f":"IF(ISNUMBER(FromEvoM!E97),FromEvoM!E97,\"\")","v":""},{"$f":"IF(ISBLANK(FromEvoM!I97),\"\",FromEvoM!I97)","v":""},{"$f":"IF(ISBLANK(FromEvoM!J97),\"\",FromEvoM!J97)","v":""},{"$f":"IF(ISBLANK(FromEvoM!K97),\"\",FromEvoM!K97)","v":""},{"$f":"IF(ISBLANK(FromEvoM!L97),\"\",FromEvoM!L97)","v":""},{"$f":"IF(ISBLANK(FromEvoM!M97),\"\",FromEvoM!M97)","v":""},{"$f":"IF(ISBLANK(FromEvoM!P97),\"\",FromEvoM!P97)","v":""},null,{"$f":"IF(ISNUMBER(FromEvoM!X97),FromEvoM!X97,\"\")","v":""},{"$f":"IF(ISNUMBER(FromEvoM!AB97),FromEvoM!AB97,\"\")","v":""},{"$f":"IF(ISNUMBER(FromEvoM!AA97),FromEvoM!AA97,\"\")","v":""},null,"","",null,null,{"$f":"IF(FromEvoM!W97=1,(FromEvoM!AB97*12),IF(FromEvoM!W97=7,(FromEvoM!AR97),\"\"))","v":""},null,null,{"$f":"IF(ISBLANK(FromEvoM!A97),\"\",IF(FromEvoM!AK97=\"y\",\"Y\",\"N\"))","v":""},{"$f":"IF(ISBLANK(FromEvoM!A97),\"\",Category_ID)","v":""},null,null,null,{"$f":"IF(ISBLANK(FromEvoM!AK97),\"\",FromEvoM!AK97)","v":""},{"$f":"IF(ISBLANK(FromEvoM!AM97),\"\",FromEvoM!AM97)","v":""},{"$f":"IF(ISBLANK(FromEvoM!AN97),\"\",FromEvoM!AN97)","v":""},{"$f":"IF(ISBLANK(FromEvoM!AL97),\"\",FromEvoM!AL97)","v":""},{"$f":"IF(ISBLANK(FromEvoM!A97),\"\",IF(AND(AF97=\"y\",AI97=1),\"Y\",\"N\"))","v":""},{"$f":"IF(ISBLANK(FromEvoM!A97),\"\",IF(FromEvoM!AS97=\"Yes\",2,1))","v":""},{"$f":"IF(FromEvoM!W97=1,\"M\",IF(FromEvoM!W97=7,\"W\",\"\"))","v":""},{"$f":"IF(AJ97=\"Y\",0,IF(AJ97=\"N\",FromEvoM!AF97+FromEvoM!AT97,\"\"))","v":""},{"$f":"IF(AJ97=\"Y\",(FromEvoM!AE97+FromEvoM!AF97-FromEvoM!AT97),IF(AJ97=\"N\",FromEvoM!AE97,\"\"))","v":""}]
[{"$f":"IF(ISBLANK(FromEvoM!A98),\"\",Group_Code)","v":""},{"$f":"IF(ISBLANK(FromEvoM!A98),\"\",SUBSTITUTE(FromEvoM!A98,\" \",\"\"))","v":""},{"$f":"IF(ISBLANK(FromEvoM!C98),\"\",SUBSTITUTE(FromEvoM!G98,\" \",\"\"))","v":""},{"$f":"IF(ISBLANK(FromEvoM!D98),\"\",FromEvoM!B98)","v":""},{"$f":"IF(ISBLANK(FromEvoM!D98),\"\",FromEvoM!D98)","v":""},{"$f":"IF(ISBLANK(FromEvoM!C98),\"\",FromEvoM!C98)","v":""},{"$f":"REPLACE(FromEvoM!F98,2,6, )","v":""},{"$f":"IF(ISNUMBER(FromEvoM!E98),FromEvoM!E98,\"\")","v":""},{"$f":"IF(ISBLANK(FromEvoM!I98),\"\",FromEvoM!I98)","v":""},{"$f":"IF(ISBLANK(FromEvoM!J98),\"\",FromEvoM!J98)","v":""},{"$f":"IF(ISBLANK(FromEvoM!K98),\"\",FromEvoM!K98)","v":""},{"$f":"IF(ISBLANK(FromEvoM!L98),\"\",FromEvoM!L98)","v":""},{"$f":"IF(ISBLANK(FromEvoM!M98),\"\",FromEvoM!M98)","v":""},{"$f":"IF(ISBLANK(FromEvoM!P98),\"\",FromEvoM!P98)","v":""},null,{"$f":"IF(ISNUMBER(FromEvoM!X98),FromEvoM!X98,\"\")","v":""},{"$f":"IF(ISNUMBER(FromEvoM!AB98),FromEvoM!AB98,\"\")","v":""},{"$f":"IF(ISNUMBER(FromEvoM!AA98),FromEvoM!AA98,\"\")","v":""},null,"","",null,null,{"$f":"IF(FromEvoM!W98=1,(FromEvoM!AB98*12),IF(FromEvoM!W98=7,(FromEvoM!AR98),\"\"))","v":""},null,null,{"$f":"IF(ISBLANK(FromEvoM!A98),\"\",IF(FromEvoM!AK98=\"y\",\"Y\",\"N\"))","v":""},{"$f":"IF(ISBLANK(FromEvoM!A98),\"\",Category_ID)","v":""},null,null,null,{"$f":"IF(ISBLANK(FromEvoM!AK98),\"\",FromEvoM!AK98)","v":""},{"$f":"IF(ISBLANK(FromEvoM!AM98),\"\",FromEvoM!AM98)","v":""},{"$f":"IF(ISBLANK(FromEvoM!AN98),\"\",FromEvoM!AN98)","v":""},{"$f":"IF(ISBLANK(FromEvoM!AL98),\"\",FromEvoM!AL98)","v":""},{"$f":"IF(ISBLANK(FromEvoM!A98),\"\",IF(AND(AF98=\"y\",AI98=1),\"Y\",\"N\"))","v":""},{"$f":"IF(ISBLANK(FromEvoM!A98),\"\",IF(FromEvoM!AS98=\"Yes\",2,1))","v":""},{"$f":"IF(FromEvoM!W98=1,\"M\",IF(FromEvoM!W98=7,\"W\",\"\"))","v":""},{"$f":"IF(AJ98=\"Y\",0,IF(AJ98=\"N\",FromEvoM!AF98+FromEvoM!AT98,\"\"))","v":""},{"$f":"IF(AJ98=\"Y\",(FromEvoM!AE98+FromEvoM!AF98-FromEvoM!AT98),IF(AJ98=\"N\",FromEvoM!AE98,\"\"))","v":""}]
[{"$f":"IF(ISBLANK(FromEvoM!A99),\"\",Group_Code)","v":""},{"$f":"IF(ISBLANK(FromEvoM!A99),\"\",SUBSTITUTE(FromEvoM!A99,\" \",\"\"))","v":""},{"$f":"IF(ISBLANK(FromEvoM!C99),\"\",SUBSTITUTE(FromEvoM!G99,\" \",\"\"))","v":""},{"$f":"IF(ISBLANK(FromEvoM!D99),\"\",FromEvoM!B99)","v":""},{"$f":"IF(ISBLANK(FromEvoM!D99),\"\",FromEvoM!D99)","v":""},{"$f":"IF(ISBLANK(FromEvoM!C99),\"\",FromEvoM!C99)","v":""},{"$f":"REPLACE(FromEvoM!F99,2,6, )","v":""},{"$f":"IF(ISNUMBER(FromEvoM!E99),FromEvoM!E99,\"\")","v":""},{"$f":"IF(ISBLANK(FromEvoM!I99),\"\",FromEvoM!I99)","v":""},{"$f":"IF(ISBLANK(FromEvoM!J99),\"\",FromEvoM!J99)","v":""},{"$f":"IF(ISBLANK(FromEvoM!K99),\"\",FromEvoM!K99)","v":""},{"$f":"IF(ISBLANK(FromEvoM!L99),\"\",FromEvoM!L99)","v":""},{"$f":"IF(ISBLANK(FromEvoM!M99),\"\",FromEvoM!M99)","v":""},{"$f":"IF(ISBLANK(FromEvoM!P99),\"\",FromEvoM!P99)","v":""},null,{"$f":"IF(ISNUMBER(FromEvoM!X99),FromEvoM!X99,\"\")","v":""},{"$f":"IF(ISNUMBER(FromEvoM!AB99),FromEvoM!AB99,\"\")","v":""},{"$f":"IF(ISNUMBER(FromEvoM!AA99),FromEvoM!AA99,\"\")","v":""},null,"","",null,null,{"$f":"IF(FromEvoM!W99=1,(FromEvoM!AB99*12),IF(FromEvoM!W99=7,(FromEvoM!AR99),\"\"))","v":""},null,null,{"$f":"IF(ISBLANK(FromEvoM!A99),\"\",IF(FromEvoM!AK99=\"y\",\"Y\",\"N\"))","v":""},{"$f":"IF(ISBLANK(FromEvoM!A99),\"\",Category_ID)","v":""},null,null,null,{"$f":"IF(ISBLANK(FromEvoM!AK99),\"\",FromEvoM!AK99)","v":""},{"$f":"IF(ISBLANK(FromEvoM!AM99),\"\",FromEvoM!AM99)","v":""},{"$f":"IF(ISBLANK(FromEvoM!AN99),\"\",FromEvoM!AN99)","v":""},{"$f":"IF(ISBLANK(FromEvoM!AL99),\"\",FromEvoM!AL99)","v":""},{"$f":"IF(ISBLANK(FromEvoM!A99),\"\",IF(AND(AF99=\"y\",AI99=1),\"Y\",\"N\"))","v":""},{"$f":"IF(ISBLANK(FromEvoM!A99),\"\",IF(FromEvoM!AS99=\"Yes\",2,1))","v":""},{"$f":"IF(FromEvoM!W99=1,\"M\",IF(FromEvoM!W99=7,\"W\",\"\"))","v":""},{"$f":"IF(AJ99=\"Y\",0,IF(AJ99=\"N\",FromEvoM!AF99+FromEvoM!AT99,\"\"))","v":""},{"$f":"IF(AJ99=\"Y\",(FromEvoM!AE99+FromEvoM!AF99-FromEvoM!AT99),IF(AJ99=\"N\",FromEvoM!AE99,\"\"))","v":""}]
[{"$f":"IF(ISBLANK(FromEvoM!A100),\"\",Group_Code)","v":""},{"$f":"IF(ISBLANK(FromEvoM!A100),\"\",SUBSTITUTE(FromEvoM!A100,\" \",\"\"))","v":""},{"$f":"IF(ISBLANK(FromEvoM!C100),\"\",SUBSTITUTE(FromEvoM!G100,\" \",\"\"))","v":""},{"$f":"IF(ISBLANK(FromEvoM!D100),\"\",FromEvoM!B100)","v":""},{"$f":"IF(ISBLANK(FromEvoM!D100),\"\",FromEvoM!D100)","v":""},{"$f":"IF(ISBLANK(FromEvoM!C100),\"\",FromEvoM!C100)","v":""},{"$f":"REPLACE(FromEvoM!F100,2,6, )","v":""},{"$f":"IF(ISNUMBER(FromEvoM!E100),FromEvoM!E100,\"\")","v":""},{"$f":"IF(ISBLANK(FromEvoM!I100),\"\",FromEvoM!I100)","v":""},{"$f":"IF(ISBLANK(FromEvoM!J100),\"\",FromEvoM!J100)","v":""},{"$f":"IF(ISBLANK(FromEvoM!K100),\"\",FromEvoM!K100)","v":""},{"$f":"IF(ISBLANK(FromEvoM!L100),\"\",FromEvoM!L100)","v":""},{"$f":"IF(ISBLANK(FromEvoM!M100),\"\",FromEvoM!M100)","v":""},{"$f":"IF(ISBLANK(FromEvoM!P100),\"\",FromEvoM!P100)","v":""},null,{"$f":"IF(ISNUMBER(FromEvoM!X100),FromEvoM!X100,\"\")","v":""},{"$f":"IF(ISNUMBER(FromEvoM!AB100),FromEvoM!AB100,\"\")","v":""},{"$f":"IF(ISNUMBER(FromEvoM!AA100),FromEvoM!AA100,\"\")","v":""},null,"","",null,null,{"$f":"IF(FromEvoM!W100=1,(FromEvoM!AB100*12),IF(FromEvoM!W100=7,(FromEvoM!AR100),\"\"))","v":""},null,null,{"$f":"IF(ISBLANK(FromEvoM!A100),\"\",IF(FromEvoM!AK100=\"y\",\"Y\",\"N\"))","v":""},{"$f":"IF(ISBLANK(FromEvoM!A100),\"\",Category_ID)","v":""},null,null,null,{"$f":"IF(ISBLANK(FromEvoM!AK100),\"\",FromEvoM!AK100)","v":""},{"$f":"IF(ISBLANK(FromEvoM!AM100),\"\",FromEvoM!AM100)","v":""},{"$f":"IF(ISBLANK(FromEvoM!AN100),\"\",FromEvoM!AN100)","v":""},{"$f":"IF(ISBLANK(FromEvoM!AL100),\"\",FromEvoM!AL100)","v":""},{"$f":"IF(ISBLANK(FromEvoM!A100),\"\",IF(AND(AF100=\"y\",AI100=1),\"Y\",\"N\"))","v":""},{"$f":"IF(ISBLANK(FromEvoM!A100),\"\",IF(FromEvoM!AS100=\"Yes\",2,1))","v":""},{"$f":"IF(FromEvoM!W100=1,\"M\",IF(FromEvoM!W100=7,\"W\",\"\"))","v":""},{"$f":"IF(AJ100=\"Y\",0,IF(AJ100=\"N\",FromEvoM!AF100+FromEvoM!AT100,\"\"))","v":""},{"$f":"IF(AJ100=\"Y\",(FromEvoM!AE100+FromEvoM!AF100-FromEvoM!AT100),IF(AJ100=\"N\",FromEvoM!AE100,\"\"))","v":""}]
[{"$f":"IF(ISBLANK(FromEvoM!A101),\"\",Group_Code)","v":""},{"$f":"IF(ISBLANK(FromEvoM!A101),\"\",SUBSTITUTE(FromEvoM!A101,\" \",\"\"))","v":""},{"$f":"IF(ISBLANK(FromEvoM!C101),\"\",SUBSTITUTE(FromEvoM!G101,\" \",\"\"))","v":""},{"$f":"IF(ISBLANK(FromEvoM!D101),\"\",FromEvoM!B101)","v":""},{"$f":"IF(ISBLANK(FromEvoM!D101),\"\",FromEvoM!D101)","v":""},{"$f":"IF(ISBLANK(FromEvoM!C101),\"\",FromEvoM!C101)","v":""},{"$f":"REPLACE(FromEvoM!F101,2,6, )","v":""},{"$f":"IF(ISNUMBER(FromEvoM!E101),FromEvoM!E101,\"\")","v":""},{"$f":"IF(ISBLANK(FromEvoM!I101),\"\",FromEvoM!I101)","v":""},{"$f":"IF(ISBLANK(FromEvoM!J101),\"\",FromEvoM!J101)","v":""},{"$f":"IF(ISBLANK(FromEvoM!K101),\"\",FromEvoM!K101)","v":""},{"$f":"IF(ISBLANK(FromEvoM!L101),\"\",FromEvoM!L101)","v":""},{"$f":"IF(ISBLANK(FromEvoM!M101),\"\",FromEvoM!M101)","v":""},{"$f":"IF(ISBLANK(FromEvoM!P101),\"\",FromEvoM!P101)","v":""},null,{"$f":"IF(ISNUMBER(FromEvoM!X101),FromEvoM!X101,\"\")","v":""},{"$f":"IF(ISNUMBER(FromEvoM!AB101),FromEvoM!AB101,\"\")","v":""},{"$f":"IF(ISNUMBER(FromEvoM!AA101),FromEvoM!AA101,\"\")","v":""},null,"","",null,null,{"$f":"IF(FromEvoM!W101=1,(FromEvoM!AB101*12),IF(FromEvoM!W101=7,(FromEvoM!AR101),\"\"))","v":""},null,null,{"$f":"IF(ISBLANK(FromEvoM!A101),\"\",IF(FromEvoM!AK101=\"y\",\"Y\",\"N\"))","v":""},{"$f":"IF(ISBLANK(FromEvoM!A101),\"\",Category_ID)","v":""},null,null,null,{"$f":"IF(ISBLANK(FromEvoM!AK101),\"\",FromEvoM!AK101)","v":""},{"$f":"IF(ISBLANK(FromEvoM!AM101),\"\",FromEvoM!AM101)","v":""},{"$f":"IF(ISBLANK(FromEvoM!AN101),\"\",FromEvoM!AN101)","v":""},{"$f":"IF(ISBLANK(FromEvoM!AL101),\"\",FromEvoM!AL101)","v":""},{"$f":"IF(ISBLANK(FromEvoM!A101),\"\",IF(AND(AF101=\"y\",AI101=1),\"Y\",\"N\"))","v":""},{"$f":"IF(ISBLANK(FromEvoM!A101),\"\",IF(FromEvoM!AS101=\"Yes\",2,1))","v":""},{"$f":"IF(FromEvoM!W101=1,\"M\",IF(FromEvoM!W101=7,\"W\",\"\"))","v":""},{"$f":"IF(AJ101=\"Y\",0,IF(AJ101=\"N\",FromEvoM!AF101+FromEvoM!AT101,\"\"))","v":""},{"$f":"IF(AJ101=\"Y\",(FromEvoM!AE101+FromEvoM!AF101-FromEvoM!AT101),IF(AJ101=\"N\",FromEvoM!AE101,\"\"))","v":""}]
[{"$f":"IF(ISBLANK(FromEvoM!A102),\"\",Group_Code)","v":""},{"$f":"IF(ISBLANK(FromEvoM!A102),\"\",SUBSTITUTE(FromEvoM!A102,\" \",\"\"))","v":""},{"$f":"IF(ISBLANK(FromEvoM!C102),\"\",SUBSTITUTE(FromEvoM!G102,\" \",\"\"))","v":""},{"$f":"IF(ISBLANK(FromEvoM!D102),\"\",FromEvoM!B102)","v":""},{"$f":"IF(ISBLANK(FromEvoM!D102),\"\",FromEvoM!D102)","v":""},{"$f":"IF(ISBLANK(FromEvoM!C102),\"\",FromEvoM!C102)","v":""},{"$f":"REPLACE(FromEvoM!F102,2,6, )","v":""},{"$f":"IF(ISNUMBER(FromEvoM!E102),FromEvoM!E102,\"\")","v":""},{"$f":"IF(ISBLANK(FromEvoM!I102),\"\",FromEvoM!I102)","v":""},{"$f":"IF(ISBLANK(FromEvoM!J102),\"\",FromEvoM!J102)","v":""},{"$f":"IF(ISBLANK(FromEvoM!K102),\"\",FromEvoM!K102)","v":""},{"$f":"IF(ISBLANK(FromEvoM!L102),\"\",FromEvoM!L102)","v":""},{"$f":"IF(ISBLANK(FromEvoM!M102),\"\",FromEvoM!M102)","v":""},{"$f":"IF(ISBLANK(FromEvoM!P102),\"\",FromEvoM!P102)","v":""},null,{"$f":"IF(ISNUMBER(FromEvoM!X102),FromEvoM!X102,\"\")","v":""},{"$f":"IF(ISNUMBER(FromEvoM!AB102),FromEvoM!AB102,\"\")","v":""},{"$f":"IF(ISNUMBER(FromEvoM!AA102),FromEvoM!AA102,\"\")","v":""},null,"","",null,null,{"$f":"IF(FromEvoM!W102=1,(FromEvoM!AB102*12),IF(FromEvoM!W102=7,(FromEvoM!AR102),\"\"))","v":""},null,null,{"$f":"IF(ISBLANK(FromEvoM!A102),\"\",IF(FromEvoM!AK102=\"y\",\"Y\",\"N\"))","v":""},{"$f":"IF(ISBLANK(FromEvoM!A102),\"\",Category_ID)","v":""},null,null,null,{"$f":"IF(ISBLANK(FromEvoM!AK102),\"\",FromEvoM!AK102)","v":""},{"$f":"IF(ISBLANK(FromEvoM!AM102),\"\",FromEvoM!AM102)","v":""},{"$f":"IF(ISBLANK(FromEvoM!AN102),\"\",FromEvoM!AN102)","v":""},{"$f":"IF(ISBLANK(FromEvoM!AL102),\"\",FromEvoM!AL102)","v":""},{"$f":"IF(ISBLANK(FromEvoM!A102),\"\",IF(AND(AF102=\"y\",AI102=1),\"Y\",\"N\"))","v":""},{"$f":"IF(ISBLANK(FromEvoM!A102),\"\",IF(FromEvoM!AS102=\"Yes\",2,1))","v":""},{"$f":"IF(FromEvoM!W102=1,\"M\",IF(FromEvoM!W102=7,\"W\",\"\"))","v":""},{"$f":"IF(AJ102=\"Y\",0,IF(AJ102=\"N\",FromEvoM!AF102+FromEvoM!AT102,\"\"))","v":""},{"$f":"IF(AJ102=\"Y\",(FromEvoM!AE102+FromEvoM!AF102-FromEvoM!AT102),IF(AJ102=\"N\",FromEvoM!AE102,\"\"))","v":""}]
[{"$f":"IF(ISBLANK(FromEvoM!A103),\"\",Group_Code)","v":""},{"$f":"IF(ISBLANK(FromEvoM!A103),\"\",SUBSTITUTE(FromEvoM!A103,\" \",\"\"))","v":""},{"$f":"IF(ISBLANK(FromEvoM!C103),\"\",SUBSTITUTE(FromEvoM!G103,\" \",\"\"))","v":""},{"$f":"IF(ISBLANK(FromEvoM!D103),\"\",FromEvoM!B103)","v":""},{"$f":"IF(ISBLANK(FromEvoM!D103),\"\",FromEvoM!D103)","v":""},{"$f":"IF(ISBLANK(FromEvoM!C103),\"\",FromEvoM!C103)","v":""},{"$f":"REPLACE(FromEvoM!F103,2,6, )","v":""},{"$f":"IF(ISNUMBER(FromEvoM!E103),FromEvoM!E103,\"\")","v":""},{"$f":"IF(ISBLANK(FromEvoM!I103),\"\",FromEvoM!I103)","v":""},{"$f":"IF(ISBLANK(FromEvoM!J103),\"\",FromEvoM!J103)","v":""},{"$f":"IF(ISBLANK(FromEvoM!K103),\"\",FromEvoM!K103)","v":""},{"$f":"IF(ISBLANK(FromEvoM!L103),\"\",FromEvoM!L103)","v":""},{"$f":"IF(ISBLANK(FromEvoM!M103),\"\",FromEvoM!M103)","v":""},{"$f":"IF(ISBLANK(FromEvoM!P103),\"\",FromEvoM!P103)","v":""},null,{"$f":"IF(ISNUMBER(FromEvoM!X103),FromEvoM!X103,\"\")","v":""},{"$f":"IF(ISNUMBER(FromEvoM!AB103),FromEvoM!AB103,\"\")","v":""},{"$f":"IF(ISNUMBER(FromEvoM!AA103),FromEvoM!AA103,\"\")","v":""},null,"","",null,null,{"$f":"IF(FromEvoM!W103=1,(FromEvoM!AB103*12),IF(FromEvoM!W103=7,(FromEvoM!AR103),\"\"))","v":""},null,null,{"$f":"IF(ISBLANK(FromEvoM!A103),\"\",IF(FromEvoM!AK103=\"y\",\"Y\",\"N\"))","v":""},{"$f":"IF(ISBLANK(FromEvoM!A103),\"\",Category_ID)","v":""},null,null,null,{"$f":"IF(ISBLANK(FromEvoM!AK103),\"\",FromEvoM!AK103)","v":""},{"$f":"IF(ISBLANK(FromEvoM!AM103),\"\",FromEvoM!AM103)","v":""},{"$f":"IF(ISBLANK(FromEvoM!AN103),\"\",FromEvoM!AN103)","v":""},{"$f":"IF(ISBLANK(FromEvoM!AL103),\"\",FromEvoM!AL103)","v":""},{"$f":"IF(ISBLANK(FromEvoM!A103),\"\",IF(AND(AF103=\"y\",AI103=1),\"Y\",\"N\"))","v":""},{"$f":"IF(ISBLANK(FromEvoM!A103),\"\",IF(FromEvoM!AS103=\"Yes\",2,1))","v":""},{"$f":"IF(FromEvoM!W103=1,\"M\",IF(FromEvoM!W103=7,\"W\",\"\"))","v":""},{"$f":"IF(AJ103=\"Y\",0,IF(AJ103=\"N\",FromEvoM!AF103+FromEvoM!AT103,\"\"))","v":""},{"$f":"IF(AJ103=\"Y\",(FromEvoM!AE103+FromEvoM!AF103-FromEvoM!AT103),IF(AJ103=\"N\",FromEvoM!AE103,\"\"))","v":""}]
[{"$f":"IF(ISBLANK(FromEvoM!A104),\"\",Group_Code)","v":""},{"$f":"IF(ISBLANK(FromEvoM!A104),\"\",SUBSTITUTE(FromEvoM!A104,\" \",\"\"))","v":""},{"$f":"IF(ISBLANK(FromEvoM!C104),\"\",SUBSTITUTE(FromEvoM!G104,\" \",\"\"))","v":""},{"$f":"IF(ISBLANK(FromEvoM!D104),\"\",FromEvoM!B104)","v":""},{"$f":"IF(ISBLANK(FromEvoM!D104),\"\",FromEvoM!D104)","v":""},{"$f":"IF(ISBLANK(FromEvoM!C104),\"\",FromEvoM!C104)","v":""},{"$f":"REPLACE(FromEvoM!F104,2,6, )","v":""},{"$f":"IF(ISNUMBER(FromEvoM!E104),FromEvoM!E104,\"\")","v":""},{"$f":"IF(ISBLANK(FromEvoM!I104),\"\",FromEvoM!I104)","v":""},{"$f":"IF(ISBLANK(FromEvoM!J104),\"\",FromEvoM!J104)","v":""},{"$f":"IF(ISBLANK(FromEvoM!K104),\"\",FromEvoM!K104)","v":""},{"$f":"IF(ISBLANK(FromEvoM!L104),\"\",FromEvoM!L104)","v":""},{"$f":"IF(ISBLANK(FromEvoM!M104),\"\",FromEvoM!M104)","v":""},{"$f":"IF(ISBLANK(FromEvoM!P104),\"\",FromEvoM!P104)","v":""},null,{"$f":"IF(ISNUMBER(FromEvoM!X104),FromEvoM!X104,\"\")","v":""},{"$f":"IF(ISNUMBER(FromEvoM!AB104),FromEvoM!AB104,\"\")","v":""},{"$f":"IF(ISNUMBER(FromEvoM!AA104),FromEvoM!AA104,\"\")","v":""},null,"","",null,null,{"$f":"IF(FromEvoM!W104=1,(FromEvoM!AB104*12),IF(FromEvoM!W104=7,(FromEvoM!AR104),\"\"))","v":""},null,null,{"$f":"IF(ISBLANK(FromEvoM!A104),\"\",IF(FromEvoM!AK104=\"y\",\"Y\",\"N\"))","v":""},{"$f":"IF(ISBLANK(FromEvoM!A104),\"\",Category_ID)","v":""},null,null,null,{"$f":"IF(ISBLANK(FromEvoM!AK104),\"\",FromEvoM!AK104)","v":""},{"$f":"IF(ISBLANK(FromEvoM!AM104),\"\",FromEvoM!AM104)","v":""},{"$f":"IF(ISBLANK(FromEvoM!AN104),\"\",FromEvoM!AN104)","v":""},{"$f":"IF(ISBLANK(FromEvoM!AL104),\"\",FromEvoM!AL104)","v":""},{"$f":"IF(ISBLANK(FromEvoM!A104),\"\",IF(AND(AF104=\"y\",AI104=1),\"Y\",\"N\"))","v":""},{"$f":"IF(ISBLANK(FromEvoM!A104),\"\",IF(FromEvoM!AS104=\"Yes\",2,1))","v":""},{"$f":"IF(FromEvoM!W104=1,\"M\",IF(FromEvoM!W104=7,\"W\",\"\"))","v":""},{"$f":"IF(AJ104=\"Y\",0,IF(AJ104=\"N\",FromEvoM!AF104+FromEvoM!AT104,\"\"))","v":""},{"$f":"IF(AJ104=\"Y\",(FromEvoM!AE104+FromEvoM!AF104-FromEvoM!AT104),IF(AJ104=\"N\",FromEvoM!AE104,\"\"))","v":""}]
[{"$f":"IF(ISBLANK(FromEvoM!A105),\"\",Group_Code)","v":""},{"$f":"IF(ISBLANK(FromEvoM!A105),\"\",SUBSTITUTE(FromEvoM!A105,\" \",\"\"))","v":""},{"$f":"IF(ISBLANK(FromEvoM!C105),\"\",SUBSTITUTE(FromEvoM!G105,\" \",\"\"))","v":""},{"$f":"IF(ISBLANK(FromEvoM!D105),\"\",FromEvoM!B105)","v":""},{"$f":"IF(ISBLANK(FromEvoM!D105),\"\",FromEvoM!D105)","v":""},{"$f":"IF(ISBLANK(FromEvoM!C105),\"\",FromEvoM!C105)","v":""},{"$f":"REPLACE(FromEvoM!F105,2,6, )","v":""},{"$f":"IF(ISNUMBER(FromEvoM!E105),FromEvoM!E105,\"\")","v":""},{"$f":"IF(ISBLANK(FromEvoM!I105),\"\",FromEvoM!I105)","v":""},{"$f":"IF(ISBLANK(FromEvoM!J105),\"\",FromEvoM!J105)","v":""},{"$f":"IF(ISBLANK(FromEvoM!K105),\"\",FromEvoM!K105)","v":""},{"$f":"IF(ISBLANK(FromEvoM!L105),\"\",FromEvoM!L105)","v":""},{"$f":"IF(ISBLANK(FromEvoM!M105),\"\",FromEvoM!M105)","v":""},{"$f":"IF(ISBLANK(FromEvoM!P105),\"\",FromEvoM!P105)","v":""},null,{"$f":"IF(ISNUMBER(FromEvoM!X105),FromEvoM!X105,\"\")","v":""},{"$f":"IF(ISNUMBER(FromEvoM!AB105),FromEvoM!AB105,\"\")","v":""},{"$f":"IF(ISNUMBER(FromEvoM!AA105),FromEvoM!AA105,\"\")","v":""},null,"","",null,null,{"$f":"IF(FromEvoM!W105=1,(FromEvoM!AB105*12),IF(FromEvoM!W105=7,(FromEvoM!AR105),\"\"))","v":""},null,null,{"$f":"IF(ISBLANK(FromEvoM!A105),\"\",IF(FromEvoM!AK105=\"y\",\"Y\",\"N\"))","v":""},{"$f":"IF(ISBLANK(FromEvoM!A105),\"\",Category_ID)","v":""},null,null,null,{"$f":"IF(ISBLANK(FromEvoM!AK105),\"\",FromEvoM!AK105)","v":""},{"$f":"IF(ISBLANK(FromEvoM!AM105),\"\",FromEvoM!AM105)","v":""},{"$f":"IF(ISBLANK(FromEvoM!AN105),\"\",FromEvoM!AN105)","v":""},{"$f":"IF(ISBLANK(FromEvoM!AL105),\"\",FromEvoM!AL105)","v":""},{"$f":"IF(ISBLANK(FromEvoM!A105),\"\",IF(AND(AF105=\"y\",AI105=1),\"Y\",\"N\"))","v":""},{"$f":"IF(ISBLANK(FromEvoM!A105),\"\",IF(FromEvoM!AS105=\"Yes\",2,1))","v":""},{"$f":"IF(FromEvoM!W105=1,\"M\",IF(FromEvoM!W105=7,\"W\",\"\"))","v":""},{"$f":"IF(AJ105=\"Y\",0,IF(AJ105=\"N\",FromEvoM!AF105+FromEvoM!AT105,\"\"))","v":""},{"$f":"IF(AJ105=\"Y\",(FromEvoM!AE105+FromEvoM!AF105-FromEvoM!AT105),IF(AJ105=\"N\",FromEvoM!AE105,\"\"))","v":""}]
[{"$f":"IF(ISBLANK(FromEvoM!A106),\"\",Group_Code)","v":""},{"$f":"IF(ISBLANK(FromEvoM!A106),\"\",SUBSTITUTE(FromEvoM!A106,\" \",\"\"))","v":""},{"$f":"IF(ISBLANK(FromEvoM!C106),\"\",SUBSTITUTE(FromEvoM!G106,\" \",\"\"))","v":""},{"$f":"IF(ISBLANK(FromEvoM!D106),\"\",FromEvoM!B106)","v":""},{"$f":"IF(ISBLANK(FromEvoM!D106),\"\",FromEvoM!D106)","v":""},{"$f":"IF(ISBLANK(FromEvoM!C106),\"\",FromEvoM!C106)","v":""},{"$f":"REPLACE(FromEvoM!F106,2,6, )","v":""},{"$f":"IF(ISNUMBER(FromEvoM!E106),FromEvoM!E106,\"\")","v":""},{"$f":"IF(ISBLANK(FromEvoM!I106),\"\",FromEvoM!I106)","v":""},{"$f":"IF(ISBLANK(FromEvoM!J106),\"\",FromEvoM!J106)","v":""},{"$f":"IF(ISBLANK(FromEvoM!K106),\"\",FromEvoM!K106)","v":""},{"$f":"IF(ISBLANK(FromEvoM!L106),\"\",FromEvoM!L106)","v":""},{"$f":"IF(ISBLANK(FromEvoM!M106),\"\",FromEvoM!M106)","v":""},{"$f":"IF(ISBLANK(FromEvoM!P106),\"\",FromEvoM!P106)","v":""},null,{"$f":"IF(ISNUMBER(FromEvoM!X106),FromEvoM!X106,\"\")","v":""},{"$f":"IF(ISNUMBER(FromEvoM!AB106),FromEvoM!AB106,\"\")","v":""},{"$f":"IF(ISNUMBER(FromEvoM!AA106),FromEvoM!AA106,\"\")","v":""},null,"","",null,null,{"$f":"IF(FromEvoM!W106=1,(FromEvoM!AB106*12),IF(FromEvoM!W106=7,(FromEvoM!AR106),\"\"))","v":""},null,null,{"$f":"IF(ISBLANK(FromEvoM!A106),\"\",IF(FromEvoM!AK106=\"y\",\"Y\",\"N\"))","v":""},{"$f":"IF(ISBLANK(FromEvoM!A106),\"\",Category_ID)","v":""},null,null,null,{"$f":"IF(ISBLANK(FromEvoM!AK106),\"\",FromEvoM!AK106)","v":""},{"$f":"IF(ISBLANK(FromEvoM!AM106),\"\",FromEvoM!AM106)","v":""},{"$f":"IF(ISBLANK(FromEvoM!AN106),\"\",FromEvoM!AN106)","v":""},{"$f":"IF(ISBLANK(FromEvoM!AL106),\"\",FromEvoM!AL106)","v":""},{"$f":"IF(ISBLANK(FromEvoM!A106),\"\",IF(AND(AF106=\"y\",AI106=1),\"Y\",\"N\"))","v":""},{"$f":"IF(ISBLANK(FromEvoM!A106),\"\",IF(FromEvoM!AS106=\"Yes\",2,1))","v":""},{"$f":"IF(FromEvoM!W106=1,\"M\",IF(FromEvoM!W106=7,\"W\",\"\"))","v":""},{"$f":"IF(AJ106=\"Y\",0,IF(AJ106=\"N\",FromEvoM!AF106+FromEvoM!AT106,\"\"))","v":""},{"$f":"IF(AJ106=\"Y\",(FromEvoM!AE106+FromEvoM!AF106-FromEvoM!AT106),IF(AJ106=\"N\",FromEvoM!AE106,\"\"))","v":""}]
[{"$f":"IF(ISBLANK(FromEvoM!A107),\"\",Group_Code)","v":""},{"$f":"IF(ISBLANK(FromEvoM!A107),\"\",SUBSTITUTE(FromEvoM!A107,\" \",\"\"))","v":""},{"$f":"IF(ISBLANK(FromEvoM!C107),\"\",SUBSTITUTE(FromEvoM!G107,\" \",\"\"))","v":""},{"$f":"IF(ISBLANK(FromEvoM!D107),\"\",FromEvoM!B107)","v":""},{"$f":"IF(ISBLANK(FromEvoM!D107),\"\",FromEvoM!D107)","v":""},{"$f":"IF(ISBLANK(FromEvoM!C107),\"\",FromEvoM!C107)","v":""},{"$f":"REPLACE(FromEvoM!F107,2,6, )","v":""},{"$f":"IF(ISNUMBER(FromEvoM!E107),FromEvoM!E107,\"\")","v":""},{"$f":"IF(ISBLANK(FromEvoM!I107),\"\",FromEvoM!I107)","v":""},{"$f":"IF(ISBLANK(FromEvoM!J107),\"\",FromEvoM!J107)","v":""},{"$f":"IF(ISBLANK(FromEvoM!K107),\"\",FromEvoM!K107)","v":""},{"$f":"IF(ISBLANK(FromEvoM!L107),\"\",FromEvoM!L107)","v":""},{"$f":"IF(ISBLANK(FromEvoM!M107),\"\",FromEvoM!M107)","v":""},{"$f":"IF(ISBLANK(FromEvoM!P107),\"\",FromEvoM!P107)","v":""},null,{"$f":"IF(ISNUMBER(FromEvoM!X107),FromEvoM!X107,\"\")","v":""},{"$f":"IF(ISNUMBER(FromEvoM!AB107),FromEvoM!AB107,\"\")","v":""},{"$f":"IF(ISNUMBER(FromEvoM!AA107),FromEvoM!AA107,\"\")","v":""},null,"","",null,null,{"$f":"IF(FromEvoM!W107=1,(FromEvoM!AB107*12),IF(FromEvoM!W107=7,(FromEvoM!AR107),\"\"))","v":""},null,null,{"$f":"IF(ISBLANK(FromEvoM!A107),\"\",IF(FromEvoM!AK107=\"y\",\"Y\",\"N\"))","v":""},{"$f":"IF(ISBLANK(FromEvoM!A107),\"\",Category_ID)","v":""},null,null,null,{"$f":"IF(ISBLANK(FromEvoM!AK107),\"\",FromEvoM!AK107)","v":""},{"$f":"IF(ISBLANK(FromEvoM!AM107),\"\",FromEvoM!AM107)","v":""},{"$f":"IF(ISBLANK(FromEvoM!AN107),\"\",FromEvoM!AN107)","v":""},{"$f":"IF(ISBLANK(FromEvoM!AL107),\"\",FromEvoM!AL107)","v":""},{"$f":"IF(ISBLANK(FromEvoM!A107),\"\",IF(AND(AF107=\"y\",AI107=1),\"Y\",\"N\"))","v":""},{"$f":"IF(ISBLANK(FromEvoM!A107),\"\",IF(FromEvoM!AS107=\"Yes\",2,1))","v":""},{"$f":"IF(FromEvoM!W107=1,\"M\",IF(FromEvoM!W107=7,\"W\",\"\"))","v":""},{"$f":"IF(AJ107=\"Y\",0,IF(AJ107=\"N\",FromEvoM!AF107+FromEvoM!AT107,\"\"))","v":""},{"$f":"IF(AJ107=\"Y\",(FromEvoM!AE107+FromEvoM!AF107-FromEvoM!AT107),IF(AJ107=\"N\",FromEvoM!AE107,\"\"))","v":""}]
[{"$f":"IF(ISBLANK(FromEvoM!A108),\"\",Group_Code)","v":""},{"$f":"IF(ISBLANK(FromEvoM!A108),\"\",SUBSTITUTE(FromEvoM!A108,\" \",\"\"))","v":""},{"$f":"IF(ISBLANK(FromEvoM!C108),\"\",SUBSTITUTE(FromEvoM!G108,\" \",\"\"))","v":""},{"$f":"IF(ISBLANK(FromEvoM!D108),\"\",FromEvoM!B108)","v":""},{"$f":"IF(ISBLANK(FromEvoM!D108),\"\",FromEvoM!D108)","v":""},{"$f":"IF(ISBLANK(FromEvoM!C108),\"\",FromEvoM!C108)","v":""},{"$f":"REPLACE(FromEvoM!F108,2,6, )","v":""},{"$f":"IF(ISNUMBER(FromEvoM!E108),FromEvoM!E108,\"\")","v":""},{"$f":"IF(ISBLANK(FromEvoM!I108),\"\",FromEvoM!I108)","v":""},{"$f":"IF(ISBLANK(FromEvoM!J108),\"\",FromEvoM!J108)","v":""},{"$f":"IF(ISBLANK(FromEvoM!K108),\"\",FromEvoM!K108)","v":""},{"$f":"IF(ISBLANK(FromEvoM!L108),\"\",FromEvoM!L108)","v":""},{"$f":"IF(ISBLANK(FromEvoM!M108),\"\",FromEvoM!M108)","v":""},{"$f":"IF(ISBLANK(FromEvoM!P108),\"\",FromEvoM!P108)","v":""},null,{"$f":"IF(ISNUMBER(FromEvoM!X108),FromEvoM!X108,\"\")","v":""},{"$f":"IF(ISNUMBER(FromEvoM!AB108),FromEvoM!AB108,\"\")","v":""},{"$f":"IF(ISNUMBER(FromEvoM!AA108),FromEvoM!AA108,\"\")","v":""},null,"","",null,null,{"$f":"IF(FromEvoM!W108=1,(FromEvoM!AB108*12),IF(FromEvoM!W108=7,(FromEvoM!AR108),\"\"))","v":""},null,null,{"$f":"IF(ISBLANK(FromEvoM!A108),\"\",IF(FromEvoM!AK108=\"y\",\"Y\",\"N\"))","v":""},{"$f":"IF(ISBLANK(FromEvoM!A108),\"\",Category_ID)","v":""},null,null,null,{"$f":"IF(ISBLANK(FromEvoM!AK108),\"\",FromEvoM!AK108)","v":""},{"$f":"IF(ISBLANK(FromEvoM!AM108),\"\",FromEvoM!AM108)","v":""},{"$f":"IF(ISBLANK(FromEvoM!AN108),\"\",FromEvoM!AN108)","v":""},{"$f":"IF(ISBLANK(FromEvoM!AL108),\"\",FromEvoM!AL108)","v":""},{"$f":"IF(ISBLANK(FromEvoM!A108),\"\",IF(AND(AF108=\"y\",AI108=1),\"Y\",\"N\"))","v":""},{"$f":"IF(ISBLANK(FromEvoM!A108),\"\",IF(FromEvoM!AS108=\"Yes\",2,1))","v":""},{"$f":"IF(FromEvoM!W108=1,\"M\",IF(FromEvoM!W108=7,\"W\",\"\"))","v":""},{"$f":"IF(AJ108=\"Y\",0,IF(AJ108=\"N\",FromEvoM!AF108+FromEvoM!AT108,\"\"))","v":""},{"$f":"IF(AJ108=\"Y\",(FromEvoM!AE108+FromEvoM!AF108-FromEvoM!AT108),IF(AJ108=\"N\",FromEvoM!AE108,\"\"))","v":""}]
[{"$f":"IF(ISBLANK(FromEvoM!A109),\"\",Group_Code)","v":""},{"$f":"IF(ISBLANK(FromEvoM!A109),\"\",SUBSTITUTE(FromEvoM!A109,\" \",\"\"))","v":""},{"$f":"IF(ISBLANK(FromEvoM!C109),\"\",SUBSTITUTE(FromEvoM!G109,\" \",\"\"))","v":""},{"$f":"IF(ISBLANK(FromEvoM!D109),\"\",FromEvoM!B109)","v":""},{"$f":"IF(ISBLANK(FromEvoM!D109),\"\",FromEvoM!D109)","v":""},{"$f":"IF(ISBLANK(FromEvoM!C109),\"\",FromEvoM!C109)","v":""},{"$f":"REPLACE(FromEvoM!F109,2,6, )","v":""},{"$f":"IF(ISNUMBER(FromEvoM!E109),FromEvoM!E109,\"\")","v":""},{"$f":"IF(ISBLANK(FromEvoM!I109),\"\",FromEvoM!I109)","v":""},{"$f":"IF(ISBLANK(FromEvoM!J109),\"\",FromEvoM!J109)","v":""},{"$f":"IF(ISBLANK(FromEvoM!K109),\"\",FromEvoM!K109)","v":""},{"$f":"IF(ISBLANK(FromEvoM!L109),\"\",FromEvoM!L109)","v":""},{"$f":"IF(ISBLANK(FromEvoM!M109),\"\",FromEvoM!M109)","v":""},{"$f":"IF(ISBLANK(FromEvoM!P109),\"\",FromEvoM!P109)","v":""},null,{"$f":"IF(ISNUMBER(FromEvoM!X109),FromEvoM!X109,\"\")","v":""},{"$f":"IF(ISNUMBER(FromEvoM!AB109),FromEvoM!AB109,\"\")","v":""},{"$f":"IF(ISNUMBER(FromEvoM!AA109),FromEvoM!AA109,\"\")","v":""},null,"","",null,null,{"$f":"IF(FromEvoM!W109=1,(FromEvoM!AB109*12),IF(FromEvoM!W109=7,(FromEvoM!AR109),\"\"))","v":""},null,null,{"$f":"IF(ISBLANK(FromEvoM!A109),\"\",IF(FromEvoM!AK109=\"y\",\"Y\",\"N\"))","v":""},{"$f":"IF(ISBLANK(FromEvoM!A109),\"\",Category_ID)","v":""},null,null,null,{"$f":"IF(ISBLANK(FromEvoM!AK109),\"\",FromEvoM!AK109)","v":""},{"$f":"IF(ISBLANK(FromEvoM!AM109),\"\",FromEvoM!AM109)","v":""},{"$f":"IF(ISBLANK(FromEvoM!AN109),\"\",FromEvoM!AN109)","v":""},{"$f":"IF(ISBLANK(FromEvoM!AL109),\"\",FromEvoM!AL109)","v":""},{"$f":"IF(ISBLANK(FromEvoM!A109),\"\",IF(AND(AF109=\"y\",AI109=1),\"Y\",\"N\"))","v":""},{"$f":"IF(ISBLANK(FromEvoM!A109),\"\",IF(FromEvoM!AS109=\"Yes\",2,1))","v":""},{"$f":"IF(FromEvoM!W109=1,\"M\",IF(FromEvoM!W109=7,\"W\",\"\"))","v":""},{"$f":"IF(AJ109=\"Y\",0,IF(AJ109=\"N\",FromEvoM!AF109+FromEvoM!AT109,\"\"))","v":""},{"$f":"IF(AJ109=\"Y\",(FromEvoM!AE109+FromEvoM!AF109-FromEvoM!AT109),IF(AJ109=\"N\",FromEvoM!AE109,\"\"))","v":""}]
[{"$f":"IF(ISBLANK(FromEvoM!A110),\"\",Group_Code)","v":""},{"$f":"IF(ISBLANK(FromEvoM!A110),\"\",SUBSTITUTE(FromEvoM!A110,\" \",\"\"))","v":""},{"$f":"IF(ISBLANK(FromEvoM!C110),\"\",SUBSTITUTE(FromEvoM!G110,\" \",\"\"))","v":""},{"$f":"IF(ISBLANK(FromEvoM!D110),\"\",FromEvoM!B110)","v":""},{"$f":"IF(ISBLANK(FromEvoM!D110),\"\",FromEvoM!D110)","v":""},{"$f":"IF(ISBLANK(FromEvoM!C110),\"\",FromEvoM!C110)","v":""},{"$f":"REPLACE(FromEvoM!F110,2,6, )","v":""},{"$f":"IF(ISNUMBER(FromEvoM!E110),FromEvoM!E110,\"\")","v":""},{"$f":"IF(ISBLANK(FromEvoM!I110),\"\",FromEvoM!I110)","v":""},{"$f":"IF(ISBLANK(FromEvoM!J110),\"\",FromEvoM!J110)","v":""},{"$f":"IF(ISBLANK(FromEvoM!K110),\"\",FromEvoM!K110)","v":""},{"$f":"IF(ISBLANK(FromEvoM!L110),\"\",FromEvoM!L110)","v":""},{"$f":"IF(ISBLANK(FromEvoM!M110),\"\",FromEvoM!M110)","v":""},{"$f":"IF(ISBLANK(FromEvoM!P110),\"\",FromEvoM!P110)","v":""},null,{"$f":"IF(ISNUMBER(FromEvoM!X110),FromEvoM!X110,\"\")","v":""},{"$f":"IF(ISNUMBER(FromEvoM!AB110),FromEvoM!AB110,\"\")","v":""},{"$f":"IF(ISNUMBER(FromEvoM!AA110),FromEvoM!AA110,\"\")","v":""},null,"","",null,null,{"$f":"IF(FromEvoM!W110=1,(FromEvoM!AB110*12),IF(FromEvoM!W110=7,(FromEvoM!AR110),\"\"))","v":""},null,null,{"$f":"IF(ISBLANK(FromEvoM!A110),\"\",IF(FromEvoM!AK110=\"y\",\"Y\",\"N\"))","v":""},{"$f":"IF(ISBLANK(FromEvoM!A110),\"\",Category_ID)","v":""},null,null,null,{"$f":"IF(ISBLANK(FromEvoM!AK110),\"\",FromEvoM!AK110)","v":""},{"$f":"IF(ISBLANK(FromEvoM!AM110),\"\",FromEvoM!AM110)","v":""},{"$f":"IF(ISBLANK(FromEvoM!AN110),\"\",FromEvoM!AN110)","v":""},{"$f":"IF(ISBLANK(FromEvoM!AL110),\"\",FromEvoM!AL110)","v":""},{"$f":"IF(ISBLANK(FromEvoM!A110),\"\",IF(AND(AF110=\"y\",AI110=1),\"Y\",\"N\"))","v":""},{"$f":"IF(ISBLANK(FromEvoM!A110),\"\",IF(FromEvoM!AS110=\"Yes\",2,1))","v":""},{"$f":"IF(FromEvoM!W110=1,\"M\",IF(FromEvoM!W110=7,\"W\",\"\"))","v":""},{"$f":"IF(AJ110=\"Y\",0,IF(AJ110=\"N\",FromEvoM!AF110+FromEvoM!AT110,\"\"))","v":""},{"$f":"IF(AJ110=\"Y\",(FromEvoM!AE110+FromEvoM!AF110-FromEvoM!AT110),IF(AJ110=\"N\",FromEvoM!AE110,\"\"))","v":""}]
[{"$f":"IF(ISBLANK(FromEvoM!A111),\"\",Group_Code)","v":""},{"$f":"IF(ISBLANK(FromEvoM!A111),\"\",SUBSTITUTE(FromEvoM!A111,\" \",\"\"))","v":""},{"$f":"IF(ISBLANK(FromEvoM!C111),\"\",SUBSTITUTE(FromEvoM!G111,\" \",\"\"))","v":""},{"$f":"IF(ISBLANK(FromEvoM!D111),\"\",FromEvoM!B111)","v":""},{"$f":"IF(ISBLANK(FromEvoM!D111),\"\",FromEvoM!D111)","v":""},{"$f":"IF(ISBLANK(FromEvoM!C111),\"\",FromEvoM!C111)","v":""},{"$f":"REPLACE(FromEvoM!F111,2,6, )","v":""},{"$f":"IF(ISNUMBER(FromEvoM!E111),FromEvoM!E111,\"\")","v":""},{"$f":"IF(ISBLANK(FromEvoM!I111),\"\",FromEvoM!I111)","v":""},{"$f":"IF(ISBLANK(FromEvoM!J111),\"\",FromEvoM!J111)","v":""},{"$f":"IF(ISBLANK(FromEvoM!K111),\"\",FromEvoM!K111)","v":""},{"$f":"IF(ISBLANK(FromEvoM!L111),\"\",FromEvoM!L111)","v":""},{"$f":"IF(ISBLANK(FromEvoM!M111),\"\",FromEvoM!M111)","v":""},{"$f":"IF(ISBLANK(FromEvoM!P111),\"\",FromEvoM!P111)","v":""},null,{"$f":"IF(ISNUMBER(FromEvoM!X111),FromEvoM!X111,\"\")","v":""},{"$f":"IF(ISNUMBER(FromEvoM!AB111),FromEvoM!AB111,\"\")","v":""},{"$f":"IF(ISNUMBER(FromEvoM!AA111),FromEvoM!AA111,\"\")","v":""},null,"","",null,null,{"$f":"IF(FromEvoM!W111=1,(FromEvoM!AB111*12),IF(FromEvoM!W111=7,(FromEvoM!AR111),\"\"))","v":""},null,null,{"$f":"IF(ISBLANK(FromEvoM!A111),\"\",IF(FromEvoM!AK111=\"y\",\"Y\",\"N\"))","v":""},{"$f":"IF(ISBLANK(FromEvoM!A111),\"\",Category_ID)","v":""},null,null,null,{"$f":"IF(ISBLANK(FromEvoM!AK111),\"\",FromEvoM!AK111)","v":""},{"$f":"IF(ISBLANK(FromEvoM!AM111),\"\",FromEvoM!AM111)","v":""},{"$f":"IF(ISBLANK(FromEvoM!AN111),\"\",FromEvoM!AN111)","v":""},{"$f":"IF(ISBLANK(FromEvoM!AL111),\"\",FromEvoM!AL111)","v":""},{"$f":"IF(ISBLANK(FromEvoM!A111),\"\",IF(AND(AF111=\"y\",AI111=1),\"Y\",\"N\"))","v":""},{"$f":"IF(ISBLANK(FromEvoM!A111),\"\",IF(FromEvoM!AS111=\"Yes\",2,1))","v":""},{"$f":"IF(FromEvoM!W111=1,\"M\",IF(FromEvoM!W111=7,\"W\",\"\"))","v":""},{"$f":"IF(AJ111=\"Y\",0,IF(AJ111=\"N\",FromEvoM!AF111+FromEvoM!AT111,\"\"))","v":""},{"$f":"IF(AJ111=\"Y\",(FromEvoM!AE111+FromEvoM!AF111-FromEvoM!AT111),IF(AJ111=\"N\",FromEvoM!AE111,\"\"))","v":""}]
[{"$f":"IF(ISBLANK(FromEvoM!A112),\"\",Group_Code)","v":""},{"$f":"IF(ISBLANK(FromEvoM!A112),\"\",SUBSTITUTE(FromEvoM!A112,\" \",\"\"))","v":""},{"$f":"IF(ISBLANK(FromEvoM!C112),\"\",SUBSTITUTE(FromEvoM!G112,\" \",\"\"))","v":""},{"$f":"IF(ISBLANK(FromEvoM!D112),\"\",FromEvoM!B112)","v":""},{"$f":"IF(ISBLANK(FromEvoM!D112),\"\",FromEvoM!D112)","v":""},{"$f":"IF(ISBLANK(FromEvoM!C112),\"\",FromEvoM!C112)","v":""},{"$f":"REPLACE(FromEvoM!F112,2,6, )","v":""},{"$f":"IF(ISNUMBER(FromEvoM!E112),FromEvoM!E112,\"\")","v":""},{"$f":"IF(ISBLANK(FromEvoM!I112),\"\",FromEvoM!I112)","v":""},{"$f":"IF(ISBLANK(FromEvoM!J112),\"\",FromEvoM!J112)","v":""},{"$f":"IF(ISBLANK(FromEvoM!K112),\"\",FromEvoM!K112)","v":""},{"$f":"IF(ISBLANK(FromEvoM!L112),\"\",FromEvoM!L112)","v":""},{"$f":"IF(ISBLANK(FromEvoM!M112),\"\",FromEvoM!M112)","v":""},{"$f":"IF(ISBLANK(FromEvoM!P112),\"\",FromEvoM!P112)","v":""},null,{"$f":"IF(ISNUMBER(FromEvoM!X112),FromEvoM!X112,\"\")","v":""},{"$f":"IF(ISNUMBER(FromEvoM!AB112),FromEvoM!AB112,\"\")","v":""},{"$f":"IF(ISNUMBER(FromEvoM!AA112),FromEvoM!AA112,\"\")","v":""},null,"","",null,null,{"$f":"IF(FromEvoM!W112=1,(FromEvoM!AB112*12),IF(FromEvoM!W112=7,(FromEvoM!AR112),\"\"))","v":""},null,null,{"$f":"IF(ISBLANK(FromEvoM!A112),\"\",IF(FromEvoM!AK112=\"y\",\"Y\",\"N\"))","v":""},{"$f":"IF(ISBLANK(FromEvoM!A112),\"\",Category_ID)","v":""},null,null,null,{"$f":"IF(ISBLANK(FromEvoM!AK112),\"\",FromEvoM!AK112)","v":""},{"$f":"IF(ISBLANK(FromEvoM!AM112),\"\",FromEvoM!AM112)","v":""},{"$f":"IF(ISBLANK(FromEvoM!AN112),\"\",FromEvoM!AN112)","v":""},{"$f":"IF(ISBLANK(FromEvoM!AL112),\"\",FromEvoM!AL112)","v":""},{"$f":"IF(ISBLANK(FromEvoM!A112),\"\",IF(AND(AF112=\"y\",AI112=1),\"Y\",\"N\"))","v":""},{"$f":"IF(ISBLANK(FromEvoM!A112),\"\",IF(FromEvoM!AS112=\"Yes\",2,1))","v":""},{"$f":"IF(FromEvoM!W112=1,\"M\",IF(FromEvoM!W112=7,\"W\",\"\"))","v":""},{"$f":"IF(AJ112=\"Y\",0,IF(AJ112=\"N\",FromEvoM!AF112+FromEvoM!AT112,\"\"))","v":""},{"$f":"IF(AJ112=\"Y\",(FromEvoM!AE112+FromEvoM!AF112-FromEvoM!AT112),IF(AJ112=\"N\",FromEvoM!AE112,\"\"))","v":""}]
[{"$f":"IF(ISBLANK(FromEvoM!A113),\"\",Group_Code)","v":""},{"$f":"IF(ISBLANK(FromEvoM!A113),\"\",SUBSTITUTE(FromEvoM!A113,\" \",\"\"))","v":""},{"$f":"IF(ISBLANK(FromEvoM!C113),\"\",SUBSTITUTE(FromEvoM!G113,\" \",\"\"))","v":""},{"$f":"IF(ISBLANK(FromEvoM!D113),\"\",FromEvoM!B113)","v":""},{"$f":"IF(ISBLANK(FromEvoM!D113),\"\",FromEvoM!D113)","v":""},{"$f":"IF(ISBLANK(FromEvoM!C113),\"\",FromEvoM!C113)","v":""},{"$f":"REPLACE(FromEvoM!F113,2,6, )","v":""},{"$f":"IF(ISNUMBER(FromEvoM!E113),FromEvoM!E113,\"\")","v":""},{"$f":"IF(ISBLANK(FromEvoM!I113),\"\",FromEvoM!I113)","v":""},{"$f":"IF(ISBLANK(FromEvoM!J113),\"\",FromEvoM!J113)","v":""},{"$f":"IF(ISBLANK(FromEvoM!K113),\"\",FromEvoM!K113)","v":""},{"$f":"IF(ISBLANK(FromEvoM!L113),\"\",FromEvoM!L113)","v":""},{"$f":"IF(ISBLANK(FromEvoM!M113),\"\",FromEvoM!M113)","v":""},{"$f":"IF(ISBLANK(FromEvoM!P113),\"\",FromEvoM!P113)","v":""},null,{"$f":"IF(ISNUMBER(FromEvoM!X113),FromEvoM!X113,\"\")","v":""},{"$f":"IF(ISNUMBER(FromEvoM!AB113),FromEvoM!AB113,\"\")","v":""},{"$f":"IF(ISNUMBER(FromEvoM!AA113),FromEvoM!AA113,\"\")","v":""},null,"","",null,null,{"$f":"IF(FromEvoM!W113=1,(FromEvoM!AB113*12),IF(FromEvoM!W113=7,(FromEvoM!AR113),\"\"))","v":""},null,null,{"$f":"IF(ISBLANK(FromEvoM!A113),\"\",IF(FromEvoM!AK113=\"y\",\"Y\",\"N\"))","v":""},{"$f":"IF(ISBLANK(FromEvoM!A113),\"\",Category_ID)","v":""},null,null,null,{"$f":"IF(ISBLANK(FromEvoM!AK113),\"\",FromEvoM!AK113)","v":""},{"$f":"IF(ISBLANK(FromEvoM!AM113),\"\",FromEvoM!AM113)","v":""},{"$f":"IF(ISBLANK(FromEvoM!AN113),\"\",FromEvoM!AN113)","v":""},{"$f":"IF(ISBLANK(FromEvoM!AL113),\"\",FromEvoM!AL113)","v":""},{"$f":"IF(ISBLANK(FromEvoM!A113),\"\",IF(AND(AF113=\"y\",AI113=1),\"Y\",\"N\"))","v":""},{"$f":"IF(ISBLANK(FromEvoM!A113),\"\",IF(FromEvoM!AS113=\"Yes\",2,1))","v":""},{"$f":"IF(FromEvoM!W113=1,\"M\",IF(FromEvoM!W113=7,\"W\",\"\"))","v":""},{"$f":"IF(AJ113=\"Y\",0,IF(AJ113=\"N\",FromEvoM!AF113+FromEvoM!AT113,\"\"))","v":""},{"$f":"IF(AJ113=\"Y\",(FromEvoM!AE113+FromEvoM!AF113-FromEvoM!AT113),IF(AJ113=\"N\",FromEvoM!AE113,\"\"))","v":""}]
[{"$f":"IF(ISBLANK(FromEvoM!A114),\"\",Group_Code)","v":""},{"$f":"IF(ISBLANK(FromEvoM!A114),\"\",SUBSTITUTE(FromEvoM!A114,\" \",\"\"))","v":""},{"$f":"IF(ISBLANK(FromEvoM!C114),\"\",SUBSTITUTE(FromEvoM!G114,\" \",\"\"))","v":""},{"$f":"IF(ISBLANK(FromEvoM!D114),\"\",FromEvoM!B114)","v":""},{"$f":"IF(ISBLANK(FromEvoM!D114),\"\",FromEvoM!D114)","v":""},{"$f":"IF(ISBLANK(FromEvoM!C114),\"\",FromEvoM!C114)","v":""},{"$f":"REPLACE(FromEvoM!F114,2,6, )","v":""},{"$f":"IF(ISNUMBER(FromEvoM!E114),FromEvoM!E114,\"\")","v":""},{"$f":"IF(ISBLANK(FromEvoM!I114),\"\",FromEvoM!I114)","v":""},{"$f":"IF(ISBLANK(FromEvoM!J114),\"\",FromEvoM!J114)","v":""},{"$f":"IF(ISBLANK(FromEvoM!K114),\"\",FromEvoM!K114)","v":""},{"$f":"IF(ISBLANK(FromEvoM!L114),\"\",FromEvoM!L114)","v":""},{"$f":"IF(ISBLANK(FromEvoM!M114),\"\",FromEvoM!M114)","v":""},{"$f":"IF(ISBLANK(FromEvoM!P114),\"\",FromEvoM!P114)","v":""},null,{"$f":"IF(ISNUMBER(FromEvoM!X114),FromEvoM!X114,\"\")","v":""},{"$f":"IF(ISNUMBER(FromEvoM!AB114),FromEvoM!AB114,\"\")","v":""},{"$f":"IF(ISNUMBER(FromEvoM!AA114),FromEvoM!AA114,\"\")","v":""},null,"","",null,null,{"$f":"IF(FromEvoM!W114=1,(FromEvoM!AB114*12),IF(FromEvoM!W114=7,(FromEvoM!AR114),\"\"))","v":""},null,null,{"$f":"IF(ISBLANK(FromEvoM!A114),\"\",IF(FromEvoM!AK114=\"y\",\"Y\",\"N\"))","v":""},{"$f":"IF(ISBLANK(FromEvoM!A114),\"\",Category_ID)","v":""},null,null,null,{"$f":"IF(ISBLANK(FromEvoM!AK114),\"\",FromEvoM!AK114)","v":""},{"$f":"IF(ISBLANK(FromEvoM!AM114),\"\",FromEvoM!AM114)","v":""},{"$f":"IF(ISBLANK(FromEvoM!AN114),\"\",FromEvoM!AN114)","v":""},{"$f":"IF(ISBLANK(FromEvoM!AL114),\"\",FromEvoM!AL114)","v":""},{"$f":"IF(ISBLANK(FromEvoM!A114),\"\",IF(AND(AF114=\"y\",AI114=1),\"Y\",\"N\"))","v":""},{"$f":"IF(ISBLANK(FromEvoM!A114),\"\",IF(FromEvoM!AS114=\"Yes\",2,1))","v":""},{"$f":"IF(FromEvoM!W114=1,\"M\",IF(FromEvoM!W114=7,\"W\",\"\"))","v":""},{"$f":"IF(AJ114=\"Y\",0,IF(AJ114=\"N\",FromEvoM!AF114+FromEvoM!AT114,\"\"))","v":""},{"$f":"IF(AJ114=\"Y\",(FromEvoM!AE114+FromEvoM!AF114-FromEvoM!AT114),IF(AJ114=\"N\",FromEvoM!AE114,\"\"))","v":""}]
[{"$f":"IF(ISBLANK(FromEvoM!A115),\"\",Group_Code)","v":""},{"$f":"IF(ISBLANK(FromEvoM!A115),\"\",SUBSTITUTE(FromEvoM!A115,\" \",\"\"))","v":""},{"$f":"IF(ISBLANK(FromEvoM!C115),\"\",SUBSTITUTE(FromEvoM!G115,\" \",\"\"))","v":""},{"$f":"IF(ISBLANK(FromEvoM!D115),\"\",FromEvoM!B115)","v":""},{"$f":"IF(ISBLANK(FromEvoM!D115),\"\",FromEvoM!D115)","v":""},{"$f":"IF(ISBLANK(FromEvoM!C115),\"\",FromEvoM!C115)","v":""},{"$f":"REPLACE(FromEvoM!F115,2,6, )","v":""},{"$f":"IF(ISNUMBER(FromEvoM!E115),FromEvoM!E115,\"\")","v":""},{"$f":"IF(ISBLANK(FromEvoM!I115),\"\",FromEvoM!I115)","v":""},{"$f":"IF(ISBLANK(FromEvoM!J115),\"\",FromEvoM!J115)","v":""},{"$f":"IF(ISBLANK(FromEvoM!K115),\"\",FromEvoM!K115)","v":""},{"$f":"IF(ISBLANK(FromEvoM!L115),\"\",FromEvoM!L115)","v":""},{"$f":"IF(ISBLANK(FromEvoM!M115),\"\",FromEvoM!M115)","v":""},{"$f":"IF(ISBLANK(FromEvoM!P115),\"\",FromEvoM!P115)","v":""},null,{"$f":"IF(ISNUMBER(FromEvoM!X115),FromEvoM!X115,\"\")","v":""},{"$f":"IF(ISNUMBER(FromEvoM!AB115),FromEvoM!AB115,\"\")","v":""},{"$f":"IF(ISNUMBER(FromEvoM!AA115),FromEvoM!AA115,\"\")","v":""},null,"","",null,null,{"$f":"IF(FromEvoM!W115=1,(FromEvoM!AB115*12),IF(FromEvoM!W115=7,(FromEvoM!AR115),\"\"))","v":""},null,null,{"$f":"IF(ISBLANK(FromEvoM!A115),\"\",IF(FromEvoM!AK115=\"y\",\"Y\",\"N\"))","v":""},{"$f":"IF(ISBLANK(FromEvoM!A115),\"\",Category_ID)","v":""},null,null,null,{"$f":"IF(ISBLANK(FromEvoM!AK115),\"\",FromEvoM!AK115)","v":""},{"$f":"IF(ISBLANK(FromEvoM!AM115),\"\",FromEvoM!AM115)","v":""},{"$f":"IF(ISBLANK(FromEvoM!AN115),\"\",FromEvoM!AN115)","v":""},{"$f":"IF(ISBLANK(FromEvoM!AL115),\"\",FromEvoM!AL115)","v":""},{"$f":"IF(ISBLANK(FromEvoM!A115),\"\",IF(AND(AF115=\"y\",AI115=1),\"Y\",\"N\"))","v":""},{"$f":"IF(ISBLANK(FromEvoM!A115),\"\",IF(FromEvoM!AS115=\"Yes\",2,1))","v":""},{"$f":"IF(FromEvoM!W115=1,\"M\",IF(FromEvoM!W115=7,\"W\",\"\"))","v":""},{"$f":"IF(AJ115=\"Y\",0,IF(AJ115=\"N\",FromEvoM!AF115+FromEvoM!AT115,\"\"))","v":""},{"$f":"IF(AJ115=\"Y\",(FromEvoM!AE115+FromEvoM!AF115-FromEvoM!AT115),IF(AJ115=\"N\",FromEvoM!AE115,\"\"))","v":""}]
[{"$f":"IF(ISBLANK(FromEvoM!A116),\"\",Group_Code)","v":""},{"$f":"IF(ISBLANK(FromEvoM!A116),\"\",SUBSTITUTE(FromEvoM!A116,\" \",\"\"))","v":""},{"$f":"IF(ISBLANK(FromEvoM!C116),\"\",SUBSTITUTE(FromEvoM!G116,\" \",\"\"))","v":""},{"$f":"IF(ISBLANK(FromEvoM!D116),\"\",FromEvoM!B116)","v":""},{"$f":"IF(ISBLANK(FromEvoM!D116),\"\",FromEvoM!D116)","v":""},{"$f":"IF(ISBLANK(FromEvoM!C116),\"\",FromEvoM!C116)","v":""},{"$f":"REPLACE(FromEvoM!F116,2,6, )","v":""},{"$f":"IF(ISNUMBER(FromEvoM!E116),FromEvoM!E116,\"\")","v":""},{"$f":"IF(ISBLANK(FromEvoM!I116),\"\",FromEvoM!I116)","v":""},{"$f":"IF(ISBLANK(FromEvoM!J116),\"\",FromEvoM!J116)","v":""},{"$f":"IF(ISBLANK(FromEvoM!K116),\"\",FromEvoM!K116)","v":""},{"$f":"IF(ISBLANK(FromEvoM!L116),\"\",FromEvoM!L116)","v":""},{"$f":"IF(ISBLANK(FromEvoM!M116),\"\",FromEvoM!M116)","v":""},{"$f":"IF(ISBLANK(FromEvoM!P116),\"\",FromEvoM!P116)","v":""},null,{"$f":"IF(ISNUMBER(FromEvoM!X116),FromEvoM!X116,\"\")","v":""},{"$f":"IF(ISNUMBER(FromEvoM!AB116),FromEvoM!AB116,\"\")","v":""},{"$f":"IF(ISNUMBER(FromEvoM!AA116),FromEvoM!AA116,\"\")","v":""},null,"","",null,null,{"$f":"IF(FromEvoM!W116=1,(FromEvoM!AB116*12),IF(FromEvoM!W116=7,(FromEvoM!AR116),\"\"))","v":""},null,null,{"$f":"IF(ISBLANK(FromEvoM!A116),\"\",IF(FromEvoM!AK116=\"y\",\"Y\",\"N\"))","v":""},{"$f":"IF(ISBLANK(FromEvoM!A116),\"\",Category_ID)","v":""},null,null,null,{"$f":"IF(ISBLANK(FromEvoM!AK116),\"\",FromEvoM!AK116)","v":""},{"$f":"IF(ISBLANK(FromEvoM!AM116),\"\",FromEvoM!AM116)","v":""},{"$f":"IF(ISBLANK(FromEvoM!AN116),\"\",FromEvoM!AN116)","v":""},{"$f":"IF(ISBLANK(FromEvoM!AL116),\"\",FromEvoM!AL116)","v":""},{"$f":"IF(ISBLANK(FromEvoM!A116),\"\",IF(AND(AF116=\"y\",AI116=1),\"Y\",\"N\"))","v":""},{"$f":"IF(ISBLANK(FromEvoM!A116),\"\",IF(FromEvoM!AS116=\"Yes\",2,1))","v":""},{"$f":"IF(FromEvoM!W116=1,\"M\",IF(FromEvoM!W116=7,\"W\",\"\"))","v":""},{"$f":"IF(AJ116=\"Y\",0,IF(AJ116=\"N\",FromEvoM!AF116+FromEvoM!AT116,\"\"))","v":""},{"$f":"IF(AJ116=\"Y\",(FromEvoM!AE116+FromEvoM!AF116-FromEvoM!AT116),IF(AJ116=\"N\",FromEvoM!AE116,\"\"))","v":""}]
[{"$f":"IF(ISBLANK(FromEvoM!A117),\"\",Group_Code)","v":""},{"$f":"IF(ISBLANK(FromEvoM!A117),\"\",SUBSTITUTE(FromEvoM!A117,\" \",\"\"))","v":""},{"$f":"IF(ISBLANK(FromEvoM!C117),\"\",SUBSTITUTE(FromEvoM!G117,\" \",\"\"))","v":""},{"$f":"IF(ISBLANK(FromEvoM!D117),\"\",FromEvoM!B117)","v":""},{"$f":"IF(ISBLANK(FromEvoM!D117),\"\",FromEvoM!D117)","v":""},{"$f":"IF(ISBLANK(FromEvoM!C117),\"\",FromEvoM!C117)","v":""},{"$f":"REPLACE(FromEvoM!F117,2,6, )","v":""},{"$f":"IF(ISNUMBER(FromEvoM!E117),FromEvoM!E117,\"\")","v":""},{"$f":"IF(ISBLANK(FromEvoM!I117),\"\",FromEvoM!I117)","v":""},{"$f":"IF(ISBLANK(FromEvoM!J117),\"\",FromEvoM!J117)","v":""},{"$f":"IF(ISBLANK(FromEvoM!K117),\"\",FromEvoM!K117)","v":""},{"$f":"IF(ISBLANK(FromEvoM!L117),\"\",FromEvoM!L117)","v":""},{"$f":"IF(ISBLANK(FromEvoM!M117),\"\",FromEvoM!M117)","v":""},{"$f":"IF(ISBLANK(FromEvoM!P117),\"\",FromEvoM!P117)","v":""},null,{"$f":"IF(ISNUMBER(FromEvoM!X117),FromEvoM!X117,\"\")","v":""},{"$f":"IF(ISNUMBER(FromEvoM!AB117),FromEvoM!AB117,\"\")","v":""},{"$f":"IF(ISNUMBER(FromEvoM!AA117),FromEvoM!AA117,\"\")","v":""},null,"","",null,null,{"$f":"IF(FromEvoM!W117=1,(FromEvoM!AB117*12),IF(FromEvoM!W117=7,(FromEvoM!AR117),\"\"))","v":""},null,null,{"$f":"IF(ISBLANK(FromEvoM!A117),\"\",IF(FromEvoM!AK117=\"y\",\"Y\",\"N\"))","v":""},{"$f":"IF(ISBLANK(FromEvoM!A117),\"\",Category_ID)","v":""},null,null,null,{"$f":"IF(ISBLANK(FromEvoM!AK117),\"\",FromEvoM!AK117)","v":""},{"$f":"IF(ISBLANK(FromEvoM!AM117),\"\",FromEvoM!AM117)","v":""},{"$f":"IF(ISBLANK(FromEvoM!AN117),\"\",FromEvoM!AN117)","v":""},{"$f":"IF(ISBLANK(FromEvoM!AL117),\"\",FromEvoM!AL117)","v":""},{"$f":"IF(ISBLANK(FromEvoM!A117),\"\",IF(AND(AF117=\"y\",AI117=1),\"Y\",\"N\"))","v":""},{"$f":"IF(ISBLANK(FromEvoM!A117),\"\",IF(FromEvoM!AS117=\"Yes\",2,1))","v":""},{"$f":"IF(FromEvoM!W117=1,\"M\",IF(FromEvoM!W117=7,\"W\",\"\"))","v":""},{"$f":"IF(AJ117=\"Y\",0,IF(AJ117=\"N\",FromEvoM!AF117+FromEvoM!AT117,\"\"))","v":""},{"$f":"IF(AJ117=\"Y\",(FromEvoM!AE117+FromEvoM!AF117-FromEvoM!AT117),IF(AJ117=\"N\",FromEvoM!AE117,\"\"))","v":""}]
[{"$f":"IF(ISBLANK(FromEvoM!A118),\"\",Group_Code)","v":""},{"$f":"IF(ISBLANK(FromEvoM!A118),\"\",SUBSTITUTE(FromEvoM!A118,\" \",\"\"))","v":""},{"$f":"IF(ISBLANK(FromEvoM!C118),\"\",SUBSTITUTE(FromEvoM!G118,\" \",\"\"))","v":""},{"$f":"IF(ISBLANK(FromEvoM!D118),\"\",FromEvoM!B118)","v":""},{"$f":"IF(ISBLANK(FromEvoM!D118),\"\",FromEvoM!D118)","v":""},{"$f":"IF(ISBLANK(FromEvoM!C118),\"\",FromEvoM!C118)","v":""},{"$f":"REPLACE(FromEvoM!F118,2,6, )","v":""},{"$f":"IF(ISNUMBER(FromEvoM!E118),FromEvoM!E118,\"\")","v":""},{"$f":"IF(ISBLANK(FromEvoM!I118),\"\",FromEvoM!I118)","v":""},{"$f":"IF(ISBLANK(FromEvoM!J118),\"\",FromEvoM!J118)","v":""},{"$f":"IF(ISBLANK(FromEvoM!K118),\"\",FromEvoM!K118)","v":""},{"$f":"IF(ISBLANK(FromEvoM!L118),\"\",FromEvoM!L118)","v":""},{"$f":"IF(ISBLANK(FromEvoM!M118),\"\",FromEvoM!M118)","v":""},{"$f":"IF(ISBLANK(FromEvoM!P118),\"\",FromEvoM!P118)","v":""},null,{"$f":"IF(ISNUMBER(FromEvoM!X118),FromEvoM!X118,\"\")","v":""},{"$f":"IF(ISNUMBER(FromEvoM!AB118),FromEvoM!AB118,\"\")","v":""},{"$f":"IF(ISNUMBER(FromEvoM!AA118),FromEvoM!AA118,\"\")","v":""},null,"","",null,null,{"$f":"IF(FromEvoM!W118=1,(FromEvoM!AB118*12),IF(FromEvoM!W118=7,(FromEvoM!AR118),\"\"))","v":""},null,null,{"$f":"IF(ISBLANK(FromEvoM!A118),\"\",IF(FromEvoM!AK118=\"y\",\"Y\",\"N\"))","v":""},{"$f":"IF(ISBLANK(FromEvoM!A118),\"\",Category_ID)","v":""},null,null,null,{"$f":"IF(ISBLANK(FromEvoM!AK118),\"\",FromEvoM!AK118)","v":""},{"$f":"IF(ISBLANK(FromEvoM!AM118),\"\",FromEvoM!AM118)","v":""},{"$f":"IF(ISBLANK(FromEvoM!AN118),\"\",FromEvoM!AN118)","v":""},{"$f":"IF(ISBLANK(FromEvoM!AL118),\"\",FromEvoM!AL118)","v":""},{"$f":"IF(ISBLANK(FromEvoM!A118),\"\",IF(AND(AF118=\"y\",AI118=1),\"Y\",\"N\"))","v":""},{"$f":"IF(ISBLANK(FromEvoM!A118),\"\",IF(FromEvoM!AS118=\"Yes\",2,1))","v":""},{"$f":"IF(FromEvoM!W118=1,\"M\",IF(FromEvoM!W118=7,\"W\",\"\"))","v":""},{"$f":"IF(AJ118=\"Y\",0,IF(AJ118=\"N\",FromEvoM!AF118+FromEvoM!AT118,\"\"))","v":""},{"$f":"IF(AJ118=\"Y\",(FromEvoM!AE118+FromEvoM!AF118-FromEvoM!AT118),IF(AJ118=\"N\",FromEvoM!AE118,\"\"))","v":""}]
[{"$f":"IF(ISBLANK(FromEvoM!A119),\"\",Group_Code)","v":""},{"$f":"IF(ISBLANK(FromEvoM!A119),\"\",SUBSTITUTE(FromEvoM!A119,\" \",\"\"))","v":""},{"$f":"IF(ISBLANK(FromEvoM!C119),\"\",SUBSTITUTE(FromEvoM!G119,\" \",\"\"))","v":""},{"$f":"IF(ISBLANK(FromEvoM!D119),\"\",FromEvoM!B119)","v":""},{"$f":"IF(ISBLANK(FromEvoM!D119),\"\",FromEvoM!D119)","v":""},{"$f":"IF(ISBLANK(FromEvoM!C119),\"\",FromEvoM!C119)","v":""},{"$f":"REPLACE(FromEvoM!F119,2,6, )","v":""},{"$f":"IF(ISNUMBER(FromEvoM!E119),FromEvoM!E119,\"\")","v":""},{"$f":"IF(ISBLANK(FromEvoM!I119),\"\",FromEvoM!I119)","v":""},{"$f":"IF(ISBLANK(FromEvoM!J119),\"\",FromEvoM!J119)","v":""},{"$f":"IF(ISBLANK(FromEvoM!K119),\"\",FromEvoM!K119)","v":""},{"$f":"IF(ISBLANK(FromEvoM!L119),\"\",FromEvoM!L119)","v":""},{"$f":"IF(ISBLANK(FromEvoM!M119),\"\",FromEvoM!M119)","v":""},{"$f":"IF(ISBLANK(FromEvoM!P119),\"\",FromEvoM!P119)","v":""},null,{"$f":"IF(ISNUMBER(FromEvoM!X119),FromEvoM!X119,\"\")","v":""},{"$f":"IF(ISNUMBER(FromEvoM!AB119),FromEvoM!AB119,\"\")","v":""},{"$f":"IF(ISNUMBER(FromEvoM!AA119),FromEvoM!AA119,\"\")","v":""},null,"","",null,null,{"$f":"IF(FromEvoM!W119=1,(FromEvoM!AB119*12),IF(FromEvoM!W119=7,(FromEvoM!AR119),\"\"))","v":""},null,null,{"$f":"IF(ISBLANK(FromEvoM!A119),\"\",IF(FromEvoM!AK119=\"y\",\"Y\",\"N\"))","v":""},{"$f":"IF(ISBLANK(FromEvoM!A119),\"\",Category_ID)","v":""},null,null,null,{"$f":"IF(ISBLANK(FromEvoM!AK119),\"\",FromEvoM!AK119)","v":""},{"$f":"IF(ISBLANK(FromEvoM!AM119),\"\",FromEvoM!AM119)","v":""},{"$f":"IF(ISBLANK(FromEvoM!AN119),\"\",FromEvoM!AN119)","v":""},{"$f":"IF(ISBLANK(FromEvoM!AL119),\"\",FromEvoM!AL119)","v":""},{"$f":"IF(ISBLANK(FromEvoM!A119),\"\",IF(AND(AF119=\"y\",AI119=1),\"Y\",\"N\"))","v":""},{"$f":"IF(ISBLANK(FromEvoM!A119),\"\",IF(FromEvoM!AS119=\"Yes\",2,1))","v":""},{"$f":"IF(FromEvoM!W119=1,\"M\",IF(FromEvoM!W119=7,\"W\",\"\"))","v":""},{"$f":"IF(AJ119=\"Y\",0,IF(AJ119=\"N\",FromEvoM!AF119+FromEvoM!AT119,\"\"))","v":""},{"$f":"IF(AJ119=\"Y\",(FromEvoM!AE119+FromEvoM!AF119-FromEvoM!AT119),IF(AJ119=\"N\",FromEvoM!AE119,\"\"))","v":""}]
[{"$f":"IF(ISBLANK(FromEvoM!A120),\"\",Group_Code)","v":""},{"$f":"IF(ISBLANK(FromEvoM!A120),\"\",SUBSTITUTE(FromEvoM!A120,\" \",\"\"))","v":""},{"$f":"IF(ISBLANK(FromEvoM!C120),\"\",SUBSTITUTE(FromEvoM!G120,\" \",\"\"))","v":""},{"$f":"IF(ISBLANK(FromEvoM!D120),\"\",FromEvoM!B120)","v":""},{"$f":"IF(ISBLANK(FromEvoM!D120),\"\",FromEvoM!D120)","v":""},{"$f":"IF(ISBLANK(FromEvoM!C120),\"\",FromEvoM!C120)","v":""},{"$f":"REPLACE(FromEvoM!F120,2,6, )","v":""},{"$f":"IF(ISNUMBER(FromEvoM!E120),FromEvoM!E120,\"\")","v":""},{"$f":"IF(ISBLANK(FromEvoM!I120),\"\",FromEvoM!I120)","v":""},{"$f":"IF(ISBLANK(FromEvoM!J120),\"\",FromEvoM!J120)","v":""},{"$f":"IF(ISBLANK(FromEvoM!K120),\"\",FromEvoM!K120)","v":""},{"$f":"IF(ISBLANK(FromEvoM!L120),\"\",FromEvoM!L120)","v":""},{"$f":"IF(ISBLANK(FromEvoM!M120),\"\",FromEvoM!M120)","v":""},{"$f":"IF(ISBLANK(FromEvoM!P120),\"\",FromEvoM!P120)","v":""},null,{"$f":"IF(ISNUMBER(FromEvoM!X120),FromEvoM!X120,\"\")","v":""},{"$f":"IF(ISNUMBER(FromEvoM!AB120),FromEvoM!AB120,\"\")","v":""},{"$f":"IF(ISNUMBER(FromEvoM!AA120),FromEvoM!AA120,\"\")","v":""},null,"","",null,null,{"$f":"IF(FromEvoM!W120=1,(FromEvoM!AB120*12),IF(FromEvoM!W120=7,(FromEvoM!AR120),\"\"))","v":""},null,null,{"$f":"IF(ISBLANK(FromEvoM!A120),\"\",IF(FromEvoM!AK120=\"y\",\"Y\",\"N\"))","v":""},{"$f":"IF(ISBLANK(FromEvoM!A120),\"\",Category_ID)","v":""},null,null,null,{"$f":"IF(ISBLANK(FromEvoM!AK120),\"\",FromEvoM!AK120)","v":""},{"$f":"IF(ISBLANK(FromEvoM!AM120),\"\",FromEvoM!AM120)","v":""},{"$f":"IF(ISBLANK(FromEvoM!AN120),\"\",FromEvoM!AN120)","v":""},{"$f":"IF(ISBLANK(FromEvoM!AL120),\"\",FromEvoM!AL120)","v":""},{"$f":"IF(ISBLANK(FromEvoM!A120),\"\",IF(AND(AF120=\"y\",AI120=1),\"Y\",\"N\"))","v":""},{"$f":"IF(ISBLANK(FromEvoM!A120),\"\",IF(FromEvoM!AS120=\"Yes\",2,1))","v":""},{"$f":"IF(FromEvoM!W120=1,\"M\",IF(FromEvoM!W120=7,\"W\",\"\"))","v":""},{"$f":"IF(AJ120=\"Y\",0,IF(AJ120=\"N\",FromEvoM!AF120+FromEvoM!AT120,\"\"))","v":""},{"$f":"IF(AJ120=\"Y\",(FromEvoM!AE120+FromEvoM!AF120-FromEvoM!AT120),IF(AJ120=\"N\",FromEvoM!AE120,\"\"))","v":""}]
[{"$f":"IF(ISBLANK(FromEvoM!A121),\"\",Group_Code)","v":""},{"$f":"IF(ISBLANK(FromEvoM!A121),\"\",SUBSTITUTE(FromEvoM!A121,\" \",\"\"))","v":""},{"$f":"IF(ISBLANK(FromEvoM!C121),\"\",SUBSTITUTE(FromEvoM!G121,\" \",\"\"))","v":""},{"$f":"IF(ISBLANK(FromEvoM!D121),\"\",FromEvoM!B121)","v":""},{"$f":"IF(ISBLANK(FromEvoM!D121),\"\",FromEvoM!D121)","v":""},{"$f":"IF(ISBLANK(FromEvoM!C121),\"\",FromEvoM!C121)","v":""},{"$f":"REPLACE(FromEvoM!F121,2,6, )","v":""},{"$f":"IF(ISNUMBER(FromEvoM!E121),FromEvoM!E121,\"\")","v":""},{"$f":"IF(ISBLANK(FromEvoM!I121),\"\",FromEvoM!I121)","v":""},{"$f":"IF(ISBLANK(FromEvoM!J121),\"\",FromEvoM!J121)","v":""},{"$f":"IF(ISBLANK(FromEvoM!K121),\"\",FromEvoM!K121)","v":""},{"$f":"IF(ISBLANK(FromEvoM!L121),\"\",FromEvoM!L121)","v":""},{"$f":"IF(ISBLANK(FromEvoM!M121),\"\",FromEvoM!M121)","v":""},{"$f":"IF(ISBLANK(FromEvoM!P121),\"\",FromEvoM!P121)","v":""},null,{"$f":"IF(ISNUMBER(FromEvoM!X121),FromEvoM!X121,\"\")","v":""},{"$f":"IF(ISNUMBER(FromEvoM!AB121),FromEvoM!AB121,\"\")","v":""},{"$f":"IF(ISNUMBER(FromEvoM!AA121),FromEvoM!AA121,\"\")","v":""},null,"","",null,null,{"$f":"IF(FromEvoM!W121=1,(FromEvoM!AB121*12),IF(FromEvoM!W121=7,(FromEvoM!AR121),\"\"))","v":""},null,null,{"$f":"IF(ISBLANK(FromEvoM!A121),\"\",IF(FromEvoM!AK121=\"y\",\"Y\",\"N\"))","v":""},{"$f":"IF(ISBLANK(FromEvoM!A121),\"\",Category_ID)","v":""},null,null,null,{"$f":"IF(ISBLANK(FromEvoM!AK121),\"\",FromEvoM!AK121)","v":""},{"$f":"IF(ISBLANK(FromEvoM!AM121),\"\",FromEvoM!AM121)","v":""},{"$f":"IF(ISBLANK(FromEvoM!AN121),\"\",FromEvoM!AN121)","v":""},{"$f":"IF(ISBLANK(FromEvoM!AL121),\"\",FromEvoM!AL121)","v":""},{"$f":"IF(ISBLANK(FromEvoM!A121),\"\",IF(AND(AF121=\"y\",AI121=1),\"Y\",\"N\"))","v":""},{"$f":"IF(ISBLANK(FromEvoM!A121),\"\",IF(FromEvoM!AS121=\"Yes\",2,1))","v":""},{"$f":"IF(FromEvoM!W121=1,\"M\",IF(FromEvoM!W121=7,\"W\",\"\"))","v":""},{"$f":"IF(AJ121=\"Y\",0,IF(AJ121=\"N\",FromEvoM!AF121+FromEvoM!AT121,\"\"))","v":""},{"$f":"IF(AJ121=\"Y\",(FromEvoM!AE121+FromEvoM!AF121-FromEvoM!AT121),IF(AJ121=\"N\",FromEvoM!AE121,\"\"))","v":""}]
[{"$f":"IF(ISBLANK(FromEvoM!A122),\"\",Group_Code)","v":""},{"$f":"IF(ISBLANK(FromEvoM!A122),\"\",SUBSTITUTE(FromEvoM!A122,\" \",\"\"))","v":""},{"$f":"IF(ISBLANK(FromEvoM!C122),\"\",SUBSTITUTE(FromEvoM!G122,\" \",\"\"))","v":""},{"$f":"IF(ISBLANK(FromEvoM!D122),\"\",FromEvoM!B122)","v":""},{"$f":"IF(ISBLANK(FromEvoM!D122),\"\",FromEvoM!D122)","v":""},{"$f":"IF(ISBLANK(FromEvoM!C122),\"\",FromEvoM!C122)","v":""},{"$f":"REPLACE(FromEvoM!F122,2,6, )","v":""},{"$f":"IF(ISNUMBER(FromEvoM!E122),FromEvoM!E122,\"\")","v":""},{"$f":"IF(ISBLANK(FromEvoM!I122),\"\",FromEvoM!I122)","v":""},{"$f":"IF(ISBLANK(FromEvoM!J122),\"\",FromEvoM!J122)","v":""},{"$f":"IF(ISBLANK(FromEvoM!K122),\"\",FromEvoM!K122)","v":""},{"$f":"IF(ISBLANK(FromEvoM!L122),\"\",FromEvoM!L122)","v":""},{"$f":"IF(ISBLANK(FromEvoM!M122),\"\",FromEvoM!M122)","v":""},{"$f":"IF(ISBLANK(FromEvoM!P122),\"\",FromEvoM!P122)","v":""},null,{"$f":"IF(ISNUMBER(FromEvoM!X122),FromEvoM!X122,\"\")","v":""},{"$f":"IF(ISNUMBER(FromEvoM!AB122),FromEvoM!AB122,\"\")","v":""},{"$f":"IF(ISNUMBER(FromEvoM!AA122),FromEvoM!AA122,\"\")","v":""},null,"","",null,null,{"$f":"IF(FromEvoM!W122=1,(FromEvoM!AB122*12),IF(FromEvoM!W122=7,(FromEvoM!AR122),\"\"))","v":""},null,null,{"$f":"IF(ISBLANK(FromEvoM!A122),\"\",IF(FromEvoM!AK122=\"y\",\"Y\",\"N\"))","v":""},{"$f":"IF(ISBLANK(FromEvoM!A122),\"\",Category_ID)","v":""},null,null,null,{"$f":"IF(ISBLANK(FromEvoM!AK122),\"\",FromEvoM!AK122)","v":""},{"$f":"IF(ISBLANK(FromEvoM!AM122),\"\",FromEvoM!AM122)","v":""},{"$f":"IF(ISBLANK(FromEvoM!AN122),\"\",FromEvoM!AN122)","v":""},{"$f":"IF(ISBLANK(FromEvoM!AL122),\"\",FromEvoM!AL122)","v":""},{"$f":"IF(ISBLANK(FromEvoM!A122),\"\",IF(AND(AF122=\"y\",AI122=1),\"Y\",\"N\"))","v":""},{"$f":"IF(ISBLANK(FromEvoM!A122),\"\",IF(FromEvoM!AS122=\"Yes\",2,1))","v":""},{"$f":"IF(FromEvoM!W122=1,\"M\",IF(FromEvoM!W122=7,\"W\",\"\"))","v":""},{"$f":"IF(AJ122=\"Y\",0,IF(AJ122=\"N\",FromEvoM!AF122+FromEvoM!AT122,\"\"))","v":""},{"$f":"IF(AJ122=\"Y\",(FromEvoM!AE122+FromEvoM!AF122-FromEvoM!AT122),IF(AJ122=\"N\",FromEvoM!AE122,\"\"))","v":""}]
[{"$f":"IF(ISBLANK(FromEvoM!A123),\"\",Group_Code)","v":""},{"$f":"IF(ISBLANK(FromEvoM!A123),\"\",SUBSTITUTE(FromEvoM!A123,\" \",\"\"))","v":""},{"$f":"IF(ISBLANK(FromEvoM!C123),\"\",SUBSTITUTE(FromEvoM!G123,\" \",\"\"))","v":""},{"$f":"IF(ISBLANK(FromEvoM!D123),\"\",FromEvoM!B123)","v":""},{"$f":"IF(ISBLANK(FromEvoM!D123),\"\",FromEvoM!D123)","v":""},{"$f":"IF(ISBLANK(FromEvoM!C123),\"\",FromEvoM!C123)","v":""},{"$f":"REPLACE(FromEvoM!F123,2,6, )","v":""},{"$f":"IF(ISNUMBER(FromEvoM!E123),FromEvoM!E123,\"\")","v":""},{"$f":"IF(ISBLANK(FromEvoM!I123),\"\",FromEvoM!I123)","v":""},{"$f":"IF(ISBLANK(FromEvoM!J123),\"\",FromEvoM!J123)","v":""},{"$f":"IF(ISBLANK(FromEvoM!K123),\"\",FromEvoM!K123)","v":""},{"$f":"IF(ISBLANK(FromEvoM!L123),\"\",FromEvoM!L123)","v":""},{"$f":"IF(ISBLANK(FromEvoM!M123),\"\",FromEvoM!M123)","v":""},{"$f":"IF(ISBLANK(FromEvoM!P123),\"\",FromEvoM!P123)","v":""},null,{"$f":"IF(ISNUMBER(FromEvoM!X123),FromEvoM!X123,\"\")","v":""},{"$f":"IF(ISNUMBER(FromEvoM!AB123),FromEvoM!AB123,\"\")","v":""},{"$f":"IF(ISNUMBER(FromEvoM!AA123),FromEvoM!AA123,\"\")","v":""},null,"","",null,null,{"$f":"IF(FromEvoM!W123=1,(FromEvoM!AB123*12),IF(FromEvoM!W123=7,(FromEvoM!AR123),\"\"))","v":""},null,null,{"$f":"IF(ISBLANK(FromEvoM!A123),\"\",IF(FromEvoM!AK123=\"y\",\"Y\",\"N\"))","v":""},{"$f":"IF(ISBLANK(FromEvoM!A123),\"\",Category_ID)","v":""},null,null,null,{"$f":"IF(ISBLANK(FromEvoM!AK123),\"\",FromEvoM!AK123)","v":""},{"$f":"IF(ISBLANK(FromEvoM!AM123),\"\",FromEvoM!AM123)","v":""},{"$f":"IF(ISBLANK(FromEvoM!AN123),\"\",FromEvoM!AN123)","v":""},{"$f":"IF(ISBLANK(FromEvoM!AL123),\"\",FromEvoM!AL123)","v":""},{"$f":"IF(ISBLANK(FromEvoM!A123),\"\",IF(AND(AF123=\"y\",AI123=1),\"Y\",\"N\"))","v":""},{"$f":"IF(ISBLANK(FromEvoM!A123),\"\",IF(FromEvoM!AS123=\"Yes\",2,1))","v":""},{"$f":"IF(FromEvoM!W123=1,\"M\",IF(FromEvoM!W123=7,\"W\",\"\"))","v":""},{"$f":"IF(AJ123=\"Y\",0,IF(AJ123=\"N\",FromEvoM!AF123+FromEvoM!AT123,\"\"))","v":""},{"$f":"IF(AJ123=\"Y\",(FromEvoM!AE123+FromEvoM!AF123-FromEvoM!AT123),IF(AJ123=\"N\",FromEvoM!AE123,\"\"))","v":""}]
[{"$f":"IF(ISBLANK(FromEvoM!A124),\"\",Group_Code)","v":""},{"$f":"IF(ISBLANK(FromEvoM!A124),\"\",SUBSTITUTE(FromEvoM!A124,\" \",\"\"))","v":""},{"$f":"IF(ISBLANK(FromEvoM!C124),\"\",SUBSTITUTE(FromEvoM!G124,\" \",\"\"))","v":""},{"$f":"IF(ISBLANK(FromEvoM!D124),\"\",FromEvoM!B124)","v":""},{"$f":"IF(ISBLANK(FromEvoM!D124),\"\",FromEvoM!D124)","v":""},{"$f":"IF(ISBLANK(FromEvoM!C124),\"\",FromEvoM!C124)","v":""},{"$f":"REPLACE(FromEvoM!F124,2,6, )","v":""},{"$f":"IF(ISNUMBER(FromEvoM!E124),FromEvoM!E124,\"\")","v":""},{"$f":"IF(ISBLANK(FromEvoM!I124),\"\",FromEvoM!I124)","v":""},{"$f":"IF(ISBLANK(FromEvoM!J124),\"\",FromEvoM!J124)","v":""},{"$f":"IF(ISBLANK(FromEvoM!K124),\"\",FromEvoM!K124)","v":""},{"$f":"IF(ISBLANK(FromEvoM!L124),\"\",FromEvoM!L124)","v":""},{"$f":"IF(ISBLANK(FromEvoM!M124),\"\",FromEvoM!M124)","v":""},{"$f":"IF(ISBLANK(FromEvoM!P124),\"\",FromEvoM!P124)","v":""},null,{"$f":"IF(ISNUMBER(FromEvoM!X124),FromEvoM!X124,\"\")","v":""},{"$f":"IF(ISNUMBER(FromEvoM!AB124),FromEvoM!AB124,\"\")","v":""},{"$f":"IF(ISNUMBER(FromEvoM!AA124),FromEvoM!AA124,\"\")","v":""},null,"","",null,null,{"$f":"IF(FromEvoM!W124=1,(FromEvoM!AB124*12),IF(FromEvoM!W124=7,(FromEvoM!AR124),\"\"))","v":""},null,null,{"$f":"IF(ISBLANK(FromEvoM!A124),\"\",IF(FromEvoM!AK124=\"y\",\"Y\",\"N\"))","v":""},{"$f":"IF(ISBLANK(FromEvoM!A124),\"\",Category_ID)","v":""},null,null,null,{"$f":"IF(ISBLANK(FromEvoM!AK124),\"\",FromEvoM!AK124)","v":""},{"$f":"IF(ISBLANK(FromEvoM!AM124),\"\",FromEvoM!AM124)","v":""},{"$f":"IF(ISBLANK(FromEvoM!AN124),\"\",FromEvoM!AN124)","v":""},{"$f":"IF(ISBLANK(FromEvoM!AL124),\"\",FromEvoM!AL124)","v":""},{"$f":"IF(ISBLANK(FromEvoM!A124),\"\",IF(AND(AF124=\"y\",AI124=1),\"Y\",\"N\"))","v":""},{"$f":"IF(ISBLANK(FromEvoM!A124),\"\",IF(FromEvoM!AS124=\"Yes\",2,1))","v":""},{"$f":"IF(FromEvoM!W124=1,\"M\",IF(FromEvoM!W124=7,\"W\",\"\"))","v":""},{"$f":"IF(AJ124=\"Y\",0,IF(AJ124=\"N\",FromEvoM!AF124+FromEvoM!AT124,\"\"))","v":""},{"$f":"IF(AJ124=\"Y\",(FromEvoM!AE124+FromEvoM!AF124-FromEvoM!AT124),IF(AJ124=\"N\",FromEvoM!AE124,\"\"))","v":""}]
[{"$f":"IF(ISBLANK(FromEvoM!A125),\"\",Group_Code)","v":""},{"$f":"IF(ISBLANK(FromEvoM!A125),\"\",SUBSTITUTE(FromEvoM!A125,\" \",\"\"))","v":""},{"$f":"IF(ISBLANK(FromEvoM!C125),\"\",SUBSTITUTE(FromEvoM!G125,\" \",\"\"))","v":""},{"$f":"IF(ISBLANK(FromEvoM!D125),\"\",FromEvoM!B125)","v":""},{"$f":"IF(ISBLANK(FromEvoM!D125),\"\",FromEvoM!D125)","v":""},{"$f":"IF(ISBLANK(FromEvoM!C125),\"\",FromEvoM!C125)","v":""},{"$f":"REPLACE(FromEvoM!F125,2,6, )","v":""},{"$f":"IF(ISNUMBER(FromEvoM!E125),FromEvoM!E125,\"\")","v":""},{"$f":"IF(ISBLANK(FromEvoM!I125),\"\",FromEvoM!I125)","v":""},{"$f":"IF(ISBLANK(FromEvoM!J125),\"\",FromEvoM!J125)","v":""},{"$f":"IF(ISBLANK(FromEvoM!K125),\"\",FromEvoM!K125)","v":""},{"$f":"IF(ISBLANK(FromEvoM!L125),\"\",FromEvoM!L125)","v":""},{"$f":"IF(ISBLANK(FromEvoM!M125),\"\",FromEvoM!M125)","v":""},{"$f":"IF(ISBLANK(FromEvoM!P125),\"\",FromEvoM!P125)","v":""},null,{"$f":"IF(ISNUMBER(FromEvoM!X125),FromEvoM!X125,\"\")","v":""},{"$f":"IF(ISNUMBER(FromEvoM!AB125),FromEvoM!AB125,\"\")","v":""},{"$f":"IF(ISNUMBER(FromEvoM!AA125),FromEvoM!AA125,\"\")","v":""},null,"","",null,null,{"$f":"IF(FromEvoM!W125=1,(FromEvoM!AB125*12),IF(FromEvoM!W125=7,(FromEvoM!AR125),\"\"))","v":""},null,null,{"$f":"IF(ISBLANK(FromEvoM!A125),\"\",IF(FromEvoM!AK125=\"y\",\"Y\",\"N\"))","v":""},{"$f":"IF(ISBLANK(FromEvoM!A125),\"\",Category_ID)","v":""},null,null,null,{"$f":"IF(ISBLANK(FromEvoM!AK125),\"\",FromEvoM!AK125)","v":""},{"$f":"IF(ISBLANK(FromEvoM!AM125),\"\",FromEvoM!AM125)","v":""},{"$f":"IF(ISBLANK(FromEvoM!AN125),\"\",FromEvoM!AN125)","v":""},{"$f":"IF(ISBLANK(FromEvoM!AL125),\"\",FromEvoM!AL125)","v":""},{"$f":"IF(ISBLANK(FromEvoM!A125),\"\",IF(AND(AF125=\"y\",AI125=1),\"Y\",\"N\"))","v":""},{"$f":"IF(ISBLANK(FromEvoM!A125),\"\",IF(FromEvoM!AS125=\"Yes\",2,1))","v":""},{"$f":"IF(FromEvoM!W125=1,\"M\",IF(FromEvoM!W125=7,\"W\",\"\"))","v":""},{"$f":"IF(AJ125=\"Y\",0,IF(AJ125=\"N\",FromEvoM!AF125+FromEvoM!AT125,\"\"))","v":""},{"$f":"IF(AJ125=\"Y\",(FromEvoM!AE125+FromEvoM!AF125-FromEvoM!AT125),IF(AJ125=\"N\",FromEvoM!AE125,\"\"))","v":""}]
[{"$f":"IF(ISBLANK(FromEvoM!A126),\"\",Group_Code)","v":""},{"$f":"IF(ISBLANK(FromEvoM!A126),\"\",SUBSTITUTE(FromEvoM!A126,\" \",\"\"))","v":""},{"$f":"IF(ISBLANK(FromEvoM!C126),\"\",SUBSTITUTE(FromEvoM!G126,\" \",\"\"))","v":""},{"$f":"IF(ISBLANK(FromEvoM!D126),\"\",FromEvoM!B126)","v":""},{"$f":"IF(ISBLANK(FromEvoM!D126),\"\",FromEvoM!D126)","v":""},{"$f":"IF(ISBLANK(FromEvoM!C126),\"\",FromEvoM!C126)","v":""},{"$f":"REPLACE(FromEvoM!F126,2,6, )","v":""},{"$f":"IF(ISNUMBER(FromEvoM!E126),FromEvoM!E126,\"\")","v":""},{"$f":"IF(ISBLANK(FromEvoM!I126),\"\",FromEvoM!I126)","v":""},{"$f":"IF(ISBLANK(FromEvoM!J126),\"\",FromEvoM!J126)","v":""},{"$f":"IF(ISBLANK(FromEvoM!K126),\"\",FromEvoM!K126)","v":""},{"$f":"IF(ISBLANK(FromEvoM!L126),\"\",FromEvoM!L126)","v":""},{"$f":"IF(ISBLANK(FromEvoM!M126),\"\",FromEvoM!M126)","v":""},{"$f":"IF(ISBLANK(FromEvoM!P126),\"\",FromEvoM!P126)","v":""},null,{"$f":"IF(ISNUMBER(FromEvoM!X126),FromEvoM!X126,\"\")","v":""},{"$f":"IF(ISNUMBER(FromEvoM!AB126),FromEvoM!AB126,\"\")","v":""},{"$f":"IF(ISNUMBER(FromEvoM!AA126),FromEvoM!AA126,\"\")","v":""},null,"","",null,null,{"$f":"IF(FromEvoM!W126=1,(FromEvoM!AB126*12),IF(FromEvoM!W126=7,(FromEvoM!AR126),\"\"))","v":""},null,null,{"$f":"IF(ISBLANK(FromEvoM!A126),\"\",IF(FromEvoM!AK126=\"y\",\"Y\",\"N\"))","v":""},{"$f":"IF(ISBLANK(FromEvoM!A126),\"\",Category_ID)","v":""},null,null,null,{"$f":"IF(ISBLANK(FromEvoM!AK126),\"\",FromEvoM!AK126)","v":""},{"$f":"IF(ISBLANK(FromEvoM!AM126),\"\",FromEvoM!AM126)","v":""},{"$f":"IF(ISBLANK(FromEvoM!AN126),\"\",FromEvoM!AN126)","v":""},{"$f":"IF(ISBLANK(FromEvoM!AL126),\"\",FromEvoM!AL126)","v":""},{"$f":"IF(ISBLANK(FromEvoM!A126),\"\",IF(AND(AF126=\"y\",AI126=1),\"Y\",\"N\"))","v":""},{"$f":"IF(ISBLANK(FromEvoM!A126),\"\",IF(FromEvoM!AS126=\"Yes\",2,1))","v":""},{"$f":"IF(FromEvoM!W126=1,\"M\",IF(FromEvoM!W126=7,\"W\",\"\"))","v":""},{"$f":"IF(AJ126=\"Y\",0,IF(AJ126=\"N\",FromEvoM!AF126+FromEvoM!AT126,\"\"))","v":""},{"$f":"IF(AJ126=\"Y\",(FromEvoM!AE126+FromEvoM!AF126-FromEvoM!AT126),IF(AJ126=\"N\",FromEvoM!AE126,\"\"))","v":""}]
[{"$f":"IF(ISBLANK(FromEvoM!A127),\"\",Group_Code)","v":""},{"$f":"IF(ISBLANK(FromEvoM!A127),\"\",SUBSTITUTE(FromEvoM!A127,\" \",\"\"))","v":""},{"$f":"IF(ISBLANK(FromEvoM!C127),\"\",SUBSTITUTE(FromEvoM!G127,\" \",\"\"))","v":""},{"$f":"IF(ISBLANK(FromEvoM!D127),\"\",FromEvoM!B127)","v":""},{"$f":"IF(ISBLANK(FromEvoM!D127),\"\",FromEvoM!D127)","v":""},{"$f":"IF(ISBLANK(FromEvoM!C127),\"\",FromEvoM!C127)","v":""},{"$f":"REPLACE(FromEvoM!F127,2,6, )","v":""},{"$f":"IF(ISNUMBER(FromEvoM!E127),FromEvoM!E127,\"\")","v":""},{"$f":"IF(ISBLANK(FromEvoM!I127),\"\",FromEvoM!I127)","v":""},{"$f":"IF(ISBLANK(FromEvoM!J127),\"\",FromEvoM!J127)","v":""},{"$f":"IF(ISBLANK(FromEvoM!K127),\"\",FromEvoM!K127)","v":""},{"$f":"IF(ISBLANK(FromEvoM!L127),\"\",FromEvoM!L127)","v":""},{"$f":"IF(ISBLANK(FromEvoM!M127),\"\",FromEvoM!M127)","v":""},{"$f":"IF(ISBLANK(FromEvoM!P127),\"\",FromEvoM!P127)","v":""},null,{"$f":"IF(ISNUMBER(FromEvoM!X127),FromEvoM!X127,\"\")","v":""},{"$f":"IF(ISNUMBER(FromEvoM!AB127),FromEvoM!AB127,\"\")","v":""},{"$f":"IF(ISNUMBER(FromEvoM!AA127),FromEvoM!AA127,\"\")","v":""},null,"","",null,null,{"$f":"IF(FromEvoM!W127=1,(FromEvoM!AB127*12),IF(FromEvoM!W127=7,(FromEvoM!AR127),\"\"))","v":""},null,null,{"$f":"IF(ISBLANK(FromEvoM!A127),\"\",IF(FromEvoM!AK127=\"y\",\"Y\",\"N\"))","v":""},{"$f":"IF(ISBLANK(FromEvoM!A127),\"\",Category_ID)","v":""},null,null,null,{"$f":"IF(ISBLANK(FromEvoM!AK127),\"\",FromEvoM!AK127)","v":""},{"$f":"IF(ISBLANK(FromEvoM!AM127),\"\",FromEvoM!AM127)","v":""},{"$f":"IF(ISBLANK(FromEvoM!AN127),\"\",FromEvoM!AN127)","v":""},{"$f":"IF(ISBLANK(FromEvoM!AL127),\"\",FromEvoM!AL127)","v":""},{"$f":"IF(ISBLANK(FromEvoM!A127),\"\",IF(AND(AF127=\"y\",AI127=1),\"Y\",\"N\"))","v":""},{"$f":"IF(ISBLANK(FromEvoM!A127),\"\",IF(FromEvoM!AS127=\"Yes\",2,1))","v":""},{"$f":"IF(FromEvoM!W127=1,\"M\",IF(FromEvoM!W127=7,\"W\",\"\"))","v":""},{"$f":"IF(AJ127=\"Y\",0,IF(AJ127=\"N\",FromEvoM!AF127+FromEvoM!AT127,\"\"))","v":""},{"$f":"IF(AJ127=\"Y\",(FromEvoM!AE127+FromEvoM!AF127-FromEvoM!AT127),IF(AJ127=\"N\",FromEvoM!AE127,\"\"))","v":""}]
[{"$f":"IF(ISBLANK(FromEvoM!A128),\"\",Group_Code)","v":""},{"$f":"IF(ISBLANK(FromEvoM!A128),\"\",SUBSTITUTE(FromEvoM!A128,\" \",\"\"))","v":""},{"$f":"IF(ISBLANK(FromEvoM!C128),\"\",SUBSTITUTE(FromEvoM!G128,\" \",\"\"))","v":""},{"$f":"IF(ISBLANK(FromEvoM!D128),\"\",FromEvoM!B128)","v":""},{"$f":"IF(ISBLANK(FromEvoM!D128),\"\",FromEvoM!D128)","v":""},{"$f":"IF(ISBLANK(FromEvoM!C128),\"\",FromEvoM!C128)","v":""},{"$f":"REPLACE(FromEvoM!F128,2,6, )","v":""},{"$f":"IF(ISNUMBER(FromEvoM!E128),FromEvoM!E128,\"\")","v":""},{"$f":"IF(ISBLANK(FromEvoM!I128),\"\",FromEvoM!I128)","v":""},{"$f":"IF(ISBLANK(FromEvoM!J128),\"\",FromEvoM!J128)","v":""},{"$f":"IF(ISBLANK(FromEvoM!K128),\"\",FromEvoM!K128)","v":""},{"$f":"IF(ISBLANK(FromEvoM!L128),\"\",FromEvoM!L128)","v":""},{"$f":"IF(ISBLANK(FromEvoM!M128),\"\",FromEvoM!M128)","v":""},{"$f":"IF(ISBLANK(FromEvoM!P128),\"\",FromEvoM!P128)","v":""},null,{"$f":"IF(ISNUMBER(FromEvoM!X128),FromEvoM!X128,\"\")","v":""},{"$f":"IF(ISNUMBER(FromEvoM!AB128),FromEvoM!AB128,\"\")","v":""},{"$f":"IF(ISNUMBER(FromEvoM!AA128),FromEvoM!AA128,\"\")","v":""},null,"","",null,null,{"$f":"IF(FromEvoM!W128=1,(FromEvoM!AB128*12),IF(FromEvoM!W128=7,(FromEvoM!AR128),\"\"))","v":""},null,null,{"$f":"IF(ISBLANK(FromEvoM!A128),\"\",IF(FromEvoM!AK128=\"y\",\"Y\",\"N\"))","v":""},{"$f":"IF(ISBLANK(FromEvoM!A128),\"\",Category_ID)","v":""},null,null,null,{"$f":"IF(ISBLANK(FromEvoM!AK128),\"\",FromEvoM!AK128)","v":""},{"$f":"IF(ISBLANK(FromEvoM!AM128),\"\",FromEvoM!AM128)","v":""},{"$f":"IF(ISBLANK(FromEvoM!AN128),\"\",FromEvoM!AN128)","v":""},{"$f":"IF(ISBLANK(FromEvoM!AL128),\"\",FromEvoM!AL128)","v":""},{"$f":"IF(ISBLANK(FromEvoM!A128),\"\",IF(AND(AF128=\"y\",AI128=1),\"Y\",\"N\"))","v":""},{"$f":"IF(ISBLANK(FromEvoM!A128),\"\",IF(FromEvoM!AS128=\"Yes\",2,1))","v":""},{"$f":"IF(FromEvoM!W128=1,\"M\",IF(FromEvoM!W128=7,\"W\",\"\"))","v":""},{"$f":"IF(AJ128=\"Y\",0,IF(AJ128=\"N\",FromEvoM!AF128+FromEvoM!AT128,\"\"))","v":""},{"$f":"IF(AJ128=\"Y\",(FromEvoM!AE128+FromEvoM!AF128-FromEvoM!AT128),IF(AJ128=\"N\",FromEvoM!AE128,\"\"))","v":""}]
[{"$f":"IF(ISBLANK(FromEvoM!A129),\"\",Group_Code)","v":""},{"$f":"IF(ISBLANK(FromEvoM!A129),\"\",SUBSTITUTE(FromEvoM!A129,\" \",\"\"))","v":""},{"$f":"IF(ISBLANK(FromEvoM!C129),\"\",SUBSTITUTE(FromEvoM!G129,\" \",\"\"))","v":""},{"$f":"IF(ISBLANK(FromEvoM!D129),\"\",FromEvoM!B129)","v":""},{"$f":"IF(ISBLANK(FromEvoM!D129),\"\",FromEvoM!D129)","v":""},{"$f":"IF(ISBLANK(FromEvoM!C129),\"\",FromEvoM!C129)","v":""},{"$f":"REPLACE(FromEvoM!F129,2,6, )","v":""},{"$f":"IF(ISNUMBER(FromEvoM!E129),FromEvoM!E129,\"\")","v":""},{"$f":"IF(ISBLANK(FromEvoM!I129),\"\",FromEvoM!I129)","v":""},{"$f":"IF(ISBLANK(FromEvoM!J129),\"\",FromEvoM!J129)","v":""},{"$f":"IF(ISBLANK(FromEvoM!K129),\"\",FromEvoM!K129)","v":""},{"$f":"IF(ISBLANK(FromEvoM!L129),\"\",FromEvoM!L129)","v":""},{"$f":"IF(ISBLANK(FromEvoM!M129),\"\",FromEvoM!M129)","v":""},{"$f":"IF(ISBLANK(FromEvoM!P129),\"\",FromEvoM!P129)","v":""},null,{"$f":"IF(ISNUMBER(FromEvoM!X129),FromEvoM!X129,\"\")","v":""},{"$f":"IF(ISNUMBER(FromEvoM!AB129),FromEvoM!AB129,\"\")","v":""},{"$f":"IF(ISNUMBER(FromEvoM!AA129),FromEvoM!AA129,\"\")","v":""},null,"","",null,null,{"$f":"IF(FromEvoM!W129=1,(FromEvoM!AB129*12),IF(FromEvoM!W129=7,(FromEvoM!AR129),\"\"))","v":""},null,null,{"$f":"IF(ISBLANK(FromEvoM!A129),\"\",IF(FromEvoM!AK129=\"y\",\"Y\",\"N\"))","v":""},{"$f":"IF(ISBLANK(FromEvoM!A129),\"\",Category_ID)","v":""},null,null,null,{"$f":"IF(ISBLANK(FromEvoM!AK129),\"\",FromEvoM!AK129)","v":""},{"$f":"IF(ISBLANK(FromEvoM!AM129),\"\",FromEvoM!AM129)","v":""},{"$f":"IF(ISBLANK(FromEvoM!AN129),\"\",FromEvoM!AN129)","v":""},{"$f":"IF(ISBLANK(FromEvoM!AL129),\"\",FromEvoM!AL129)","v":""},{"$f":"IF(ISBLANK(FromEvoM!A129),\"\",IF(AND(AF129=\"y\",AI129=1),\"Y\",\"N\"))","v":""},{"$f":"IF(ISBLANK(FromEvoM!A129),\"\",IF(FromEvoM!AS129=\"Yes\",2,1))","v":""},{"$f":"IF(FromEvoM!W129=1,\"M\",IF(FromEvoM!W129=7,\"W\",\"\"))","v":""},{"$f":"IF(AJ129=\"Y\",0,IF(AJ129=\"N\",FromEvoM!AF129+FromEvoM!AT129,\"\"))","v":""},{"$f":"IF(AJ129=\"Y\",(FromEvoM!AE129+FromEvoM!AF129-FromEvoM!AT129),IF(AJ129=\"N\",FromEvoM!AE129,\"\"))","v":""}]
[{"$f":"IF(ISBLANK(FromEvoM!A130),\"\",Group_Code)","v":""},{"$f":"IF(ISBLANK(FromEvoM!A130),\"\",SUBSTITUTE(FromEvoM!A130,\" \",\"\"))","v":""},{"$f":"IF(ISBLANK(FromEvoM!C130),\"\",SUBSTITUTE(FromEvoM!G130,\" \",\"\"))","v":""},{"$f":"IF(ISBLANK(FromEvoM!D130),\"\",FromEvoM!B130)","v":""},{"$f":"IF(ISBLANK(FromEvoM!D130),\"\",FromEvoM!D130)","v":""},{"$f":"IF(ISBLANK(FromEvoM!C130),\"\",FromEvoM!C130)","v":""},{"$f":"REPLACE(FromEvoM!F130,2,6, )","v":""},{"$f":"IF(ISNUMBER(FromEvoM!E130),FromEvoM!E130,\"\")","v":""},{"$f":"IF(ISBLANK(FromEvoM!I130),\"\",FromEvoM!I130)","v":""},{"$f":"IF(ISBLANK(FromEvoM!J130),\"\",FromEvoM!J130)","v":""},{"$f":"IF(ISBLANK(FromEvoM!K130),\"\",FromEvoM!K130)","v":""},{"$f":"IF(ISBLANK(FromEvoM!L130),\"\",FromEvoM!L130)","v":""},{"$f":"IF(ISBLANK(FromEvoM!M130),\"\",FromEvoM!M130)","v":""},{"$f":"IF(ISBLANK(FromEvoM!P130),\"\",FromEvoM!P130)","v":""},null,{"$f":"IF(ISNUMBER(FromEvoM!X130),FromEvoM!X130,\"\")","v":""},{"$f":"IF(ISNUMBER(FromEvoM!AB130),FromEvoM!AB130,\"\")","v":""},{"$f":"IF(ISNUMBER(FromEvoM!AA130),FromEvoM!AA130,\"\")","v":""},null,"","",null,null,{"$f":"IF(FromEvoM!W130=1,(FromEvoM!AB130*12),IF(FromEvoM!W130=7,(FromEvoM!AR130),\"\"))","v":""},null,null,{"$f":"IF(ISBLANK(FromEvoM!A130),\"\",IF(FromEvoM!AK130=\"y\",\"Y\",\"N\"))","v":""},{"$f":"IF(ISBLANK(FromEvoM!A130),\"\",Category_ID)","v":""},null,null,null,{"$f":"IF(ISBLANK(FromEvoM!AK130),\"\",FromEvoM!AK130)","v":""},{"$f":"IF(ISBLANK(FromEvoM!AM130),\"\",FromEvoM!AM130)","v":""},{"$f":"IF(ISBLANK(FromEvoM!AN130),\"\",FromEvoM!AN130)","v":""},{"$f":"IF(ISBLANK(FromEvoM!AL130),\"\",FromEvoM!AL130)","v":""},{"$f":"IF(ISBLANK(FromEvoM!A130),\"\",IF(AND(AF130=\"y\",AI130=1),\"Y\",\"N\"))","v":""},{"$f":"IF(ISBLANK(FromEvoM!A130),\"\",IF(FromEvoM!AS130=\"Yes\",2,1))","v":""},{"$f":"IF(FromEvoM!W130=1,\"M\",IF(FromEvoM!W130=7,\"W\",\"\"))","v":""},{"$f":"IF(AJ130=\"Y\",0,IF(AJ130=\"N\",FromEvoM!AF130+FromEvoM!AT130,\"\"))","v":""},{"$f":"IF(AJ130=\"Y\",(FromEvoM!AE130+FromEvoM!AF130-FromEvoM!AT130),IF(AJ130=\"N\",FromEvoM!AE130,\"\"))","v":""}]
[{"$f":"IF(ISBLANK(FromEvoM!A131),\"\",Group_Code)","v":""},{"$f":"IF(ISBLANK(FromEvoM!A131),\"\",SUBSTITUTE(FromEvoM!A131,\" \",\"\"))","v":""},{"$f":"IF(ISBLANK(FromEvoM!C131),\"\",SUBSTITUTE(FromEvoM!G131,\" \",\"\"))","v":""},{"$f":"IF(ISBLANK(FromEvoM!D131),\"\",FromEvoM!B131)","v":""},{"$f":"IF(ISBLANK(FromEvoM!D131),\"\",FromEvoM!D131)","v":""},{"$f":"IF(ISBLANK(FromEvoM!C131),\"\",FromEvoM!C131)","v":""},{"$f":"REPLACE(FromEvoM!F131,2,6, )","v":""},{"$f":"IF(ISNUMBER(FromEvoM!E131),FromEvoM!E131,\"\")","v":""},{"$f":"IF(ISBLANK(FromEvoM!I131),\"\",FromEvoM!I131)","v":""},{"$f":"IF(ISBLANK(FromEvoM!J131),\"\",FromEvoM!J131)","v":""},{"$f":"IF(ISBLANK(FromEvoM!K131),\"\",FromEvoM!K131)","v":""},{"$f":"IF(ISBLANK(FromEvoM!L131),\"\",FromEvoM!L131)","v":""},{"$f":"IF(ISBLANK(FromEvoM!M131),\"\",FromEvoM!M131)","v":""},{"$f":"IF(ISBLANK(FromEvoM!P131),\"\",FromEvoM!P131)","v":""},null,{"$f":"IF(ISNUMBER(FromEvoM!X131),FromEvoM!X131,\"\")","v":""},{"$f":"IF(ISNUMBER(FromEvoM!AB131),FromEvoM!AB131,\"\")","v":""},{"$f":"IF(ISNUMBER(FromEvoM!AA131),FromEvoM!AA131,\"\")","v":""},null,{"$f":"AM131","v":""},{"$f":"AN131","v":""},null,null,{"$f":"IF(FromEvoM!W131=1,(FromEvoM!AB131*12),IF(FromEvoM!W131=7,(FromEvoM!AR131),\"\"))","v":""},null,null,{"$f":"IF(ISBLANK(FromEvoM!A131),\"\",IF(FromEvoM!AK131=\"y\",\"Y\",\"N\"))","v":""},{"$f":"IF(ISBLANK(FromEvoM!A131),\"\",Category_ID)","v":""},null,null,null,{"$f":"IF(ISBLANK(FromEvoM!AK131),\"\",FromEvoM!AK131)","v":""},{"$f":"IF(ISBLANK(FromEvoM!AM131),\"\",FromEvoM!AM131)","v":""},{"$f":"IF(ISBLANK(FromEvoM!AN131),\"\",FromEvoM!AN131)","v":""},{"$f":"IF(ISBLANK(FromEvoM!AL131),\"\",FromEvoM!AL131)","v":""},{"$f":"IF(ISBLANK(FromEvoM!A131),\"\",IF(AND(AF131=\"y\",AI131=1),\"Y\",\"N\"))","v":""},{"$f":"IF(ISBLANK(FromEvoM!A131),\"\",IF(FromEvoM!AS131=\"Yes\",2,1))","v":""},{"$f":"IF(FromEvoM!W131=1,\"M\",IF(FromEvoM!W131=7,\"W\",\"\"))","v":""},{"$f":"IF(AJ131=\"Y\",0,IF(AJ131=\"N\",FromEvoM!AF131+FromEvoM!AT131,\"\"))","v":""},{"$f":"IF(AJ131=\"Y\",(FromEvoM!AE131+FromEvoM!AF131-FromEvoM!AT131),IF(AJ131=\"N\",FromEvoM!AE131,\"\"))","v":""}]
[{"$f":"IF(ISBLANK(FromEvoM!A132),\"\",Group_Code)","v":""},{"$f":"IF(ISBLANK(FromEvoM!A132),\"\",SUBSTITUTE(FromEvoM!A132,\" \",\"\"))","v":""},{"$f":"IF(ISBLANK(FromEvoM!C132),\"\",SUBSTITUTE(FromEvoM!G132,\" \",\"\"))","v":""},{"$f":"IF(ISBLANK(FromEvoM!D132),\"\",FromEvoM!B132)","v":""},{"$f":"IF(ISBLANK(FromEvoM!D132),\"\",FromEvoM!D132)","v":""},{"$f":"IF(ISBLANK(FromEvoM!C132),\"\",FromEvoM!C132)","v":""},{"$f":"REPLACE(FromEvoM!F132,2,6, )","v":""},{"$f":"IF(ISNUMBER(FromEvoM!E132),FromEvoM!E132,\"\")","v":""},{"$f":"IF(ISBLANK(FromEvoM!I132),\"\",FromEvoM!I132)","v":""},{"$f":"IF(ISBLANK(FromEvoM!J132),\"\",FromEvoM!J132)","v":""},{"$f":"IF(ISBLANK(FromEvoM!K132),\"\",FromEvoM!K132)","v":""},{"$f":"IF(ISBLANK(FromEvoM!L132),\"\",FromEvoM!L132)","v":""},{"$f":"IF(ISBLANK(FromEvoM!M132),\"\",FromEvoM!M132)","v":""},{"$f":"IF(ISBLANK(FromEvoM!P132),\"\",FromEvoM!P132)","v":""},null,{"$f":"IF(ISNUMBER(FromEvoM!X132),FromEvoM!X132,\"\")","v":""},{"$f":"IF(ISNUMBER(FromEvoM!AB132),FromEvoM!AB132,\"\")","v":""},{"$f":"IF(ISNUMBER(FromEvoM!AA132),FromEvoM!AA132,\"\")","v":""},null,"","",null,null,{"$f":"IF(FromEvoM!W132=1,(FromEvoM!AB132*12),IF(FromEvoM!W132=7,(FromEvoM!AR132),\"\"))","v":""},null,null,{"$f":"IF(ISBLANK(FromEvoM!A132),\"\",IF(FromEvoM!AK132=\"y\",\"Y\",\"N\"))","v":""},{"$f":"IF(ISBLANK(FromEvoM!A132),\"\",Category_ID)","v":""},null,null,null,{"$f":"IF(ISBLANK(FromEvoM!AK132),\"\",FromEvoM!AK132)","v":""},{"$f":"IF(ISBLANK(FromEvoM!AM132),\"\",FromEvoM!AM132)","v":""},{"$f":"IF(ISBLANK(FromEvoM!AN132),\"\",FromEvoM!AN132)","v":""},{"$f":"IF(ISBLANK(FromEvoM!AL132),\"\",FromEvoM!AL132)","v":""},{"$f":"IF(ISBLANK(FromEvoM!A132),\"\",IF(AND(AF132=\"y\",AI132=1),\"Y\",\"N\"))","v":""},{"$f":"IF(ISBLANK(FromEvoM!A132),\"\",IF(FromEvoM!AS132=\"Yes\",2,1))","v":""},{"$f":"IF(FromEvoM!W132=1,\"M\",IF(FromEvoM!W132=7,\"W\",\"\"))","v":""},{"$f":"IF(AJ132=\"Y\",0,IF(AJ132=\"N\",FromEvoM!AF132+FromEvoM!AT132,\"\"))","v":""},{"$f":"IF(AJ132=\"Y\",(FromEvoM!AE132+FromEvoM!AF132-FromEvoM!AT132),IF(AJ132=\"N\",FromEvoM!AE132,\"\"))","v":""}]
[{"$f":"IF(ISBLANK(FromEvoM!A133),\"\",Group_Code)","v":""},{"$f":"IF(ISBLANK(FromEvoM!A133),\"\",SUBSTITUTE(FromEvoM!A133,\" \",\"\"))","v":""},{"$f":"IF(ISBLANK(FromEvoM!C133),\"\",SUBSTITUTE(FromEvoM!G133,\" \",\"\"))","v":""},{"$f":"IF(ISBLANK(FromEvoM!D133),\"\",FromEvoM!B133)","v":""},{"$f":"IF(ISBLANK(FromEvoM!D133),\"\",FromEvoM!D133)","v":""},{"$f":"IF(ISBLANK(FromEvoM!C133),\"\",FromEvoM!C133)","v":""},{"$f":"REPLACE(FromEvoM!F133,2,6, )","v":""},{"$f":"IF(ISNUMBER(FromEvoM!E133),FromEvoM!E133,\"\")","v":""},{"$f":"IF(ISBLANK(FromEvoM!I133),\"\",FromEvoM!I133)","v":""},{"$f":"IF(ISBLANK(FromEvoM!J133),\"\",FromEvoM!J133)","v":""},{"$f":"IF(ISBLANK(FromEvoM!K133),\"\",FromEvoM!K133)","v":""},{"$f":"IF(ISBLANK(FromEvoM!L133),\"\",FromEvoM!L133)","v":""},{"$f":"IF(ISBLANK(FromEvoM!M133),\"\",FromEvoM!M133)","v":""},{"$f":"IF(ISBLANK(FromEvoM!P133),\"\",FromEvoM!P133)","v":""},null,{"$f":"IF(ISNUMBER(FromEvoM!X133),FromEvoM!X133,\"\")","v":""},{"$f":"IF(ISNUMBER(FromEvoM!AB133),FromEvoM!AB133,\"\")","v":""},{"$f":"IF(ISNUMBER(FromEvoM!AA133),FromEvoM!AA133,\"\")","v":""},null,"","",null,null,{"$f":"IF(FromEvoM!W133=1,(FromEvoM!AB133*12),IF(FromEvoM!W133=7,(FromEvoM!AR133),\"\"))","v":""},null,null,{"$f":"IF(ISBLANK(FromEvoM!A133),\"\",IF(FromEvoM!AK133=\"y\",\"Y\",\"N\"))","v":""},{"$f":"IF(ISBLANK(FromEvoM!A133),\"\",Category_ID)","v":""},null,null,null,{"$f":"IF(ISBLANK(FromEvoM!AK133),\"\",FromEvoM!AK133)","v":""},{"$f":"IF(ISBLANK(FromEvoM!AM133),\"\",FromEvoM!AM133)","v":""},{"$f":"IF(ISBLANK(FromEvoM!AN133),\"\",FromEvoM!AN133)","v":""},{"$f":"IF(ISBLANK(FromEvoM!AL133),\"\",FromEvoM!AL133)","v":""},{"$f":"IF(ISBLANK(FromEvoM!A133),\"\",IF(AND(AF133=\"y\",AI133=1),\"Y\",\"N\"))","v":""},{"$f":"IF(ISBLANK(FromEvoM!A133),\"\",IF(FromEvoM!AS133=\"Yes\",2,1))","v":""},{"$f":"IF(FromEvoM!W133=1,\"M\",IF(FromEvoM!W133=7,\"W\",\"\"))","v":""},{"$f":"IF(AJ133=\"Y\",0,IF(AJ133=\"N\",FromEvoM!AF133+FromEvoM!AT133,\"\"))","v":""},{"$f":"IF(AJ133=\"Y\",(FromEvoM!AE133+FromEvoM!AF133-FromEvoM!AT133),IF(AJ133=\"N\",FromEvoM!AE133,\"\"))","v":""}]
[{"$f":"IF(ISBLANK(FromEvoM!A134),\"\",Group_Code)","v":""},{"$f":"IF(ISBLANK(FromEvoM!A134),\"\",SUBSTITUTE(FromEvoM!A134,\" \",\"\"))","v":""},{"$f":"IF(ISBLANK(FromEvoM!C134),\"\",SUBSTITUTE(FromEvoM!G134,\" \",\"\"))","v":""},{"$f":"IF(ISBLANK(FromEvoM!D134),\"\",FromEvoM!B134)","v":""},{"$f":"IF(ISBLANK(FromEvoM!D134),\"\",FromEvoM!D134)","v":""},{"$f":"IF(ISBLANK(FromEvoM!C134),\"\",FromEvoM!C134)","v":""},{"$f":"REPLACE(FromEvoM!F134,2,6, )","v":""},{"$f":"IF(ISNUMBER(FromEvoM!E134),FromEvoM!E134,\"\")","v":""},{"$f":"IF(ISBLANK(FromEvoM!I134),\"\",FromEvoM!I134)","v":""},{"$f":"IF(ISBLANK(FromEvoM!J134),\"\",FromEvoM!J134)","v":""},{"$f":"IF(ISBLANK(FromEvoM!K134),\"\",FromEvoM!K134)","v":""},{"$f":"IF(ISBLANK(FromEvoM!L134),\"\",FromEvoM!L134)","v":""},{"$f":"IF(ISBLANK(FromEvoM!M134),\"\",FromEvoM!M134)","v":""},{"$f":"IF(ISBLANK(FromEvoM!P134),\"\",FromEvoM!P134)","v":""},null,{"$f":"IF(ISNUMBER(FromEvoM!X134),FromEvoM!X134,\"\")","v":""},{"$f":"IF(ISNUMBER(FromEvoM!AB134),FromEvoM!AB134,\"\")","v":""},{"$f":"IF(ISNUMBER(FromEvoM!AA134),FromEvoM!AA134,\"\")","v":""},null,"","",null,null,{"$f":"IF(FromEvoM!W134=1,(FromEvoM!AB134*12),IF(FromEvoM!W134=7,(FromEvoM!AR134),\"\"))","v":""},null,null,{"$f":"IF(ISBLANK(FromEvoM!A134),\"\",IF(FromEvoM!AK134=\"y\",\"Y\",\"N\"))","v":""},{"$f":"IF(ISBLANK(FromEvoM!A134),\"\",Category_ID)","v":""},null,null,null,{"$f":"IF(ISBLANK(FromEvoM!AK134),\"\",FromEvoM!AK134)","v":""},{"$f":"IF(ISBLANK(FromEvoM!AM134),\"\",FromEvoM!AM134)","v":""},{"$f":"IF(ISBLANK(FromEvoM!AN134),\"\",FromEvoM!AN134)","v":""},{"$f":"IF(ISBLANK(FromEvoM!AL134),\"\",FromEvoM!AL134)","v":""},{"$f":"IF(ISBLANK(FromEvoM!A134),\"\",IF(AND(AF134=\"y\",AI134=1),\"Y\",\"N\"))","v":""},{"$f":"IF(ISBLANK(FromEvoM!A134),\"\",IF(FromEvoM!AS134=\"Yes\",2,1))","v":""},{"$f":"IF(FromEvoM!W134=1,\"M\",IF(FromEvoM!W134=7,\"W\",\"\"))","v":""},{"$f":"IF(AJ134=\"Y\",0,IF(AJ134=\"N\",FromEvoM!AF134+FromEvoM!AT134,\"\"))","v":""},{"$f":"IF(AJ134=\"Y\",(FromEvoM!AE134+FromEvoM!AF134-FromEvoM!AT134),IF(AJ134=\"N\",FromEvoM!AE134,\"\"))","v":""}]
[{"$f":"IF(ISBLANK(FromEvoM!A135),\"\",Group_Code)","v":""},{"$f":"IF(ISBLANK(FromEvoM!A135),\"\",SUBSTITUTE(FromEvoM!A135,\" \",\"\"))","v":""},{"$f":"IF(ISBLANK(FromEvoM!C135),\"\",SUBSTITUTE(FromEvoM!G135,\" \",\"\"))","v":""},{"$f":"IF(ISBLANK(FromEvoM!D135),\"\",FromEvoM!B135)","v":""},{"$f":"IF(ISBLANK(FromEvoM!D135),\"\",FromEvoM!D135)","v":""},{"$f":"IF(ISBLANK(FromEvoM!C135),\"\",FromEvoM!C135)","v":""},{"$f":"REPLACE(FromEvoM!F135,2,6, )","v":""},{"$f":"IF(ISNUMBER(FromEvoM!E135),FromEvoM!E135,\"\")","v":""},{"$f":"IF(ISBLANK(FromEvoM!I135),\"\",FromEvoM!I135)","v":""},{"$f":"IF(ISBLANK(FromEvoM!J135),\"\",FromEvoM!J135)","v":""},{"$f":"IF(ISBLANK(FromEvoM!K135),\"\",FromEvoM!K135)","v":""},{"$f":"IF(ISBLANK(FromEvoM!L135),\"\",FromEvoM!L135)","v":""},{"$f":"IF(ISBLANK(FromEvoM!M135),\"\",FromEvoM!M135)","v":""},{"$f":"IF(ISBLANK(FromEvoM!P135),\"\",FromEvoM!P135)","v":""},null,{"$f":"IF(ISNUMBER(FromEvoM!X135),FromEvoM!X135,\"\")","v":""},{"$f":"IF(ISNUMBER(FromEvoM!AB135),FromEvoM!AB135,\"\")","v":""},{"$f":"IF(ISNUMBER(FromEvoM!AA135),FromEvoM!AA135,\"\")","v":""},null,"","",null,null,{"$f":"IF(FromEvoM!W135=1,(FromEvoM!AB135*12),IF(FromEvoM!W135=7,(FromEvoM!AR135),\"\"))","v":""},null,null,{"$f":"IF(ISBLANK(FromEvoM!A135),\"\",IF(FromEvoM!AK135=\"y\",\"Y\",\"N\"))","v":""},{"$f":"IF(ISBLANK(FromEvoM!A135),\"\",Category_ID)","v":""},null,null,null,{"$f":"IF(ISBLANK(FromEvoM!AK135),\"\",FromEvoM!AK135)","v":""},{"$f":"IF(ISBLANK(FromEvoM!AM135),\"\",FromEvoM!AM135)","v":""},{"$f":"IF(ISBLANK(FromEvoM!AN135),\"\",FromEvoM!AN135)","v":""},{"$f":"IF(ISBLANK(FromEvoM!AL135),\"\",FromEvoM!AL135)","v":""},{"$f":"IF(ISBLANK(FromEvoM!A135),\"\",IF(AND(AF135=\"y\",AI135=1),\"Y\",\"N\"))","v":""},{"$f":"IF(ISBLANK(FromEvoM!A135),\"\",IF(FromEvoM!AS135=\"Yes\",2,1))","v":""},{"$f":"IF(FromEvoM!W135=1,\"M\",IF(FromEvoM!W135=7,\"W\",\"\"))","v":""},{"$f":"IF(AJ135=\"Y\",0,IF(AJ135=\"N\",FromEvoM!AF135+FromEvoM!AT135,\"\"))","v":""},{"$f":"IF(AJ135=\"Y\",(FromEvoM!AE135+FromEvoM!AF135-FromEvoM!AT135),IF(AJ135=\"N\",FromEvoM!AE135,\"\"))","v":""}]
[{"$f":"IF(ISBLANK(FromEvoM!A136),\"\",Group_Code)","v":""},{"$f":"IF(ISBLANK(FromEvoM!A136),\"\",SUBSTITUTE(FromEvoM!A136,\" \",\"\"))","v":""},{"$f":"IF(ISBLANK(FromEvoM!C136),\"\",SUBSTITUTE(FromEvoM!G136,\" \",\"\"))","v":""},{"$f":"IF(ISBLANK(FromEvoM!D136),\"\",FromEvoM!B136)","v":""},{"$f":"IF(ISBLANK(FromEvoM!D136),\"\",FromEvoM!D136)","v":""},{"$f":"IF(ISBLANK(FromEvoM!C136),\"\",FromEvoM!C136)","v":""},{"$f":"REPLACE(FromEvoM!F136,2,6, )","v":""},{"$f":"IF(ISNUMBER(FromEvoM!E136),FromEvoM!E136,\"\")","v":""},{"$f":"IF(ISBLANK(FromEvoM!I136),\"\",FromEvoM!I136)","v":""},{"$f":"IF(ISBLANK(FromEvoM!J136),\"\",FromEvoM!J136)","v":""},{"$f":"IF(ISBLANK(FromEvoM!K136),\"\",FromEvoM!K136)","v":""},{"$f":"IF(ISBLANK(FromEvoM!L136),\"\",FromEvoM!L136)","v":""},{"$f":"IF(ISBLANK(FromEvoM!M136),\"\",FromEvoM!M136)","v":""},{"$f":"IF(ISBLANK(FromEvoM!P136),\"\",FromEvoM!P136)","v":""},null,{"$f":"IF(ISNUMBER(FromEvoM!X136),FromEvoM!X136,\"\")","v":""},{"$f":"IF(ISNUMBER(FromEvoM!AB136),FromEvoM!AB136,\"\")","v":""},{"$f":"IF(ISNUMBER(FromEvoM!AA136),FromEvoM!AA136,\"\")","v":""},null,"","",null,null,{"$f":"IF(FromEvoM!W136=1,(FromEvoM!AB136*12),IF(FromEvoM!W136=7,(FromEvoM!AR136),\"\"))","v":""},null,null,{"$f":"IF(ISBLANK(FromEvoM!A136),\"\",IF(FromEvoM!AK136=\"y\",\"Y\",\"N\"))","v":""},{"$f":"IF(ISBLANK(FromEvoM!A136),\"\",Category_ID)","v":""},null,null,null,{"$f":"IF(ISBLANK(FromEvoM!AK136),\"\",FromEvoM!AK136)","v":""},{"$f":"IF(ISBLANK(FromEvoM!AM136),\"\",FromEvoM!AM136)","v":""},{"$f":"IF(ISBLANK(FromEvoM!AN136),\"\",FromEvoM!AN136)","v":""},{"$f":"IF(ISBLANK(FromEvoM!AL136),\"\",FromEvoM!AL136)","v":""},{"$f":"IF(ISBLANK(FromEvoM!A136),\"\",IF(AND(AF136=\"y\",AI136=1),\"Y\",\"N\"))","v":""},{"$f":"IF(ISBLANK(FromEvoM!A136),\"\",IF(FromEvoM!AS136=\"Yes\",2,1))","v":""},{"$f":"IF(FromEvoM!W136=1,\"M\",IF(FromEvoM!W136=7,\"W\",\"\"))","v":""},{"$f":"IF(AJ136=\"Y\",0,IF(AJ136=\"N\",FromEvoM!AF136+FromEvoM!AT136,\"\"))","v":""},{"$f":"IF(AJ136=\"Y\",(FromEvoM!AE136+FromEvoM!AF136-FromEvoM!AT136),IF(AJ136=\"N\",FromEvoM!AE136,\"\"))","v":""}]
[{"$f":"IF(ISBLANK(FromEvoM!A137),\"\",Group_Code)","v":""},{"$f":"IF(ISBLANK(FromEvoM!A137),\"\",SUBSTITUTE(FromEvoM!A137,\" \",\"\"))","v":""},{"$f":"IF(ISBLANK(FromEvoM!C137),\"\",SUBSTITUTE(FromEvoM!G137,\" \",\"\"))","v":""},{"$f":"IF(ISBLANK(FromEvoM!D137),\"\",FromEvoM!B137)","v":""},{"$f":"IF(ISBLANK(FromEvoM!D137),\"\",FromEvoM!D137)","v":""},{"$f":"IF(ISBLANK(FromEvoM!C137),\"\",FromEvoM!C137)","v":""},{"$f":"REPLACE(FromEvoM!F137,2,6, )","v":""},{"$f":"IF(ISNUMBER(FromEvoM!E137),FromEvoM!E137,\"\")","v":""},{"$f":"IF(ISBLANK(FromEvoM!I137),\"\",FromEvoM!I137)","v":""},{"$f":"IF(ISBLANK(FromEvoM!J137),\"\",FromEvoM!J137)","v":""},{"$f":"IF(ISBLANK(FromEvoM!K137),\"\",FromEvoM!K137)","v":""},{"$f":"IF(ISBLANK(FromEvoM!L137),\"\",FromEvoM!L137)","v":""},{"$f":"IF(ISBLANK(FromEvoM!M137),\"\",FromEvoM!M137)","v":""},{"$f":"IF(ISBLANK(FromEvoM!P137),\"\",FromEvoM!P137)","v":""},null,{"$f":"IF(ISNUMBER(FromEvoM!X137),FromEvoM!X137,\"\")","v":""},{"$f":"IF(ISNUMBER(FromEvoM!AB137),FromEvoM!AB137,\"\")","v":""},{"$f":"IF(ISNUMBER(FromEvoM!AA137),FromEvoM!AA137,\"\")","v":""},null,"","",null,null,{"$f":"IF(FromEvoM!W137=1,(FromEvoM!AB137*12),IF(FromEvoM!W137=7,(FromEvoM!AR137),\"\"))","v":""},null,null,{"$f":"IF(ISBLANK(FromEvoM!A137),\"\",IF(FromEvoM!AK137=\"y\",\"Y\",\"N\"))","v":""},{"$f":"IF(ISBLANK(FromEvoM!A137),\"\",Category_ID)","v":""},null,null,null,{"$f":"IF(ISBLANK(FromEvoM!AK137),\"\",FromEvoM!AK137)","v":""},{"$f":"IF(ISBLANK(FromEvoM!AM137),\"\",FromEvoM!AM137)","v":""},{"$f":"IF(ISBLANK(FromEvoM!AN137),\"\",FromEvoM!AN137)","v":""},{"$f":"IF(ISBLANK(FromEvoM!AL137),\"\",FromEvoM!AL137)","v":""},{"$f":"IF(ISBLANK(FromEvoM!A137),\"\",IF(AND(AF137=\"y\",AI137=1),\"Y\",\"N\"))","v":""},{"$f":"IF(ISBLANK(FromEvoM!A137),\"\",IF(FromEvoM!AS137=\"Yes\",2,1))","v":""},{"$f":"IF(FromEvoM!W137=1,\"M\",IF(FromEvoM!W137=7,\"W\",\"\"))","v":""},{"$f":"IF(AJ137=\"Y\",0,IF(AJ137=\"N\",FromEvoM!AF137+FromEvoM!AT137,\"\"))","v":""},{"$f":"IF(AJ137=\"Y\",(FromEvoM!AE137+FromEvoM!AF137-FromEvoM!AT137),IF(AJ137=\"N\",FromEvoM!AE137,\"\"))","v":""}]
[{"$f":"IF(ISBLANK(FromEvoM!A138),\"\",Group_Code)","v":""},{"$f":"IF(ISBLANK(FromEvoM!A138),\"\",SUBSTITUTE(FromEvoM!A138,\" \",\"\"))","v":""},{"$f":"IF(ISBLANK(FromEvoM!C138),\"\",SUBSTITUTE(FromEvoM!G138,\" \",\"\"))","v":""},{"$f":"IF(ISBLANK(FromEvoM!D138),\"\",FromEvoM!B138)","v":""},{"$f":"IF(ISBLANK(FromEvoM!D138),\"\",FromEvoM!D138)","v":""},{"$f":"IF(ISBLANK(FromEvoM!C138),\"\",FromEvoM!C138)","v":""},{"$f":"REPLACE(FromEvoM!F138,2,6, )","v":""},{"$f":"IF(ISNUMBER(FromEvoM!E138),FromEvoM!E138,\"\")","v":""},{"$f":"IF(ISBLANK(FromEvoM!I138),\"\",FromEvoM!I138)","v":""},{"$f":"IF(ISBLANK(FromEvoM!J138),\"\",FromEvoM!J138)","v":""},{"$f":"IF(ISBLANK(FromEvoM!K138),\"\",FromEvoM!K138)","v":""},{"$f":"IF(ISBLANK(FromEvoM!L138),\"\",FromEvoM!L138)","v":""},{"$f":"IF(ISBLANK(FromEvoM!M138),\"\",FromEvoM!M138)","v":""},{"$f":"IF(ISBLANK(FromEvoM!P138),\"\",FromEvoM!P138)","v":""},null,{"$f":"IF(ISNUMBER(FromEvoM!X138),FromEvoM!X138,\"\")","v":""},{"$f":"IF(ISNUMBER(FromEvoM!AB138),FromEvoM!AB138,\"\")","v":""},{"$f":"IF(ISNUMBER(FromEvoM!AA138),FromEvoM!AA138,\"\")","v":""},null,"","",null,null,{"$f":"IF(FromEvoM!W138=1,(FromEvoM!AB138*12),IF(FromEvoM!W138=7,(FromEvoM!AR138),\"\"))","v":""},null,null,{"$f":"IF(ISBLANK(FromEvoM!A138),\"\",IF(FromEvoM!AK138=\"y\",\"Y\",\"N\"))","v":""},{"$f":"IF(ISBLANK(FromEvoM!A138),\"\",Category_ID)","v":""},null,null,null,{"$f":"IF(ISBLANK(FromEvoM!AK138),\"\",FromEvoM!AK138)","v":""},{"$f":"IF(ISBLANK(FromEvoM!AM138),\"\",FromEvoM!AM138)","v":""},{"$f":"IF(ISBLANK(FromEvoM!AN138),\"\",FromEvoM!AN138)","v":""},{"$f":"IF(ISBLANK(FromEvoM!AL138),\"\",FromEvoM!AL138)","v":""},{"$f":"IF(ISBLANK(FromEvoM!A138),\"\",IF(AND(AF138=\"y\",AI138=1),\"Y\",\"N\"))","v":""},{"$f":"IF(ISBLANK(FromEvoM!A138),\"\",IF(FromEvoM!AS138=\"Yes\",2,1))","v":""},{"$f":"IF(FromEvoM!W138=1,\"M\",IF(FromEvoM!W138=7,\"W\",\"\"))","v":""},{"$f":"IF(AJ138=\"Y\",0,IF(AJ138=\"N\",FromEvoM!AF138+FromEvoM!AT138,\"\"))","v":""},{"$f":"IF(AJ138=\"Y\",(FromEvoM!AE138+FromEvoM!AF138-FromEvoM!AT138),IF(AJ138=\"N\",FromEvoM!AE138,\"\"))","v":""}]
[{"$f":"IF(ISBLANK(FromEvoM!A139),\"\",Group_Code)","v":""},{"$f":"IF(ISBLANK(FromEvoM!A139),\"\",SUBSTITUTE(FromEvoM!A139,\" \",\"\"))","v":""},{"$f":"IF(ISBLANK(FromEvoM!C139),\"\",SUBSTITUTE(FromEvoM!G139,\" \",\"\"))","v":""},{"$f":"IF(ISBLANK(FromEvoM!D139),\"\",FromEvoM!B139)","v":""},{"$f":"IF(ISBLANK(FromEvoM!D139),\"\",FromEvoM!D139)","v":""},{"$f":"IF(ISBLANK(FromEvoM!C139),\"\",FromEvoM!C139)","v":""},{"$f":"REPLACE(FromEvoM!F139,2,6, )","v":""},{"$f":"IF(ISNUMBER(FromEvoM!E139),FromEvoM!E139,\"\")","v":""},{"$f":"IF(ISBLANK(FromEvoM!I139),\"\",FromEvoM!I139)","v":""},{"$f":"IF(ISBLANK(FromEvoM!J139),\"\",FromEvoM!J139)","v":""},{"$f":"IF(ISBLANK(FromEvoM!K139),\"\",FromEvoM!K139)","v":""},{"$f":"IF(ISBLANK(FromEvoM!L139),\"\",FromEvoM!L139)","v":""},{"$f":"IF(ISBLANK(FromEvoM!M139),\"\",FromEvoM!M139)","v":""},{"$f":"IF(ISBLANK(FromEvoM!P139),\"\",FromEvoM!P139)","v":""},null,{"$f":"IF(ISNUMBER(FromEvoM!X139),FromEvoM!X139,\"\")","v":""},{"$f":"IF(ISNUMBER(FromEvoM!AB139),FromEvoM!AB139,\"\")","v":""},{"$f":"IF(ISNUMBER(FromEvoM!AA139),FromEvoM!AA139,\"\")","v":""},null,"","",null,null,{"$f":"IF(FromEvoM!W139=1,(FromEvoM!AB139*12),IF(FromEvoM!W139=7,(FromEvoM!AR139),\"\"))","v":""},null,null,{"$f":"IF(ISBLANK(FromEvoM!A139),\"\",IF(FromEvoM!AK139=\"y\",\"Y\",\"N\"))","v":""},{"$f":"IF(ISBLANK(FromEvoM!A139),\"\",Category_ID)","v":""},null,null,null,{"$f":"IF(ISBLANK(FromEvoM!AK139),\"\",FromEvoM!AK139)","v":""},{"$f":"IF(ISBLANK(FromEvoM!AM139),\"\",FromEvoM!AM139)","v":""},{"$f":"IF(ISBLANK(FromEvoM!AN139),\"\",FromEvoM!AN139)","v":""},{"$f":"IF(ISBLANK(FromEvoM!AL139),\"\",FromEvoM!AL139)","v":""},{"$f":"IF(ISBLANK(FromEvoM!A139),\"\",IF(AND(AF139=\"y\",AI139=1),\"Y\",\"N\"))","v":""},{"$f":"IF(ISBLANK(FromEvoM!A139),\"\",IF(FromEvoM!AS139=\"Yes\",2,1))","v":""},{"$f":"IF(FromEvoM!W139=1,\"M\",IF(FromEvoM!W139=7,\"W\",\"\"))","v":""},{"$f":"IF(AJ139=\"Y\",0,IF(AJ139=\"N\",FromEvoM!AF139+FromEvoM!AT139,\"\"))","v":""},{"$f":"IF(AJ139=\"Y\",(FromEvoM!AE139+FromEvoM!AF139-FromEvoM!AT139),IF(AJ139=\"N\",FromEvoM!AE139,\"\"))","v":""}]
[{"$f":"IF(ISBLANK(FromEvoM!A140),\"\",Group_Code)","v":""},{"$f":"IF(ISBLANK(FromEvoM!A140),\"\",SUBSTITUTE(FromEvoM!A140,\" \",\"\"))","v":""},{"$f":"IF(ISBLANK(FromEvoM!C140),\"\",SUBSTITUTE(FromEvoM!G140,\" \",\"\"))","v":""},{"$f":"IF(ISBLANK(FromEvoM!D140),\"\",FromEvoM!B140)","v":""},{"$f":"IF(ISBLANK(FromEvoM!D140),\"\",FromEvoM!D140)","v":""},{"$f":"IF(ISBLANK(FromEvoM!C140),\"\",FromEvoM!C140)","v":""},{"$f":"REPLACE(FromEvoM!F140,2,6, )","v":""},{"$f":"IF(ISNUMBER(FromEvoM!E140),FromEvoM!E140,\"\")","v":""},{"$f":"IF(ISBLANK(FromEvoM!I140),\"\",FromEvoM!I140)","v":""},{"$f":"IF(ISBLANK(FromEvoM!J140),\"\",FromEvoM!J140)","v":""},{"$f":"IF(ISBLANK(FromEvoM!K140),\"\",FromEvoM!K140)","v":""},{"$f":"IF(ISBLANK(FromEvoM!L140),\"\",FromEvoM!L140)","v":""},{"$f":"IF(ISBLANK(FromEvoM!M140),\"\",FromEvoM!M140)","v":""},{"$f":"IF(ISBLANK(FromEvoM!P140),\"\",FromEvoM!P140)","v":""},null,{"$f":"IF(ISNUMBER(FromEvoM!X140),FromEvoM!X140,\"\")","v":""},{"$f":"IF(ISNUMBER(FromEvoM!AB140),FromEvoM!AB140,\"\")","v":""},{"$f":"IF(ISNUMBER(FromEvoM!AA140),FromEvoM!AA140,\"\")","v":""},null,"","",null,null,{"$f":"IF(FromEvoM!W140=1,(FromEvoM!AB140*12),IF(FromEvoM!W140=7,(FromEvoM!AR140),\"\"))","v":""},null,null,{"$f":"IF(ISBLANK(FromEvoM!A140),\"\",IF(FromEvoM!AK140=\"y\",\"Y\",\"N\"))","v":""},{"$f":"IF(ISBLANK(FromEvoM!A140),\"\",Category_ID)","v":""},null,null,null,{"$f":"IF(ISBLANK(FromEvoM!AK140),\"\",FromEvoM!AK140)","v":""},{"$f":"IF(ISBLANK(FromEvoM!AM140),\"\",FromEvoM!AM140)","v":""},{"$f":"IF(ISBLANK(FromEvoM!AN140),\"\",FromEvoM!AN140)","v":""},{"$f":"IF(ISBLANK(FromEvoM!AL140),\"\",FromEvoM!AL140)","v":""},{"$f":"IF(ISBLANK(FromEvoM!A140),\"\",IF(AND(AF140=\"y\",AI140=1),\"Y\",\"N\"))","v":""},{"$f":"IF(ISBLANK(FromEvoM!A140),\"\",IF(FromEvoM!AS140=\"Yes\",2,1))","v":""},{"$f":"IF(FromEvoM!W140=1,\"M\",IF(FromEvoM!W140=7,\"W\",\"\"))","v":""},{"$f":"IF(AJ140=\"Y\",0,IF(AJ140=\"N\",FromEvoM!AF140+FromEvoM!AT140,\"\"))","v":""},{"$f":"IF(AJ140=\"Y\",(FromEvoM!AE140+FromEvoM!AF140-FromEvoM!AT140),IF(AJ140=\"N\",FromEvoM!AE140,\"\"))","v":""}]
[{"$f":"IF(ISBLANK(FromEvoM!A141),\"\",Group_Code)","v":""},{"$f":"IF(ISBLANK(FromEvoM!A141),\"\",SUBSTITUTE(FromEvoM!A141,\" \",\"\"))","v":""},{"$f":"IF(ISBLANK(FromEvoM!C141),\"\",SUBSTITUTE(FromEvoM!G141,\" \",\"\"))","v":""},{"$f":"IF(ISBLANK(FromEvoM!D141),\"\",FromEvoM!B141)","v":""},{"$f":"IF(ISBLANK(FromEvoM!D141),\"\",FromEvoM!D141)","v":""},{"$f":"IF(ISBLANK(FromEvoM!C141),\"\",FromEvoM!C141)","v":""},{"$f":"REPLACE(FromEvoM!F141,2,6, )","v":""},{"$f":"IF(ISNUMBER(FromEvoM!E141),FromEvoM!E141,\"\")","v":""},{"$f":"IF(ISBLANK(FromEvoM!I141),\"\",FromEvoM!I141)","v":""},{"$f":"IF(ISBLANK(FromEvoM!J141),\"\",FromEvoM!J141)","v":""},{"$f":"IF(ISBLANK(FromEvoM!K141),\"\",FromEvoM!K141)","v":""},{"$f":"IF(ISBLANK(FromEvoM!L141),\"\",FromEvoM!L141)","v":""},{"$f":"IF(ISBLANK(FromEvoM!M141),\"\",FromEvoM!M141)","v":""},{"$f":"IF(ISBLANK(FromEvoM!P141),\"\",FromEvoM!P141)","v":""},null,{"$f":"IF(ISNUMBER(FromEvoM!X141),FromEvoM!X141,\"\")","v":""},{"$f":"IF(ISNUMBER(FromEvoM!AB141),FromEvoM!AB141,\"\")","v":""},{"$f":"IF(ISNUMBER(FromEvoM!AA141),FromEvoM!AA141,\"\")","v":""},null,"","",null,null,{"$f":"IF(FromEvoM!W141=1,(FromEvoM!AB141*12),IF(FromEvoM!W141=7,(FromEvoM!AR141),\"\"))","v":""},null,null,{"$f":"IF(ISBLANK(FromEvoM!A141),\"\",IF(FromEvoM!AK141=\"y\",\"Y\",\"N\"))","v":""},{"$f":"IF(ISBLANK(FromEvoM!A141),\"\",Category_ID)","v":""},null,null,null,{"$f":"IF(ISBLANK(FromEvoM!AK141),\"\",FromEvoM!AK141)","v":""},{"$f":"IF(ISBLANK(FromEvoM!AM141),\"\",FromEvoM!AM141)","v":""},{"$f":"IF(ISBLANK(FromEvoM!AN141),\"\",FromEvoM!AN141)","v":""},{"$f":"IF(ISBLANK(FromEvoM!AL141),\"\",FromEvoM!AL141)","v":""},{"$f":"IF(ISBLANK(FromEvoM!A141),\"\",IF(AND(AF141=\"y\",AI141=1),\"Y\",\"N\"))","v":""},{"$f":"IF(ISBLANK(FromEvoM!A141),\"\",IF(FromEvoM!AS141=\"Yes\",2,1))","v":""},{"$f":"IF(FromEvoM!W141=1,\"M\",IF(FromEvoM!W141=7,\"W\",\"\"))","v":""},{"$f":"IF(AJ141=\"Y\",0,IF(AJ141=\"N\",FromEvoM!AF141+FromEvoM!AT141,\"\"))","v":""},{"$f":"IF(AJ141=\"Y\",(FromEvoM!AE141+FromEvoM!AF141-FromEvoM!AT141),IF(AJ141=\"N\",FromEvoM!AE141,\"\"))","v":""}]
[{"$f":"IF(ISBLANK(FromEvoM!A142),\"\",Group_Code)","v":""},{"$f":"IF(ISBLANK(FromEvoM!A142),\"\",SUBSTITUTE(FromEvoM!A142,\" \",\"\"))","v":""},{"$f":"IF(ISBLANK(FromEvoM!C142),\"\",SUBSTITUTE(FromEvoM!G142,\" \",\"\"))","v":""},{"$f":"IF(ISBLANK(FromEvoM!D142),\"\",FromEvoM!B142)","v":""},{"$f":"IF(ISBLANK(FromEvoM!D142),\"\",FromEvoM!D142)","v":""},{"$f":"IF(ISBLANK(FromEvoM!C142),\"\",FromEvoM!C142)","v":""},{"$f":"REPLACE(FromEvoM!F142,2,6, )","v":""},{"$f":"IF(ISNUMBER(FromEvoM!E142),FromEvoM!E142,\"\")","v":""},{"$f":"IF(ISBLANK(FromEvoM!I142),\"\",FromEvoM!I142)","v":""},{"$f":"IF(ISBLANK(FromEvoM!J142),\"\",FromEvoM!J142)","v":""},{"$f":"IF(ISBLANK(FromEvoM!K142),\"\",FromEvoM!K142)","v":""},{"$f":"IF(ISBLANK(FromEvoM!L142),\"\",FromEvoM!L142)","v":""},{"$f":"IF(ISBLANK(FromEvoM!M142),\"\",FromEvoM!M142)","v":""},{"$f":"IF(ISBLANK(FromEvoM!P142),\"\",FromEvoM!P142)","v":""},null,{"$f":"IF(ISNUMBER(FromEvoM!X142),FromEvoM!X142,\"\")","v":""},{"$f":"IF(ISNUMBER(FromEvoM!AB142),FromEvoM!AB142,\"\")","v":""},{"$f":"IF(ISNUMBER(FromEvoM!AA142),FromEvoM!AA142,\"\")","v":""},null,"","",null,null,{"$f":"IF(FromEvoM!W142=1,(FromEvoM!AB142*12),IF(FromEvoM!W142=7,(FromEvoM!AR142),\"\"))","v":""},null,null,{"$f":"IF(ISBLANK(FromEvoM!A142),\"\",IF(FromEvoM!AK142=\"y\",\"Y\",\"N\"))","v":""},{"$f":"IF(ISBLANK(FromEvoM!A142),\"\",Category_ID)","v":""},null,null,null,{"$f":"IF(ISBLANK(FromEvoM!AK142),\"\",FromEvoM!AK142)","v":""},{"$f":"IF(ISBLANK(FromEvoM!AM142),\"\",FromEvoM!AM142)","v":""},{"$f":"IF(ISBLANK(FromEvoM!AN142),\"\",FromEvoM!AN142)","v":""},{"$f":"IF(ISBLANK(FromEvoM!AL142),\"\",FromEvoM!AL142)","v":""},{"$f":"IF(ISBLANK(FromEvoM!A142),\"\",IF(AND(AF142=\"y\",AI142=1),\"Y\",\"N\"))","v":""},{"$f":"IF(ISBLANK(FromEvoM!A142),\"\",IF(FromEvoM!AS142=\"Yes\",2,1))","v":""},{"$f":"IF(FromEvoM!W142=1,\"M\",IF(FromEvoM!W142=7,\"W\",\"\"))","v":""},{"$f":"IF(AJ142=\"Y\",0,IF(AJ142=\"N\",FromEvoM!AF142+FromEvoM!AT142,\"\"))","v":""},{"$f":"IF(AJ142=\"Y\",(FromEvoM!AE142+FromEvoM!AF142-FromEvoM!AT142),IF(AJ142=\"N\",FromEvoM!AE142,\"\"))","v":""}]
[{"$f":"IF(ISBLANK(FromEvoM!A143),\"\",Group_Code)","v":""},{"$f":"IF(ISBLANK(FromEvoM!A143),\"\",SUBSTITUTE(FromEvoM!A143,\" \",\"\"))","v":""},{"$f":"IF(ISBLANK(FromEvoM!C143),\"\",SUBSTITUTE(FromEvoM!G143,\" \",\"\"))","v":""},{"$f":"IF(ISBLANK(FromEvoM!D143),\"\",FromEvoM!B143)","v":""},{"$f":"IF(ISBLANK(FromEvoM!D143),\"\",FromEvoM!D143)","v":""},{"$f":"IF(ISBLANK(FromEvoM!C143),\"\",FromEvoM!C143)","v":""},{"$f":"REPLACE(FromEvoM!F143,2,6, )","v":""},{"$f":"IF(ISNUMBER(FromEvoM!E143),FromEvoM!E143,\"\")","v":""},{"$f":"IF(ISBLANK(FromEvoM!I143),\"\",FromEvoM!I143)","v":""},{"$f":"IF(ISBLANK(FromEvoM!J143),\"\",FromEvoM!J143)","v":""},{"$f":"IF(ISBLANK(FromEvoM!K143),\"\",FromEvoM!K143)","v":""},{"$f":"IF(ISBLANK(FromEvoM!L143),\"\",FromEvoM!L143)","v":""},{"$f":"IF(ISBLANK(FromEvoM!M143),\"\",FromEvoM!M143)","v":""},{"$f":"IF(ISBLANK(FromEvoM!P143),\"\",FromEvoM!P143)","v":""},null,{"$f":"IF(ISNUMBER(FromEvoM!X143),FromEvoM!X143,\"\")","v":""},{"$f":"IF(ISNUMBER(FromEvoM!AB143),FromEvoM!AB143,\"\")","v":""},{"$f":"IF(ISNUMBER(FromEvoM!AA143),FromEvoM!AA143,\"\")","v":""},null,"","",null,null,{"$f":"IF(FromEvoM!W143=1,(FromEvoM!AB143*12),IF(FromEvoM!W143=7,(FromEvoM!AR143),\"\"))","v":""},null,null,{"$f":"IF(ISBLANK(FromEvoM!A143),\"\",IF(FromEvoM!AK143=\"y\",\"Y\",\"N\"))","v":""},{"$f":"IF(ISBLANK(FromEvoM!A143),\"\",Category_ID)","v":""},null,null,null,{"$f":"IF(ISBLANK(FromEvoM!AK143),\"\",FromEvoM!AK143)","v":""},{"$f":"IF(ISBLANK(FromEvoM!AM143),\"\",FromEvoM!AM143)","v":""},{"$f":"IF(ISBLANK(FromEvoM!AN143),\"\",FromEvoM!AN143)","v":""},{"$f":"IF(ISBLANK(FromEvoM!AL143),\"\",FromEvoM!AL143)","v":""},{"$f":"IF(ISBLANK(FromEvoM!A143),\"\",IF(AND(AF143=\"y\",AI143=1),\"Y\",\"N\"))","v":""},{"$f":"IF(ISBLANK(FromEvoM!A143),\"\",IF(FromEvoM!AS143=\"Yes\",2,1))","v":""},{"$f":"IF(FromEvoM!W143=1,\"M\",IF(FromEvoM!W143=7,\"W\",\"\"))","v":""},{"$f":"IF(AJ143=\"Y\",0,IF(AJ143=\"N\",FromEvoM!AF143+FromEvoM!AT143,\"\"))","v":""},{"$f":"IF(AJ143=\"Y\",(FromEvoM!AE143+FromEvoM!AF143-FromEvoM!AT143),IF(AJ143=\"N\",FromEvoM!AE143,\"\"))","v":""}]
[{"$f":"IF(ISBLANK(FromEvoM!A144),\"\",Group_Code)","v":""},{"$f":"IF(ISBLANK(FromEvoM!A144),\"\",SUBSTITUTE(FromEvoM!A144,\" \",\"\"))","v":""},{"$f":"IF(ISBLANK(FromEvoM!C144),\"\",SUBSTITUTE(FromEvoM!G144,\" \",\"\"))","v":""},{"$f":"IF(ISBLANK(FromEvoM!D144),\"\",FromEvoM!B144)","v":""},{"$f":"IF(ISBLANK(FromEvoM!D144),\"\",FromEvoM!D144)","v":""},{"$f":"IF(ISBLANK(FromEvoM!C144),\"\",FromEvoM!C144)","v":""},{"$f":"REPLACE(FromEvoM!F144,2,6, )","v":""},{"$f":"IF(ISNUMBER(FromEvoM!E144),FromEvoM!E144,\"\")","v":""},{"$f":"IF(ISBLANK(FromEvoM!I144),\"\",FromEvoM!I144)","v":""},{"$f":"IF(ISBLANK(FromEvoM!J144),\"\",FromEvoM!J144)","v":""},{"$f":"IF(ISBLANK(FromEvoM!K144),\"\",FromEvoM!K144)","v":""},{"$f":"IF(ISBLANK(FromEvoM!L144),\"\",FromEvoM!L144)","v":""},{"$f":"IF(ISBLANK(FromEvoM!M144),\"\",FromEvoM!M144)","v":""},{"$f":"IF(ISBLANK(FromEvoM!P144),\"\",FromEvoM!P144)","v":""},null,{"$f":"IF(ISNUMBER(FromEvoM!X144),FromEvoM!X144,\"\")","v":""},{"$f":"IF(ISNUMBER(FromEvoM!AB144),FromEvoM!AB144,\"\")","v":""},{"$f":"IF(ISNUMBER(FromEvoM!AA144),FromEvoM!AA144,\"\")","v":""},null,"","",null,null,{"$f":"IF(FromEvoM!W144=1,(FromEvoM!AB144*12),IF(FromEvoM!W144=7,(FromEvoM!AR144),\"\"))","v":""},null,null,{"$f":"IF(ISBLANK(FromEvoM!A144),\"\",IF(FromEvoM!AK144=\"y\",\"Y\",\"N\"))","v":""},{"$f":"IF(ISBLANK(FromEvoM!A144),\"\",Category_ID)","v":""},null,null,null,{"$f":"IF(ISBLANK(FromEvoM!AK144),\"\",FromEvoM!AK144)","v":""},{"$f":"IF(ISBLANK(FromEvoM!AM144),\"\",FromEvoM!AM144)","v":""},{"$f":"IF(ISBLANK(FromEvoM!AN144),\"\",FromEvoM!AN144)","v":""},{"$f":"IF(ISBLANK(FromEvoM!AL144),\"\",FromEvoM!AL144)","v":""},{"$f":"IF(ISBLANK(FromEvoM!A144),\"\",IF(AND(AF144=\"y\",AI144=1),\"Y\",\"N\"))","v":""},{"$f":"IF(ISBLANK(FromEvoM!A144),\"\",IF(FromEvoM!AS144=\"Yes\",2,1))","v":""},{"$f":"IF(FromEvoM!W144=1,\"M\",IF(FromEvoM!W144=7,\"W\",\"\"))","v":""},{"$f":"IF(AJ144=\"Y\",0,IF(AJ144=\"N\",FromEvoM!AF144+FromEvoM!AT144,\"\"))","v":""},{"$f":"IF(AJ144=\"Y\",(FromEvoM!AE144+FromEvoM!AF144-FromEvoM!AT144),IF(AJ144=\"N\",FromEvoM!AE144,\"\"))","v":""}]
[{"$f":"IF(ISBLANK(FromEvoM!A145),\"\",Group_Code)","v":""},{"$f":"IF(ISBLANK(FromEvoM!A145),\"\",SUBSTITUTE(FromEvoM!A145,\" \",\"\"))","v":""},{"$f":"IF(ISBLANK(FromEvoM!C145),\"\",SUBSTITUTE(FromEvoM!G145,\" \",\"\"))","v":""},{"$f":"IF(ISBLANK(FromEvoM!D145),\"\",FromEvoM!B145)","v":""},{"$f":"IF(ISBLANK(FromEvoM!D145),\"\",FromEvoM!D145)","v":""},{"$f":"IF(ISBLANK(FromEvoM!C145),\"\",FromEvoM!C145)","v":""},{"$f":"REPLACE(FromEvoM!F145,2,6, )","v":""},{"$f":"IF(ISNUMBER(FromEvoM!E145),FromEvoM!E145,\"\")","v":""},{"$f":"IF(ISBLANK(FromEvoM!I145),\"\",FromEvoM!I145)","v":""},{"$f":"IF(ISBLANK(FromEvoM!J145),\"\",FromEvoM!J145)","v":""},{"$f":"IF(ISBLANK(FromEvoM!K145),\"\",FromEvoM!K145)","v":""},{"$f":"IF(ISBLANK(FromEvoM!L145),\"\",FromEvoM!L145)","v":""},{"$f":"IF(ISBLANK(FromEvoM!M145),\"\",FromEvoM!M145)","v":""},{"$f":"IF(ISBLANK(FromEvoM!P145),\"\",FromEvoM!P145)","v":""},null,{"$f":"IF(ISNUMBER(FromEvoM!X145),FromEvoM!X145,\"\")","v":""},{"$f":"IF(ISNUMBER(FromEvoM!AB145),FromEvoM!AB145,\"\")","v":""},{"$f":"IF(ISNUMBER(FromEvoM!AA145),FromEvoM!AA145,\"\")","v":""},null,"","",null,null,{"$f":"IF(FromEvoM!W145=1,(FromEvoM!AB145*12),IF(FromEvoM!W145=7,(FromEvoM!AR145),\"\"))","v":""},null,null,{"$f":"IF(ISBLANK(FromEvoM!A145),\"\",IF(FromEvoM!AK145=\"y\",\"Y\",\"N\"))","v":""},{"$f":"IF(ISBLANK(FromEvoM!A145),\"\",Category_ID)","v":""},null,null,null,{"$f":"IF(ISBLANK(FromEvoM!AK145),\"\",FromEvoM!AK145)","v":""},{"$f":"IF(ISBLANK(FromEvoM!AM145),\"\",FromEvoM!AM145)","v":""},{"$f":"IF(ISBLANK(FromEvoM!AN145),\"\",FromEvoM!AN145)","v":""},{"$f":"IF(ISBLANK(FromEvoM!AL145),\"\",FromEvoM!AL145)","v":""},{"$f":"IF(ISBLANK(FromEvoM!A145),\"\",IF(AND(AF145=\"y\",AI145=1),\"Y\",\"N\"))","v":""},{"$f":"IF(ISBLANK(FromEvoM!A145),\"\",IF(FromEvoM!AS145=\"Yes\",2,1))","v":""},{"$f":"IF(FromEvoM!W145=1,\"M\",IF(FromEvoM!W145=7,\"W\",\"\"))","v":""},{"$f":"IF(AJ145=\"Y\",0,IF(AJ145=\"N\",FromEvoM!AF145+FromEvoM!AT145,\"\"))","v":""},{"$f":"IF(AJ145=\"Y\",(FromEvoM!AE145+FromEvoM!AF145-FromEvoM!AT145),IF(AJ145=\"N\",FromEvoM!AE145,\"\"))","v":""}]
[{"$f":"IF(ISBLANK(FromEvoM!A146),\"\",Group_Code)","v":""},{"$f":"IF(ISBLANK(FromEvoM!A146),\"\",SUBSTITUTE(FromEvoM!A146,\" \",\"\"))","v":""},{"$f":"IF(ISBLANK(FromEvoM!C146),\"\",SUBSTITUTE(FromEvoM!G146,\" \",\"\"))","v":""},{"$f":"IF(ISBLANK(FromEvoM!D146),\"\",FromEvoM!B146)","v":""},{"$f":"IF(ISBLANK(FromEvoM!D146),\"\",FromEvoM!D146)","v":""},{"$f":"IF(ISBLANK(FromEvoM!C146),\"\",FromEvoM!C146)","v":""},{"$f":"REPLACE(FromEvoM!F146,2,6, )","v":""},{"$f":"IF(ISNUMBER(FromEvoM!E146),FromEvoM!E146,\"\")","v":""},{"$f":"IF(ISBLANK(FromEvoM!I146),\"\",FromEvoM!I146)","v":""},{"$f":"IF(ISBLANK(FromEvoM!J146),\"\",FromEvoM!J146)","v":""},{"$f":"IF(ISBLANK(FromEvoM!K146),\"\",FromEvoM!K146)","v":""},{"$f":"IF(ISBLANK(FromEvoM!L146),\"\",FromEvoM!L146)","v":""},{"$f":"IF(ISBLANK(FromEvoM!M146),\"\",FromEvoM!M146)","v":""},{"$f":"IF(ISBLANK(FromEvoM!P146),\"\",FromEvoM!P146)","v":""},null,{"$f":"IF(ISNUMBER(FromEvoM!X146),FromEvoM!X146,\"\")","v":""},{"$f":"IF(ISNUMBER(FromEvoM!AB146),FromEvoM!AB146,\"\")","v":""},{"$f":"IF(ISNUMBER(FromEvoM!AA146),FromEvoM!AA146,\"\")","v":""},null,"","",null,null,{"$f":"IF(FromEvoM!W146=1,(FromEvoM!AB146*12),IF(FromEvoM!W146=7,(FromEvoM!AR146),\"\"))","v":""},null,null,{"$f":"IF(ISBLANK(FromEvoM!A146),\"\",IF(FromEvoM!AK146=\"y\",\"Y\",\"N\"))","v":""},{"$f":"IF(ISBLANK(FromEvoM!A146),\"\",Category_ID)","v":""},null,null,null,{"$f":"IF(ISBLANK(FromEvoM!AK146),\"\",FromEvoM!AK146)","v":""},{"$f":"IF(ISBLANK(FromEvoM!AM146),\"\",FromEvoM!AM146)","v":""},{"$f":"IF(ISBLANK(FromEvoM!AN146),\"\",FromEvoM!AN146)","v":""},{"$f":"IF(ISBLANK(FromEvoM!AL146),\"\",FromEvoM!AL146)","v":""},{"$f":"IF(ISBLANK(FromEvoM!A146),\"\",IF(AND(AF146=\"y\",AI146=1),\"Y\",\"N\"))","v":""},{"$f":"IF(ISBLANK(FromEvoM!A146),\"\",IF(FromEvoM!AS146=\"Yes\",2,1))","v":""},{"$f":"IF(FromEvoM!W146=1,\"M\",IF(FromEvoM!W146=7,\"W\",\"\"))","v":""},{"$f":"IF(AJ146=\"Y\",0,IF(AJ146=\"N\",FromEvoM!AF146+FromEvoM!AT146,\"\"))","v":""},{"$f":"IF(AJ146=\"Y\",(FromEvoM!AE146+FromEvoM!AF146-FromEvoM!AT146),IF(AJ146=\"N\",FromEvoM!AE146,\"\"))","v":""}]
[{"$f":"IF(ISBLANK(FromEvoM!A147),\"\",Group_Code)","v":""},{"$f":"IF(ISBLANK(FromEvoM!A147),\"\",SUBSTITUTE(FromEvoM!A147,\" \",\"\"))","v":""},{"$f":"IF(ISBLANK(FromEvoM!C147),\"\",SUBSTITUTE(FromEvoM!G147,\" \",\"\"))","v":""},{"$f":"IF(ISBLANK(FromEvoM!D147),\"\",FromEvoM!B147)","v":""},{"$f":"IF(ISBLANK(FromEvoM!D147),\"\",FromEvoM!D147)","v":""},{"$f":"IF(ISBLANK(FromEvoM!C147),\"\",FromEvoM!C147)","v":""},{"$f":"REPLACE(FromEvoM!F147,2,6, )","v":""},{"$f":"IF(ISNUMBER(FromEvoM!E147),FromEvoM!E147,\"\")","v":""},{"$f":"IF(ISBLANK(FromEvoM!I147),\"\",FromEvoM!I147)","v":""},{"$f":"IF(ISBLANK(FromEvoM!J147),\"\",FromEvoM!J147)","v":""},{"$f":"IF(ISBLANK(FromEvoM!K147),\"\",FromEvoM!K147)","v":""},{"$f":"IF(ISBLANK(FromEvoM!L147),\"\",FromEvoM!L147)","v":""},{"$f":"IF(ISBLANK(FromEvoM!M147),\"\",FromEvoM!M147)","v":""},{"$f":"IF(ISBLANK(FromEvoM!P147),\"\",FromEvoM!P147)","v":""},null,{"$f":"IF(ISNUMBER(FromEvoM!X147),FromEvoM!X147,\"\")","v":""},{"$f":"IF(ISNUMBER(FromEvoM!AB147),FromEvoM!AB147,\"\")","v":""},{"$f":"IF(ISNUMBER(FromEvoM!AA147),FromEvoM!AA147,\"\")","v":""},null,"","",null,null,{"$f":"IF(FromEvoM!W147=1,(FromEvoM!AB147*12),IF(FromEvoM!W147=7,(FromEvoM!AR147),\"\"))","v":""},null,null,{"$f":"IF(ISBLANK(FromEvoM!A147),\"\",IF(FromEvoM!AK147=\"y\",\"Y\",\"N\"))","v":""},{"$f":"IF(ISBLANK(FromEvoM!A147),\"\",Category_ID)","v":""},null,null,null,{"$f":"IF(ISBLANK(FromEvoM!AK147),\"\",FromEvoM!AK147)","v":""},{"$f":"IF(ISBLANK(FromEvoM!AM147),\"\",FromEvoM!AM147)","v":""},{"$f":"IF(ISBLANK(FromEvoM!AN147),\"\",FromEvoM!AN147)","v":""},{"$f":"IF(ISBLANK(FromEvoM!AL147),\"\",FromEvoM!AL147)","v":""},{"$f":"IF(ISBLANK(FromEvoM!A147),\"\",IF(AND(AF147=\"y\",AI147=1),\"Y\",\"N\"))","v":""},{"$f":"IF(ISBLANK(FromEvoM!A147),\"\",IF(FromEvoM!AS147=\"Yes\",2,1))","v":""},{"$f":"IF(FromEvoM!W147=1,\"M\",IF(FromEvoM!W147=7,\"W\",\"\"))","v":""},{"$f":"IF(AJ147=\"Y\",0,IF(AJ147=\"N\",FromEvoM!AF147+FromEvoM!AT147,\"\"))","v":""},{"$f":"IF(AJ147=\"Y\",(FromEvoM!AE147+FromEvoM!AF147-FromEvoM!AT147),IF(AJ147=\"N\",FromEvoM!AE147,\"\"))","v":""}]
[{"$f":"IF(ISBLANK(FromEvoM!A148),\"\",Group_Code)","v":""},{"$f":"IF(ISBLANK(FromEvoM!A148),\"\",SUBSTITUTE(FromEvoM!A148,\" \",\"\"))","v":""},{"$f":"IF(ISBLANK(FromEvoM!C148),\"\",SUBSTITUTE(FromEvoM!G148,\" \",\"\"))","v":""},{"$f":"IF(ISBLANK(FromEvoM!D148),\"\",FromEvoM!B148)","v":""},{"$f":"IF(ISBLANK(FromEvoM!D148),\"\",FromEvoM!D148)","v":""},{"$f":"IF(ISBLANK(FromEvoM!C148),\"\",FromEvoM!C148)","v":""},{"$f":"REPLACE(FromEvoM!F148,2,6, )","v":""},{"$f":"IF(ISNUMBER(FromEvoM!E148),FromEvoM!E148,\"\")","v":""},{"$f":"IF(ISBLANK(FromEvoM!I148),\"\",FromEvoM!I148)","v":""},{"$f":"IF(ISBLANK(FromEvoM!J148),\"\",FromEvoM!J148)","v":""},{"$f":"IF(ISBLANK(FromEvoM!K148),\"\",FromEvoM!K148)","v":""},{"$f":"IF(ISBLANK(FromEvoM!L148),\"\",FromEvoM!L148)","v":""},{"$f":"IF(ISBLANK(FromEvoM!M148),\"\",FromEvoM!M148)","v":""},{"$f":"IF(ISBLANK(FromEvoM!P148),\"\",FromEvoM!P148)","v":""},null,{"$f":"IF(ISNUMBER(FromEvoM!X148),FromEvoM!X148,\"\")","v":""},{"$f":"IF(ISNUMBER(FromEvoM!AB148),FromEvoM!AB148,\"\")","v":""},{"$f":"IF(ISNUMBER(FromEvoM!AA148),FromEvoM!AA148,\"\")","v":""},null,"","",null,null,{"$f":"IF(FromEvoM!W148=1,(FromEvoM!AB148*12),IF(FromEvoM!W148=7,(FromEvoM!AR148),\"\"))","v":""},null,null,{"$f":"IF(ISBLANK(FromEvoM!A148),\"\",IF(FromEvoM!AK148=\"y\",\"Y\",\"N\"))","v":""},{"$f":"IF(ISBLANK(FromEvoM!A148),\"\",Category_ID)","v":""},null,null,null,{"$f":"IF(ISBLANK(FromEvoM!AK148),\"\",FromEvoM!AK148)","v":""},{"$f":"IF(ISBLANK(FromEvoM!AM148),\"\",FromEvoM!AM148)","v":""},{"$f":"IF(ISBLANK(FromEvoM!AN148),\"\",FromEvoM!AN148)","v":""},{"$f":"IF(ISBLANK(FromEvoM!AL148),\"\",FromEvoM!AL148)","v":""},{"$f":"IF(ISBLANK(FromEvoM!A148),\"\",IF(AND(AF148=\"y\",AI148=1),\"Y\",\"N\"))","v":""},{"$f":"IF(ISBLANK(FromEvoM!A148),\"\",IF(FromEvoM!AS148=\"Yes\",2,1))","v":""},{"$f":"IF(FromEvoM!W148=1,\"M\",IF(FromEvoM!W148=7,\"W\",\"\"))","v":""},{"$f":"IF(AJ148=\"Y\",0,IF(AJ148=\"N\",FromEvoM!AF148+FromEvoM!AT148,\"\"))","v":""},{"$f":"IF(AJ148=\"Y\",(FromEvoM!AE148+FromEvoM!AF148-FromEvoM!AT148),IF(AJ148=\"N\",FromEvoM!AE148,\"\"))","v":""}]
[{"$f":"IF(ISBLANK(FromEvoM!A149),\"\",Group_Code)","v":""},{"$f":"IF(ISBLANK(FromEvoM!A149),\"\",SUBSTITUTE(FromEvoM!A149,\" \",\"\"))","v":""},{"$f":"IF(ISBLANK(FromEvoM!C149),\"\",SUBSTITUTE(FromEvoM!G149,\" \",\"\"))","v":""},{"$f":"IF(ISBLANK(FromEvoM!D149),\"\",FromEvoM!B149)","v":""},{"$f":"IF(ISBLANK(FromEvoM!D149),\"\",FromEvoM!D149)","v":""},{"$f":"IF(ISBLANK(FromEvoM!C149),\"\",FromEvoM!C149)","v":""},{"$f":"REPLACE(FromEvoM!F149,2,6, )","v":""},{"$f":"IF(ISNUMBER(FromEvoM!E149),FromEvoM!E149,\"\")","v":""},{"$f":"IF(ISBLANK(FromEvoM!I149),\"\",FromEvoM!I149)","v":""},{"$f":"IF(ISBLANK(FromEvoM!J149),\"\",FromEvoM!J149)","v":""},{"$f":"IF(ISBLANK(FromEvoM!K149),\"\",FromEvoM!K149)","v":""},{"$f":"IF(ISBLANK(FromEvoM!L149),\"\",FromEvoM!L149)","v":""},{"$f":"IF(ISBLANK(FromEvoM!M149),\"\",FromEvoM!M149)","v":""},{"$f":"IF(ISBLANK(FromEvoM!P149),\"\",FromEvoM!P149)","v":""},null,{"$f":"IF(ISNUMBER(FromEvoM!X149),FromEvoM!X149,\"\")","v":""},{"$f":"IF(ISNUMBER(FromEvoM!AB149),FromEvoM!AB149,\"\")","v":""},{"$f":"IF(ISNUMBER(FromEvoM!AA149),FromEvoM!AA149,\"\")","v":""},null,"","",null,null,{"$f":"IF(FromEvoM!W149=1,(FromEvoM!AB149*12),IF(FromEvoM!W149=7,(FromEvoM!AR149),\"\"))","v":""},null,null,{"$f":"IF(ISBLANK(FromEvoM!A149),\"\",IF(FromEvoM!AK149=\"y\",\"Y\",\"N\"))","v":""},{"$f":"IF(ISBLANK(FromEvoM!A149),\"\",Category_ID)","v":""},null,null,null,{"$f":"IF(ISBLANK(FromEvoM!AK149),\"\",FromEvoM!AK149)","v":""},{"$f":"IF(ISBLANK(FromEvoM!AM149),\"\",FromEvoM!AM149)","v":""},{"$f":"IF(ISBLANK(FromEvoM!AN149),\"\",FromEvoM!AN149)","v":""},{"$f":"IF(ISBLANK(FromEvoM!AL149),\"\",FromEvoM!AL149)","v":""},{"$f":"IF(ISBLANK(FromEvoM!A149),\"\",IF(AND(AF149=\"y\",AI149=1),\"Y\",\"N\"))","v":""},{"$f":"IF(ISBLANK(FromEvoM!A149),\"\",IF(FromEvoM!AS149=\"Yes\",2,1))","v":""},{"$f":"IF(FromEvoM!W149=1,\"M\",IF(FromEvoM!W149=7,\"W\",\"\"))","v":""},{"$f":"IF(AJ149=\"Y\",0,IF(AJ149=\"N\",FromEvoM!AF149+FromEvoM!AT149,\"\"))","v":""},{"$f":"IF(AJ149=\"Y\",(FromEvoM!AE149+FromEvoM!AF149-FromEvoM!AT149),IF(AJ149=\"N\",FromEvoM!AE149,\"\"))","v":""}]
[{"$f":"IF(ISBLANK(FromEvoM!A150),\"\",Group_Code)","v":""},{"$f":"IF(ISBLANK(FromEvoM!A150),\"\",SUBSTITUTE(FromEvoM!A150,\" \",\"\"))","v":""},{"$f":"IF(ISBLANK(FromEvoM!C150),\"\",SUBSTITUTE(FromEvoM!G150,\" \",\"\"))","v":""},{"$f":"IF(ISBLANK(FromEvoM!D150),\"\",FromEvoM!B150)","v":""},{"$f":"IF(ISBLANK(FromEvoM!D150),\"\",FromEvoM!D150)","v":""},{"$f":"IF(ISBLANK(FromEvoM!C150),\"\",FromEvoM!C150)","v":""},{"$f":"REPLACE(FromEvoM!F150,2,6, )","v":""},{"$f":"IF(ISNUMBER(FromEvoM!E150),FromEvoM!E150,\"\")","v":""},{"$f":"IF(ISBLANK(FromEvoM!I150),\"\",FromEvoM!I150)","v":""},{"$f":"IF(ISBLANK(FromEvoM!J150),\"\",FromEvoM!J150)","v":""},{"$f":"IF(ISBLANK(FromEvoM!K150),\"\",FromEvoM!K150)","v":""},{"$f":"IF(ISBLANK(FromEvoM!L150),\"\",FromEvoM!L150)","v":""},{"$f":"IF(ISBLANK(FromEvoM!M150),\"\",FromEvoM!M150)","v":""},{"$f":"IF(ISBLANK(FromEvoM!P150),\"\",FromEvoM!P150)","v":""},null,{"$f":"IF(ISNUMBER(FromEvoM!X150),FromEvoM!X150,\"\")","v":""},{"$f":"IF(ISNUMBER(FromEvoM!AB150),FromEvoM!AB150,\"\")","v":""},{"$f":"IF(ISNUMBER(FromEvoM!AA150),FromEvoM!AA150,\"\")","v":""},null,"","",null,null,{"$f":"IF(FromEvoM!W150=1,(FromEvoM!AB150*12),IF(FromEvoM!W150=7,(FromEvoM!AR150),\"\"))","v":""},null,null,{"$f":"IF(ISBLANK(FromEvoM!A150),\"\",IF(FromEvoM!AK150=\"y\",\"Y\",\"N\"))","v":""},{"$f":"IF(ISBLANK(FromEvoM!A150),\"\",Category_ID)","v":""},null,null,null,{"$f":"IF(ISBLANK(FromEvoM!AK150),\"\",FromEvoM!AK150)","v":""},{"$f":"IF(ISBLANK(FromEvoM!AM150),\"\",FromEvoM!AM150)","v":""},{"$f":"IF(ISBLANK(FromEvoM!AN150),\"\",FromEvoM!AN150)","v":""},{"$f":"IF(ISBLANK(FromEvoM!AL150),\"\",FromEvoM!AL150)","v":""},{"$f":"IF(ISBLANK(FromEvoM!A150),\"\",IF(AND(AF150=\"y\",AI150=1),\"Y\",\"N\"))","v":""},{"$f":"IF(ISBLANK(FromEvoM!A150),\"\",IF(FromEvoM!AS150=\"Yes\",2,1))","v":""},{"$f":"IF(FromEvoM!W150=1,\"M\",IF(FromEvoM!W150=7,\"W\",\"\"))","v":""},{"$f":"IF(AJ150=\"Y\",0,IF(AJ150=\"N\",FromEvoM!AF150+FromEvoM!AT150,\"\"))","v":""},{"$f":"IF(AJ150=\"Y\",(FromEvoM!AE150+FromEvoM!AF150-FromEvoM!AT150),IF(AJ150=\"N\",FromEvoM!AE150,\"\"))","v":""}]
[{"$f":"IF(ISBLANK(FromEvoM!A151),\"\",Group_Code)","v":""},{"$f":"IF(ISBLANK(FromEvoM!A151),\"\",SUBSTITUTE(FromEvoM!A151,\" \",\"\"))","v":""},{"$f":"IF(ISBLANK(FromEvoM!C151),\"\",SUBSTITUTE(FromEvoM!G151,\" \",\"\"))","v":""},{"$f":"IF(ISBLANK(FromEvoM!D151),\"\",FromEvoM!B151)","v":""},{"$f":"IF(ISBLANK(FromEvoM!D151),\"\",FromEvoM!D151)","v":""},{"$f":"IF(ISBLANK(FromEvoM!C151),\"\",FromEvoM!C151)","v":""},{"$f":"REPLACE(FromEvoM!F151,2,6, )","v":""},{"$f":"IF(ISNUMBER(FromEvoM!E151),FromEvoM!E151,\"\")","v":""},{"$f":"IF(ISBLANK(FromEvoM!I151),\"\",FromEvoM!I151)","v":""},{"$f":"IF(ISBLANK(FromEvoM!J151),\"\",FromEvoM!J151)","v":""},{"$f":"IF(ISBLANK(FromEvoM!K151),\"\",FromEvoM!K151)","v":""},{"$f":"IF(ISBLANK(FromEvoM!L151),\"\",FromEvoM!L151)","v":""},{"$f":"IF(ISBLANK(FromEvoM!M151),\"\",FromEvoM!M151)","v":""},{"$f":"IF(ISBLANK(FromEvoM!P151),\"\",FromEvoM!P151)","v":""},null,{"$f":"IF(ISNUMBER(FromEvoM!X151),FromEvoM!X151,\"\")","v":""},{"$f":"IF(ISNUMBER(FromEvoM!AB151),FromEvoM!AB151,\"\")","v":""},{"$f":"IF(ISNUMBER(FromEvoM!AA151),FromEvoM!AA151,\"\")","v":""},null,"","",null,null,{"$f":"IF(FromEvoM!W151=1,(FromEvoM!AB151*12),IF(FromEvoM!W151=7,(FromEvoM!AR151),\"\"))","v":""},null,null,{"$f":"IF(ISBLANK(FromEvoM!A151),\"\",IF(FromEvoM!AK151=\"y\",\"Y\",\"N\"))","v":""},{"$f":"IF(ISBLANK(FromEvoM!A151),\"\",Category_ID)","v":""},null,null,null,{"$f":"IF(ISBLANK(FromEvoM!AK151),\"\",FromEvoM!AK151)","v":""},{"$f":"IF(ISBLANK(FromEvoM!AM151),\"\",FromEvoM!AM151)","v":""},{"$f":"IF(ISBLANK(FromEvoM!AN151),\"\",FromEvoM!AN151)","v":""},{"$f":"IF(ISBLANK(FromEvoM!AL151),\"\",FromEvoM!AL151)","v":""},{"$f":"IF(ISBLANK(FromEvoM!A151),\"\",IF(AND(AF151=\"y\",AI151=1),\"Y\",\"N\"))","v":""},{"$f":"IF(ISBLANK(FromEvoM!A151),\"\",IF(FromEvoM!AS151=\"Yes\",2,1))","v":""},{"$f":"IF(FromEvoM!W151=1,\"M\",IF(FromEvoM!W151=7,\"W\",\"\"))","v":""},{"$f":"IF(AJ151=\"Y\",0,IF(AJ151=\"N\",FromEvoM!AF151+FromEvoM!AT151,\"\"))","v":""},{"$f":"IF(AJ151=\"Y\",(FromEvoM!AE151+FromEvoM!AF151-FromEvoM!AT151),IF(AJ151=\"N\",FromEvoM!AE151,\"\"))","v":""}]
[{"$f":"IF(ISBLANK(FromEvoM!A152),\"\",Group_Code)","v":""},{"$f":"IF(ISBLANK(FromEvoM!A152),\"\",SUBSTITUTE(FromEvoM!A152,\" \",\"\"))","v":""},{"$f":"IF(ISBLANK(FromEvoM!C152),\"\",SUBSTITUTE(FromEvoM!G152,\" \",\"\"))","v":""},{"$f":"IF(ISBLANK(FromEvoM!D152),\"\",FromEvoM!B152)","v":""},{"$f":"IF(ISBLANK(FromEvoM!D152),\"\",FromEvoM!D152)","v":""},{"$f":"IF(ISBLANK(FromEvoM!C152),\"\",FromEvoM!C152)","v":""},{"$f":"REPLACE(FromEvoM!F152,2,6, )","v":""},{"$f":"IF(ISNUMBER(FromEvoM!E152),FromEvoM!E152,\"\")","v":""},{"$f":"IF(ISBLANK(FromEvoM!I152),\"\",FromEvoM!I152)","v":""},{"$f":"IF(ISBLANK(FromEvoM!J152),\"\",FromEvoM!J152)","v":""},{"$f":"IF(ISBLANK(FromEvoM!K152),\"\",FromEvoM!K152)","v":""},{"$f":"IF(ISBLANK(FromEvoM!L152),\"\",FromEvoM!L152)","v":""},{"$f":"IF(ISBLANK(FromEvoM!M152),\"\",FromEvoM!M152)","v":""},{"$f":"IF(ISBLANK(FromEvoM!P152),\"\",FromEvoM!P152)","v":""},null,{"$f":"IF(ISNUMBER(FromEvoM!X152),FromEvoM!X152,\"\")","v":""},{"$f":"IF(ISNUMBER(FromEvoM!AB152),FromEvoM!AB152,\"\")","v":""},{"$f":"IF(ISNUMBER(FromEvoM!AA152),FromEvoM!AA152,\"\")","v":""},null,"","",null,null,{"$f":"IF(FromEvoM!W152=1,(FromEvoM!AB152*12),IF(FromEvoM!W152=7,(FromEvoM!AR152),\"\"))","v":""},null,null,{"$f":"IF(ISBLANK(FromEvoM!A152),\"\",IF(FromEvoM!AK152=\"y\",\"Y\",\"N\"))","v":""},{"$f":"IF(ISBLANK(FromEvoM!A152),\"\",Category_ID)","v":""},null,null,null,{"$f":"IF(ISBLANK(FromEvoM!AK152),\"\",FromEvoM!AK152)","v":""},{"$f":"IF(ISBLANK(FromEvoM!AM152),\"\",FromEvoM!AM152)","v":""},{"$f":"IF(ISBLANK(FromEvoM!AN152),\"\",FromEvoM!AN152)","v":""},{"$f":"IF(ISBLANK(FromEvoM!AL152),\"\",FromEvoM!AL152)","v":""},{"$f":"IF(ISBLANK(FromEvoM!A152),\"\",IF(AND(AF152=\"y\",AI152=1),\"Y\",\"N\"))","v":""},{"$f":"IF(ISBLANK(FromEvoM!A152),\"\",IF(FromEvoM!AS152=\"Yes\",2,1))","v":""},{"$f":"IF(FromEvoM!W152=1,\"M\",IF(FromEvoM!W152=7,\"W\",\"\"))","v":""},{"$f":"IF(AJ152=\"Y\",0,IF(AJ152=\"N\",FromEvoM!AF152+FromEvoM!AT152,\"\"))","v":""},{"$f":"IF(AJ152=\"Y\",(FromEvoM!AE152+FromEvoM!AF152-FromEvoM!AT152),IF(AJ152=\"N\",FromEvoM!AE152,\"\"))","v":""}]
[{"$f":"IF(ISBLANK(FromEvoM!A153),\"\",Group_Code)","v":""},{"$f":"IF(ISBLANK(FromEvoM!A153),\"\",SUBSTITUTE(FromEvoM!A153,\" \",\"\"))","v":""},{"$f":"IF(ISBLANK(FromEvoM!C153),\"\",SUBSTITUTE(FromEvoM!G153,\" \",\"\"))","v":""},{"$f":"IF(ISBLANK(FromEvoM!D153),\"\",FromEvoM!B153)","v":""},{"$f":"IF(ISBLANK(FromEvoM!D153),\"\",FromEvoM!D153)","v":""},{"$f":"IF(ISBLANK(FromEvoM!C153),\"\",FromEvoM!C153)","v":""},{"$f":"REPLACE(FromEvoM!F153,2,6, )","v":""},{"$f":"IF(ISNUMBER(FromEvoM!E153),FromEvoM!E153,\"\")","v":""},{"$f":"IF(ISBLANK(FromEvoM!I153),\"\",FromEvoM!I153)","v":""},{"$f":"IF(ISBLANK(FromEvoM!J153),\"\",FromEvoM!J153)","v":""},{"$f":"IF(ISBLANK(FromEvoM!K153),\"\",FromEvoM!K153)","v":""},{"$f":"IF(ISBLANK(FromEvoM!L153),\"\",FromEvoM!L153)","v":""},{"$f":"IF(ISBLANK(FromEvoM!M153),\"\",FromEvoM!M153)","v":""},{"$f":"IF(ISBLANK(FromEvoM!P153),\"\",FromEvoM!P153)","v":""},null,{"$f":"IF(ISNUMBER(FromEvoM!X153),FromEvoM!X153,\"\")","v":""},{"$f":"IF(ISNUMBER(FromEvoM!AB153),FromEvoM!AB153,\"\")","v":""},{"$f":"IF(ISNUMBER(FromEvoM!AA153),FromEvoM!AA153,\"\")","v":""},null,"","",null,null,{"$f":"IF(FromEvoM!W153=1,(FromEvoM!AB153*12),IF(FromEvoM!W153=7,(FromEvoM!AR153),\"\"))","v":""},null,null,{"$f":"IF(ISBLANK(FromEvoM!A153),\"\",IF(FromEvoM!AK153=\"y\",\"Y\",\"N\"))","v":""},{"$f":"IF(ISBLANK(FromEvoM!A153),\"\",Category_ID)","v":""},null,null,null,{"$f":"IF(ISBLANK(FromEvoM!AK153),\"\",FromEvoM!AK153)","v":""},{"$f":"IF(ISBLANK(FromEvoM!AM153),\"\",FromEvoM!AM153)","v":""},{"$f":"IF(ISBLANK(FromEvoM!AN153),\"\",FromEvoM!AN153)","v":""},{"$f":"IF(ISBLANK(FromEvoM!AL153),\"\",FromEvoM!AL153)","v":""},{"$f":"IF(ISBLANK(FromEvoM!A153),\"\",IF(AND(AF153=\"y\",AI153=1),\"Y\",\"N\"))","v":""},{"$f":"IF(ISBLANK(FromEvoM!A153),\"\",IF(FromEvoM!AS153=\"Yes\",2,1))","v":""},{"$f":"IF(FromEvoM!W153=1,\"M\",IF(FromEvoM!W153=7,\"W\",\"\"))","v":""},{"$f":"IF(AJ153=\"Y\",0,IF(AJ153=\"N\",FromEvoM!AF153+FromEvoM!AT153,\"\"))","v":""},{"$f":"IF(AJ153=\"Y\",(FromEvoM!AE153+FromEvoM!AF153-FromEvoM!AT153),IF(AJ153=\"N\",FromEvoM!AE153,\"\"))","v":""}]
[{"$f":"IF(ISBLANK(FromEvoM!A154),\"\",Group_Code)","v":""},{"$f":"IF(ISBLANK(FromEvoM!A154),\"\",SUBSTITUTE(FromEvoM!A154,\" \",\"\"))","v":""},{"$f":"IF(ISBLANK(FromEvoM!C154),\"\",SUBSTITUTE(FromEvoM!G154,\" \",\"\"))","v":""},{"$f":"IF(ISBLANK(FromEvoM!D154),\"\",FromEvoM!B154)","v":""},{"$f":"IF(ISBLANK(FromEvoM!D154),\"\",FromEvoM!D154)","v":""},{"$f":"IF(ISBLANK(FromEvoM!C154),\"\",FromEvoM!C154)","v":""},{"$f":"REPLACE(FromEvoM!F154,2,6, )","v":""},{"$f":"IF(ISNUMBER(FromEvoM!E154),FromEvoM!E154,\"\")","v":""},{"$f":"IF(ISBLANK(FromEvoM!I154),\"\",FromEvoM!I154)","v":""},{"$f":"IF(ISBLANK(FromEvoM!J154),\"\",FromEvoM!J154)","v":""},{"$f":"IF(ISBLANK(FromEvoM!K154),\"\",FromEvoM!K154)","v":""},{"$f":"IF(ISBLANK(FromEvoM!L154),\"\",FromEvoM!L154)","v":""},{"$f":"IF(ISBLANK(FromEvoM!M154),\"\",FromEvoM!M154)","v":""},{"$f":"IF(ISBLANK(FromEvoM!P154),\"\",FromEvoM!P154)","v":""},null,{"$f":"IF(ISNUMBER(FromEvoM!X154),FromEvoM!X154,\"\")","v":""},{"$f":"IF(ISNUMBER(FromEvoM!AB154),FromEvoM!AB154,\"\")","v":""},{"$f":"IF(ISNUMBER(FromEvoM!AA154),FromEvoM!AA154,\"\")","v":""},null,"","",null,null,{"$f":"IF(FromEvoM!W154=1,(FromEvoM!AB154*12),IF(FromEvoM!W154=7,(FromEvoM!AR154),\"\"))","v":""},null,null,{"$f":"IF(ISBLANK(FromEvoM!A154),\"\",IF(FromEvoM!AK154=\"y\",\"Y\",\"N\"))","v":""},{"$f":"IF(ISBLANK(FromEvoM!A154),\"\",Category_ID)","v":""},null,null,null,{"$f":"IF(ISBLANK(FromEvoM!AK154),\"\",FromEvoM!AK154)","v":""},{"$f":"IF(ISBLANK(FromEvoM!AM154),\"\",FromEvoM!AM154)","v":""},{"$f":"IF(ISBLANK(FromEvoM!AN154),\"\",FromEvoM!AN154)","v":""},{"$f":"IF(ISBLANK(FromEvoM!AL154),\"\",FromEvoM!AL154)","v":""},{"$f":"IF(ISBLANK(FromEvoM!A154),\"\",IF(AND(AF154=\"y\",AI154=1),\"Y\",\"N\"))","v":""},{"$f":"IF(ISBLANK(FromEvoM!A154),\"\",IF(FromEvoM!AS154=\"Yes\",2,1))","v":""},{"$f":"IF(FromEvoM!W154=1,\"M\",IF(FromEvoM!W154=7,\"W\",\"\"))","v":""},{"$f":"IF(AJ154=\"Y\",0,IF(AJ154=\"N\",FromEvoM!AF154+FromEvoM!AT154,\"\"))","v":""},{"$f":"IF(AJ154=\"Y\",(FromEvoM!AE154+FromEvoM!AF154-FromEvoM!AT154),IF(AJ154=\"N\",FromEvoM!AE154,\"\"))","v":""}]
[{"$f":"IF(ISBLANK(FromEvoM!A155),\"\",Group_Code)","v":""},{"$f":"IF(ISBLANK(FromEvoM!A155),\"\",SUBSTITUTE(FromEvoM!A155,\" \",\"\"))","v":""},{"$f":"IF(ISBLANK(FromEvoM!C155),\"\",SUBSTITUTE(FromEvoM!G155,\" \",\"\"))","v":""},{"$f":"IF(ISBLANK(FromEvoM!D155),\"\",FromEvoM!B155)","v":""},{"$f":"IF(ISBLANK(FromEvoM!D155),\"\",FromEvoM!D155)","v":""},{"$f":"IF(ISBLANK(FromEvoM!C155),\"\",FromEvoM!C155)","v":""},{"$f":"REPLACE(FromEvoM!F155,2,6, )","v":""},{"$f":"IF(ISNUMBER(FromEvoM!E155),FromEvoM!E155,\"\")","v":""},{"$f":"IF(ISBLANK(FromEvoM!I155),\"\",FromEvoM!I155)","v":""},{"$f":"IF(ISBLANK(FromEvoM!J155),\"\",FromEvoM!J155)","v":""},{"$f":"IF(ISBLANK(FromEvoM!K155),\"\",FromEvoM!K155)","v":""},{"$f":"IF(ISBLANK(FromEvoM!L155),\"\",FromEvoM!L155)","v":""},{"$f":"IF(ISBLANK(FromEvoM!M155),\"\",FromEvoM!M155)","v":""},{"$f":"IF(ISBLANK(FromEvoM!P155),\"\",FromEvoM!P155)","v":""},null,{"$f":"IF(ISNUMBER(FromEvoM!X155),FromEvoM!X155,\"\")","v":""},{"$f":"IF(ISNUMBER(FromEvoM!AB155),FromEvoM!AB155,\"\")","v":""},{"$f":"IF(ISNUMBER(FromEvoM!AA155),FromEvoM!AA155,\"\")","v":""},null,"","",null,null,{"$f":"IF(FromEvoM!W155=1,(FromEvoM!AB155*12),IF(FromEvoM!W155=7,(FromEvoM!AR155),\"\"))","v":""},null,null,{"$f":"IF(ISBLANK(FromEvoM!A155),\"\",IF(FromEvoM!AK155=\"y\",\"Y\",\"N\"))","v":""},{"$f":"IF(ISBLANK(FromEvoM!A155),\"\",Category_ID)","v":""},null,null,null,{"$f":"IF(ISBLANK(FromEvoM!AK155),\"\",FromEvoM!AK155)","v":""},{"$f":"IF(ISBLANK(FromEvoM!AM155),\"\",FromEvoM!AM155)","v":""},{"$f":"IF(ISBLANK(FromEvoM!AN155),\"\",FromEvoM!AN155)","v":""},{"$f":"IF(ISBLANK(FromEvoM!AL155),\"\",FromEvoM!AL155)","v":""},{"$f":"IF(ISBLANK(FromEvoM!A155),\"\",IF(AND(AF155=\"y\",AI155=1),\"Y\",\"N\"))","v":""},{"$f":"IF(ISBLANK(FromEvoM!A155),\"\",IF(FromEvoM!AS155=\"Yes\",2,1))","v":""},{"$f":"IF(FromEvoM!W155=1,\"M\",IF(FromEvoM!W155=7,\"W\",\"\"))","v":""},{"$f":"IF(AJ155=\"Y\",0,IF(AJ155=\"N\",FromEvoM!AF155+FromEvoM!AT155,\"\"))","v":""},{"$f":"IF(AJ155=\"Y\",(FromEvoM!AE155+FromEvoM!AF155-FromEvoM!AT155),IF(AJ155=\"N\",FromEvoM!AE155,\"\"))","v":""}]
[{"$f":"IF(ISBLANK(FromEvoM!A156),\"\",Group_Code)","v":""},{"$f":"IF(ISBLANK(FromEvoM!A156),\"\",SUBSTITUTE(FromEvoM!A156,\" \",\"\"))","v":""},{"$f":"IF(ISBLANK(FromEvoM!C156),\"\",SUBSTITUTE(FromEvoM!G156,\" \",\"\"))","v":""},{"$f":"IF(ISBLANK(FromEvoM!D156),\"\",FromEvoM!B156)","v":""},{"$f":"IF(ISBLANK(FromEvoM!D156),\"\",FromEvoM!D156)","v":""},{"$f":"IF(ISBLANK(FromEvoM!C156),\"\",FromEvoM!C156)","v":""},{"$f":"REPLACE(FromEvoM!F156,2,6, )","v":""},{"$f":"IF(ISNUMBER(FromEvoM!E156),FromEvoM!E156,\"\")","v":""},{"$f":"IF(ISBLANK(FromEvoM!I156),\"\",FromEvoM!I156)","v":""},{"$f":"IF(ISBLANK(FromEvoM!J156),\"\",FromEvoM!J156)","v":""},{"$f":"IF(ISBLANK(FromEvoM!K156),\"\",FromEvoM!K156)","v":""},{"$f":"IF(ISBLANK(FromEvoM!L156),\"\",FromEvoM!L156)","v":""},{"$f":"IF(ISBLANK(FromEvoM!M156),\"\",FromEvoM!M156)","v":""},{"$f":"IF(ISBLANK(FromEvoM!P156),\"\",FromEvoM!P156)","v":""},null,{"$f":"IF(ISNUMBER(FromEvoM!X156),FromEvoM!X156,\"\")","v":""},{"$f":"IF(ISNUMBER(FromEvoM!AB156),FromEvoM!AB156,\"\")","v":""},{"$f":"IF(ISNUMBER(FromEvoM!AA156),FromEvoM!AA156,\"\")","v":""},null,"","",null,null,{"$f":"IF(FromEvoM!W156=1,(FromEvoM!AB156*12),IF(FromEvoM!W156=7,(FromEvoM!AR156),\"\"))","v":""},null,null,{"$f":"IF(ISBLANK(FromEvoM!A156),\"\",IF(FromEvoM!AK156=\"y\",\"Y\",\"N\"))","v":""},{"$f":"IF(ISBLANK(FromEvoM!A156),\"\",Category_ID)","v":""},null,null,null,{"$f":"IF(ISBLANK(FromEvoM!AK156),\"\",FromEvoM!AK156)","v":""},{"$f":"IF(ISBLANK(FromEvoM!AM156),\"\",FromEvoM!AM156)","v":""},{"$f":"IF(ISBLANK(FromEvoM!AN156),\"\",FromEvoM!AN156)","v":""},{"$f":"IF(ISBLANK(FromEvoM!AL156),\"\",FromEvoM!AL156)","v":""},{"$f":"IF(ISBLANK(FromEvoM!A156),\"\",IF(AND(AF156=\"y\",AI156=1),\"Y\",\"N\"))","v":""},{"$f":"IF(ISBLANK(FromEvoM!A156),\"\",IF(FromEvoM!AS156=\"Yes\",2,1))","v":""},{"$f":"IF(FromEvoM!W156=1,\"M\",IF(FromEvoM!W156=7,\"W\",\"\"))","v":""},{"$f":"IF(AJ156=\"Y\",0,IF(AJ156=\"N\",FromEvoM!AF156+FromEvoM!AT156,\"\"))","v":""},{"$f":"IF(AJ156=\"Y\",(FromEvoM!AE156+FromEvoM!AF156-FromEvoM!AT156),IF(AJ156=\"N\",FromEvoM!AE156,\"\"))","v":""}]
[{"$f":"IF(ISBLANK(FromEvoM!A157),\"\",Group_Code)","v":""},{"$f":"IF(ISBLANK(FromEvoM!A157),\"\",SUBSTITUTE(FromEvoM!A157,\" \",\"\"))","v":""},{"$f":"IF(ISBLANK(FromEvoM!C157),\"\",SUBSTITUTE(FromEvoM!G157,\" \",\"\"))","v":""},{"$f":"IF(ISBLANK(FromEvoM!D157),\"\",FromEvoM!B157)","v":""},{"$f":"IF(ISBLANK(FromEvoM!D157),\"\",FromEvoM!D157)","v":""},{"$f":"IF(ISBLANK(FromEvoM!C157),\"\",FromEvoM!C157)","v":""},{"$f":"REPLACE(FromEvoM!F157,2,6, )","v":""},{"$f":"IF(ISNUMBER(FromEvoM!E157),FromEvoM!E157,\"\")","v":""},{"$f":"IF(ISBLANK(FromEvoM!I157),\"\",FromEvoM!I157)","v":""},{"$f":"IF(ISBLANK(FromEvoM!J157),\"\",FromEvoM!J157)","v":""},{"$f":"IF(ISBLANK(FromEvoM!K157),\"\",FromEvoM!K157)","v":""},{"$f":"IF(ISBLANK(FromEvoM!L157),\"\",FromEvoM!L157)","v":""},{"$f":"IF(ISBLANK(FromEvoM!M157),\"\",FromEvoM!M157)","v":""},{"$f":"IF(ISBLANK(FromEvoM!P157),\"\",FromEvoM!P157)","v":""},null,{"$f":"IF(ISNUMBER(FromEvoM!X157),FromEvoM!X157,\"\")","v":""},{"$f":"IF(ISNUMBER(FromEvoM!AB157),FromEvoM!AB157,\"\")","v":""},{"$f":"IF(ISNUMBER(FromEvoM!AA157),FromEvoM!AA157,\"\")","v":""},null,"","",null,null,{"$f":"IF(FromEvoM!W157=1,(FromEvoM!AB157*12),IF(FromEvoM!W157=7,(FromEvoM!AR157),\"\"))","v":""},null,null,{"$f":"IF(ISBLANK(FromEvoM!A157),\"\",IF(FromEvoM!AK157=\"y\",\"Y\",\"N\"))","v":""},{"$f":"IF(ISBLANK(FromEvoM!A157),\"\",Category_ID)","v":""},null,null,null,{"$f":"IF(ISBLANK(FromEvoM!AK157),\"\",FromEvoM!AK157)","v":""},{"$f":"IF(ISBLANK(FromEvoM!AM157),\"\",FromEvoM!AM157)","v":""},{"$f":"IF(ISBLANK(FromEvoM!AN157),\"\",FromEvoM!AN157)","v":""},{"$f":"IF(ISBLANK(FromEvoM!AL157),\"\",FromEvoM!AL157)","v":""},{"$f":"IF(ISBLANK(FromEvoM!A157),\"\",IF(AND(AF157=\"y\",AI157=1),\"Y\",\"N\"))","v":""},{"$f":"IF(ISBLANK(FromEvoM!A157),\"\",IF(FromEvoM!AS157=\"Yes\",2,1))","v":""},{"$f":"IF(FromEvoM!W157=1,\"M\",IF(FromEvoM!W157=7,\"W\",\"\"))","v":""},{"$f":"IF(AJ157=\"Y\",0,IF(AJ157=\"N\",FromEvoM!AF157+FromEvoM!AT157,\"\"))","v":""},{"$f":"IF(AJ157=\"Y\",(FromEvoM!AE157+FromEvoM!AF157-FromEvoM!AT157),IF(AJ157=\"N\",FromEvoM!AE157,\"\"))","v":""}]
[{"$f":"IF(ISBLANK(FromEvoM!A158),\"\",Group_Code)","v":""},{"$f":"IF(ISBLANK(FromEvoM!A158),\"\",SUBSTITUTE(FromEvoM!A158,\" \",\"\"))","v":""},{"$f":"IF(ISBLANK(FromEvoM!C158),\"\",SUBSTITUTE(FromEvoM!G158,\" \",\"\"))","v":""},{"$f":"IF(ISBLANK(FromEvoM!D158),\"\",FromEvoM!B158)","v":""},{"$f":"IF(ISBLANK(FromEvoM!D158),\"\",FromEvoM!D158)","v":""},{"$f":"IF(ISBLANK(FromEvoM!C158),\"\",FromEvoM!C158)","v":""},{"$f":"REPLACE(FromEvoM!F158,2,6, )","v":""},{"$f":"IF(ISNUMBER(FromEvoM!E158),FromEvoM!E158,\"\")","v":""},{"$f":"IF(ISBLANK(FromEvoM!I158),\"\",FromEvoM!I158)","v":""},{"$f":"IF(ISBLANK(FromEvoM!J158),\"\",FromEvoM!J158)","v":""},{"$f":"IF(ISBLANK(FromEvoM!K158),\"\",FromEvoM!K158)","v":""},{"$f":"IF(ISBLANK(FromEvoM!L158),\"\",FromEvoM!L158)","v":""},{"$f":"IF(ISBLANK(FromEvoM!M158),\"\",FromEvoM!M158)","v":""},{"$f":"IF(ISBLANK(FromEvoM!P158),\"\",FromEvoM!P158)","v":""},null,{"$f":"IF(ISNUMBER(FromEvoM!X158),FromEvoM!X158,\"\")","v":""},{"$f":"IF(ISNUMBER(FromEvoM!AB158),FromEvoM!AB158,\"\")","v":""},{"$f":"IF(ISNUMBER(FromEvoM!AA158),FromEvoM!AA158,\"\")","v":""},null,"","",null,null,{"$f":"IF(FromEvoM!W158=1,(FromEvoM!AB158*12),IF(FromEvoM!W158=7,(FromEvoM!AR158),\"\"))","v":""},null,null,{"$f":"IF(ISBLANK(FromEvoM!A158),\"\",IF(FromEvoM!AK158=\"y\",\"Y\",\"N\"))","v":""},{"$f":"IF(ISBLANK(FromEvoM!A158),\"\",Category_ID)","v":""},null,null,null,{"$f":"IF(ISBLANK(FromEvoM!AK158),\"\",FromEvoM!AK158)","v":""},{"$f":"IF(ISBLANK(FromEvoM!AM158),\"\",FromEvoM!AM158)","v":""},{"$f":"IF(ISBLANK(FromEvoM!AN158),\"\",FromEvoM!AN158)","v":""},{"$f":"IF(ISBLANK(FromEvoM!AL158),\"\",FromEvoM!AL158)","v":""},{"$f":"IF(ISBLANK(FromEvoM!A158),\"\",IF(AND(AF158=\"y\",AI158=1),\"Y\",\"N\"))","v":""},{"$f":"IF(ISBLANK(FromEvoM!A158),\"\",IF(FromEvoM!AS158=\"Yes\",2,1))","v":""},{"$f":"IF(FromEvoM!W158=1,\"M\",IF(FromEvoM!W158=7,\"W\",\"\"))","v":""},{"$f":"IF(AJ158=\"Y\",0,IF(AJ158=\"N\",FromEvoM!AF158+FromEvoM!AT158,\"\"))","v":""},{"$f":"IF(AJ158=\"Y\",(FromEvoM!AE158+FromEvoM!AF158-FromEvoM!AT158),IF(AJ158=\"N\",FromEvoM!AE158,\"\"))","v":""}]
[{"$f":"IF(ISBLANK(FromEvoM!A159),\"\",Group_Code)","v":""},{"$f":"IF(ISBLANK(FromEvoM!A159),\"\",SUBSTITUTE(FromEvoM!A159,\" \",\"\"))","v":""},{"$f":"IF(ISBLANK(FromEvoM!C159),\"\",SUBSTITUTE(FromEvoM!G159,\" \",\"\"))","v":""},{"$f":"IF(ISBLANK(FromEvoM!D159),\"\",FromEvoM!B159)","v":""},{"$f":"IF(ISBLANK(FromEvoM!D159),\"\",FromEvoM!D159)","v":""},{"$f":"IF(ISBLANK(FromEvoM!C159),\"\",FromEvoM!C159)","v":""},{"$f":"REPLACE(FromEvoM!F159,2,6, )","v":""},{"$f":"IF(ISNUMBER(FromEvoM!E159),FromEvoM!E159,\"\")","v":""},{"$f":"IF(ISBLANK(FromEvoM!I159),\"\",FromEvoM!I159)","v":""},{"$f":"IF(ISBLANK(FromEvoM!J159),\"\",FromEvoM!J159)","v":""},{"$f":"IF(ISBLANK(FromEvoM!K159),\"\",FromEvoM!K159)","v":""},{"$f":"IF(ISBLANK(FromEvoM!L159),\"\",FromEvoM!L159)","v":""},{"$f":"IF(ISBLANK(FromEvoM!M159),\"\",FromEvoM!M159)","v":""},{"$f":"IF(ISBLANK(FromEvoM!P159),\"\",FromEvoM!P159)","v":""},null,{"$f":"IF(ISNUMBER(FromEvoM!X159),FromEvoM!X159,\"\")","v":""},{"$f":"IF(ISNUMBER(FromEvoM!AB159),FromEvoM!AB159,\"\")","v":""},{"$f":"IF(ISNUMBER(FromEvoM!AA159),FromEvoM!AA159,\"\")","v":""},null,"","",null,null,{"$f":"IF(FromEvoM!W159=1,(FromEvoM!AB159*12),IF(FromEvoM!W159=7,(FromEvoM!AR159),\"\"))","v":""},null,null,{"$f":"IF(ISBLANK(FromEvoM!A159),\"\",IF(FromEvoM!AK159=\"y\",\"Y\",\"N\"))","v":""},{"$f":"IF(ISBLANK(FromEvoM!A159),\"\",Category_ID)","v":""},null,null,null,{"$f":"IF(ISBLANK(FromEvoM!AK159),\"\",FromEvoM!AK159)","v":""},{"$f":"IF(ISBLANK(FromEvoM!AM159),\"\",FromEvoM!AM159)","v":""},{"$f":"IF(ISBLANK(FromEvoM!AN159),\"\",FromEvoM!AN159)","v":""},{"$f":"IF(ISBLANK(FromEvoM!AL159),\"\",FromEvoM!AL159)","v":""},{"$f":"IF(ISBLANK(FromEvoM!A159),\"\",IF(AND(AF159=\"y\",AI159=1),\"Y\",\"N\"))","v":""},{"$f":"IF(ISBLANK(FromEvoM!A159),\"\",IF(FromEvoM!AS159=\"Yes\",2,1))","v":""},{"$f":"IF(FromEvoM!W159=1,\"M\",IF(FromEvoM!W159=7,\"W\",\"\"))","v":""},{"$f":"IF(AJ159=\"Y\",0,IF(AJ159=\"N\",FromEvoM!AF159+FromEvoM!AT159,\"\"))","v":""},{"$f":"IF(AJ159=\"Y\",(FromEvoM!AE159+FromEvoM!AF159-FromEvoM!AT159),IF(AJ159=\"N\",FromEvoM!AE159,\"\"))","v":""}]
[{"$f":"IF(ISBLANK(FromEvoM!A160),\"\",Group_Code)","v":""},{"$f":"IF(ISBLANK(FromEvoM!A160),\"\",SUBSTITUTE(FromEvoM!A160,\" \",\"\"))","v":""},{"$f":"IF(ISBLANK(FromEvoM!C160),\"\",SUBSTITUTE(FromEvoM!G160,\" \",\"\"))","v":""},{"$f":"IF(ISBLANK(FromEvoM!D160),\"\",FromEvoM!B160)","v":""},{"$f":"IF(ISBLANK(FromEvoM!D160),\"\",FromEvoM!D160)","v":""},{"$f":"IF(ISBLANK(FromEvoM!C160),\"\",FromEvoM!C160)","v":""},{"$f":"REPLACE(FromEvoM!F160,2,6, )","v":""},{"$f":"IF(ISNUMBER(FromEvoM!E160),FromEvoM!E160,\"\")","v":""},{"$f":"IF(ISBLANK(FromEvoM!I160),\"\",FromEvoM!I160)","v":""},{"$f":"IF(ISBLANK(FromEvoM!J160),\"\",FromEvoM!J160)","v":""},{"$f":"IF(ISBLANK(FromEvoM!K160),\"\",FromEvoM!K160)","v":""},{"$f":"IF(ISBLANK(FromEvoM!L160),\"\",FromEvoM!L160)","v":""},{"$f":"IF(ISBLANK(FromEvoM!M160),\"\",FromEvoM!M160)","v":""},{"$f":"IF(ISBLANK(FromEvoM!P160),\"\",FromEvoM!P160)","v":""},null,{"$f":"IF(ISNUMBER(FromEvoM!X160),FromEvoM!X160,\"\")","v":""},{"$f":"IF(ISNUMBER(FromEvoM!AB160),FromEvoM!AB160,\"\")","v":""},{"$f":"IF(ISNUMBER(FromEvoM!AA160),FromEvoM!AA160,\"\")","v":""},null,"","",null,null,{"$f":"IF(FromEvoM!W160=1,(FromEvoM!AB160*12),IF(FromEvoM!W160=7,(FromEvoM!AR160),\"\"))","v":""},null,null,{"$f":"IF(ISBLANK(FromEvoM!A160),\"\",IF(FromEvoM!AK160=\"y\",\"Y\",\"N\"))","v":""},{"$f":"IF(ISBLANK(FromEvoM!A160),\"\",Category_ID)","v":""},null,null,null,{"$f":"IF(ISBLANK(FromEvoM!AK160),\"\",FromEvoM!AK160)","v":""},{"$f":"IF(ISBLANK(FromEvoM!AM160),\"\",FromEvoM!AM160)","v":""},{"$f":"IF(ISBLANK(FromEvoM!AN160),\"\",FromEvoM!AN160)","v":""},{"$f":"IF(ISBLANK(FromEvoM!AL160),\"\",FromEvoM!AL160)","v":""},{"$f":"IF(ISBLANK(FromEvoM!A160),\"\",IF(AND(AF160=\"y\",AI160=1),\"Y\",\"N\"))","v":""},{"$f":"IF(ISBLANK(FromEvoM!A160),\"\",IF(FromEvoM!AS160=\"Yes\",2,1))","v":""},{"$f":"IF(FromEvoM!W160=1,\"M\",IF(FromEvoM!W160=7,\"W\",\"\"))","v":""},{"$f":"IF(AJ160=\"Y\",0,IF(AJ160=\"N\",FromEvoM!AF160+FromEvoM!AT160,\"\"))","v":""},{"$f":"IF(AJ160=\"Y\",(FromEvoM!AE160+FromEvoM!AF160-FromEvoM!AT160),IF(AJ160=\"N\",FromEvoM!AE160,\"\"))","v":""}]
[{"$f":"IF(ISBLANK(FromEvoM!A161),\"\",Group_Code)","v":""},{"$f":"IF(ISBLANK(FromEvoM!A161),\"\",SUBSTITUTE(FromEvoM!A161,\" \",\"\"))","v":""},{"$f":"IF(ISBLANK(FromEvoM!C161),\"\",SUBSTITUTE(FromEvoM!G161,\" \",\"\"))","v":""},{"$f":"IF(ISBLANK(FromEvoM!D161),\"\",FromEvoM!B161)","v":""},{"$f":"IF(ISBLANK(FromEvoM!D161),\"\",FromEvoM!D161)","v":""},{"$f":"IF(ISBLANK(FromEvoM!C161),\"\",FromEvoM!C161)","v":""},{"$f":"REPLACE(FromEvoM!F161,2,6, )","v":""},{"$f":"IF(ISNUMBER(FromEvoM!E161),FromEvoM!E161,\"\")","v":""},{"$f":"IF(ISBLANK(FromEvoM!I161),\"\",FromEvoM!I161)","v":""},{"$f":"IF(ISBLANK(FromEvoM!J161),\"\",FromEvoM!J161)","v":""},{"$f":"IF(ISBLANK(FromEvoM!K161),\"\",FromEvoM!K161)","v":""},{"$f":"IF(ISBLANK(FromEvoM!L161),\"\",FromEvoM!L161)","v":""},{"$f":"IF(ISBLANK(FromEvoM!M161),\"\",FromEvoM!M161)","v":""},{"$f":"IF(ISBLANK(FromEvoM!P161),\"\",FromEvoM!P161)","v":""},null,{"$f":"IF(ISNUMBER(FromEvoM!X161),FromEvoM!X161,\"\")","v":""},{"$f":"IF(ISNUMBER(FromEvoM!AB161),FromEvoM!AB161,\"\")","v":""},{"$f":"IF(ISNUMBER(FromEvoM!AA161),FromEvoM!AA161,\"\")","v":""},null,"","",null,null,{"$f":"IF(FromEvoM!W161=1,(FromEvoM!AB161*12),IF(FromEvoM!W161=7,(FromEvoM!AR161),\"\"))","v":""},null,null,{"$f":"IF(ISBLANK(FromEvoM!A161),\"\",IF(FromEvoM!AK161=\"y\",\"Y\",\"N\"))","v":""},{"$f":"IF(ISBLANK(FromEvoM!A161),\"\",Category_ID)","v":""},null,null,null,{"$f":"IF(ISBLANK(FromEvoM!AK161),\"\",FromEvoM!AK161)","v":""},{"$f":"IF(ISBLANK(FromEvoM!AM161),\"\",FromEvoM!AM161)","v":""},{"$f":"IF(ISBLANK(FromEvoM!AN161),\"\",FromEvoM!AN161)","v":""},{"$f":"IF(ISBLANK(FromEvoM!AL161),\"\",FromEvoM!AL161)","v":""},{"$f":"IF(ISBLANK(FromEvoM!A161),\"\",IF(AND(AF161=\"y\",AI161=1),\"Y\",\"N\"))","v":""},{"$f":"IF(ISBLANK(FromEvoM!A161),\"\",IF(FromEvoM!AS161=\"Yes\",2,1))","v":""},{"$f":"IF(FromEvoM!W161=1,\"M\",IF(FromEvoM!W161=7,\"W\",\"\"))","v":""},{"$f":"IF(AJ161=\"Y\",0,IF(AJ161=\"N\",FromEvoM!AF161+FromEvoM!AT161,\"\"))","v":""},{"$f":"IF(AJ161=\"Y\",(FromEvoM!AE161+FromEvoM!AF161-FromEvoM!AT161),IF(AJ161=\"N\",FromEvoM!AE161,\"\"))","v":""}]
[{"$f":"IF(ISBLANK(FromEvoM!A162),\"\",Group_Code)","v":""},{"$f":"IF(ISBLANK(FromEvoM!A162),\"\",SUBSTITUTE(FromEvoM!A162,\" \",\"\"))","v":""},{"$f":"IF(ISBLANK(FromEvoM!C162),\"\",SUBSTITUTE(FromEvoM!G162,\" \",\"\"))","v":""},{"$f":"IF(ISBLANK(FromEvoM!D162),\"\",FromEvoM!B162)","v":""},{"$f":"IF(ISBLANK(FromEvoM!D162),\"\",FromEvoM!D162)","v":""},{"$f":"IF(ISBLANK(FromEvoM!C162),\"\",FromEvoM!C162)","v":""},{"$f":"REPLACE(FromEvoM!F162,2,6, )","v":""},{"$f":"IF(ISNUMBER(FromEvoM!E162),FromEvoM!E162,\"\")","v":""},{"$f":"IF(ISBLANK(FromEvoM!I162),\"\",FromEvoM!I162)","v":""},{"$f":"IF(ISBLANK(FromEvoM!J162),\"\",FromEvoM!J162)","v":""},{"$f":"IF(ISBLANK(FromEvoM!K162),\"\",FromEvoM!K162)","v":""},{"$f":"IF(ISBLANK(FromEvoM!L162),\"\",FromEvoM!L162)","v":""},{"$f":"IF(ISBLANK(FromEvoM!M162),\"\",FromEvoM!M162)","v":""},{"$f":"IF(ISBLANK(FromEvoM!P162),\"\",FromEvoM!P162)","v":""},null,{"$f":"IF(ISNUMBER(FromEvoM!X162),FromEvoM!X162,\"\")","v":""},{"$f":"IF(ISNUMBER(FromEvoM!AB162),FromEvoM!AB162,\"\")","v":""},{"$f":"IF(ISNUMBER(FromEvoM!AA162),FromEvoM!AA162,\"\")","v":""},null,"","",null,null,{"$f":"IF(FromEvoM!W162=1,(FromEvoM!AB162*12),IF(FromEvoM!W162=7,(FromEvoM!AR162),\"\"))","v":""},null,null,{"$f":"IF(ISBLANK(FromEvoM!A162),\"\",IF(FromEvoM!AK162=\"y\",\"Y\",\"N\"))","v":""},{"$f":"IF(ISBLANK(FromEvoM!A162),\"\",Category_ID)","v":""},null,null,null,{"$f":"IF(ISBLANK(FromEvoM!AK162),\"\",FromEvoM!AK162)","v":""},{"$f":"IF(ISBLANK(FromEvoM!AM162),\"\",FromEvoM!AM162)","v":""},{"$f":"IF(ISBLANK(FromEvoM!AN162),\"\",FromEvoM!AN162)","v":""},{"$f":"IF(ISBLANK(FromEvoM!AL162),\"\",FromEvoM!AL162)","v":""},{"$f":"IF(ISBLANK(FromEvoM!A162),\"\",IF(AND(AF162=\"y\",AI162=1),\"Y\",\"N\"))","v":""},{"$f":"IF(ISBLANK(FromEvoM!A162),\"\",IF(FromEvoM!AS162=\"Yes\",2,1))","v":""},{"$f":"IF(FromEvoM!W162=1,\"M\",IF(FromEvoM!W162=7,\"W\",\"\"))","v":""},{"$f":"IF(AJ162=\"Y\",0,IF(AJ162=\"N\",FromEvoM!AF162+FromEvoM!AT162,\"\"))","v":""},{"$f":"IF(AJ162=\"Y\",(FromEvoM!AE162+FromEvoM!AF162-FromEvoM!AT162),IF(AJ162=\"N\",FromEvoM!AE162,\"\"))","v":""}]
[{"$f":"IF(ISBLANK(FromEvoM!A163),\"\",Group_Code)","v":""},{"$f":"IF(ISBLANK(FromEvoM!A163),\"\",SUBSTITUTE(FromEvoM!A163,\" \",\"\"))","v":""},{"$f":"IF(ISBLANK(FromEvoM!C163),\"\",SUBSTITUTE(FromEvoM!G163,\" \",\"\"))","v":""},{"$f":"IF(ISBLANK(FromEvoM!D163),\"\",FromEvoM!B163)","v":""},{"$f":"IF(ISBLANK(FromEvoM!D163),\"\",FromEvoM!D163)","v":""},{"$f":"IF(ISBLANK(FromEvoM!C163),\"\",FromEvoM!C163)","v":""},{"$f":"REPLACE(FromEvoM!F163,2,6, )","v":""},{"$f":"IF(ISNUMBER(FromEvoM!E163),FromEvoM!E163,\"\")","v":""},{"$f":"IF(ISBLANK(FromEvoM!I163),\"\",FromEvoM!I163)","v":""},{"$f":"IF(ISBLANK(FromEvoM!J163),\"\",FromEvoM!J163)","v":""},{"$f":"IF(ISBLANK(FromEvoM!K163),\"\",FromEvoM!K163)","v":""},{"$f":"IF(ISBLANK(FromEvoM!L163),\"\",FromEvoM!L163)","v":""},{"$f":"IF(ISBLANK(FromEvoM!M163),\"\",FromEvoM!M163)","v":""},{"$f":"IF(ISBLANK(FromEvoM!P163),\"\",FromEvoM!P163)","v":""},null,{"$f":"IF(ISNUMBER(FromEvoM!X163),FromEvoM!X163,\"\")","v":""},{"$f":"IF(ISNUMBER(FromEvoM!AB163),FromEvoM!AB163,\"\")","v":""},{"$f":"IF(ISNUMBER(FromEvoM!AA163),FromEvoM!AA163,\"\")","v":""},null,"","",null,null,{"$f":"IF(FromEvoM!W163=1,(FromEvoM!AB163*12),IF(FromEvoM!W163=7,(FromEvoM!AR163),\"\"))","v":""},null,null,{"$f":"IF(ISBLANK(FromEvoM!A163),\"\",IF(FromEvoM!AK163=\"y\",\"Y\",\"N\"))","v":""},{"$f":"IF(ISBLANK(FromEvoM!A163),\"\",Category_ID)","v":""},null,null,null,{"$f":"IF(ISBLANK(FromEvoM!AK163),\"\",FromEvoM!AK163)","v":""},{"$f":"IF(ISBLANK(FromEvoM!AM163),\"\",FromEvoM!AM163)","v":""},{"$f":"IF(ISBLANK(FromEvoM!AN163),\"\",FromEvoM!AN163)","v":""},{"$f":"IF(ISBLANK(FromEvoM!AL163),\"\",FromEvoM!AL163)","v":""},{"$f":"IF(ISBLANK(FromEvoM!A163),\"\",IF(AND(AF163=\"y\",AI163=1),\"Y\",\"N\"))","v":""},{"$f":"IF(ISBLANK(FromEvoM!A163),\"\",IF(FromEvoM!AS163=\"Yes\",2,1))","v":""},{"$f":"IF(FromEvoM!W163=1,\"M\",IF(FromEvoM!W163=7,\"W\",\"\"))","v":""},{"$f":"IF(AJ163=\"Y\",0,IF(AJ163=\"N\",FromEvoM!AF163+FromEvoM!AT163,\"\"))","v":""},{"$f":"IF(AJ163=\"Y\",(FromEvoM!AE163+FromEvoM!AF163-FromEvoM!AT163),IF(AJ163=\"N\",FromEvoM!AE163,\"\"))","v":""}]
[{"$f":"IF(ISBLANK(FromEvoM!A164),\"\",Group_Code)","v":""},{"$f":"IF(ISBLANK(FromEvoM!A164),\"\",SUBSTITUTE(FromEvoM!A164,\" \",\"\"))","v":""},{"$f":"IF(ISBLANK(FromEvoM!C164),\"\",SUBSTITUTE(FromEvoM!G164,\" \",\"\"))","v":""},{"$f":"IF(ISBLANK(FromEvoM!D164),\"\",FromEvoM!B164)","v":""},{"$f":"IF(ISBLANK(FromEvoM!D164),\"\",FromEvoM!D164)","v":""},{"$f":"IF(ISBLANK(FromEvoM!C164),\"\",FromEvoM!C164)","v":""},{"$f":"REPLACE(FromEvoM!F164,2,6, )","v":""},{"$f":"IF(ISNUMBER(FromEvoM!E164),FromEvoM!E164,\"\")","v":""},{"$f":"IF(ISBLANK(FromEvoM!I164),\"\",FromEvoM!I164)","v":""},{"$f":"IF(ISBLANK(FromEvoM!J164),\"\",FromEvoM!J164)","v":""},{"$f":"IF(ISBLANK(FromEvoM!K164),\"\",FromEvoM!K164)","v":""},{"$f":"IF(ISBLANK(FromEvoM!L164),\"\",FromEvoM!L164)","v":""},{"$f":"IF(ISBLANK(FromEvoM!M164),\"\",FromEvoM!M164)","v":""},{"$f":"IF(ISBLANK(FromEvoM!P164),\"\",FromEvoM!P164)","v":""},null,{"$f":"IF(ISNUMBER(FromEvoM!X164),FromEvoM!X164,\"\")","v":""},{"$f":"IF(ISNUMBER(FromEvoM!AB164),FromEvoM!AB164,\"\")","v":""},{"$f":"IF(ISNUMBER(FromEvoM!AA164),FromEvoM!AA164,\"\")","v":""},null,"","",null,null,{"$f":"IF(FromEvoM!W164=1,(FromEvoM!AB164*12),IF(FromEvoM!W164=7,(FromEvoM!AR164),\"\"))","v":""},null,null,{"$f":"IF(ISBLANK(FromEvoM!A164),\"\",IF(FromEvoM!AK164=\"y\",\"Y\",\"N\"))","v":""},{"$f":"IF(ISBLANK(FromEvoM!A164),\"\",Category_ID)","v":""},null,null,null,{"$f":"IF(ISBLANK(FromEvoM!AK164),\"\",FromEvoM!AK164)","v":""},{"$f":"IF(ISBLANK(FromEvoM!AM164),\"\",FromEvoM!AM164)","v":""},{"$f":"IF(ISBLANK(FromEvoM!AN164),\"\",FromEvoM!AN164)","v":""},{"$f":"IF(ISBLANK(FromEvoM!AL164),\"\",FromEvoM!AL164)","v":""},{"$f":"IF(ISBLANK(FromEvoM!A164),\"\",IF(AND(AF164=\"y\",AI164=1),\"Y\",\"N\"))","v":""},{"$f":"IF(ISBLANK(FromEvoM!A164),\"\",IF(FromEvoM!AS164=\"Yes\",2,1))","v":""},{"$f":"IF(FromEvoM!W164=1,\"M\",IF(FromEvoM!W164=7,\"W\",\"\"))","v":""},{"$f":"IF(AJ164=\"Y\",0,IF(AJ164=\"N\",FromEvoM!AF164+FromEvoM!AT164,\"\"))","v":""},{"$f":"IF(AJ164=\"Y\",(FromEvoM!AE164+FromEvoM!AF164-FromEvoM!AT164),IF(AJ164=\"N\",FromEvoM!AE164,\"\"))","v":""}]
[{"$f":"IF(ISBLANK(FromEvoM!A165),\"\",Group_Code)","v":""},{"$f":"IF(ISBLANK(FromEvoM!A165),\"\",SUBSTITUTE(FromEvoM!A165,\" \",\"\"))","v":""},{"$f":"IF(ISBLANK(FromEvoM!C165),\"\",SUBSTITUTE(FromEvoM!G165,\" \",\"\"))","v":""},{"$f":"IF(ISBLANK(FromEvoM!D165),\"\",FromEvoM!B165)","v":""},{"$f":"IF(ISBLANK(FromEvoM!D165),\"\",FromEvoM!D165)","v":""},{"$f":"IF(ISBLANK(FromEvoM!C165),\"\",FromEvoM!C165)","v":""},{"$f":"REPLACE(FromEvoM!F165,2,6, )","v":""},{"$f":"IF(ISNUMBER(FromEvoM!E165),FromEvoM!E165,\"\")","v":""},{"$f":"IF(ISBLANK(FromEvoM!I165),\"\",FromEvoM!I165)","v":""},{"$f":"IF(ISBLANK(FromEvoM!J165),\"\",FromEvoM!J165)","v":""},{"$f":"IF(ISBLANK(FromEvoM!K165),\"\",FromEvoM!K165)","v":""},{"$f":"IF(ISBLANK(FromEvoM!L165),\"\",FromEvoM!L165)","v":""},{"$f":"IF(ISBLANK(FromEvoM!M165),\"\",FromEvoM!M165)","v":""},{"$f":"IF(ISBLANK(FromEvoM!P165),\"\",FromEvoM!P165)","v":""},null,{"$f":"IF(ISNUMBER(FromEvoM!X165),FromEvoM!X165,\"\")","v":""},{"$f":"IF(ISNUMBER(FromEvoM!AB165),FromEvoM!AB165,\"\")","v":""},{"$f":"IF(ISNUMBER(FromEvoM!AA165),FromEvoM!AA165,\"\")","v":""},null,"","",null,null,{"$f":"IF(FromEvoM!W165=1,(FromEvoM!AB165*12),IF(FromEvoM!W165=7,(FromEvoM!AR165),\"\"))","v":""},null,null,{"$f":"IF(ISBLANK(FromEvoM!A165),\"\",IF(FromEvoM!AK165=\"y\",\"Y\",\"N\"))","v":""},{"$f":"IF(ISBLANK(FromEvoM!A165),\"\",Category_ID)","v":""},null,null,null,{"$f":"IF(ISBLANK(FromEvoM!AK165),\"\",FromEvoM!AK165)","v":""},{"$f":"IF(ISBLANK(FromEvoM!AM165),\"\",FromEvoM!AM165)","v":""},{"$f":"IF(ISBLANK(FromEvoM!AN165),\"\",FromEvoM!AN165)","v":""},{"$f":"IF(ISBLANK(FromEvoM!AL165),\"\",FromEvoM!AL165)","v":""},{"$f":"IF(ISBLANK(FromEvoM!A165),\"\",IF(AND(AF165=\"y\",AI165=1),\"Y\",\"N\"))","v":""},{"$f":"IF(ISBLANK(FromEvoM!A165),\"\",IF(FromEvoM!AS165=\"Yes\",2,1))","v":""},{"$f":"IF(FromEvoM!W165=1,\"M\",IF(FromEvoM!W165=7,\"W\",\"\"))","v":""},{"$f":"IF(AJ165=\"Y\",0,IF(AJ165=\"N\",FromEvoM!AF165+FromEvoM!AT165,\"\"))","v":""},{"$f":"IF(AJ165=\"Y\",(FromEvoM!AE165+FromEvoM!AF165-FromEvoM!AT165),IF(AJ165=\"N\",FromEvoM!AE165,\"\"))","v":""}]
[{"$f":"IF(ISBLANK(FromEvoM!A166),\"\",Group_Code)","v":""},{"$f":"IF(ISBLANK(FromEvoM!A166),\"\",SUBSTITUTE(FromEvoM!A166,\" \",\"\"))","v":""},{"$f":"IF(ISBLANK(FromEvoM!C166),\"\",SUBSTITUTE(FromEvoM!G166,\" \",\"\"))","v":""},{"$f":"IF(ISBLANK(FromEvoM!D166),\"\",FromEvoM!B166)","v":""},{"$f":"IF(ISBLANK(FromEvoM!D166),\"\",FromEvoM!D166)","v":""},{"$f":"IF(ISBLANK(FromEvoM!C166),\"\",FromEvoM!C166)","v":""},{"$f":"REPLACE(FromEvoM!F166,2,6, )","v":""},{"$f":"IF(ISNUMBER(FromEvoM!E166),FromEvoM!E166,\"\")","v":""},{"$f":"IF(ISBLANK(FromEvoM!I166),\"\",FromEvoM!I166)","v":""},{"$f":"IF(ISBLANK(FromEvoM!J166),\"\",FromEvoM!J166)","v":""},{"$f":"IF(ISBLANK(FromEvoM!K166),\"\",FromEvoM!K166)","v":""},{"$f":"IF(ISBLANK(FromEvoM!L166),\"\",FromEvoM!L166)","v":""},{"$f":"IF(ISBLANK(FromEvoM!M166),\"\",FromEvoM!M166)","v":""},{"$f":"IF(ISBLANK(FromEvoM!P166),\"\",FromEvoM!P166)","v":""},null,{"$f":"IF(ISNUMBER(FromEvoM!X166),FromEvoM!X166,\"\")","v":""},{"$f":"IF(ISNUMBER(FromEvoM!AB166),FromEvoM!AB166,\"\")","v":""},{"$f":"IF(ISNUMBER(FromEvoM!AA166),FromEvoM!AA166,\"\")","v":""},null,"","",null,null,{"$f":"IF(FromEvoM!W166=1,(FromEvoM!AB166*12),IF(FromEvoM!W166=7,(FromEvoM!AR166),\"\"))","v":""},null,null,{"$f":"IF(ISBLANK(FromEvoM!A166),\"\",IF(FromEvoM!AK166=\"y\",\"Y\",\"N\"))","v":""},{"$f":"IF(ISBLANK(FromEvoM!A166),\"\",Category_ID)","v":""},null,null,null,{"$f":"IF(ISBLANK(FromEvoM!AK166),\"\",FromEvoM!AK166)","v":""},{"$f":"IF(ISBLANK(FromEvoM!AM166),\"\",FromEvoM!AM166)","v":""},{"$f":"IF(ISBLANK(FromEvoM!AN166),\"\",FromEvoM!AN166)","v":""},{"$f":"IF(ISBLANK(FromEvoM!AL166),\"\",FromEvoM!AL166)","v":""},{"$f":"IF(ISBLANK(FromEvoM!A166),\"\",IF(AND(AF166=\"y\",AI166=1),\"Y\",\"N\"))","v":""},{"$f":"IF(ISBLANK(FromEvoM!A166),\"\",IF(FromEvoM!AS166=\"Yes\",2,1))","v":""},{"$f":"IF(FromEvoM!W166=1,\"M\",IF(FromEvoM!W166=7,\"W\",\"\"))","v":""},{"$f":"IF(AJ166=\"Y\",0,IF(AJ166=\"N\",FromEvoM!AF166+FromEvoM!AT166,\"\"))","v":""},{"$f":"IF(AJ166=\"Y\",(FromEvoM!AE166+FromEvoM!AF166-FromEvoM!AT166),IF(AJ166=\"N\",FromEvoM!AE166,\"\"))","v":""}]
[{"$f":"IF(ISBLANK(FromEvoM!A167),\"\",Group_Code)","v":""},{"$f":"IF(ISBLANK(FromEvoM!A167),\"\",SUBSTITUTE(FromEvoM!A167,\" \",\"\"))","v":""},{"$f":"IF(ISBLANK(FromEvoM!C167),\"\",SUBSTITUTE(FromEvoM!G167,\" \",\"\"))","v":""},{"$f":"IF(ISBLANK(FromEvoM!D167),\"\",FromEvoM!B167)","v":""},{"$f":"IF(ISBLANK(FromEvoM!D167),\"\",FromEvoM!D167)","v":""},{"$f":"IF(ISBLANK(FromEvoM!C167),\"\",FromEvoM!C167)","v":""},{"$f":"REPLACE(FromEvoM!F167,2,6, )","v":""},{"$f":"IF(ISNUMBER(FromEvoM!E167),FromEvoM!E167,\"\")","v":""},{"$f":"IF(ISBLANK(FromEvoM!I167),\"\",FromEvoM!I167)","v":""},{"$f":"IF(ISBLANK(FromEvoM!J167),\"\",FromEvoM!J167)","v":""},{"$f":"IF(ISBLANK(FromEvoM!K167),\"\",FromEvoM!K167)","v":""},{"$f":"IF(ISBLANK(FromEvoM!L167),\"\",FromEvoM!L167)","v":""},{"$f":"IF(ISBLANK(FromEvoM!M167),\"\",FromEvoM!M167)","v":""},{"$f":"IF(ISBLANK(FromEvoM!P167),\"\",FromEvoM!P167)","v":""},null,{"$f":"IF(ISNUMBER(FromEvoM!X167),FromEvoM!X167,\"\")","v":""},{"$f":"IF(ISNUMBER(FromEvoM!AB167),FromEvoM!AB167,\"\")","v":""},{"$f":"IF(ISNUMBER(FromEvoM!AA167),FromEvoM!AA167,\"\")","v":""},null,"","",null,null,{"$f":"IF(FromEvoM!W167=1,(FromEvoM!AB167*12),IF(FromEvoM!W167=7,(FromEvoM!AR167),\"\"))","v":""},null,null,{"$f":"IF(ISBLANK(FromEvoM!A167),\"\",IF(FromEvoM!AK167=\"y\",\"Y\",\"N\"))","v":""},{"$f":"IF(ISBLANK(FromEvoM!A167),\"\",Category_ID)","v":""},null,null,null,{"$f":"IF(ISBLANK(FromEvoM!AK167),\"\",FromEvoM!AK167)","v":""},{"$f":"IF(ISBLANK(FromEvoM!AM167),\"\",FromEvoM!AM167)","v":""},{"$f":"IF(ISBLANK(FromEvoM!AN167),\"\",FromEvoM!AN167)","v":""},{"$f":"IF(ISBLANK(FromEvoM!AL167),\"\",FromEvoM!AL167)","v":""},{"$f":"IF(ISBLANK(FromEvoM!A167),\"\",IF(AND(AF167=\"y\",AI167=1),\"Y\",\"N\"))","v":""},{"$f":"IF(ISBLANK(FromEvoM!A167),\"\",IF(FromEvoM!AS167=\"Yes\",2,1))","v":""},{"$f":"IF(FromEvoM!W167=1,\"M\",IF(FromEvoM!W167=7,\"W\",\"\"))","v":""},{"$f":"IF(AJ167=\"Y\",0,IF(AJ167=\"N\",FromEvoM!AF167+FromEvoM!AT167,\"\"))","v":""},{"$f":"IF(AJ167=\"Y\",(FromEvoM!AE167+FromEvoM!AF167-FromEvoM!AT167),IF(AJ167=\"N\",FromEvoM!AE167,\"\"))","v":""}]
[{"$f":"IF(ISBLANK(FromEvoM!A168),\"\",Group_Code)","v":""},{"$f":"IF(ISBLANK(FromEvoM!A168),\"\",SUBSTITUTE(FromEvoM!A168,\" \",\"\"))","v":""},{"$f":"IF(ISBLANK(FromEvoM!C168),\"\",SUBSTITUTE(FromEvoM!G168,\" \",\"\"))","v":""},{"$f":"IF(ISBLANK(FromEvoM!D168),\"\",FromEvoM!B168)","v":""},{"$f":"IF(ISBLANK(FromEvoM!D168),\"\",FromEvoM!D168)","v":""},{"$f":"IF(ISBLANK(FromEvoM!C168),\"\",FromEvoM!C168)","v":""},{"$f":"REPLACE(FromEvoM!F168,2,6, )","v":""},{"$f":"IF(ISNUMBER(FromEvoM!E168),FromEvoM!E168,\"\")","v":""},{"$f":"IF(ISBLANK(FromEvoM!I168),\"\",FromEvoM!I168)","v":""},{"$f":"IF(ISBLANK(FromEvoM!J168),\"\",FromEvoM!J168)","v":""},{"$f":"IF(ISBLANK(FromEvoM!K168),\"\",FromEvoM!K168)","v":""},{"$f":"IF(ISBLANK(FromEvoM!L168),\"\",FromEvoM!L168)","v":""},{"$f":"IF(ISBLANK(FromEvoM!M168),\"\",FromEvoM!M168)","v":""},{"$f":"IF(ISBLANK(FromEvoM!P168),\"\",FromEvoM!P168)","v":""},null,{"$f":"IF(ISNUMBER(FromEvoM!X168),FromEvoM!X168,\"\")","v":""},{"$f":"IF(ISNUMBER(FromEvoM!AB168),FromEvoM!AB168,\"\")","v":""},{"$f":"IF(ISNUMBER(FromEvoM!AA168),FromEvoM!AA168,\"\")","v":""},null,"","",null,null,{"$f":"IF(FromEvoM!W168=1,(FromEvoM!AB168*12),IF(FromEvoM!W168=7,(FromEvoM!AR168),\"\"))","v":""},null,null,{"$f":"IF(ISBLANK(FromEvoM!A168),\"\",IF(FromEvoM!AK168=\"y\",\"Y\",\"N\"))","v":""},{"$f":"IF(ISBLANK(FromEvoM!A168),\"\",Category_ID)","v":""},null,null,null,{"$f":"IF(ISBLANK(FromEvoM!AK168),\"\",FromEvoM!AK168)","v":""},{"$f":"IF(ISBLANK(FromEvoM!AM168),\"\",FromEvoM!AM168)","v":""},{"$f":"IF(ISBLANK(FromEvoM!AN168),\"\",FromEvoM!AN168)","v":""},{"$f":"IF(ISBLANK(FromEvoM!AL168),\"\",FromEvoM!AL168)","v":""},{"$f":"IF(ISBLANK(FromEvoM!A168),\"\",IF(AND(AF168=\"y\",AI168=1),\"Y\",\"N\"))","v":""},{"$f":"IF(ISBLANK(FromEvoM!A168),\"\",IF(FromEvoM!AS168=\"Yes\",2,1))","v":""},{"$f":"IF(FromEvoM!W168=1,\"M\",IF(FromEvoM!W168=7,\"W\",\"\"))","v":""},{"$f":"IF(AJ168=\"Y\",0,IF(AJ168=\"N\",FromEvoM!AF168+FromEvoM!AT168,\"\"))","v":""},{"$f":"IF(AJ168=\"Y\",(FromEvoM!AE168+FromEvoM!AF168-FromEvoM!AT168),IF(AJ168=\"N\",FromEvoM!AE168,\"\"))","v":""}]
[{"$f":"IF(ISBLANK(FromEvoM!A169),\"\",Group_Code)","v":""},{"$f":"IF(ISBLANK(FromEvoM!A169),\"\",SUBSTITUTE(FromEvoM!A169,\" \",\"\"))","v":""},{"$f":"IF(ISBLANK(FromEvoM!C169),\"\",SUBSTITUTE(FromEvoM!G169,\" \",\"\"))","v":""},{"$f":"IF(ISBLANK(FromEvoM!D169),\"\",FromEvoM!B169)","v":""},{"$f":"IF(ISBLANK(FromEvoM!D169),\"\",FromEvoM!D169)","v":""},{"$f":"IF(ISBLANK(FromEvoM!C169),\"\",FromEvoM!C169)","v":""},{"$f":"REPLACE(FromEvoM!F169,2,6, )","v":""},{"$f":"IF(ISNUMBER(FromEvoM!E169),FromEvoM!E169,\"\")","v":""},{"$f":"IF(ISBLANK(FromEvoM!I169),\"\",FromEvoM!I169)","v":""},{"$f":"IF(ISBLANK(FromEvoM!J169),\"\",FromEvoM!J169)","v":""},{"$f":"IF(ISBLANK(FromEvoM!K169),\"\",FromEvoM!K169)","v":""},{"$f":"IF(ISBLANK(FromEvoM!L169),\"\",FromEvoM!L169)","v":""},{"$f":"IF(ISBLANK(FromEvoM!M169),\"\",FromEvoM!M169)","v":""},{"$f":"IF(ISBLANK(FromEvoM!P169),\"\",FromEvoM!P169)","v":""},null,{"$f":"IF(ISNUMBER(FromEvoM!X169),FromEvoM!X169,\"\")","v":""},{"$f":"IF(ISNUMBER(FromEvoM!AB169),FromEvoM!AB169,\"\")","v":""},{"$f":"IF(ISNUMBER(FromEvoM!AA169),FromEvoM!AA169,\"\")","v":""},null,"","",null,null,{"$f":"IF(FromEvoM!W169=1,(FromEvoM!AB169*12),IF(FromEvoM!W169=7,(FromEvoM!AR169),\"\"))","v":""},null,null,{"$f":"IF(ISBLANK(FromEvoM!A169),\"\",IF(FromEvoM!AK169=\"y\",\"Y\",\"N\"))","v":""},{"$f":"IF(ISBLANK(FromEvoM!A169),\"\",Category_ID)","v":""},null,null,null,{"$f":"IF(ISBLANK(FromEvoM!AK169),\"\",FromEvoM!AK169)","v":""},{"$f":"IF(ISBLANK(FromEvoM!AM169),\"\",FromEvoM!AM169)","v":""},{"$f":"IF(ISBLANK(FromEvoM!AN169),\"\",FromEvoM!AN169)","v":""},{"$f":"IF(ISBLANK(FromEvoM!AL169),\"\",FromEvoM!AL169)","v":""},{"$f":"IF(ISBLANK(FromEvoM!A169),\"\",IF(AND(AF169=\"y\",AI169=1),\"Y\",\"N\"))","v":""},{"$f":"IF(ISBLANK(FromEvoM!A169),\"\",IF(FromEvoM!AS169=\"Yes\",2,1))","v":""},{"$f":"IF(FromEvoM!W169=1,\"M\",IF(FromEvoM!W169=7,\"W\",\"\"))","v":""},{"$f":"IF(AJ169=\"Y\",0,IF(AJ169=\"N\",FromEvoM!AF169+FromEvoM!AT169,\"\"))","v":""},{"$f":"IF(AJ169=\"Y\",(FromEvoM!AE169+FromEvoM!AF169-FromEvoM!AT169),IF(AJ169=\"N\",FromEvoM!AE169,\"\"))","v":""}]
[{"$f":"IF(ISBLANK(FromEvoM!A170),\"\",Group_Code)","v":""},{"$f":"IF(ISBLANK(FromEvoM!A170),\"\",SUBSTITUTE(FromEvoM!A170,\" \",\"\"))","v":""},{"$f":"IF(ISBLANK(FromEvoM!C170),\"\",SUBSTITUTE(FromEvoM!G170,\" \",\"\"))","v":""},{"$f":"IF(ISBLANK(FromEvoM!D170),\"\",FromEvoM!B170)","v":""},{"$f":"IF(ISBLANK(FromEvoM!D170),\"\",FromEvoM!D170)","v":""},{"$f":"IF(ISBLANK(FromEvoM!C170),\"\",FromEvoM!C170)","v":""},{"$f":"REPLACE(FromEvoM!F170,2,6, )","v":""},{"$f":"IF(ISNUMBER(FromEvoM!E170),FromEvoM!E170,\"\")","v":""},{"$f":"IF(ISBLANK(FromEvoM!I170),\"\",FromEvoM!I170)","v":""},{"$f":"IF(ISBLANK(FromEvoM!J170),\"\",FromEvoM!J170)","v":""},{"$f":"IF(ISBLANK(FromEvoM!K170),\"\",FromEvoM!K170)","v":""},{"$f":"IF(ISBLANK(FromEvoM!L170),\"\",FromEvoM!L170)","v":""},{"$f":"IF(ISBLANK(FromEvoM!M170),\"\",FromEvoM!M170)","v":""},{"$f":"IF(ISBLANK(FromEvoM!P170),\"\",FromEvoM!P170)","v":""},null,{"$f":"IF(ISNUMBER(FromEvoM!X170),FromEvoM!X170,\"\")","v":""},{"$f":"IF(ISNUMBER(FromEvoM!AB170),FromEvoM!AB170,\"\")","v":""},{"$f":"IF(ISNUMBER(FromEvoM!AA170),FromEvoM!AA170,\"\")","v":""},null,"","",null,null,{"$f":"IF(FromEvoM!W170=1,(FromEvoM!AB170*12),IF(FromEvoM!W170=7,(FromEvoM!AR170),\"\"))","v":""},null,null,{"$f":"IF(ISBLANK(FromEvoM!A170),\"\",IF(FromEvoM!AK170=\"y\",\"Y\",\"N\"))","v":""},{"$f":"IF(ISBLANK(FromEvoM!A170),\"\",Category_ID)","v":""},null,null,null,{"$f":"IF(ISBLANK(FromEvoM!AK170),\"\",FromEvoM!AK170)","v":""},{"$f":"IF(ISBLANK(FromEvoM!AM170),\"\",FromEvoM!AM170)","v":""},{"$f":"IF(ISBLANK(FromEvoM!AN170),\"\",FromEvoM!AN170)","v":""},{"$f":"IF(ISBLANK(FromEvoM!AL170),\"\",FromEvoM!AL170)","v":""},{"$f":"IF(ISBLANK(FromEvoM!A170),\"\",IF(AND(AF170=\"y\",AI170=1),\"Y\",\"N\"))","v":""},{"$f":"IF(ISBLANK(FromEvoM!A170),\"\",IF(FromEvoM!AS170=\"Yes\",2,1))","v":""},{"$f":"IF(FromEvoM!W170=1,\"M\",IF(FromEvoM!W170=7,\"W\",\"\"))","v":""},{"$f":"IF(AJ170=\"Y\",0,IF(AJ170=\"N\",FromEvoM!AF170+FromEvoM!AT170,\"\"))","v":""},{"$f":"IF(AJ170=\"Y\",(FromEvoM!AE170+FromEvoM!AF170-FromEvoM!AT170),IF(AJ170=\"N\",FromEvoM!AE170,\"\"))","v":""}]
[{"$f":"IF(ISBLANK(FromEvoM!A171),\"\",Group_Code)","v":""},{"$f":"IF(ISBLANK(FromEvoM!A171),\"\",SUBSTITUTE(FromEvoM!A171,\" \",\"\"))","v":""},{"$f":"IF(ISBLANK(FromEvoM!C171),\"\",SUBSTITUTE(FromEvoM!G171,\" \",\"\"))","v":""},{"$f":"IF(ISBLANK(FromEvoM!D171),\"\",FromEvoM!B171)","v":""},{"$f":"IF(ISBLANK(FromEvoM!D171),\"\",FromEvoM!D171)","v":""},{"$f":"IF(ISBLANK(FromEvoM!C171),\"\",FromEvoM!C171)","v":""},{"$f":"REPLACE(FromEvoM!F171,2,6, )","v":""},{"$f":"IF(ISNUMBER(FromEvoM!E171),FromEvoM!E171,\"\")","v":""},{"$f":"IF(ISBLANK(FromEvoM!I171),\"\",FromEvoM!I171)","v":""},{"$f":"IF(ISBLANK(FromEvoM!J171),\"\",FromEvoM!J171)","v":""},{"$f":"IF(ISBLANK(FromEvoM!K171),\"\",FromEvoM!K171)","v":""},{"$f":"IF(ISBLANK(FromEvoM!L171),\"\",FromEvoM!L171)","v":""},{"$f":"IF(ISBLANK(FromEvoM!M171),\"\",FromEvoM!M171)","v":""},{"$f":"IF(ISBLANK(FromEvoM!P171),\"\",FromEvoM!P171)","v":""},null,{"$f":"IF(ISNUMBER(FromEvoM!X171),FromEvoM!X171,\"\")","v":""},{"$f":"IF(ISNUMBER(FromEvoM!AB171),FromEvoM!AB171,\"\")","v":""},{"$f":"IF(ISNUMBER(FromEvoM!AA171),FromEvoM!AA171,\"\")","v":""},null,"","",null,null,{"$f":"IF(FromEvoM!W171=1,(FromEvoM!AB171*12),IF(FromEvoM!W171=7,(FromEvoM!AR171),\"\"))","v":""},null,null,{"$f":"IF(ISBLANK(FromEvoM!A171),\"\",IF(FromEvoM!AK171=\"y\",\"Y\",\"N\"))","v":""},{"$f":"IF(ISBLANK(FromEvoM!A171),\"\",Category_ID)","v":""},null,null,null,{"$f":"IF(ISBLANK(FromEvoM!AK171),\"\",FromEvoM!AK171)","v":""},{"$f":"IF(ISBLANK(FromEvoM!AM171),\"\",FromEvoM!AM171)","v":""},{"$f":"IF(ISBLANK(FromEvoM!AN171),\"\",FromEvoM!AN171)","v":""},{"$f":"IF(ISBLANK(FromEvoM!AL171),\"\",FromEvoM!AL171)","v":""},{"$f":"IF(ISBLANK(FromEvoM!A171),\"\",IF(AND(AF171=\"y\",AI171=1),\"Y\",\"N\"))","v":""},{"$f":"IF(ISBLANK(FromEvoM!A171),\"\",IF(FromEvoM!AS171=\"Yes\",2,1))","v":""},{"$f":"IF(FromEvoM!W171=1,\"M\",IF(FromEvoM!W171=7,\"W\",\"\"))","v":""},{"$f":"IF(AJ171=\"Y\",0,IF(AJ171=\"N\",FromEvoM!AF171+FromEvoM!AT171,\"\"))","v":""},{"$f":"IF(AJ171=\"Y\",(FromEvoM!AE171+FromEvoM!AF171-FromEvoM!AT171),IF(AJ171=\"N\",FromEvoM!AE171,\"\"))","v":""}]
[{"$f":"IF(ISBLANK(FromEvoM!A172),\"\",Group_Code)","v":""},{"$f":"IF(ISBLANK(FromEvoM!A172),\"\",SUBSTITUTE(FromEvoM!A172,\" \",\"\"))","v":""},{"$f":"IF(ISBLANK(FromEvoM!C172),\"\",SUBSTITUTE(FromEvoM!G172,\" \",\"\"))","v":""},{"$f":"IF(ISBLANK(FromEvoM!D172),\"\",FromEvoM!B172)","v":""},{"$f":"IF(ISBLANK(FromEvoM!D172),\"\",FromEvoM!D172)","v":""},{"$f":"IF(ISBLANK(FromEvoM!C172),\"\",FromEvoM!C172)","v":""},{"$f":"REPLACE(FromEvoM!F172,2,6, )","v":""},{"$f":"IF(ISNUMBER(FromEvoM!E172),FromEvoM!E172,\"\")","v":""},{"$f":"IF(ISBLANK(FromEvoM!I172),\"\",FromEvoM!I172)","v":""},{"$f":"IF(ISBLANK(FromEvoM!J172),\"\",FromEvoM!J172)","v":""},{"$f":"IF(ISBLANK(FromEvoM!K172),\"\",FromEvoM!K172)","v":""},{"$f":"IF(ISBLANK(FromEvoM!L172),\"\",FromEvoM!L172)","v":""},{"$f":"IF(ISBLANK(FromEvoM!M172),\"\",FromEvoM!M172)","v":""},{"$f":"IF(ISBLANK(FromEvoM!P172),\"\",FromEvoM!P172)","v":""},null,{"$f":"IF(ISNUMBER(FromEvoM!X172),FromEvoM!X172,\"\")","v":""},{"$f":"IF(ISNUMBER(FromEvoM!AB172),FromEvoM!AB172,\"\")","v":""},{"$f":"IF(ISNUMBER(FromEvoM!AA172),FromEvoM!AA172,\"\")","v":""},null,"","",null,null,{"$f":"IF(FromEvoM!W172=1,(FromEvoM!AB172*12),IF(FromEvoM!W172=7,(FromEvoM!AR172),\"\"))","v":""},null,null,{"$f":"IF(ISBLANK(FromEvoM!A172),\"\",IF(FromEvoM!AK172=\"y\",\"Y\",\"N\"))","v":""},{"$f":"IF(ISBLANK(FromEvoM!A172),\"\",Category_ID)","v":""},null,null,null,{"$f":"IF(ISBLANK(FromEvoM!AK172),\"\",FromEvoM!AK172)","v":""},{"$f":"IF(ISBLANK(FromEvoM!AM172),\"\",FromEvoM!AM172)","v":""},{"$f":"IF(ISBLANK(FromEvoM!AN172),\"\",FromEvoM!AN172)","v":""},{"$f":"IF(ISBLANK(FromEvoM!AL172),\"\",FromEvoM!AL172)","v":""},{"$f":"IF(ISBLANK(FromEvoM!A172),\"\",IF(AND(AF172=\"y\",AI172=1),\"Y\",\"N\"))","v":""},{"$f":"IF(ISBLANK(FromEvoM!A172),\"\",IF(FromEvoM!AS172=\"Yes\",2,1))","v":""},{"$f":"IF(FromEvoM!W172=1,\"M\",IF(FromEvoM!W172=7,\"W\",\"\"))","v":""},{"$f":"IF(AJ172=\"Y\",0,IF(AJ172=\"N\",FromEvoM!AF172+FromEvoM!AT172,\"\"))","v":""},{"$f":"IF(AJ172=\"Y\",(FromEvoM!AE172+FromEvoM!AF172-FromEvoM!AT172),IF(AJ172=\"N\",FromEvoM!AE172,\"\"))","v":""}]
[{"$f":"IF(ISBLANK(FromEvoM!A173),\"\",Group_Code)","v":""},{"$f":"IF(ISBLANK(FromEvoM!A173),\"\",SUBSTITUTE(FromEvoM!A173,\" \",\"\"))","v":""},{"$f":"IF(ISBLANK(FromEvoM!C173),\"\",SUBSTITUTE(FromEvoM!G173,\" \",\"\"))","v":""},{"$f":"IF(ISBLANK(FromEvoM!D173),\"\",FromEvoM!B173)","v":""},{"$f":"IF(ISBLANK(FromEvoM!D173),\"\",FromEvoM!D173)","v":""},{"$f":"IF(ISBLANK(FromEvoM!C173),\"\",FromEvoM!C173)","v":""},{"$f":"REPLACE(FromEvoM!F173,2,6, )","v":""},{"$f":"IF(ISNUMBER(FromEvoM!E173),FromEvoM!E173,\"\")","v":""},{"$f":"IF(ISBLANK(FromEvoM!I173),\"\",FromEvoM!I173)","v":""},{"$f":"IF(ISBLANK(FromEvoM!J173),\"\",FromEvoM!J173)","v":""},{"$f":"IF(ISBLANK(FromEvoM!K173),\"\",FromEvoM!K173)","v":""},{"$f":"IF(ISBLANK(FromEvoM!L173),\"\",FromEvoM!L173)","v":""},{"$f":"IF(ISBLANK(FromEvoM!M173),\"\",FromEvoM!M173)","v":""},{"$f":"IF(ISBLANK(FromEvoM!P173),\"\",FromEvoM!P173)","v":""},null,{"$f":"IF(ISNUMBER(FromEvoM!X173),FromEvoM!X173,\"\")","v":""},{"$f":"IF(ISNUMBER(FromEvoM!AB173),FromEvoM!AB173,\"\")","v":""},{"$f":"IF(ISNUMBER(FromEvoM!AA173),FromEvoM!AA173,\"\")","v":""},null,"","",null,null,{"$f":"IF(FromEvoM!W173=1,(FromEvoM!AB173*12),IF(FromEvoM!W173=7,(FromEvoM!AR173),\"\"))","v":""},null,null,{"$f":"IF(ISBLANK(FromEvoM!A173),\"\",IF(FromEvoM!AK173=\"y\",\"Y\",\"N\"))","v":""},{"$f":"IF(ISBLANK(FromEvoM!A173),\"\",Category_ID)","v":""},null,null,null,{"$f":"IF(ISBLANK(FromEvoM!AK173),\"\",FromEvoM!AK173)","v":""},{"$f":"IF(ISBLANK(FromEvoM!AM173),\"\",FromEvoM!AM173)","v":""},{"$f":"IF(ISBLANK(FromEvoM!AN173),\"\",FromEvoM!AN173)","v":""},{"$f":"IF(ISBLANK(FromEvoM!AL173),\"\",FromEvoM!AL173)","v":""},{"$f":"IF(ISBLANK(FromEvoM!A173),\"\",IF(AND(AF173=\"y\",AI173=1),\"Y\",\"N\"))","v":""},{"$f":"IF(ISBLANK(FromEvoM!A173),\"\",IF(FromEvoM!AS173=\"Yes\",2,1))","v":""},{"$f":"IF(FromEvoM!W173=1,\"M\",IF(FromEvoM!W173=7,\"W\",\"\"))","v":""},{"$f":"IF(AJ173=\"Y\",0,IF(AJ173=\"N\",FromEvoM!AF173+FromEvoM!AT173,\"\"))","v":""},{"$f":"IF(AJ173=\"Y\",(FromEvoM!AE173+FromEvoM!AF173-FromEvoM!AT173),IF(AJ173=\"N\",FromEvoM!AE173,\"\"))","v":""}]
[{"$f":"IF(ISBLANK(FromEvoM!A174),\"\",Group_Code)","v":""},{"$f":"IF(ISBLANK(FromEvoM!A174),\"\",SUBSTITUTE(FromEvoM!A174,\" \",\"\"))","v":""},{"$f":"IF(ISBLANK(FromEvoM!C174),\"\",SUBSTITUTE(FromEvoM!G174,\" \",\"\"))","v":""},{"$f":"IF(ISBLANK(FromEvoM!D174),\"\",FromEvoM!B174)","v":""},{"$f":"IF(ISBLANK(FromEvoM!D174),\"\",FromEvoM!D174)","v":""},{"$f":"IF(ISBLANK(FromEvoM!C174),\"\",FromEvoM!C174)","v":""},{"$f":"REPLACE(FromEvoM!F174,2,6, )","v":""},{"$f":"IF(ISNUMBER(FromEvoM!E174),FromEvoM!E174,\"\")","v":""},{"$f":"IF(ISBLANK(FromEvoM!I174),\"\",FromEvoM!I174)","v":""},{"$f":"IF(ISBLANK(FromEvoM!J174),\"\",FromEvoM!J174)","v":""},{"$f":"IF(ISBLANK(FromEvoM!K174),\"\",FromEvoM!K174)","v":""},{"$f":"IF(ISBLANK(FromEvoM!L174),\"\",FromEvoM!L174)","v":""},{"$f":"IF(ISBLANK(FromEvoM!M174),\"\",FromEvoM!M174)","v":""},{"$f":"IF(ISBLANK(FromEvoM!P174),\"\",FromEvoM!P174)","v":""},null,{"$f":"IF(ISNUMBER(FromEvoM!X174),FromEvoM!X174,\"\")","v":""},{"$f":"IF(ISNUMBER(FromEvoM!AB174),FromEvoM!AB174,\"\")","v":""},{"$f":"IF(ISNUMBER(FromEvoM!AA174),FromEvoM!AA174,\"\")","v":""},null,"","",null,null,{"$f":"IF(FromEvoM!W174=1,(FromEvoM!AB174*12),IF(FromEvoM!W174=7,(FromEvoM!AR174),\"\"))","v":""},null,null,{"$f":"IF(ISBLANK(FromEvoM!A174),\"\",IF(FromEvoM!AK174=\"y\",\"Y\",\"N\"))","v":""},{"$f":"IF(ISBLANK(FromEvoM!A174),\"\",Category_ID)","v":""},null,null,null,{"$f":"IF(ISBLANK(FromEvoM!AK174),\"\",FromEvoM!AK174)","v":""},{"$f":"IF(ISBLANK(FromEvoM!AM174),\"\",FromEvoM!AM174)","v":""},{"$f":"IF(ISBLANK(FromEvoM!AN174),\"\",FromEvoM!AN174)","v":""},{"$f":"IF(ISBLANK(FromEvoM!AL174),\"\",FromEvoM!AL174)","v":""},{"$f":"IF(ISBLANK(FromEvoM!A174),\"\",IF(AND(AF174=\"y\",AI174=1),\"Y\",\"N\"))","v":""},{"$f":"IF(ISBLANK(FromEvoM!A174),\"\",IF(FromEvoM!AS174=\"Yes\",2,1))","v":""},{"$f":"IF(FromEvoM!W174=1,\"M\",IF(FromEvoM!W174=7,\"W\",\"\"))","v":""},{"$f":"IF(AJ174=\"Y\",0,IF(AJ174=\"N\",FromEvoM!AF174+FromEvoM!AT174,\"\"))","v":""},{"$f":"IF(AJ174=\"Y\",(FromEvoM!AE174+FromEvoM!AF174-FromEvoM!AT174),IF(AJ174=\"N\",FromEvoM!AE174,\"\"))","v":""}]
[{"$f":"IF(ISBLANK(FromEvoM!A175),\"\",Group_Code)","v":""},{"$f":"IF(ISBLANK(FromEvoM!A175),\"\",SUBSTITUTE(FromEvoM!A175,\" \",\"\"))","v":""},{"$f":"IF(ISBLANK(FromEvoM!C175),\"\",SUBSTITUTE(FromEvoM!G175,\" \",\"\"))","v":""},{"$f":"IF(ISBLANK(FromEvoM!D175),\"\",FromEvoM!B175)","v":""},{"$f":"IF(ISBLANK(FromEvoM!D175),\"\",FromEvoM!D175)","v":""},{"$f":"IF(ISBLANK(FromEvoM!C175),\"\",FromEvoM!C175)","v":""},{"$f":"REPLACE(FromEvoM!F175,2,6, )","v":""},{"$f":"IF(ISNUMBER(FromEvoM!E175),FromEvoM!E175,\"\")","v":""},{"$f":"IF(ISBLANK(FromEvoM!I175),\"\",FromEvoM!I175)","v":""},{"$f":"IF(ISBLANK(FromEvoM!J175),\"\",FromEvoM!J175)","v":""},{"$f":"IF(ISBLANK(FromEvoM!K175),\"\",FromEvoM!K175)","v":""},{"$f":"IF(ISBLANK(FromEvoM!L175),\"\",FromEvoM!L175)","v":""},{"$f":"IF(ISBLANK(FromEvoM!M175),\"\",FromEvoM!M175)","v":""},{"$f":"IF(ISBLANK(FromEvoM!P175),\"\",FromEvoM!P175)","v":""},null,{"$f":"IF(ISNUMBER(FromEvoM!X175),FromEvoM!X175,\"\")","v":""},{"$f":"IF(ISNUMBER(FromEvoM!AB175),FromEvoM!AB175,\"\")","v":""},{"$f":"IF(ISNUMBER(FromEvoM!AA175),FromEvoM!AA175,\"\")","v":""},null,"","",null,null,{"$f":"IF(FromEvoM!W175=1,(FromEvoM!AB175*12),IF(FromEvoM!W175=7,(FromEvoM!AR175),\"\"))","v":""},null,null,{"$f":"IF(ISBLANK(FromEvoM!A175),\"\",IF(FromEvoM!AK175=\"y\",\"Y\",\"N\"))","v":""},{"$f":"IF(ISBLANK(FromEvoM!A175),\"\",Category_ID)","v":""},null,null,null,{"$f":"IF(ISBLANK(FromEvoM!AK175),\"\",FromEvoM!AK175)","v":""},{"$f":"IF(ISBLANK(FromEvoM!AM175),\"\",FromEvoM!AM175)","v":""},{"$f":"IF(ISBLANK(FromEvoM!AN175),\"\",FromEvoM!AN175)","v":""},{"$f":"IF(ISBLANK(FromEvoM!AL175),\"\",FromEvoM!AL175)","v":""},{"$f":"IF(ISBLANK(FromEvoM!A175),\"\",IF(AND(AF175=\"y\",AI175=1),\"Y\",\"N\"))","v":""},{"$f":"IF(ISBLANK(FromEvoM!A175),\"\",IF(FromEvoM!AS175=\"Yes\",2,1))","v":""},{"$f":"IF(FromEvoM!W175=1,\"M\",IF(FromEvoM!W175=7,\"W\",\"\"))","v":""},{"$f":"IF(AJ175=\"Y\",0,IF(AJ175=\"N\",FromEvoM!AF175+FromEvoM!AT175,\"\"))","v":""},{"$f":"IF(AJ175=\"Y\",(FromEvoM!AE175+FromEvoM!AF175-FromEvoM!AT175),IF(AJ175=\"N\",FromEvoM!AE175,\"\"))","v":""}]
[{"$f":"IF(ISBLANK(FromEvoM!A176),\"\",Group_Code)","v":""},{"$f":"IF(ISBLANK(FromEvoM!A176),\"\",SUBSTITUTE(FromEvoM!A176,\" \",\"\"))","v":""},{"$f":"IF(ISBLANK(FromEvoM!C176),\"\",SUBSTITUTE(FromEvoM!G176,\" \",\"\"))","v":""},{"$f":"IF(ISBLANK(FromEvoM!D176),\"\",FromEvoM!B176)","v":""},{"$f":"IF(ISBLANK(FromEvoM!D176),\"\",FromEvoM!D176)","v":""},{"$f":"IF(ISBLANK(FromEvoM!C176),\"\",FromEvoM!C176)","v":""},{"$f":"REPLACE(FromEvoM!F176,2,6, )","v":""},{"$f":"IF(ISNUMBER(FromEvoM!E176),FromEvoM!E176,\"\")","v":""},{"$f":"IF(ISBLANK(FromEvoM!I176),\"\",FromEvoM!I176)","v":""},{"$f":"IF(ISBLANK(FromEvoM!J176),\"\",FromEvoM!J176)","v":""},{"$f":"IF(ISBLANK(FromEvoM!K176),\"\",FromEvoM!K176)","v":""},{"$f":"IF(ISBLANK(FromEvoM!L176),\"\",FromEvoM!L176)","v":""},{"$f":"IF(ISBLANK(FromEvoM!M176),\"\",FromEvoM!M176)","v":""},{"$f":"IF(ISBLANK(FromEvoM!P176),\"\",FromEvoM!P176)","v":""},null,{"$f":"IF(ISNUMBER(FromEvoM!X176),FromEvoM!X176,\"\")","v":""},{"$f":"IF(ISNUMBER(FromEvoM!AB176),FromEvoM!AB176,\"\")","v":""},{"$f":"IF(ISNUMBER(FromEvoM!AA176),FromEvoM!AA176,\"\")","v":""},null,"","",null,null,{"$f":"IF(FromEvoM!W176=1,(FromEvoM!AB176*12),IF(FromEvoM!W176=7,(FromEvoM!AR176),\"\"))","v":""},null,null,{"$f":"IF(ISBLANK(FromEvoM!A176),\"\",IF(FromEvoM!AK176=\"y\",\"Y\",\"N\"))","v":""},{"$f":"IF(ISBLANK(FromEvoM!A176),\"\",Category_ID)","v":""},null,null,null,{"$f":"IF(ISBLANK(FromEvoM!AK176),\"\",FromEvoM!AK176)","v":""},{"$f":"IF(ISBLANK(FromEvoM!AM176),\"\",FromEvoM!AM176)","v":""},{"$f":"IF(ISBLANK(FromEvoM!AN176),\"\",FromEvoM!AN176)","v":""},{"$f":"IF(ISBLANK(FromEvoM!AL176),\"\",FromEvoM!AL176)","v":""},{"$f":"IF(ISBLANK(FromEvoM!A176),\"\",IF(AND(AF176=\"y\",AI176=1),\"Y\",\"N\"))","v":""},{"$f":"IF(ISBLANK(FromEvoM!A176),\"\",IF(FromEvoM!AS176=\"Yes\",2,1))","v":""},{"$f":"IF(FromEvoM!W176=1,\"M\",IF(FromEvoM!W176=7,\"W\",\"\"))","v":""},{"$f":"IF(AJ176=\"Y\",0,IF(AJ176=\"N\",FromEvoM!AF176+FromEvoM!AT176,\"\"))","v":""},{"$f":"IF(AJ176=\"Y\",(FromEvoM!AE176+FromEvoM!AF176-FromEvoM!AT176),IF(AJ176=\"N\",FromEvoM!AE176,\"\"))","v":""}]
[{"$f":"IF(ISBLANK(FromEvoM!A177),\"\",Group_Code)","v":""},{"$f":"IF(ISBLANK(FromEvoM!A177),\"\",SUBSTITUTE(FromEvoM!A177,\" \",\"\"))","v":""},{"$f":"IF(ISBLANK(FromEvoM!C177),\"\",SUBSTITUTE(FromEvoM!G177,\" \",\"\"))","v":""},{"$f":"IF(ISBLANK(FromEvoM!D177),\"\",FromEvoM!B177)","v":""},{"$f":"IF(ISBLANK(FromEvoM!D177),\"\",FromEvoM!D177)","v":""},{"$f":"IF(ISBLANK(FromEvoM!C177),\"\",FromEvoM!C177)","v":""},{"$f":"REPLACE(FromEvoM!F177,2,6, )","v":""},{"$f":"IF(ISNUMBER(FromEvoM!E177),FromEvoM!E177,\"\")","v":""},{"$f":"IF(ISBLANK(FromEvoM!I177),\"\",FromEvoM!I177)","v":""},{"$f":"IF(ISBLANK(FromEvoM!J177),\"\",FromEvoM!J177)","v":""},{"$f":"IF(ISBLANK(FromEvoM!K177),\"\",FromEvoM!K177)","v":""},{"$f":"IF(ISBLANK(FromEvoM!L177),\"\",FromEvoM!L177)","v":""},{"$f":"IF(ISBLANK(FromEvoM!M177),\"\",FromEvoM!M177)","v":""},{"$f":"IF(ISBLANK(FromEvoM!P177),\"\",FromEvoM!P177)","v":""},null,{"$f":"IF(ISNUMBER(FromEvoM!X177),FromEvoM!X177,\"\")","v":""},{"$f":"IF(ISNUMBER(FromEvoM!AB177),FromEvoM!AB177,\"\")","v":""},{"$f":"IF(ISNUMBER(FromEvoM!AA177),FromEvoM!AA177,\"\")","v":""},null,"","",null,null,{"$f":"IF(FromEvoM!W177=1,(FromEvoM!AB177*12),IF(FromEvoM!W177=7,(FromEvoM!AR177),\"\"))","v":""},null,null,{"$f":"IF(ISBLANK(FromEvoM!A177),\"\",IF(FromEvoM!AK177=\"y\",\"Y\",\"N\"))","v":""},{"$f":"IF(ISBLANK(FromEvoM!A177),\"\",Category_ID)","v":""},null,null,null,{"$f":"IF(ISBLANK(FromEvoM!AK177),\"\",FromEvoM!AK177)","v":""},{"$f":"IF(ISBLANK(FromEvoM!AM177),\"\",FromEvoM!AM177)","v":""},{"$f":"IF(ISBLANK(FromEvoM!AN177),\"\",FromEvoM!AN177)","v":""},{"$f":"IF(ISBLANK(FromEvoM!AL177),\"\",FromEvoM!AL177)","v":""},{"$f":"IF(ISBLANK(FromEvoM!A177),\"\",IF(AND(AF177=\"y\",AI177=1),\"Y\",\"N\"))","v":""},{"$f":"IF(ISBLANK(FromEvoM!A177),\"\",IF(FromEvoM!AS177=\"Yes\",2,1))","v":""},{"$f":"IF(FromEvoM!W177=1,\"M\",IF(FromEvoM!W177=7,\"W\",\"\"))","v":""},{"$f":"IF(AJ177=\"Y\",0,IF(AJ177=\"N\",FromEvoM!AF177+FromEvoM!AT177,\"\"))","v":""},{"$f":"IF(AJ177=\"Y\",(FromEvoM!AE177+FromEvoM!AF177-FromEvoM!AT177),IF(AJ177=\"N\",FromEvoM!AE177,\"\"))","v":""}]
[{"$f":"IF(ISBLANK(FromEvoM!A178),\"\",Group_Code)","v":""},{"$f":"IF(ISBLANK(FromEvoM!A178),\"\",SUBSTITUTE(FromEvoM!A178,\" \",\"\"))","v":""},{"$f":"IF(ISBLANK(FromEvoM!C178),\"\",SUBSTITUTE(FromEvoM!G178,\" \",\"\"))","v":""},{"$f":"IF(ISBLANK(FromEvoM!D178),\"\",FromEvoM!B178)","v":""},{"$f":"IF(ISBLANK(FromEvoM!D178),\"\",FromEvoM!D178)","v":""},{"$f":"IF(ISBLANK(FromEvoM!C178),\"\",FromEvoM!C178)","v":""},{"$f":"REPLACE(FromEvoM!F178,2,6, )","v":""},{"$f":"IF(ISNUMBER(FromEvoM!E178),FromEvoM!E178,\"\")","v":""},{"$f":"IF(ISBLANK(FromEvoM!I178),\"\",FromEvoM!I178)","v":""},{"$f":"IF(ISBLANK(FromEvoM!J178),\"\",FromEvoM!J178)","v":""},{"$f":"IF(ISBLANK(FromEvoM!K178),\"\",FromEvoM!K178)","v":""},{"$f":"IF(ISBLANK(FromEvoM!L178),\"\",FromEvoM!L178)","v":""},{"$f":"IF(ISBLANK(FromEvoM!M178),\"\",FromEvoM!M178)","v":""},{"$f":"IF(ISBLANK(FromEvoM!P178),\"\",FromEvoM!P178)","v":""},null,{"$f":"IF(ISNUMBER(FromEvoM!X178),FromEvoM!X178,\"\")","v":""},{"$f":"IF(ISNUMBER(FromEvoM!AB178),FromEvoM!AB178,\"\")","v":""},{"$f":"IF(ISNUMBER(FromEvoM!AA178),FromEvoM!AA178,\"\")","v":""},null,"","",null,null,{"$f":"IF(FromEvoM!W178=1,(FromEvoM!AB178*12),IF(FromEvoM!W178=7,(FromEvoM!AR178),\"\"))","v":""},null,null,{"$f":"IF(ISBLANK(FromEvoM!A178),\"\",IF(FromEvoM!AK178=\"y\",\"Y\",\"N\"))","v":""},{"$f":"IF(ISBLANK(FromEvoM!A178),\"\",Category_ID)","v":""},null,null,null,{"$f":"IF(ISBLANK(FromEvoM!AK178),\"\",FromEvoM!AK178)","v":""},{"$f":"IF(ISBLANK(FromEvoM!AM178),\"\",FromEvoM!AM178)","v":""},{"$f":"IF(ISBLANK(FromEvoM!AN178),\"\",FromEvoM!AN178)","v":""},{"$f":"IF(ISBLANK(FromEvoM!AL178),\"\",FromEvoM!AL178)","v":""},{"$f":"IF(ISBLANK(FromEvoM!A178),\"\",IF(AND(AF178=\"y\",AI178=1),\"Y\",\"N\"))","v":""},{"$f":"IF(ISBLANK(FromEvoM!A178),\"\",IF(FromEvoM!AS178=\"Yes\",2,1))","v":""},{"$f":"IF(FromEvoM!W178=1,\"M\",IF(FromEvoM!W178=7,\"W\",\"\"))","v":""},{"$f":"IF(AJ178=\"Y\",0,IF(AJ178=\"N\",FromEvoM!AF178+FromEvoM!AT178,\"\"))","v":""},{"$f":"IF(AJ178=\"Y\",(FromEvoM!AE178+FromEvoM!AF178-FromEvoM!AT178),IF(AJ178=\"N\",FromEvoM!AE178,\"\"))","v":""}]
[{"$f":"IF(ISBLANK(FromEvoM!A179),\"\",Group_Code)","v":""},{"$f":"IF(ISBLANK(FromEvoM!A179),\"\",SUBSTITUTE(FromEvoM!A179,\" \",\"\"))","v":""},{"$f":"IF(ISBLANK(FromEvoM!C179),\"\",SUBSTITUTE(FromEvoM!G179,\" \",\"\"))","v":""},{"$f":"IF(ISBLANK(FromEvoM!D179),\"\",FromEvoM!B179)","v":""},{"$f":"IF(ISBLANK(FromEvoM!D179),\"\",FromEvoM!D179)","v":""},{"$f":"IF(ISBLANK(FromEvoM!C179),\"\",FromEvoM!C179)","v":""},{"$f":"REPLACE(FromEvoM!F179,2,6, )","v":""},{"$f":"IF(ISNUMBER(FromEvoM!E179),FromEvoM!E179,\"\")","v":""},{"$f":"IF(ISBLANK(FromEvoM!I179),\"\",FromEvoM!I179)","v":""},{"$f":"IF(ISBLANK(FromEvoM!J179),\"\",FromEvoM!J179)","v":""},{"$f":"IF(ISBLANK(FromEvoM!K179),\"\",FromEvoM!K179)","v":""},{"$f":"IF(ISBLANK(FromEvoM!L179),\"\",FromEvoM!L179)","v":""},{"$f":"IF(ISBLANK(FromEvoM!M179),\"\",FromEvoM!M179)","v":""},{"$f":"IF(ISBLANK(FromEvoM!P179),\"\",FromEvoM!P179)","v":""},null,{"$f":"IF(ISNUMBER(FromEvoM!X179),FromEvoM!X179,\"\")","v":""},{"$f":"IF(ISNUMBER(FromEvoM!AB179),FromEvoM!AB179,\"\")","v":""},{"$f":"IF(ISNUMBER(FromEvoM!AA179),FromEvoM!AA179,\"\")","v":""},null,"","",null,null,{"$f":"IF(FromEvoM!W179=1,(FromEvoM!AB179*12),IF(FromEvoM!W179=7,(FromEvoM!AR179),\"\"))","v":""},null,null,{"$f":"IF(ISBLANK(FromEvoM!A179),\"\",IF(FromEvoM!AK179=\"y\",\"Y\",\"N\"))","v":""},{"$f":"IF(ISBLANK(FromEvoM!A179),\"\",Category_ID)","v":""},null,null,null,{"$f":"IF(ISBLANK(FromEvoM!AK179),\"\",FromEvoM!AK179)","v":""},{"$f":"IF(ISBLANK(FromEvoM!AM179),\"\",FromEvoM!AM179)","v":""},{"$f":"IF(ISBLANK(FromEvoM!AN179),\"\",FromEvoM!AN179)","v":""},{"$f":"IF(ISBLANK(FromEvoM!AL179),\"\",FromEvoM!AL179)","v":""},{"$f":"IF(ISBLANK(FromEvoM!A179),\"\",IF(AND(AF179=\"y\",AI179=1),\"Y\",\"N\"))","v":""},{"$f":"IF(ISBLANK(FromEvoM!A179),\"\",IF(FromEvoM!AS179=\"Yes\",2,1))","v":""},{"$f":"IF(FromEvoM!W179=1,\"M\",IF(FromEvoM!W179=7,\"W\",\"\"))","v":""},{"$f":"IF(AJ179=\"Y\",0,IF(AJ179=\"N\",FromEvoM!AF179+FromEvoM!AT179,\"\"))","v":""},{"$f":"IF(AJ179=\"Y\",(FromEvoM!AE179+FromEvoM!AF179-FromEvoM!AT179),IF(AJ179=\"N\",FromEvoM!AE179,\"\"))","v":""}]
[{"$f":"IF(ISBLANK(FromEvoM!A180),\"\",Group_Code)","v":""},{"$f":"IF(ISBLANK(FromEvoM!A180),\"\",SUBSTITUTE(FromEvoM!A180,\" \",\"\"))","v":""},{"$f":"IF(ISBLANK(FromEvoM!C180),\"\",SUBSTITUTE(FromEvoM!G180,\" \",\"\"))","v":""},{"$f":"IF(ISBLANK(FromEvoM!D180),\"\",FromEvoM!B180)","v":""},{"$f":"IF(ISBLANK(FromEvoM!D180),\"\",FromEvoM!D180)","v":""},{"$f":"IF(ISBLANK(FromEvoM!C180),\"\",FromEvoM!C180)","v":""},{"$f":"REPLACE(FromEvoM!F180,2,6, )","v":""},{"$f":"IF(ISNUMBER(FromEvoM!E180),FromEvoM!E180,\"\")","v":""},{"$f":"IF(ISBLANK(FromEvoM!I180),\"\",FromEvoM!I180)","v":""},{"$f":"IF(ISBLANK(FromEvoM!J180),\"\",FromEvoM!J180)","v":""},{"$f":"IF(ISBLANK(FromEvoM!K180),\"\",FromEvoM!K180)","v":""},{"$f":"IF(ISBLANK(FromEvoM!L180),\"\",FromEvoM!L180)","v":""},{"$f":"IF(ISBLANK(FromEvoM!M180),\"\",FromEvoM!M180)","v":""},{"$f":"IF(ISBLANK(FromEvoM!P180),\"\",FromEvoM!P180)","v":""},null,{"$f":"IF(ISNUMBER(FromEvoM!X180),FromEvoM!X180,\"\")","v":""},{"$f":"IF(ISNUMBER(FromEvoM!AB180),FromEvoM!AB180,\"\")","v":""},{"$f":"IF(ISNUMBER(FromEvoM!AA180),FromEvoM!AA180,\"\")","v":""},null,"","",null,null,{"$f":"IF(FromEvoM!W180=1,(FromEvoM!AB180*12),IF(FromEvoM!W180=7,(FromEvoM!AR180),\"\"))","v":""},null,null,{"$f":"IF(ISBLANK(FromEvoM!A180),\"\",IF(FromEvoM!AK180=\"y\",\"Y\",\"N\"))","v":""},{"$f":"IF(ISBLANK(FromEvoM!A180),\"\",Category_ID)","v":""},null,null,null,{"$f":"IF(ISBLANK(FromEvoM!AK180),\"\",FromEvoM!AK180)","v":""},{"$f":"IF(ISBLANK(FromEvoM!AM180),\"\",FromEvoM!AM180)","v":""},{"$f":"IF(ISBLANK(FromEvoM!AN180),\"\",FromEvoM!AN180)","v":""},{"$f":"IF(ISBLANK(FromEvoM!AL180),\"\",FromEvoM!AL180)","v":""},{"$f":"IF(ISBLANK(FromEvoM!A180),\"\",IF(AND(AF180=\"y\",AI180=1),\"Y\",\"N\"))","v":""},{"$f":"IF(ISBLANK(FromEvoM!A180),\"\",IF(FromEvoM!AS180=\"Yes\",2,1))","v":""},{"$f":"IF(FromEvoM!W180=1,\"M\",IF(FromEvoM!W180=7,\"W\",\"\"))","v":""},{"$f":"IF(AJ180=\"Y\",0,IF(AJ180=\"N\",FromEvoM!AF180+FromEvoM!AT180,\"\"))","v":""},{"$f":"IF(AJ180=\"Y\",(FromEvoM!AE180+FromEvoM!AF180-FromEvoM!AT180),IF(AJ180=\"N\",FromEvoM!AE180,\"\"))","v":""}]
[{"$f":"IF(ISBLANK(FromEvoM!A181),\"\",Group_Code)","v":""},{"$f":"IF(ISBLANK(FromEvoM!A181),\"\",SUBSTITUTE(FromEvoM!A181,\" \",\"\"))","v":""},{"$f":"IF(ISBLANK(FromEvoM!C181),\"\",SUBSTITUTE(FromEvoM!G181,\" \",\"\"))","v":""},{"$f":"IF(ISBLANK(FromEvoM!D181),\"\",FromEvoM!B181)","v":""},{"$f":"IF(ISBLANK(FromEvoM!D181),\"\",FromEvoM!D181)","v":""},{"$f":"IF(ISBLANK(FromEvoM!C181),\"\",FromEvoM!C181)","v":""},{"$f":"REPLACE(FromEvoM!F181,2,6, )","v":""},{"$f":"IF(ISNUMBER(FromEvoM!E181),FromEvoM!E181,\"\")","v":""},{"$f":"IF(ISBLANK(FromEvoM!I181),\"\",FromEvoM!I181)","v":""},{"$f":"IF(ISBLANK(FromEvoM!J181),\"\",FromEvoM!J181)","v":""},{"$f":"IF(ISBLANK(FromEvoM!K181),\"\",FromEvoM!K181)","v":""},{"$f":"IF(ISBLANK(FromEvoM!L181),\"\",FromEvoM!L181)","v":""},{"$f":"IF(ISBLANK(FromEvoM!M181),\"\",FromEvoM!M181)","v":""},{"$f":"IF(ISBLANK(FromEvoM!P181),\"\",FromEvoM!P181)","v":""},null,{"$f":"IF(ISNUMBER(FromEvoM!X181),FromEvoM!X181,\"\")","v":""},{"$f":"IF(ISNUMBER(FromEvoM!AB181),FromEvoM!AB181,\"\")","v":""},{"$f":"IF(ISNUMBER(FromEvoM!AA181),FromEvoM!AA181,\"\")","v":""},null,"","",null,null,{"$f":"IF(FromEvoM!W181=1,(FromEvoM!AB181*12),IF(FromEvoM!W181=7,(FromEvoM!AR181),\"\"))","v":""},null,null,{"$f":"IF(ISBLANK(FromEvoM!A181),\"\",IF(FromEvoM!AK181=\"y\",\"Y\",\"N\"))","v":""},{"$f":"IF(ISBLANK(FromEvoM!A181),\"\",Category_ID)","v":""},null,null,null,{"$f":"IF(ISBLANK(FromEvoM!AK181),\"\",FromEvoM!AK181)","v":""},{"$f":"IF(ISBLANK(FromEvoM!AM181),\"\",FromEvoM!AM181)","v":""},{"$f":"IF(ISBLANK(FromEvoM!AN181),\"\",FromEvoM!AN181)","v":""},{"$f":"IF(ISBLANK(FromEvoM!AL181),\"\",FromEvoM!AL181)","v":""},{"$f":"IF(ISBLANK(FromEvoM!A181),\"\",IF(AND(AF181=\"y\",AI181=1),\"Y\",\"N\"))","v":""},{"$f":"IF(ISBLANK(FromEvoM!A181),\"\",IF(FromEvoM!AS181=\"Yes\",2,1))","v":""},{"$f":"IF(FromEvoM!W181=1,\"M\",IF(FromEvoM!W181=7,\"W\",\"\"))","v":""},{"$f":"IF(AJ181=\"Y\",0,IF(AJ181=\"N\",FromEvoM!AF181+FromEvoM!AT181,\"\"))","v":""},{"$f":"IF(AJ181=\"Y\",(FromEvoM!AE181+FromEvoM!AF181-FromEvoM!AT181),IF(AJ181=\"N\",FromEvoM!AE181,\"\"))","v":""}]
[{"$f":"IF(ISBLANK(FromEvoM!A182),\"\",Group_Code)","v":""},{"$f":"IF(ISBLANK(FromEvoM!A182),\"\",SUBSTITUTE(FromEvoM!A182,\" \",\"\"))","v":""},{"$f":"IF(ISBLANK(FromEvoM!C182),\"\",SUBSTITUTE(FromEvoM!G182,\" \",\"\"))","v":""},{"$f":"IF(ISBLANK(FromEvoM!D182),\"\",FromEvoM!B182)","v":""},{"$f":"IF(ISBLANK(FromEvoM!D182),\"\",FromEvoM!D182)","v":""},{"$f":"IF(ISBLANK(FromEvoM!C182),\"\",FromEvoM!C182)","v":""},{"$f":"REPLACE(FromEvoM!F182,2,6, )","v":""},{"$f":"IF(ISNUMBER(FromEvoM!E182),FromEvoM!E182,\"\")","v":""},{"$f":"IF(ISBLANK(FromEvoM!I182),\"\",FromEvoM!I182)","v":""},{"$f":"IF(ISBLANK(FromEvoM!J182),\"\",FromEvoM!J182)","v":""},{"$f":"IF(ISBLANK(FromEvoM!K182),\"\",FromEvoM!K182)","v":""},{"$f":"IF(ISBLANK(FromEvoM!L182),\"\",FromEvoM!L182)","v":""},{"$f":"IF(ISBLANK(FromEvoM!M182),\"\",FromEvoM!M182)","v":""},{"$f":"IF(ISBLANK(FromEvoM!P182),\"\",FromEvoM!P182)","v":""},null,{"$f":"IF(ISNUMBER(FromEvoM!X182),FromEvoM!X182,\"\")","v":""},{"$f":"IF(ISNUMBER(FromEvoM!AB182),FromEvoM!AB182,\"\")","v":""},{"$f":"IF(ISNUMBER(FromEvoM!AA182),FromEvoM!AA182,\"\")","v":""},null,"","",null,null,{"$f":"IF(FromEvoM!W182=1,(FromEvoM!AB182*12),IF(FromEvoM!W182=7,(FromEvoM!AR182),\"\"))","v":""},null,null,{"$f":"IF(ISBLANK(FromEvoM!A182),\"\",IF(FromEvoM!AK182=\"y\",\"Y\",\"N\"))","v":""},{"$f":"IF(ISBLANK(FromEvoM!A182),\"\",Category_ID)","v":""},null,null,null,{"$f":"IF(ISBLANK(FromEvoM!AK182),\"\",FromEvoM!AK182)","v":""},{"$f":"IF(ISBLANK(FromEvoM!AM182),\"\",FromEvoM!AM182)","v":""},{"$f":"IF(ISBLANK(FromEvoM!AN182),\"\",FromEvoM!AN182)","v":""},{"$f":"IF(ISBLANK(FromEvoM!AL182),\"\",FromEvoM!AL182)","v":""},{"$f":"IF(ISBLANK(FromEvoM!A182),\"\",IF(AND(AF182=\"y\",AI182=1),\"Y\",\"N\"))","v":""},{"$f":"IF(ISBLANK(FromEvoM!A182),\"\",IF(FromEvoM!AS182=\"Yes\",2,1))","v":""},{"$f":"IF(FromEvoM!W182=1,\"M\",IF(FromEvoM!W182=7,\"W\",\"\"))","v":""},{"$f":"IF(AJ182=\"Y\",0,IF(AJ182=\"N\",FromEvoM!AF182+FromEvoM!AT182,\"\"))","v":""},{"$f":"IF(AJ182=\"Y\",(FromEvoM!AE182+FromEvoM!AF182-FromEvoM!AT182),IF(AJ182=\"N\",FromEvoM!AE182,\"\"))","v":""}]
[{"$f":"IF(ISBLANK(FromEvoM!A183),\"\",Group_Code)","v":""},{"$f":"IF(ISBLANK(FromEvoM!A183),\"\",SUBSTITUTE(FromEvoM!A183,\" \",\"\"))","v":""},{"$f":"IF(ISBLANK(FromEvoM!C183),\"\",SUBSTITUTE(FromEvoM!G183,\" \",\"\"))","v":""},{"$f":"IF(ISBLANK(FromEvoM!D183),\"\",FromEvoM!B183)","v":""},{"$f":"IF(ISBLANK(FromEvoM!D183),\"\",FromEvoM!D183)","v":""},{"$f":"IF(ISBLANK(FromEvoM!C183),\"\",FromEvoM!C183)","v":""},{"$f":"REPLACE(FromEvoM!F183,2,6, )","v":""},{"$f":"IF(ISNUMBER(FromEvoM!E183),FromEvoM!E183,\"\")","v":""},{"$f":"IF(ISBLANK(FromEvoM!I183),\"\",FromEvoM!I183)","v":""},{"$f":"IF(ISBLANK(FromEvoM!J183),\"\",FromEvoM!J183)","v":""},{"$f":"IF(ISBLANK(FromEvoM!K183),\"\",FromEvoM!K183)","v":""},{"$f":"IF(ISBLANK(FromEvoM!L183),\"\",FromEvoM!L183)","v":""},{"$f":"IF(ISBLANK(FromEvoM!M183),\"\",FromEvoM!M183)","v":""},{"$f":"IF(ISBLANK(FromEvoM!P183),\"\",FromEvoM!P183)","v":""},null,{"$f":"IF(ISNUMBER(FromEvoM!X183),FromEvoM!X183,\"\")","v":""},{"$f":"IF(ISNUMBER(FromEvoM!AB183),FromEvoM!AB183,\"\")","v":""},{"$f":"IF(ISNUMBER(FromEvoM!AA183),FromEvoM!AA183,\"\")","v":""},null,"","",null,null,{"$f":"IF(FromEvoM!W183=1,(FromEvoM!AB183*12),IF(FromEvoM!W183=7,(FromEvoM!AR183),\"\"))","v":""},null,null,{"$f":"IF(ISBLANK(FromEvoM!A183),\"\",IF(FromEvoM!AK183=\"y\",\"Y\",\"N\"))","v":""},{"$f":"IF(ISBLANK(FromEvoM!A183),\"\",Category_ID)","v":""},null,null,null,{"$f":"IF(ISBLANK(FromEvoM!AK183),\"\",FromEvoM!AK183)","v":""},{"$f":"IF(ISBLANK(FromEvoM!AM183),\"\",FromEvoM!AM183)","v":""},{"$f":"IF(ISBLANK(FromEvoM!AN183),\"\",FromEvoM!AN183)","v":""},{"$f":"IF(ISBLANK(FromEvoM!AL183),\"\",FromEvoM!AL183)","v":""},{"$f":"IF(ISBLANK(FromEvoM!A183),\"\",IF(AND(AF183=\"y\",AI183=1),\"Y\",\"N\"))","v":""},{"$f":"IF(ISBLANK(FromEvoM!A183),\"\",IF(FromEvoM!AS183=\"Yes\",2,1))","v":""},{"$f":"IF(FromEvoM!W183=1,\"M\",IF(FromEvoM!W183=7,\"W\",\"\"))","v":""},{"$f":"IF(AJ183=\"Y\",0,IF(AJ183=\"N\",FromEvoM!AF183+FromEvoM!AT183,\"\"))","v":""},{"$f":"IF(AJ183=\"Y\",(FromEvoM!AE183+FromEvoM!AF183-FromEvoM!AT183),IF(AJ183=\"N\",FromEvoM!AE183,\"\"))","v":""}]
[{"$f":"IF(ISBLANK(FromEvoM!A184),\"\",Group_Code)","v":""},{"$f":"IF(ISBLANK(FromEvoM!A184),\"\",SUBSTITUTE(FromEvoM!A184,\" \",\"\"))","v":""},{"$f":"IF(ISBLANK(FromEvoM!C184),\"\",SUBSTITUTE(FromEvoM!G184,\" \",\"\"))","v":""},{"$f":"IF(ISBLANK(FromEvoM!D184),\"\",FromEvoM!B184)","v":""},{"$f":"IF(ISBLANK(FromEvoM!D184),\"\",FromEvoM!D184)","v":""},{"$f":"IF(ISBLANK(FromEvoM!C184),\"\",FromEvoM!C184)","v":""},{"$f":"REPLACE(FromEvoM!F184,2,6, )","v":""},{"$f":"IF(ISNUMBER(FromEvoM!E184),FromEvoM!E184,\"\")","v":""},{"$f":"IF(ISBLANK(FromEvoM!I184),\"\",FromEvoM!I184)","v":""},{"$f":"IF(ISBLANK(FromEvoM!J184),\"\",FromEvoM!J184)","v":""},{"$f":"IF(ISBLANK(FromEvoM!K184),\"\",FromEvoM!K184)","v":""},{"$f":"IF(ISBLANK(FromEvoM!L184),\"\",FromEvoM!L184)","v":""},{"$f":"IF(ISBLANK(FromEvoM!M184),\"\",FromEvoM!M184)","v":""},{"$f":"IF(ISBLANK(FromEvoM!P184),\"\",FromEvoM!P184)","v":""},null,{"$f":"IF(ISNUMBER(FromEvoM!X184),FromEvoM!X184,\"\")","v":""},{"$f":"IF(ISNUMBER(FromEvoM!AB184),FromEvoM!AB184,\"\")","v":""},{"$f":"IF(ISNUMBER(FromEvoM!AA184),FromEvoM!AA184,\"\")","v":""},null,"","",null,null,{"$f":"IF(FromEvoM!W184=1,(FromEvoM!AB184*12),IF(FromEvoM!W184=7,(FromEvoM!AR184),\"\"))","v":""},null,null,{"$f":"IF(ISBLANK(FromEvoM!A184),\"\",IF(FromEvoM!AK184=\"y\",\"Y\",\"N\"))","v":""},{"$f":"IF(ISBLANK(FromEvoM!A184),\"\",Category_ID)","v":""},null,null,null,{"$f":"IF(ISBLANK(FromEvoM!AK184),\"\",FromEvoM!AK184)","v":""},{"$f":"IF(ISBLANK(FromEvoM!AM184),\"\",FromEvoM!AM184)","v":""},{"$f":"IF(ISBLANK(FromEvoM!AN184),\"\",FromEvoM!AN184)","v":""},{"$f":"IF(ISBLANK(FromEvoM!AL184),\"\",FromEvoM!AL184)","v":""},{"$f":"IF(ISBLANK(FromEvoM!A184),\"\",IF(AND(AF184=\"y\",AI184=1),\"Y\",\"N\"))","v":""},{"$f":"IF(ISBLANK(FromEvoM!A184),\"\",IF(FromEvoM!AS184=\"Yes\",2,1))","v":""},{"$f":"IF(FromEvoM!W184=1,\"M\",IF(FromEvoM!W184=7,\"W\",\"\"))","v":""},{"$f":"IF(AJ184=\"Y\",0,IF(AJ184=\"N\",FromEvoM!AF184+FromEvoM!AT184,\"\"))","v":""},{"$f":"IF(AJ184=\"Y\",(FromEvoM!AE184+FromEvoM!AF184-FromEvoM!AT184),IF(AJ184=\"N\",FromEvoM!AE184,\"\"))","v":""}]
[{"$f":"IF(ISBLANK(FromEvoM!A185),\"\",Group_Code)","v":""},{"$f":"IF(ISBLANK(FromEvoM!A185),\"\",SUBSTITUTE(FromEvoM!A185,\" \",\"\"))","v":""},{"$f":"IF(ISBLANK(FromEvoM!C185),\"\",SUBSTITUTE(FromEvoM!G185,\" \",\"\"))","v":""},{"$f":"IF(ISBLANK(FromEvoM!D185),\"\",FromEvoM!B185)","v":""},{"$f":"IF(ISBLANK(FromEvoM!D185),\"\",FromEvoM!D185)","v":""},{"$f":"IF(ISBLANK(FromEvoM!C185),\"\",FromEvoM!C185)","v":""},{"$f":"REPLACE(FromEvoM!F185,2,6, )","v":""},{"$f":"IF(ISNUMBER(FromEvoM!E185),FromEvoM!E185,\"\")","v":""},{"$f":"IF(ISBLANK(FromEvoM!I185),\"\",FromEvoM!I185)","v":""},{"$f":"IF(ISBLANK(FromEvoM!J185),\"\",FromEvoM!J185)","v":""},{"$f":"IF(ISBLANK(FromEvoM!K185),\"\",FromEvoM!K185)","v":""},{"$f":"IF(ISBLANK(FromEvoM!L185),\"\",FromEvoM!L185)","v":""},{"$f":"IF(ISBLANK(FromEvoM!M185),\"\",FromEvoM!M185)","v":""},{"$f":"IF(ISBLANK(FromEvoM!P185),\"\",FromEvoM!P185)","v":""},null,{"$f":"IF(ISNUMBER(FromEvoM!X185),FromEvoM!X185,\"\")","v":""},{"$f":"IF(ISNUMBER(FromEvoM!AB185),FromEvoM!AB185,\"\")","v":""},{"$f":"IF(ISNUMBER(FromEvoM!AA185),FromEvoM!AA185,\"\")","v":""},null,"","",null,null,{"$f":"IF(FromEvoM!W185=1,(FromEvoM!AB185*12),IF(FromEvoM!W185=7,(FromEvoM!AR185),\"\"))","v":""},null,null,{"$f":"IF(ISBLANK(FromEvoM!A185),\"\",IF(FromEvoM!AK185=\"y\",\"Y\",\"N\"))","v":""},{"$f":"IF(ISBLANK(FromEvoM!A185),\"\",Category_ID)","v":""},null,null,null,{"$f":"IF(ISBLANK(FromEvoM!AK185),\"\",FromEvoM!AK185)","v":""},{"$f":"IF(ISBLANK(FromEvoM!AM185),\"\",FromEvoM!AM185)","v":""},{"$f":"IF(ISBLANK(FromEvoM!AN185),\"\",FromEvoM!AN185)","v":""},{"$f":"IF(ISBLANK(FromEvoM!AL185),\"\",FromEvoM!AL185)","v":""},{"$f":"IF(ISBLANK(FromEvoM!A185),\"\",IF(AND(AF185=\"y\",AI185=1),\"Y\",\"N\"))","v":""},{"$f":"IF(ISBLANK(FromEvoM!A185),\"\",IF(FromEvoM!AS185=\"Yes\",2,1))","v":""},{"$f":"IF(FromEvoM!W185=1,\"M\",IF(FromEvoM!W185=7,\"W\",\"\"))","v":""},{"$f":"IF(AJ185=\"Y\",0,IF(AJ185=\"N\",FromEvoM!AF185+FromEvoM!AT185,\"\"))","v":""},{"$f":"IF(AJ185=\"Y\",(FromEvoM!AE185+FromEvoM!AF185-FromEvoM!AT185),IF(AJ185=\"N\",FromEvoM!AE185,\"\"))","v":""}]
[{"$f":"IF(ISBLANK(FromEvoM!A186),\"\",Group_Code)","v":""},{"$f":"IF(ISBLANK(FromEvoM!A186),\"\",SUBSTITUTE(FromEvoM!A186,\" \",\"\"))","v":""},{"$f":"IF(ISBLANK(FromEvoM!C186),\"\",SUBSTITUTE(FromEvoM!G186,\" \",\"\"))","v":""},{"$f":"IF(ISBLANK(FromEvoM!D186),\"\",FromEvoM!B186)","v":""},{"$f":"IF(ISBLANK(FromEvoM!D186),\"\",FromEvoM!D186)","v":""},{"$f":"IF(ISBLANK(FromEvoM!C186),\"\",FromEvoM!C186)","v":""},{"$f":"REPLACE(FromEvoM!F186,2,6, )","v":""},{"$f":"IF(ISNUMBER(FromEvoM!E186),FromEvoM!E186,\"\")","v":""},{"$f":"IF(ISBLANK(FromEvoM!I186),\"\",FromEvoM!I186)","v":""},{"$f":"IF(ISBLANK(FromEvoM!J186),\"\",FromEvoM!J186)","v":""},{"$f":"IF(ISBLANK(FromEvoM!K186),\"\",FromEvoM!K186)","v":""},{"$f":"IF(ISBLANK(FromEvoM!L186),\"\",FromEvoM!L186)","v":""},{"$f":"IF(ISBLANK(FromEvoM!M186),\"\",FromEvoM!M186)","v":""},{"$f":"IF(ISBLANK(FromEvoM!P186),\"\",FromEvoM!P186)","v":""},null,{"$f":"IF(ISNUMBER(FromEvoM!X186),FromEvoM!X186,\"\")","v":""},{"$f":"IF(ISNUMBER(FromEvoM!AB186),FromEvoM!AB186,\"\")","v":""},{"$f":"IF(ISNUMBER(FromEvoM!AA186),FromEvoM!AA186,\"\")","v":""},null,"","",null,null,{"$f":"IF(FromEvoM!W186=1,(FromEvoM!AB186*12),IF(FromEvoM!W186=7,(FromEvoM!AR186),\"\"))","v":""},null,null,{"$f":"IF(ISBLANK(FromEvoM!A186),\"\",IF(FromEvoM!AK186=\"y\",\"Y\",\"N\"))","v":""},{"$f":"IF(ISBLANK(FromEvoM!A186),\"\",Category_ID)","v":""},null,null,null,{"$f":"IF(ISBLANK(FromEvoM!AK186),\"\",FromEvoM!AK186)","v":""},{"$f":"IF(ISBLANK(FromEvoM!AM186),\"\",FromEvoM!AM186)","v":""},{"$f":"IF(ISBLANK(FromEvoM!AN186),\"\",FromEvoM!AN186)","v":""},{"$f":"IF(ISBLANK(FromEvoM!AL186),\"\",FromEvoM!AL186)","v":""},{"$f":"IF(ISBLANK(FromEvoM!A186),\"\",IF(AND(AF186=\"y\",AI186=1),\"Y\",\"N\"))","v":""},{"$f":"IF(ISBLANK(FromEvoM!A186),\"\",IF(FromEvoM!AS186=\"Yes\",2,1))","v":""},{"$f":"IF(FromEvoM!W186=1,\"M\",IF(FromEvoM!W186=7,\"W\",\"\"))","v":""},{"$f":"IF(AJ186=\"Y\",0,IF(AJ186=\"N\",FromEvoM!AF186+FromEvoM!AT186,\"\"))","v":""},{"$f":"IF(AJ186=\"Y\",(FromEvoM!AE186+FromEvoM!AF186-FromEvoM!AT186),IF(AJ186=\"N\",FromEvoM!AE186,\"\"))","v":""}]
[{"$f":"IF(ISBLANK(FromEvoM!A187),\"\",Group_Code)","v":""},{"$f":"IF(ISBLANK(FromEvoM!A187),\"\",SUBSTITUTE(FromEvoM!A187,\" \",\"\"))","v":""},{"$f":"IF(ISBLANK(FromEvoM!C187),\"\",SUBSTITUTE(FromEvoM!G187,\" \",\"\"))","v":""},{"$f":"IF(ISBLANK(FromEvoM!D187),\"\",FromEvoM!B187)","v":""},{"$f":"IF(ISBLANK(FromEvoM!D187),\"\",FromEvoM!D187)","v":""},{"$f":"IF(ISBLANK(FromEvoM!C187),\"\",FromEvoM!C187)","v":""},{"$f":"REPLACE(FromEvoM!F187,2,6, )","v":""},{"$f":"IF(ISNUMBER(FromEvoM!E187),FromEvoM!E187,\"\")","v":""},{"$f":"IF(ISBLANK(FromEvoM!I187),\"\",FromEvoM!I187)","v":""},{"$f":"IF(ISBLANK(FromEvoM!J187),\"\",FromEvoM!J187)","v":""},{"$f":"IF(ISBLANK(FromEvoM!K187),\"\",FromEvoM!K187)","v":""},{"$f":"IF(ISBLANK(FromEvoM!L187),\"\",FromEvoM!L187)","v":""},{"$f":"IF(ISBLANK(FromEvoM!M187),\"\",FromEvoM!M187)","v":""},{"$f":"IF(ISBLANK(FromEvoM!P187),\"\",FromEvoM!P187)","v":""},null,{"$f":"IF(ISNUMBER(FromEvoM!X187),FromEvoM!X187,\"\")","v":""},{"$f":"IF(ISNUMBER(FromEvoM!AB187),FromEvoM!AB187,\"\")","v":""},{"$f":"IF(ISNUMBER(FromEvoM!AA187),FromEvoM!AA187,\"\")","v":""},null,"","",null,null,{"$f":"IF(FromEvoM!W187=1,(FromEvoM!AB187*12),IF(FromEvoM!W187=7,(FromEvoM!AR187),\"\"))","v":""},null,null,{"$f":"IF(ISBLANK(FromEvoM!A187),\"\",IF(FromEvoM!AK187=\"y\",\"Y\",\"N\"))","v":""},{"$f":"IF(ISBLANK(FromEvoM!A187),\"\",Category_ID)","v":""},null,null,null,{"$f":"IF(ISBLANK(FromEvoM!AK187),\"\",FromEvoM!AK187)","v":""},{"$f":"IF(ISBLANK(FromEvoM!AM187),\"\",FromEvoM!AM187)","v":""},{"$f":"IF(ISBLANK(FromEvoM!AN187),\"\",FromEvoM!AN187)","v":""},{"$f":"IF(ISBLANK(FromEvoM!AL187),\"\",FromEvoM!AL187)","v":""},{"$f":"IF(ISBLANK(FromEvoM!A187),\"\",IF(AND(AF187=\"y\",AI187=1),\"Y\",\"N\"))","v":""},{"$f":"IF(ISBLANK(FromEvoM!A187),\"\",IF(FromEvoM!AS187=\"Yes\",2,1))","v":""},{"$f":"IF(FromEvoM!W187=1,\"M\",IF(FromEvoM!W187=7,\"W\",\"\"))","v":""},{"$f":"IF(AJ187=\"Y\",0,IF(AJ187=\"N\",FromEvoM!AF187+FromEvoM!AT187,\"\"))","v":""},{"$f":"IF(AJ187=\"Y\",(FromEvoM!AE187+FromEvoM!AF187-FromEvoM!AT187),IF(AJ187=\"N\",FromEvoM!AE187,\"\"))","v":""}]
[{"$f":"IF(ISBLANK(FromEvoM!A188),\"\",Group_Code)","v":""},{"$f":"IF(ISBLANK(FromEvoM!A188),\"\",SUBSTITUTE(FromEvoM!A188,\" \",\"\"))","v":""},{"$f":"IF(ISBLANK(FromEvoM!C188),\"\",SUBSTITUTE(FromEvoM!G188,\" \",\"\"))","v":""},{"$f":"IF(ISBLANK(FromEvoM!D188),\"\",FromEvoM!B188)","v":""},{"$f":"IF(ISBLANK(FromEvoM!D188),\"\",FromEvoM!D188)","v":""},{"$f":"IF(ISBLANK(FromEvoM!C188),\"\",FromEvoM!C188)","v":""},{"$f":"REPLACE(FromEvoM!F188,2,6, )","v":""},{"$f":"IF(ISNUMBER(FromEvoM!E188),FromEvoM!E188,\"\")","v":""},{"$f":"IF(ISBLANK(FromEvoM!I188),\"\",FromEvoM!I188)","v":""},{"$f":"IF(ISBLANK(FromEvoM!J188),\"\",FromEvoM!J188)","v":""},{"$f":"IF(ISBLANK(FromEvoM!K188),\"\",FromEvoM!K188)","v":""},{"$f":"IF(ISBLANK(FromEvoM!L188),\"\",FromEvoM!L188)","v":""},{"$f":"IF(ISBLANK(FromEvoM!M188),\"\",FromEvoM!M188)","v":""},{"$f":"IF(ISBLANK(FromEvoM!P188),\"\",FromEvoM!P188)","v":""},null,{"$f":"IF(ISNUMBER(FromEvoM!X188),FromEvoM!X188,\"\")","v":""},{"$f":"IF(ISNUMBER(FromEvoM!AB188),FromEvoM!AB188,\"\")","v":""},{"$f":"IF(ISNUMBER(FromEvoM!AA188),FromEvoM!AA188,\"\")","v":""},null,"","",null,null,{"$f":"IF(FromEvoM!W188=1,(FromEvoM!AB188*12),IF(FromEvoM!W188=7,(FromEvoM!AR188),\"\"))","v":""},null,null,{"$f":"IF(ISBLANK(FromEvoM!A188),\"\",IF(FromEvoM!AK188=\"y\",\"Y\",\"N\"))","v":""},{"$f":"IF(ISBLANK(FromEvoM!A188),\"\",Category_ID)","v":""},null,null,null,{"$f":"IF(ISBLANK(FromEvoM!AK188),\"\",FromEvoM!AK188)","v":""},{"$f":"IF(ISBLANK(FromEvoM!AM188),\"\",FromEvoM!AM188)","v":""},{"$f":"IF(ISBLANK(FromEvoM!AN188),\"\",FromEvoM!AN188)","v":""},{"$f":"IF(ISBLANK(FromEvoM!AL188),\"\",FromEvoM!AL188)","v":""},{"$f":"IF(ISBLANK(FromEvoM!A188),\"\",IF(AND(AF188=\"y\",AI188=1),\"Y\",\"N\"))","v":""},{"$f":"IF(ISBLANK(FromEvoM!A188),\"\",IF(FromEvoM!AS188=\"Yes\",2,1))","v":""},{"$f":"IF(FromEvoM!W188=1,\"M\",IF(FromEvoM!W188=7,\"W\",\"\"))","v":""},{"$f":"IF(AJ188=\"Y\",0,IF(AJ188=\"N\",FromEvoM!AF188+FromEvoM!AT188,\"\"))","v":""},{"$f":"IF(AJ188=\"Y\",(FromEvoM!AE188+FromEvoM!AF188-FromEvoM!AT188),IF(AJ188=\"N\",FromEvoM!AE188,\"\"))","v":""}]
[{"$f":"IF(ISBLANK(FromEvoM!A189),\"\",Group_Code)","v":""},{"$f":"IF(ISBLANK(FromEvoM!A189),\"\",SUBSTITUTE(FromEvoM!A189,\" \",\"\"))","v":""},{"$f":"IF(ISBLANK(FromEvoM!C189),\"\",SUBSTITUTE(FromEvoM!G189,\" \",\"\"))","v":""},{"$f":"IF(ISBLANK(FromEvoM!D189),\"\",FromEvoM!B189)","v":""},{"$f":"IF(ISBLANK(FromEvoM!D189),\"\",FromEvoM!D189)","v":""},{"$f":"IF(ISBLANK(FromEvoM!C189),\"\",FromEvoM!C189)","v":""},{"$f":"REPLACE(FromEvoM!F189,2,6, )","v":""},{"$f":"IF(ISNUMBER(FromEvoM!E189),FromEvoM!E189,\"\")","v":""},{"$f":"IF(ISBLANK(FromEvoM!I189),\"\",FromEvoM!I189)","v":""},{"$f":"IF(ISBLANK(FromEvoM!J189),\"\",FromEvoM!J189)","v":""},{"$f":"IF(ISBLANK(FromEvoM!K189),\"\",FromEvoM!K189)","v":""},{"$f":"IF(ISBLANK(FromEvoM!L189),\"\",FromEvoM!L189)","v":""},{"$f":"IF(ISBLANK(FromEvoM!M189),\"\",FromEvoM!M189)","v":""},{"$f":"IF(ISBLANK(FromEvoM!P189),\"\",FromEvoM!P189)","v":""},null,{"$f":"IF(ISNUMBER(FromEvoM!X189),FromEvoM!X189,\"\")","v":""},{"$f":"IF(ISNUMBER(FromEvoM!AB189),FromEvoM!AB189,\"\")","v":""},{"$f":"IF(ISNUMBER(FromEvoM!AA189),FromEvoM!AA189,\"\")","v":""},null,"","",null,null,{"$f":"IF(FromEvoM!W189=1,(FromEvoM!AB189*12),IF(FromEvoM!W189=7,(FromEvoM!AR189),\"\"))","v":""},null,null,{"$f":"IF(ISBLANK(FromEvoM!A189),\"\",IF(FromEvoM!AK189=\"y\",\"Y\",\"N\"))","v":""},{"$f":"IF(ISBLANK(FromEvoM!A189),\"\",Category_ID)","v":""},null,null,null,{"$f":"IF(ISBLANK(FromEvoM!AK189),\"\",FromEvoM!AK189)","v":""},{"$f":"IF(ISBLANK(FromEvoM!AM189),\"\",FromEvoM!AM189)","v":""},{"$f":"IF(ISBLANK(FromEvoM!AN189),\"\",FromEvoM!AN189)","v":""},{"$f":"IF(ISBLANK(FromEvoM!AL189),\"\",FromEvoM!AL189)","v":""},{"$f":"IF(ISBLANK(FromEvoM!A189),\"\",IF(AND(AF189=\"y\",AI189=1),\"Y\",\"N\"))","v":""},{"$f":"IF(ISBLANK(FromEvoM!A189),\"\",IF(FromEvoM!AS189=\"Yes\",2,1))","v":""},{"$f":"IF(FromEvoM!W189=1,\"M\",IF(FromEvoM!W189=7,\"W\",\"\"))","v":""},{"$f":"IF(AJ189=\"Y\",0,IF(AJ189=\"N\",FromEvoM!AF189+FromEvoM!AT189,\"\"))","v":""},{"$f":"IF(AJ189=\"Y\",(FromEvoM!AE189+FromEvoM!AF189-FromEvoM!AT189),IF(AJ189=\"N\",FromEvoM!AE189,\"\"))","v":""}]
[{"$f":"IF(ISBLANK(FromEvoM!A190),\"\",Group_Code)","v":""},{"$f":"IF(ISBLANK(FromEvoM!A190),\"\",SUBSTITUTE(FromEvoM!A190,\" \",\"\"))","v":""},{"$f":"IF(ISBLANK(FromEvoM!C190),\"\",SUBSTITUTE(FromEvoM!G190,\" \",\"\"))","v":""},{"$f":"IF(ISBLANK(FromEvoM!D190),\"\",FromEvoM!B190)","v":""},{"$f":"IF(ISBLANK(FromEvoM!D190),\"\",FromEvoM!D190)","v":""},{"$f":"IF(ISBLANK(FromEvoM!C190),\"\",FromEvoM!C190)","v":""},{"$f":"REPLACE(FromEvoM!F190,2,6, )","v":""},{"$f":"IF(ISNUMBER(FromEvoM!E190),FromEvoM!E190,\"\")","v":""},{"$f":"IF(ISBLANK(FromEvoM!I190),\"\",FromEvoM!I190)","v":""},{"$f":"IF(ISBLANK(FromEvoM!J190),\"\",FromEvoM!J190)","v":""},{"$f":"IF(ISBLANK(FromEvoM!K190),\"\",FromEvoM!K190)","v":""},{"$f":"IF(ISBLANK(FromEvoM!L190),\"\",FromEvoM!L190)","v":""},{"$f":"IF(ISBLANK(FromEvoM!M190),\"\",FromEvoM!M190)","v":""},{"$f":"IF(ISBLANK(FromEvoM!P190),\"\",FromEvoM!P190)","v":""},null,{"$f":"IF(ISNUMBER(FromEvoM!X190),FromEvoM!X190,\"\")","v":""},{"$f":"IF(ISNUMBER(FromEvoM!AB190),FromEvoM!AB190,\"\")","v":""},{"$f":"IF(ISNUMBER(FromEvoM!AA190),FromEvoM!AA190,\"\")","v":""},null,"","",null,null,{"$f":"IF(FromEvoM!W190=1,(FromEvoM!AB190*12),IF(FromEvoM!W190=7,(FromEvoM!AR190),\"\"))","v":""},null,null,{"$f":"IF(ISBLANK(FromEvoM!A190),\"\",IF(FromEvoM!AK190=\"y\",\"Y\",\"N\"))","v":""},{"$f":"IF(ISBLANK(FromEvoM!A190),\"\",Category_ID)","v":""},null,null,null,{"$f":"IF(ISBLANK(FromEvoM!AK190),\"\",FromEvoM!AK190)","v":""},{"$f":"IF(ISBLANK(FromEvoM!AM190),\"\",FromEvoM!AM190)","v":""},{"$f":"IF(ISBLANK(FromEvoM!AN190),\"\",FromEvoM!AN190)","v":""},{"$f":"IF(ISBLANK(FromEvoM!AL190),\"\",FromEvoM!AL190)","v":""},{"$f":"IF(ISBLANK(FromEvoM!A190),\"\",IF(AND(AF190=\"y\",AI190=1),\"Y\",\"N\"))","v":""},{"$f":"IF(ISBLANK(FromEvoM!A190),\"\",IF(FromEvoM!AS190=\"Yes\",2,1))","v":""},{"$f":"IF(FromEvoM!W190=1,\"M\",IF(FromEvoM!W190=7,\"W\",\"\"))","v":""},{"$f":"IF(AJ190=\"Y\",0,IF(AJ190=\"N\",FromEvoM!AF190+FromEvoM!AT190,\"\"))","v":""},{"$f":"IF(AJ190=\"Y\",(FromEvoM!AE190+FromEvoM!AF190-FromEvoM!AT190),IF(AJ190=\"N\",FromEvoM!AE190,\"\"))","v":""}]
[{"$f":"IF(ISBLANK(FromEvoM!A191),\"\",Group_Code)","v":""},{"$f":"IF(ISBLANK(FromEvoM!A191),\"\",SUBSTITUTE(FromEvoM!A191,\" \",\"\"))","v":""},{"$f":"IF(ISBLANK(FromEvoM!C191),\"\",SUBSTITUTE(FromEvoM!G191,\" \",\"\"))","v":""},{"$f":"IF(ISBLANK(FromEvoM!D191),\"\",FromEvoM!B191)","v":""},{"$f":"IF(ISBLANK(FromEvoM!D191),\"\",FromEvoM!D191)","v":""},{"$f":"IF(ISBLANK(FromEvoM!C191),\"\",FromEvoM!C191)","v":""},{"$f":"REPLACE(FromEvoM!F191,2,6, )","v":""},{"$f":"IF(ISNUMBER(FromEvoM!E191),FromEvoM!E191,\"\")","v":""},{"$f":"IF(ISBLANK(FromEvoM!I191),\"\",FromEvoM!I191)","v":""},{"$f":"IF(ISBLANK(FromEvoM!J191),\"\",FromEvoM!J191)","v":""},{"$f":"IF(ISBLANK(FromEvoM!K191),\"\",FromEvoM!K191)","v":""},{"$f":"IF(ISBLANK(FromEvoM!L191),\"\",FromEvoM!L191)","v":""},{"$f":"IF(ISBLANK(FromEvoM!M191),\"\",FromEvoM!M191)","v":""},{"$f":"IF(ISBLANK(FromEvoM!P191),\"\",FromEvoM!P191)","v":""},null,{"$f":"IF(ISNUMBER(FromEvoM!X191),FromEvoM!X191,\"\")","v":""},{"$f":"IF(ISNUMBER(FromEvoM!AB191),FromEvoM!AB191,\"\")","v":""},{"$f":"IF(ISNUMBER(FromEvoM!AA191),FromEvoM!AA191,\"\")","v":""},null,"","",null,null,{"$f":"IF(FromEvoM!W191=1,(FromEvoM!AB191*12),IF(FromEvoM!W191=7,(FromEvoM!AR191),\"\"))","v":""},null,null,{"$f":"IF(ISBLANK(FromEvoM!A191),\"\",IF(FromEvoM!AK191=\"y\",\"Y\",\"N\"))","v":""},{"$f":"IF(ISBLANK(FromEvoM!A191),\"\",Category_ID)","v":""},null,null,null,{"$f":"IF(ISBLANK(FromEvoM!AK191),\"\",FromEvoM!AK191)","v":""},{"$f":"IF(ISBLANK(FromEvoM!AM191),\"\",FromEvoM!AM191)","v":""},{"$f":"IF(ISBLANK(FromEvoM!AN191),\"\",FromEvoM!AN191)","v":""},{"$f":"IF(ISBLANK(FromEvoM!AL191),\"\",FromEvoM!AL191)","v":""},{"$f":"IF(ISBLANK(FromEvoM!A191),\"\",IF(AND(AF191=\"y\",AI191=1),\"Y\",\"N\"))","v":""},{"$f":"IF(ISBLANK(FromEvoM!A191),\"\",IF(FromEvoM!AS191=\"Yes\",2,1))","v":""},{"$f":"IF(FromEvoM!W191=1,\"M\",IF(FromEvoM!W191=7,\"W\",\"\"))","v":""},{"$f":"IF(AJ191=\"Y\",0,IF(AJ191=\"N\",FromEvoM!AF191+FromEvoM!AT191,\"\"))","v":""},{"$f":"IF(AJ191=\"Y\",(FromEvoM!AE191+FromEvoM!AF191-FromEvoM!AT191),IF(AJ191=\"N\",FromEvoM!AE191,\"\"))","v":""}]
[{"$f":"IF(ISBLANK(FromEvoM!A192),\"\",Group_Code)","v":""},{"$f":"IF(ISBLANK(FromEvoM!A192),\"\",SUBSTITUTE(FromEvoM!A192,\" \",\"\"))","v":""},{"$f":"IF(ISBLANK(FromEvoM!C192),\"\",SUBSTITUTE(FromEvoM!G192,\" \",\"\"))","v":""},{"$f":"IF(ISBLANK(FromEvoM!D192),\"\",FromEvoM!B192)","v":""},{"$f":"IF(ISBLANK(FromEvoM!D192),\"\",FromEvoM!D192)","v":""},{"$f":"IF(ISBLANK(FromEvoM!C192),\"\",FromEvoM!C192)","v":""},{"$f":"REPLACE(FromEvoM!F192,2,6, )","v":""},{"$f":"IF(ISNUMBER(FromEvoM!E192),FromEvoM!E192,\"\")","v":""},{"$f":"IF(ISBLANK(FromEvoM!I192),\"\",FromEvoM!I192)","v":""},{"$f":"IF(ISBLANK(FromEvoM!J192),\"\",FromEvoM!J192)","v":""},{"$f":"IF(ISBLANK(FromEvoM!K192),\"\",FromEvoM!K192)","v":""},{"$f":"IF(ISBLANK(FromEvoM!L192),\"\",FromEvoM!L192)","v":""},{"$f":"IF(ISBLANK(FromEvoM!M192),\"\",FromEvoM!M192)","v":""},{"$f":"IF(ISBLANK(FromEvoM!P192),\"\",FromEvoM!P192)","v":""},null,{"$f":"IF(ISNUMBER(FromEvoM!X192),FromEvoM!X192,\"\")","v":""},{"$f":"IF(ISNUMBER(FromEvoM!AB192),FromEvoM!AB192,\"\")","v":""},{"$f":"IF(ISNUMBER(FromEvoM!AA192),FromEvoM!AA192,\"\")","v":""},null,"","",null,null,{"$f":"IF(FromEvoM!W192=1,(FromEvoM!AB192*12),IF(FromEvoM!W192=7,(FromEvoM!AR192),\"\"))","v":""},null,null,{"$f":"IF(ISBLANK(FromEvoM!A192),\"\",IF(FromEvoM!AK192=\"y\",\"Y\",\"N\"))","v":""},{"$f":"IF(ISBLANK(FromEvoM!A192),\"\",Category_ID)","v":""},null,null,null,{"$f":"IF(ISBLANK(FromEvoM!AK192),\"\",FromEvoM!AK192)","v":""},{"$f":"IF(ISBLANK(FromEvoM!AM192),\"\",FromEvoM!AM192)","v":""},{"$f":"IF(ISBLANK(FromEvoM!AN192),\"\",FromEvoM!AN192)","v":""},{"$f":"IF(ISBLANK(FromEvoM!AL192),\"\",FromEvoM!AL192)","v":""},{"$f":"IF(ISBLANK(FromEvoM!A192),\"\",IF(AND(AF192=\"y\",AI192=1),\"Y\",\"N\"))","v":""},{"$f":"IF(ISBLANK(FromEvoM!A192),\"\",IF(FromEvoM!AS192=\"Yes\",2,1))","v":""},{"$f":"IF(FromEvoM!W192=1,\"M\",IF(FromEvoM!W192=7,\"W\",\"\"))","v":""},{"$f":"IF(AJ192=\"Y\",0,IF(AJ192=\"N\",FromEvoM!AF192+FromEvoM!AT192,\"\"))","v":""},{"$f":"IF(AJ192=\"Y\",(FromEvoM!AE192+FromEvoM!AF192-FromEvoM!AT192),IF(AJ192=\"N\",FromEvoM!AE192,\"\"))","v":""}]
[{"$f":"IF(ISBLANK(FromEvoM!A193),\"\",Group_Code)","v":""},{"$f":"IF(ISBLANK(FromEvoM!A193),\"\",SUBSTITUTE(FromEvoM!A193,\" \",\"\"))","v":""},{"$f":"IF(ISBLANK(FromEvoM!C193),\"\",SUBSTITUTE(FromEvoM!G193,\" \",\"\"))","v":""},{"$f":"IF(ISBLANK(FromEvoM!D193),\"\",FromEvoM!B193)","v":""},{"$f":"IF(ISBLANK(FromEvoM!D193),\"\",FromEvoM!D193)","v":""},{"$f":"IF(ISBLANK(FromEvoM!C193),\"\",FromEvoM!C193)","v":""},{"$f":"REPLACE(FromEvoM!F193,2,6, )","v":""},{"$f":"IF(ISNUMBER(FromEvoM!E193),FromEvoM!E193,\"\")","v":""},{"$f":"IF(ISBLANK(FromEvoM!I193),\"\",FromEvoM!I193)","v":""},{"$f":"IF(ISBLANK(FromEvoM!J193),\"\",FromEvoM!J193)","v":""},{"$f":"IF(ISBLANK(FromEvoM!K193),\"\",FromEvoM!K193)","v":""},{"$f":"IF(ISBLANK(FromEvoM!L193),\"\",FromEvoM!L193)","v":""},{"$f":"IF(ISBLANK(FromEvoM!M193),\"\",FromEvoM!M193)","v":""},{"$f":"IF(ISBLANK(FromEvoM!P193),\"\",FromEvoM!P193)","v":""},null,{"$f":"IF(ISNUMBER(FromEvoM!X193),FromEvoM!X193,\"\")","v":""},{"$f":"IF(ISNUMBER(FromEvoM!AB193),FromEvoM!AB193,\"\")","v":""},{"$f":"IF(ISNUMBER(FromEvoM!AA193),FromEvoM!AA193,\"\")","v":""},null,"","",null,null,{"$f":"IF(FromEvoM!W193=1,(FromEvoM!AB193*12),IF(FromEvoM!W193=7,(FromEvoM!AR193),\"\"))","v":""},null,null,{"$f":"IF(ISBLANK(FromEvoM!A193),\"\",IF(FromEvoM!AK193=\"y\",\"Y\",\"N\"))","v":""},{"$f":"IF(ISBLANK(FromEvoM!A193),\"\",Category_ID)","v":""},null,null,null,{"$f":"IF(ISBLANK(FromEvoM!AK193),\"\",FromEvoM!AK193)","v":""},{"$f":"IF(ISBLANK(FromEvoM!AM193),\"\",FromEvoM!AM193)","v":""},{"$f":"IF(ISBLANK(FromEvoM!AN193),\"\",FromEvoM!AN193)","v":""},{"$f":"IF(ISBLANK(FromEvoM!AL193),\"\",FromEvoM!AL193)","v":""},{"$f":"IF(ISBLANK(FromEvoM!A193),\"\",IF(AND(AF193=\"y\",AI193=1),\"Y\",\"N\"))","v":""},{"$f":"IF(ISBLANK(FromEvoM!A193),\"\",IF(FromEvoM!AS193=\"Yes\",2,1))","v":""},{"$f":"IF(FromEvoM!W193=1,\"M\",IF(FromEvoM!W193=7,\"W\",\"\"))","v":""},{"$f":"IF(AJ193=\"Y\",0,IF(AJ193=\"N\",FromEvoM!AF193+FromEvoM!AT193,\"\"))","v":""},{"$f":"IF(AJ193=\"Y\",(FromEvoM!AE193+FromEvoM!AF193-FromEvoM!AT193),IF(AJ193=\"N\",FromEvoM!AE193,\"\"))","v":""}]
[{"$f":"IF(ISBLANK(FromEvoM!A194),\"\",Group_Code)","v":""},{"$f":"IF(ISBLANK(FromEvoM!A194),\"\",SUBSTITUTE(FromEvoM!A194,\" \",\"\"))","v":""},{"$f":"IF(ISBLANK(FromEvoM!C194),\"\",SUBSTITUTE(FromEvoM!G194,\" \",\"\"))","v":""},{"$f":"IF(ISBLANK(FromEvoM!D194),\"\",FromEvoM!B194)","v":""},{"$f":"IF(ISBLANK(FromEvoM!D194),\"\",FromEvoM!D194)","v":""},{"$f":"IF(ISBLANK(FromEvoM!C194),\"\",FromEvoM!C194)","v":""},{"$f":"REPLACE(FromEvoM!F194,2,6, )","v":""},{"$f":"IF(ISNUMBER(FromEvoM!E194),FromEvoM!E194,\"\")","v":""},{"$f":"IF(ISBLANK(FromEvoM!I194),\"\",FromEvoM!I194)","v":""},{"$f":"IF(ISBLANK(FromEvoM!J194),\"\",FromEvoM!J194)","v":""},{"$f":"IF(ISBLANK(FromEvoM!K194),\"\",FromEvoM!K194)","v":""},{"$f":"IF(ISBLANK(FromEvoM!L194),\"\",FromEvoM!L194)","v":""},{"$f":"IF(ISBLANK(FromEvoM!M194),\"\",FromEvoM!M194)","v":""},{"$f":"IF(ISBLANK(FromEvoM!P194),\"\",FromEvoM!P194)","v":""},null,{"$f":"IF(ISNUMBER(FromEvoM!X194),FromEvoM!X194,\"\")","v":""},{"$f":"IF(ISNUMBER(FromEvoM!AB194),FromEvoM!AB194,\"\")","v":""},{"$f":"IF(ISNUMBER(FromEvoM!AA194),FromEvoM!AA194,\"\")","v":""},null,"","",null,null,{"$f":"IF(FromEvoM!W194=1,(FromEvoM!AB194*12),IF(FromEvoM!W194=7,(FromEvoM!AR194),\"\"))","v":""},null,null,{"$f":"IF(ISBLANK(FromEvoM!A194),\"\",IF(FromEvoM!AK194=\"y\",\"Y\",\"N\"))","v":""},{"$f":"IF(ISBLANK(FromEvoM!A194),\"\",Category_ID)","v":""},null,null,null,{"$f":"IF(ISBLANK(FromEvoM!AK194),\"\",FromEvoM!AK194)","v":""},{"$f":"IF(ISBLANK(FromEvoM!AM194),\"\",FromEvoM!AM194)","v":""},{"$f":"IF(ISBLANK(FromEvoM!AN194),\"\",FromEvoM!AN194)","v":""},{"$f":"IF(ISBLANK(FromEvoM!AL194),\"\",FromEvoM!AL194)","v":""},{"$f":"IF(ISBLANK(FromEvoM!A194),\"\",IF(AND(AF194=\"y\",AI194=1),\"Y\",\"N\"))","v":""},{"$f":"IF(ISBLANK(FromEvoM!A194),\"\",IF(FromEvoM!AS194=\"Yes\",2,1))","v":""},{"$f":"IF(FromEvoM!W194=1,\"M\",IF(FromEvoM!W194=7,\"W\",\"\"))","v":""},{"$f":"IF(AJ194=\"Y\",0,IF(AJ194=\"N\",FromEvoM!AF194+FromEvoM!AT194,\"\"))","v":""},{"$f":"IF(AJ194=\"Y\",(FromEvoM!AE194+FromEvoM!AF194-FromEvoM!AT194),IF(AJ194=\"N\",FromEvoM!AE194,\"\"))","v":""}]
[{"$f":"IF(ISBLANK(FromEvoM!A195),\"\",Group_Code)","v":""},{"$f":"IF(ISBLANK(FromEvoM!A195),\"\",SUBSTITUTE(FromEvoM!A195,\" \",\"\"))","v":""},{"$f":"IF(ISBLANK(FromEvoM!C195),\"\",SUBSTITUTE(FromEvoM!G195,\" \",\"\"))","v":""},{"$f":"IF(ISBLANK(FromEvoM!D195),\"\",FromEvoM!B195)","v":""},{"$f":"IF(ISBLANK(FromEvoM!D195),\"\",FromEvoM!D195)","v":""},{"$f":"IF(ISBLANK(FromEvoM!C195),\"\",FromEvoM!C195)","v":""},{"$f":"REPLACE(FromEvoM!F195,2,6, )","v":""},{"$f":"IF(ISNUMBER(FromEvoM!E195),FromEvoM!E195,\"\")","v":""},{"$f":"IF(ISBLANK(FromEvoM!I195),\"\",FromEvoM!I195)","v":""},{"$f":"IF(ISBLANK(FromEvoM!J195),\"\",FromEvoM!J195)","v":""},{"$f":"IF(ISBLANK(FromEvoM!K195),\"\",FromEvoM!K195)","v":""},{"$f":"IF(ISBLANK(FromEvoM!L195),\"\",FromEvoM!L195)","v":""},{"$f":"IF(ISBLANK(FromEvoM!M195),\"\",FromEvoM!M195)","v":""},{"$f":"IF(ISBLANK(FromEvoM!P195),\"\",FromEvoM!P195)","v":""},null,{"$f":"IF(ISNUMBER(FromEvoM!X195),FromEvoM!X195,\"\")","v":""},{"$f":"IF(ISNUMBER(FromEvoM!AB195),FromEvoM!AB195,\"\")","v":""},{"$f":"IF(ISNUMBER(FromEvoM!AA195),FromEvoM!AA195,\"\")","v":""},null,{"$f":"AM195","v":""},{"$f":"AN195","v":""},null,null,{"$f":"IF(FromEvoM!W195=1,(FromEvoM!AB195*12),IF(FromEvoM!W195=7,(FromEvoM!AR195),\"\"))","v":""},null,null,{"$f":"IF(ISBLANK(FromEvoM!A195),\"\",IF(FromEvoM!AK195=\"y\",\"Y\",\"N\"))","v":""},{"$f":"IF(ISBLANK(FromEvoM!A195),\"\",Category_ID)","v":""},null,null,null,{"$f":"IF(ISBLANK(FromEvoM!AK195),\"\",FromEvoM!AK195)","v":""},{"$f":"IF(ISBLANK(FromEvoM!AM195),\"\",FromEvoM!AM195)","v":""},{"$f":"IF(ISBLANK(FromEvoM!AN195),\"\",FromEvoM!AN195)","v":""},{"$f":"IF(ISBLANK(FromEvoM!AL195),\"\",FromEvoM!AL195)","v":""},{"$f":"IF(ISBLANK(FromEvoM!A195),\"\",IF(AND(AF195=\"y\",AI195=1),\"Y\",\"N\"))","v":""},{"$f":"IF(ISBLANK(FromEvoM!A195),\"\",IF(FromEvoM!AS195=\"Yes\",2,1))","v":""},{"$f":"IF(FromEvoM!W195=1,\"M\",IF(FromEvoM!W195=7,\"W\",\"\"))","v":""},{"$f":"IF(AJ195=\"Y\",0,IF(AJ195=\"N\",FromEvoM!AF195+FromEvoM!AT195,\"\"))","v":""},{"$f":"IF(AJ195=\"Y\",(FromEvoM!AE195+FromEvoM!AF195-FromEvoM!AT195),IF(AJ195=\"N\",FromEvoM!AE195,\"\"))","v":""}]
[{"$f":"IF(ISBLANK(FromEvoM!A196),\"\",Group_Code)","v":""},{"$f":"IF(ISBLANK(FromEvoM!A196),\"\",SUBSTITUTE(FromEvoM!A196,\" \",\"\"))","v":""},{"$f":"IF(ISBLANK(FromEvoM!C196),\"\",SUBSTITUTE(FromEvoM!G196,\" \",\"\"))","v":""},{"$f":"IF(ISBLANK(FromEvoM!D196),\"\",FromEvoM!B196)","v":""},{"$f":"IF(ISBLANK(FromEvoM!D196),\"\",FromEvoM!D196)","v":""},{"$f":"IF(ISBLANK(FromEvoM!C196),\"\",FromEvoM!C196)","v":""},{"$f":"REPLACE(FromEvoM!F196,2,6, )","v":""},{"$f":"IF(ISNUMBER(FromEvoM!E196),FromEvoM!E196,\"\")","v":""},{"$f":"IF(ISBLANK(FromEvoM!I196),\"\",FromEvoM!I196)","v":""},{"$f":"IF(ISBLANK(FromEvoM!J196),\"\",FromEvoM!J196)","v":""},{"$f":"IF(ISBLANK(FromEvoM!K196),\"\",FromEvoM!K196)","v":""},{"$f":"IF(ISBLANK(FromEvoM!L196),\"\",FromEvoM!L196)","v":""},{"$f":"IF(ISBLANK(FromEvoM!M196),\"\",FromEvoM!M196)","v":""},{"$f":"IF(ISBLANK(FromEvoM!P196),\"\",FromEvoM!P196)","v":""},null,{"$f":"IF(ISNUMBER(FromEvoM!X196),FromEvoM!X196,\"\")","v":""},{"$f":"IF(ISNUMBER(FromEvoM!AB196),FromEvoM!AB196,\"\")","v":""},{"$f":"IF(ISNUMBER(FromEvoM!AA196),FromEvoM!AA196,\"\")","v":""},null,"","",null,null,{"$f":"IF(FromEvoM!W196=1,(FromEvoM!AB196*12),IF(FromEvoM!W196=7,(FromEvoM!AR196),\"\"))","v":""},null,null,{"$f":"IF(ISBLANK(FromEvoM!A196),\"\",IF(FromEvoM!AK196=\"y\",\"Y\",\"N\"))","v":""},{"$f":"IF(ISBLANK(FromEvoM!A196),\"\",Category_ID)","v":""},null,null,null,{"$f":"IF(ISBLANK(FromEvoM!AK196),\"\",FromEvoM!AK196)","v":""},{"$f":"IF(ISBLANK(FromEvoM!AM196),\"\",FromEvoM!AM196)","v":""},{"$f":"IF(ISBLANK(FromEvoM!AN196),\"\",FromEvoM!AN196)","v":""},{"$f":"IF(ISBLANK(FromEvoM!AL196),\"\",FromEvoM!AL196)","v":""},{"$f":"IF(ISBLANK(FromEvoM!A196),\"\",IF(AND(AF196=\"y\",AI196=1),\"Y\",\"N\"))","v":""},{"$f":"IF(ISBLANK(FromEvoM!A196),\"\",IF(FromEvoM!AS196=\"Yes\",2,1))","v":""},{"$f":"IF(FromEvoM!W196=1,\"M\",IF(FromEvoM!W196=7,\"W\",\"\"))","v":""},{"$f":"IF(AJ196=\"Y\",0,IF(AJ196=\"N\",FromEvoM!AF196+FromEvoM!AT196,\"\"))","v":""},{"$f":"IF(AJ196=\"Y\",(FromEvoM!AE196+FromEvoM!AF196-FromEvoM!AT196),IF(AJ196=\"N\",FromEvoM!AE196,\"\"))","v":""}]
[{"$f":"IF(ISBLANK(FromEvoM!A197),\"\",Group_Code)","v":""},{"$f":"IF(ISBLANK(FromEvoM!A197),\"\",SUBSTITUTE(FromEvoM!A197,\" \",\"\"))","v":""},{"$f":"IF(ISBLANK(FromEvoM!C197),\"\",SUBSTITUTE(FromEvoM!G197,\" \",\"\"))","v":""},{"$f":"IF(ISBLANK(FromEvoM!D197),\"\",FromEvoM!B197)","v":""},{"$f":"IF(ISBLANK(FromEvoM!D197),\"\",FromEvoM!D197)","v":""},{"$f":"IF(ISBLANK(FromEvoM!C197),\"\",FromEvoM!C197)","v":""},{"$f":"REPLACE(FromEvoM!F197,2,6, )","v":""},{"$f":"IF(ISNUMBER(FromEvoM!E197),FromEvoM!E197,\"\")","v":""},{"$f":"IF(ISBLANK(FromEvoM!I197),\"\",FromEvoM!I197)","v":""},{"$f":"IF(ISBLANK(FromEvoM!J197),\"\",FromEvoM!J197)","v":""},{"$f":"IF(ISBLANK(FromEvoM!K197),\"\",FromEvoM!K197)","v":""},{"$f":"IF(ISBLANK(FromEvoM!L197),\"\",FromEvoM!L197)","v":""},{"$f":"IF(ISBLANK(FromEvoM!M197),\"\",FromEvoM!M197)","v":""},{"$f":"IF(ISBLANK(FromEvoM!P197),\"\",FromEvoM!P197)","v":""},null,{"$f":"IF(ISNUMBER(FromEvoM!X197),FromEvoM!X197,\"\")","v":""},{"$f":"IF(ISNUMBER(FromEvoM!AB197),FromEvoM!AB197,\"\")","v":""},{"$f":"IF(ISNUMBER(FromEvoM!AA197),FromEvoM!AA197,\"\")","v":""},null,"","",null,null,{"$f":"IF(FromEvoM!W197=1,(FromEvoM!AB197*12),IF(FromEvoM!W197=7,(FromEvoM!AR197),\"\"))","v":""},null,null,{"$f":"IF(ISBLANK(FromEvoM!A197),\"\",IF(FromEvoM!AK197=\"y\",\"Y\",\"N\"))","v":""},{"$f":"IF(ISBLANK(FromEvoM!A197),\"\",Category_ID)","v":""},null,null,null,{"$f":"IF(ISBLANK(FromEvoM!AK197),\"\",FromEvoM!AK197)","v":""},{"$f":"IF(ISBLANK(FromEvoM!AM197),\"\",FromEvoM!AM197)","v":""},{"$f":"IF(ISBLANK(FromEvoM!AN197),\"\",FromEvoM!AN197)","v":""},{"$f":"IF(ISBLANK(FromEvoM!AL197),\"\",FromEvoM!AL197)","v":""},{"$f":"IF(ISBLANK(FromEvoM!A197),\"\",IF(AND(AF197=\"y\",AI197=1),\"Y\",\"N\"))","v":""},{"$f":"IF(ISBLANK(FromEvoM!A197),\"\",IF(FromEvoM!AS197=\"Yes\",2,1))","v":""},{"$f":"IF(FromEvoM!W197=1,\"M\",IF(FromEvoM!W197=7,\"W\",\"\"))","v":""},{"$f":"IF(AJ197=\"Y\",0,IF(AJ197=\"N\",FromEvoM!AF197+FromEvoM!AT197,\"\"))","v":""},{"$f":"IF(AJ197=\"Y\",(FromEvoM!AE197+FromEvoM!AF197-FromEvoM!AT197),IF(AJ197=\"N\",FromEvoM!AE197,\"\"))","v":""}]
[{"$f":"IF(ISBLANK(FromEvoM!A198),\"\",Group_Code)","v":""},{"$f":"IF(ISBLANK(FromEvoM!A198),\"\",SUBSTITUTE(FromEvoM!A198,\" \",\"\"))","v":""},{"$f":"IF(ISBLANK(FromEvoM!C198),\"\",SUBSTITUTE(FromEvoM!G198,\" \",\"\"))","v":""},{"$f":"IF(ISBLANK(FromEvoM!D198),\"\",FromEvoM!B198)","v":""},{"$f":"IF(ISBLANK(FromEvoM!D198),\"\",FromEvoM!D198)","v":""},{"$f":"IF(ISBLANK(FromEvoM!C198),\"\",FromEvoM!C198)","v":""},{"$f":"REPLACE(FromEvoM!F198,2,6, )","v":""},{"$f":"IF(ISNUMBER(FromEvoM!E198),FromEvoM!E198,\"\")","v":""},{"$f":"IF(ISBLANK(FromEvoM!I198),\"\",FromEvoM!I198)","v":""},{"$f":"IF(ISBLANK(FromEvoM!J198),\"\",FromEvoM!J198)","v":""},{"$f":"IF(ISBLANK(FromEvoM!K198),\"\",FromEvoM!K198)","v":""},{"$f":"IF(ISBLANK(FromEvoM!L198),\"\",FromEvoM!L198)","v":""},{"$f":"IF(ISBLANK(FromEvoM!M198),\"\",FromEvoM!M198)","v":""},{"$f":"IF(ISBLANK(FromEvoM!P198),\"\",FromEvoM!P198)","v":""},null,{"$f":"IF(ISNUMBER(FromEvoM!X198),FromEvoM!X198,\"\")","v":""},{"$f":"IF(ISNUMBER(FromEvoM!AB198),FromEvoM!AB198,\"\")","v":""},{"$f":"IF(ISNUMBER(FromEvoM!AA198),FromEvoM!AA198,\"\")","v":""},null,"","",null,null,{"$f":"IF(FromEvoM!W198=1,(FromEvoM!AB198*12),IF(FromEvoM!W198=7,(FromEvoM!AR198),\"\"))","v":""},null,null,{"$f":"IF(ISBLANK(FromEvoM!A198),\"\",IF(FromEvoM!AK198=\"y\",\"Y\",\"N\"))","v":""},{"$f":"IF(ISBLANK(FromEvoM!A198),\"\",Category_ID)","v":""},null,null,null,{"$f":"IF(ISBLANK(FromEvoM!AK198),\"\",FromEvoM!AK198)","v":""},{"$f":"IF(ISBLANK(FromEvoM!AM198),\"\",FromEvoM!AM198)","v":""},{"$f":"IF(ISBLANK(FromEvoM!AN198),\"\",FromEvoM!AN198)","v":""},{"$f":"IF(ISBLANK(FromEvoM!AL198),\"\",FromEvoM!AL198)","v":""},{"$f":"IF(ISBLANK(FromEvoM!A198),\"\",IF(AND(AF198=\"y\",AI198=1),\"Y\",\"N\"))","v":""},{"$f":"IF(ISBLANK(FromEvoM!A198),\"\",IF(FromEvoM!AS198=\"Yes\",2,1))","v":""},{"$f":"IF(FromEvoM!W198=1,\"M\",IF(FromEvoM!W198=7,\"W\",\"\"))","v":""},{"$f":"IF(AJ198=\"Y\",0,IF(AJ198=\"N\",FromEvoM!AF198+FromEvoM!AT198,\"\"))","v":""},{"$f":"IF(AJ198=\"Y\",(FromEvoM!AE198+FromEvoM!AF198-FromEvoM!AT198),IF(AJ198=\"N\",FromEvoM!AE198,\"\"))","v":""}]
[{"$f":"IF(ISBLANK(FromEvoM!A199),\"\",Group_Code)","v":""},{"$f":"IF(ISBLANK(FromEvoM!A199),\"\",SUBSTITUTE(FromEvoM!A199,\" \",\"\"))","v":""},{"$f":"IF(ISBLANK(FromEvoM!C199),\"\",SUBSTITUTE(FromEvoM!G199,\" \",\"\"))","v":""},{"$f":"IF(ISBLANK(FromEvoM!D199),\"\",FromEvoM!B199)","v":""},{"$f":"IF(ISBLANK(FromEvoM!D199),\"\",FromEvoM!D199)","v":""},{"$f":"IF(ISBLANK(FromEvoM!C199),\"\",FromEvoM!C199)","v":""},{"$f":"REPLACE(FromEvoM!F199,2,6, )","v":""},{"$f":"IF(ISNUMBER(FromEvoM!E199),FromEvoM!E199,\"\")","v":""},{"$f":"IF(ISBLANK(FromEvoM!I199),\"\",FromEvoM!I199)","v":""},{"$f":"IF(ISBLANK(FromEvoM!J199),\"\",FromEvoM!J199)","v":""},{"$f":"IF(ISBLANK(FromEvoM!K199),\"\",FromEvoM!K199)","v":""},{"$f":"IF(ISBLANK(FromEvoM!L199),\"\",FromEvoM!L199)","v":""},{"$f":"IF(ISBLANK(FromEvoM!M199),\"\",FromEvoM!M199)","v":""},{"$f":"IF(ISBLANK(FromEvoM!P199),\"\",FromEvoM!P199)","v":""},null,{"$f":"IF(ISNUMBER(FromEvoM!X199),FromEvoM!X199,\"\")","v":""},{"$f":"IF(ISNUMBER(FromEvoM!AB199),FromEvoM!AB199,\"\")","v":""},{"$f":"IF(ISNUMBER(FromEvoM!AA199),FromEvoM!AA199,\"\")","v":""},null,"","",null,null,{"$f":"IF(FromEvoM!W199=1,(FromEvoM!AB199*12),IF(FromEvoM!W199=7,(FromEvoM!AR199),\"\"))","v":""},null,null,{"$f":"IF(ISBLANK(FromEvoM!A199),\"\",IF(FromEvoM!AK199=\"y\",\"Y\",\"N\"))","v":""},{"$f":"IF(ISBLANK(FromEvoM!A199),\"\",Category_ID)","v":""},null,null,null,{"$f":"IF(ISBLANK(FromEvoM!AK199),\"\",FromEvoM!AK199)","v":""},{"$f":"IF(ISBLANK(FromEvoM!AM199),\"\",FromEvoM!AM199)","v":""},{"$f":"IF(ISBLANK(FromEvoM!AN199),\"\",FromEvoM!AN199)","v":""},{"$f":"IF(ISBLANK(FromEvoM!AL199),\"\",FromEvoM!AL199)","v":""},{"$f":"IF(ISBLANK(FromEvoM!A199),\"\",IF(AND(AF199=\"y\",AI199=1),\"Y\",\"N\"))","v":""},{"$f":"IF(ISBLANK(FromEvoM!A199),\"\",IF(FromEvoM!AS199=\"Yes\",2,1))","v":""},{"$f":"IF(FromEvoM!W199=1,\"M\",IF(FromEvoM!W199=7,\"W\",\"\"))","v":""},{"$f":"IF(AJ199=\"Y\",0,IF(AJ199=\"N\",FromEvoM!AF199+FromEvoM!AT199,\"\"))","v":""},{"$f":"IF(AJ199=\"Y\",(FromEvoM!AE199+FromEvoM!AF199-FromEvoM!AT199),IF(AJ199=\"N\",FromEvoM!AE199,\"\"))","v":""}]
[{"$f":"IF(ISBLANK(FromEvoM!A200),\"\",Group_Code)","v":""},{"$f":"IF(ISBLANK(FromEvoM!A200),\"\",SUBSTITUTE(FromEvoM!A200,\" \",\"\"))","v":""},{"$f":"IF(ISBLANK(FromEvoM!C200),\"\",SUBSTITUTE(FromEvoM!G200,\" \",\"\"))","v":""},{"$f":"IF(ISBLANK(FromEvoM!D200),\"\",FromEvoM!B200)","v":""},{"$f":"IF(ISBLANK(FromEvoM!D200),\"\",FromEvoM!D200)","v":""},{"$f":"IF(ISBLANK(FromEvoM!C200),\"\",FromEvoM!C200)","v":""},{"$f":"REPLACE(FromEvoM!F200,2,6, )","v":""},{"$f":"IF(ISNUMBER(FromEvoM!E200),FromEvoM!E200,\"\")","v":""},{"$f":"IF(ISBLANK(FromEvoM!I200),\"\",FromEvoM!I200)","v":""},{"$f":"IF(ISBLANK(FromEvoM!J200),\"\",FromEvoM!J200)","v":""},{"$f":"IF(ISBLANK(FromEvoM!K200),\"\",FromEvoM!K200)","v":""},{"$f":"IF(ISBLANK(FromEvoM!L200),\"\",FromEvoM!L200)","v":""},{"$f":"IF(ISBLANK(FromEvoM!M200),\"\",FromEvoM!M200)","v":""},{"$f":"IF(ISBLANK(FromEvoM!P200),\"\",FromEvoM!P200)","v":""},null,{"$f":"IF(ISNUMBER(FromEvoM!X200),FromEvoM!X200,\"\")","v":""},{"$f":"IF(ISNUMBER(FromEvoM!AB200),FromEvoM!AB200,\"\")","v":""},{"$f":"IF(ISNUMBER(FromEvoM!AA200),FromEvoM!AA200,\"\")","v":""},null,"","",null,null,{"$f":"IF(FromEvoM!W200=1,(FromEvoM!AB200*12),IF(FromEvoM!W200=7,(FromEvoM!AR200),\"\"))","v":""},null,null,{"$f":"IF(ISBLANK(FromEvoM!A200),\"\",IF(FromEvoM!AK200=\"y\",\"Y\",\"N\"))","v":""},{"$f":"IF(ISBLANK(FromEvoM!A200),\"\",Category_ID)","v":""},null,null,null,{"$f":"IF(ISBLANK(FromEvoM!AK200),\"\",FromEvoM!AK200)","v":""},{"$f":"IF(ISBLANK(FromEvoM!AM200),\"\",FromEvoM!AM200)","v":""},{"$f":"IF(ISBLANK(FromEvoM!AN200),\"\",FromEvoM!AN200)","v":""},{"$f":"IF(ISBLANK(FromEvoM!AL200),\"\",FromEvoM!AL200)","v":""},{"$f":"IF(ISBLANK(FromEvoM!A200),\"\",IF(AND(AF200=\"y\",AI200=1),\"Y\",\"N\"))","v":""},{"$f":"IF(ISBLANK(FromEvoM!A200),\"\",IF(FromEvoM!AS200=\"Yes\",2,1))","v":""},{"$f":"IF(FromEvoM!W200=1,\"M\",IF(FromEvoM!W200=7,\"W\",\"\"))","v":""},{"$f":"IF(AJ200=\"Y\",0,IF(AJ200=\"N\",FromEvoM!AF200+FromEvoM!AT200,\"\"))","v":""},{"$f":"IF(AJ200=\"Y\",(FromEvoM!AE200+FromEvoM!AF200-FromEvoM!AT200),IF(AJ200=\"N\",FromEvoM!AE200,\"\"))","v":""}]
[{"$f":"IF(ISBLANK(FromEvoM!A201),\"\",Group_Code)","v":""},{"$f":"IF(ISBLANK(FromEvoM!A201),\"\",SUBSTITUTE(FromEvoM!A201,\" \",\"\"))","v":""},{"$f":"IF(ISBLANK(FromEvoM!C201),\"\",SUBSTITUTE(FromEvoM!G201,\" \",\"\"))","v":""},{"$f":"IF(ISBLANK(FromEvoM!D201),\"\",FromEvoM!B201)","v":""},{"$f":"IF(ISBLANK(FromEvoM!D201),\"\",FromEvoM!D201)","v":""},{"$f":"IF(ISBLANK(FromEvoM!C201),\"\",FromEvoM!C201)","v":""},{"$f":"REPLACE(FromEvoM!F201,2,6, )","v":""},{"$f":"IF(ISNUMBER(FromEvoM!E201),FromEvoM!E201,\"\")","v":""},{"$f":"IF(ISBLANK(FromEvoM!I201),\"\",FromEvoM!I201)","v":""},{"$f":"IF(ISBLANK(FromEvoM!J201),\"\",FromEvoM!J201)","v":""},{"$f":"IF(ISBLANK(FromEvoM!K201),\"\",FromEvoM!K201)","v":""},{"$f":"IF(ISBLANK(FromEvoM!L201),\"\",FromEvoM!L201)","v":""},{"$f":"IF(ISBLANK(FromEvoM!M201),\"\",FromEvoM!M201)","v":""},{"$f":"IF(ISBLANK(FromEvoM!P201),\"\",FromEvoM!P201)","v":""},null,{"$f":"IF(ISNUMBER(FromEvoM!X201),FromEvoM!X201,\"\")","v":""},{"$f":"IF(ISNUMBER(FromEvoM!AB201),FromEvoM!AB201,\"\")","v":""},{"$f":"IF(ISNUMBER(FromEvoM!AA201),FromEvoM!AA201,\"\")","v":""},null,"","",null,null,{"$f":"IF(FromEvoM!W201=1,(FromEvoM!AB201*12),IF(FromEvoM!W201=7,(FromEvoM!AR201),\"\"))","v":""},null,null,{"$f":"IF(ISBLANK(FromEvoM!A201),\"\",IF(FromEvoM!AK201=\"y\",\"Y\",\"N\"))","v":""},{"$f":"IF(ISBLANK(FromEvoM!A201),\"\",Category_ID)","v":""},null,null,null,{"$f":"IF(ISBLANK(FromEvoM!AK201),\"\",FromEvoM!AK201)","v":""},{"$f":"IF(ISBLANK(FromEvoM!AM201),\"\",FromEvoM!AM201)","v":""},{"$f":"IF(ISBLANK(FromEvoM!AN201),\"\",FromEvoM!AN201)","v":""},{"$f":"IF(ISBLANK(FromEvoM!AL201),\"\",FromEvoM!AL201)","v":""},{"$f":"IF(ISBLANK(FromEvoM!A201),\"\",IF(AND(AF201=\"y\",AI201=1),\"Y\",\"N\"))","v":""},{"$f":"IF(ISBLANK(FromEvoM!A201),\"\",IF(FromEvoM!AS201=\"Yes\",2,1))","v":""},{"$f":"IF(FromEvoM!W201=1,\"M\",IF(FromEvoM!W201=7,\"W\",\"\"))","v":""},{"$f":"IF(AJ201=\"Y\",0,IF(AJ201=\"N\",FromEvoM!AF201+FromEvoM!AT201,\"\"))","v":""},{"$f":"IF(AJ201=\"Y\",(FromEvoM!AE201+FromEvoM!AF201-FromEvoM!AT201),IF(AJ201=\"N\",FromEvoM!AE201,\"\"))","v":""}]
[{"$f":"IF(ISBLANK(FromEvoM!A202),\"\",Group_Code)","v":""},{"$f":"IF(ISBLANK(FromEvoM!A202),\"\",SUBSTITUTE(FromEvoM!A202,\" \",\"\"))","v":""},{"$f":"IF(ISBLANK(FromEvoM!C202),\"\",SUBSTITUTE(FromEvoM!G202,\" \",\"\"))","v":""},{"$f":"IF(ISBLANK(FromEvoM!D202),\"\",FromEvoM!B202)","v":""},{"$f":"IF(ISBLANK(FromEvoM!D202),\"\",FromEvoM!D202)","v":""},{"$f":"IF(ISBLANK(FromEvoM!C202),\"\",FromEvoM!C202)","v":""},{"$f":"REPLACE(FromEvoM!F202,2,6, )","v":""},{"$f":"IF(ISNUMBER(FromEvoM!E202),FromEvoM!E202,\"\")","v":""},{"$f":"IF(ISBLANK(FromEvoM!I202),\"\",FromEvoM!I202)","v":""},{"$f":"IF(ISBLANK(FromEvoM!J202),\"\",FromEvoM!J202)","v":""},{"$f":"IF(ISBLANK(FromEvoM!K202),\"\",FromEvoM!K202)","v":""},{"$f":"IF(ISBLANK(FromEvoM!L202),\"\",FromEvoM!L202)","v":""},{"$f":"IF(ISBLANK(FromEvoM!M202),\"\",FromEvoM!M202)","v":""},{"$f":"IF(ISBLANK(FromEvoM!P202),\"\",FromEvoM!P202)","v":""},null,{"$f":"IF(ISNUMBER(FromEvoM!X202),FromEvoM!X202,\"\")","v":""},{"$f":"IF(ISNUMBER(FromEvoM!AB202),FromEvoM!AB202,\"\")","v":""},{"$f":"IF(ISNUMBER(FromEvoM!AA202),FromEvoM!AA202,\"\")","v":""},null,"","",null,null,{"$f":"IF(FromEvoM!W202=1,(FromEvoM!AB202*12),IF(FromEvoM!W202=7,(FromEvoM!AR202),\"\"))","v":""},null,null,{"$f":"IF(ISBLANK(FromEvoM!A202),\"\",IF(FromEvoM!AK202=\"y\",\"Y\",\"N\"))","v":""},{"$f":"IF(ISBLANK(FromEvoM!A202),\"\",Category_ID)","v":""},null,null,null,{"$f":"IF(ISBLANK(FromEvoM!AK202),\"\",FromEvoM!AK202)","v":""},{"$f":"IF(ISBLANK(FromEvoM!AM202),\"\",FromEvoM!AM202)","v":""},{"$f":"IF(ISBLANK(FromEvoM!AN202),\"\",FromEvoM!AN202)","v":""},{"$f":"IF(ISBLANK(FromEvoM!AL202),\"\",FromEvoM!AL202)","v":""},{"$f":"IF(ISBLANK(FromEvoM!A202),\"\",IF(AND(AF202=\"y\",AI202=1),\"Y\",\"N\"))","v":""},{"$f":"IF(ISBLANK(FromEvoM!A202),\"\",IF(FromEvoM!AS202=\"Yes\",2,1))","v":""},{"$f":"IF(FromEvoM!W202=1,\"M\",IF(FromEvoM!W202=7,\"W\",\"\"))","v":""},{"$f":"IF(AJ202=\"Y\",0,IF(AJ202=\"N\",FromEvoM!AF202+FromEvoM!AT202,\"\"))","v":""},{"$f":"IF(AJ202=\"Y\",(FromEvoM!AE202+FromEvoM!AF202-FromEvoM!AT202),IF(AJ202=\"N\",FromEvoM!AE202,\"\"))","v":""}]
[{"$f":"IF(ISBLANK(FromEvoM!A203),\"\",Group_Code)","v":""},{"$f":"IF(ISBLANK(FromEvoM!A203),\"\",SUBSTITUTE(FromEvoM!A203,\" \",\"\"))","v":""},{"$f":"IF(ISBLANK(FromEvoM!C203),\"\",SUBSTITUTE(FromEvoM!G203,\" \",\"\"))","v":""},{"$f":"IF(ISBLANK(FromEvoM!D203),\"\",FromEvoM!B203)","v":""},{"$f":"IF(ISBLANK(FromEvoM!D203),\"\",FromEvoM!D203)","v":""},{"$f":"IF(ISBLANK(FromEvoM!C203),\"\",FromEvoM!C203)","v":""},{"$f":"REPLACE(FromEvoM!F203,2,6, )","v":""},{"$f":"IF(ISNUMBER(FromEvoM!E203),FromEvoM!E203,\"\")","v":""},{"$f":"IF(ISBLANK(FromEvoM!I203),\"\",FromEvoM!I203)","v":""},{"$f":"IF(ISBLANK(FromEvoM!J203),\"\",FromEvoM!J203)","v":""},{"$f":"IF(ISBLANK(FromEvoM!K203),\"\",FromEvoM!K203)","v":""},{"$f":"IF(ISBLANK(FromEvoM!L203),\"\",FromEvoM!L203)","v":""},{"$f":"IF(ISBLANK(FromEvoM!M203),\"\",FromEvoM!M203)","v":""},{"$f":"IF(ISBLANK(FromEvoM!P203),\"\",FromEvoM!P203)","v":""},null,{"$f":"IF(ISNUMBER(FromEvoM!X203),FromEvoM!X203,\"\")","v":""},{"$f":"IF(ISNUMBER(FromEvoM!AB203),FromEvoM!AB203,\"\")","v":""},{"$f":"IF(ISNUMBER(FromEvoM!AA203),FromEvoM!AA203,\"\")","v":""},null,"","",null,null,{"$f":"IF(FromEvoM!W203=1,(FromEvoM!AB203*12),IF(FromEvoM!W203=7,(FromEvoM!AR203),\"\"))","v":""},null,null,{"$f":"IF(ISBLANK(FromEvoM!A203),\"\",IF(FromEvoM!AK203=\"y\",\"Y\",\"N\"))","v":""},{"$f":"IF(ISBLANK(FromEvoM!A203),\"\",Category_ID)","v":""},null,null,null,{"$f":"IF(ISBLANK(FromEvoM!AK203),\"\",FromEvoM!AK203)","v":""},{"$f":"IF(ISBLANK(FromEvoM!AM203),\"\",FromEvoM!AM203)","v":""},{"$f":"IF(ISBLANK(FromEvoM!AN203),\"\",FromEvoM!AN203)","v":""},{"$f":"IF(ISBLANK(FromEvoM!AL203),\"\",FromEvoM!AL203)","v":""},{"$f":"IF(ISBLANK(FromEvoM!A203),\"\",IF(AND(AF203=\"y\",AI203=1),\"Y\",\"N\"))","v":""},{"$f":"IF(ISBLANK(FromEvoM!A203),\"\",IF(FromEvoM!AS203=\"Yes\",2,1))","v":""},{"$f":"IF(FromEvoM!W203=1,\"M\",IF(FromEvoM!W203=7,\"W\",\"\"))","v":""},{"$f":"IF(AJ203=\"Y\",0,IF(AJ203=\"N\",FromEvoM!AF203+FromEvoM!AT203,\"\"))","v":""},{"$f":"IF(AJ203=\"Y\",(FromEvoM!AE203+FromEvoM!AF203-FromEvoM!AT203),IF(AJ203=\"N\",FromEvoM!AE203,\"\"))","v":""}]
[{"$f":"IF(ISBLANK(FromEvoM!A204),\"\",Group_Code)","v":""},{"$f":"IF(ISBLANK(FromEvoM!A204),\"\",SUBSTITUTE(FromEvoM!A204,\" \",\"\"))","v":""},{"$f":"IF(ISBLANK(FromEvoM!C204),\"\",SUBSTITUTE(FromEvoM!G204,\" \",\"\"))","v":""},{"$f":"IF(ISBLANK(FromEvoM!D204),\"\",FromEvoM!B204)","v":""},{"$f":"IF(ISBLANK(FromEvoM!D204),\"\",FromEvoM!D204)","v":""},{"$f":"IF(ISBLANK(FromEvoM!C204),\"\",FromEvoM!C204)","v":""},{"$f":"REPLACE(FromEvoM!F204,2,6, )","v":""},{"$f":"IF(ISNUMBER(FromEvoM!E204),FromEvoM!E204,\"\")","v":""},{"$f":"IF(ISBLANK(FromEvoM!I204),\"\",FromEvoM!I204)","v":""},{"$f":"IF(ISBLANK(FromEvoM!J204),\"\",FromEvoM!J204)","v":""},{"$f":"IF(ISBLANK(FromEvoM!K204),\"\",FromEvoM!K204)","v":""},{"$f":"IF(ISBLANK(FromEvoM!L204),\"\",FromEvoM!L204)","v":""},{"$f":"IF(ISBLANK(FromEvoM!M204),\"\",FromEvoM!M204)","v":""},{"$f":"IF(ISBLANK(FromEvoM!P204),\"\",FromEvoM!P204)","v":""},null,{"$f":"IF(ISNUMBER(FromEvoM!X204),FromEvoM!X204,\"\")","v":""},{"$f":"IF(ISNUMBER(FromEvoM!AB204),FromEvoM!AB204,\"\")","v":""},{"$f":"IF(ISNUMBER(FromEvoM!AA204),FromEvoM!AA204,\"\")","v":""},null,"","",null,null,{"$f":"IF(FromEvoM!W204=1,(FromEvoM!AB204*12),IF(FromEvoM!W204=7,(FromEvoM!AR204),\"\"))","v":""},null,null,{"$f":"IF(ISBLANK(FromEvoM!A204),\"\",IF(FromEvoM!AK204=\"y\",\"Y\",\"N\"))","v":""},{"$f":"IF(ISBLANK(FromEvoM!A204),\"\",Category_ID)","v":""},null,null,null,{"$f":"IF(ISBLANK(FromEvoM!AK204),\"\",FromEvoM!AK204)","v":""},{"$f":"IF(ISBLANK(FromEvoM!AM204),\"\",FromEvoM!AM204)","v":""},{"$f":"IF(ISBLANK(FromEvoM!AN204),\"\",FromEvoM!AN204)","v":""},{"$f":"IF(ISBLANK(FromEvoM!AL204),\"\",FromEvoM!AL204)","v":""},{"$f":"IF(ISBLANK(FromEvoM!A204),\"\",IF(AND(AF204=\"y\",AI204=1),\"Y\",\"N\"))","v":""},{"$f":"IF(ISBLANK(FromEvoM!A204),\"\",IF(FromEvoM!AS204=\"Yes\",2,1))","v":""},{"$f":"IF(FromEvoM!W204=1,\"M\",IF(FromEvoM!W204=7,\"W\",\"\"))","v":""},{"$f":"IF(AJ204=\"Y\",0,IF(AJ204=\"N\",FromEvoM!AF204+FromEvoM!AT204,\"\"))","v":""},{"$f":"IF(AJ204=\"Y\",(FromEvoM!AE204+FromEvoM!AF204-FromEvoM!AT204),IF(AJ204=\"N\",FromEvoM!AE204,\"\"))","v":""}]
[{"$f":"IF(ISBLANK(FromEvoM!A205),\"\",Group_Code)","v":""},{"$f":"IF(ISBLANK(FromEvoM!A205),\"\",SUBSTITUTE(FromEvoM!A205,\" \",\"\"))","v":""},{"$f":"IF(ISBLANK(FromEvoM!C205),\"\",SUBSTITUTE(FromEvoM!G205,\" \",\"\"))","v":""},{"$f":"IF(ISBLANK(FromEvoM!D205),\"\",FromEvoM!B205)","v":""},{"$f":"IF(ISBLANK(FromEvoM!D205),\"\",FromEvoM!D205)","v":""},{"$f":"IF(ISBLANK(FromEvoM!C205),\"\",FromEvoM!C205)","v":""},{"$f":"REPLACE(FromEvoM!F205,2,6, )","v":""},{"$f":"IF(ISNUMBER(FromEvoM!E205),FromEvoM!E205,\"\")","v":""},{"$f":"IF(ISBLANK(FromEvoM!I205),\"\",FromEvoM!I205)","v":""},{"$f":"IF(ISBLANK(FromEvoM!J205),\"\",FromEvoM!J205)","v":""},{"$f":"IF(ISBLANK(FromEvoM!K205),\"\",FromEvoM!K205)","v":""},{"$f":"IF(ISBLANK(FromEvoM!L205),\"\",FromEvoM!L205)","v":""},{"$f":"IF(ISBLANK(FromEvoM!M205),\"\",FromEvoM!M205)","v":""},{"$f":"IF(ISBLANK(FromEvoM!P205),\"\",FromEvoM!P205)","v":""},null,{"$f":"IF(ISNUMBER(FromEvoM!X205),FromEvoM!X205,\"\")","v":""},{"$f":"IF(ISNUMBER(FromEvoM!AB205),FromEvoM!AB205,\"\")","v":""},{"$f":"IF(ISNUMBER(FromEvoM!AA205),FromEvoM!AA205,\"\")","v":""},null,"","",null,null,{"$f":"IF(FromEvoM!W205=1,(FromEvoM!AB205*12),IF(FromEvoM!W205=7,(FromEvoM!AR205),\"\"))","v":""},null,null,{"$f":"IF(ISBLANK(FromEvoM!A205),\"\",IF(FromEvoM!AK205=\"y\",\"Y\",\"N\"))","v":""},{"$f":"IF(ISBLANK(FromEvoM!A205),\"\",Category_ID)","v":""},null,null,null,{"$f":"IF(ISBLANK(FromEvoM!AK205),\"\",FromEvoM!AK205)","v":""},{"$f":"IF(ISBLANK(FromEvoM!AM205),\"\",FromEvoM!AM205)","v":""},{"$f":"IF(ISBLANK(FromEvoM!AN205),\"\",FromEvoM!AN205)","v":""},{"$f":"IF(ISBLANK(FromEvoM!AL205),\"\",FromEvoM!AL205)","v":""},{"$f":"IF(ISBLANK(FromEvoM!A205),\"\",IF(AND(AF205=\"y\",AI205=1),\"Y\",\"N\"))","v":""},{"$f":"IF(ISBLANK(FromEvoM!A205),\"\",IF(FromEvoM!AS205=\"Yes\",2,1))","v":""},{"$f":"IF(FromEvoM!W205=1,\"M\",IF(FromEvoM!W205=7,\"W\",\"\"))","v":""},{"$f":"IF(AJ205=\"Y\",0,IF(AJ205=\"N\",FromEvoM!AF205+FromEvoM!AT205,\"\"))","v":""},{"$f":"IF(AJ205=\"Y\",(FromEvoM!AE205+FromEvoM!AF205-FromEvoM!AT205),IF(AJ205=\"N\",FromEvoM!AE205,\"\"))","v":""}]
[{"$f":"IF(ISBLANK(FromEvoM!A206),\"\",Group_Code)","v":""},{"$f":"IF(ISBLANK(FromEvoM!A206),\"\",SUBSTITUTE(FromEvoM!A206,\" \",\"\"))","v":""},{"$f":"IF(ISBLANK(FromEvoM!C206),\"\",SUBSTITUTE(FromEvoM!G206,\" \",\"\"))","v":""},{"$f":"IF(ISBLANK(FromEvoM!D206),\"\",FromEvoM!B206)","v":""},{"$f":"IF(ISBLANK(FromEvoM!D206),\"\",FromEvoM!D206)","v":""},{"$f":"IF(ISBLANK(FromEvoM!C206),\"\",FromEvoM!C206)","v":""},{"$f":"REPLACE(FromEvoM!F206,2,6, )","v":""},{"$f":"IF(ISNUMBER(FromEvoM!E206),FromEvoM!E206,\"\")","v":""},{"$f":"IF(ISBLANK(FromEvoM!I206),\"\",FromEvoM!I206)","v":""},{"$f":"IF(ISBLANK(FromEvoM!J206),\"\",FromEvoM!J206)","v":""},{"$f":"IF(ISBLANK(FromEvoM!K206),\"\",FromEvoM!K206)","v":""},{"$f":"IF(ISBLANK(FromEvoM!L206),\"\",FromEvoM!L206)","v":""},{"$f":"IF(ISBLANK(FromEvoM!M206),\"\",FromEvoM!M206)","v":""},{"$f":"IF(ISBLANK(FromEvoM!P206),\"\",FromEvoM!P206)","v":""},null,{"$f":"IF(ISNUMBER(FromEvoM!X206),FromEvoM!X206,\"\")","v":""},{"$f":"IF(ISNUMBER(FromEvoM!AB206),FromEvoM!AB206,\"\")","v":""},{"$f":"IF(ISNUMBER(FromEvoM!AA206),FromEvoM!AA206,\"\")","v":""},null,"","",null,null,{"$f":"IF(FromEvoM!W206=1,(FromEvoM!AB206*12),IF(FromEvoM!W206=7,(FromEvoM!AR206),\"\"))","v":""},null,null,{"$f":"IF(ISBLANK(FromEvoM!A206),\"\",IF(FromEvoM!AK206=\"y\",\"Y\",\"N\"))","v":""},{"$f":"IF(ISBLANK(FromEvoM!A206),\"\",Category_ID)","v":""},null,null,null,{"$f":"IF(ISBLANK(FromEvoM!AK206),\"\",FromEvoM!AK206)","v":""},{"$f":"IF(ISBLANK(FromEvoM!AM206),\"\",FromEvoM!AM206)","v":""},{"$f":"IF(ISBLANK(FromEvoM!AN206),\"\",FromEvoM!AN206)","v":""},{"$f":"IF(ISBLANK(FromEvoM!AL206),\"\",FromEvoM!AL206)","v":""},{"$f":"IF(ISBLANK(FromEvoM!A206),\"\",IF(AND(AF206=\"y\",AI206=1),\"Y\",\"N\"))","v":""},{"$f":"IF(ISBLANK(FromEvoM!A206),\"\",IF(FromEvoM!AS206=\"Yes\",2,1))","v":""},{"$f":"IF(FromEvoM!W206=1,\"M\",IF(FromEvoM!W206=7,\"W\",\"\"))","v":""},{"$f":"IF(AJ206=\"Y\",0,IF(AJ206=\"N\",FromEvoM!AF206+FromEvoM!AT206,\"\"))","v":""},{"$f":"IF(AJ206=\"Y\",(FromEvoM!AE206+FromEvoM!AF206-FromEvoM!AT206),IF(AJ206=\"N\",FromEvoM!AE206,\"\"))","v":""}]
[{"$f":"IF(ISBLANK(FromEvoM!A207),\"\",Group_Code)","v":""},{"$f":"IF(ISBLANK(FromEvoM!A207),\"\",SUBSTITUTE(FromEvoM!A207,\" \",\"\"))","v":""},{"$f":"IF(ISBLANK(FromEvoM!C207),\"\",SUBSTITUTE(FromEvoM!G207,\" \",\"\"))","v":""},{"$f":"IF(ISBLANK(FromEvoM!D207),\"\",FromEvoM!B207)","v":""},{"$f":"IF(ISBLANK(FromEvoM!D207),\"\",FromEvoM!D207)","v":""},{"$f":"IF(ISBLANK(FromEvoM!C207),\"\",FromEvoM!C207)","v":""},{"$f":"REPLACE(FromEvoM!F207,2,6, )","v":""},{"$f":"IF(ISNUMBER(FromEvoM!E207),FromEvoM!E207,\"\")","v":""},{"$f":"IF(ISBLANK(FromEvoM!I207),\"\",FromEvoM!I207)","v":""},{"$f":"IF(ISBLANK(FromEvoM!J207),\"\",FromEvoM!J207)","v":""},{"$f":"IF(ISBLANK(FromEvoM!K207),\"\",FromEvoM!K207)","v":""},{"$f":"IF(ISBLANK(FromEvoM!L207),\"\",FromEvoM!L207)","v":""},{"$f":"IF(ISBLANK(FromEvoM!M207),\"\",FromEvoM!M207)","v":""},{"$f":"IF(ISBLANK(FromEvoM!P207),\"\",FromEvoM!P207)","v":""},null,{"$f":"IF(ISNUMBER(FromEvoM!X207),FromEvoM!X207,\"\")","v":""},{"$f":"IF(ISNUMBER(FromEvoM!AB207),FromEvoM!AB207,\"\")","v":""},{"$f":"IF(ISNUMBER(FromEvoM!AA207),FromEvoM!AA207,\"\")","v":""},null,"","",null,null,{"$f":"IF(FromEvoM!W207=1,(FromEvoM!AB207*12),IF(FromEvoM!W207=7,(FromEvoM!AR207),\"\"))","v":""},null,null,{"$f":"IF(ISBLANK(FromEvoM!A207),\"\",IF(FromEvoM!AK207=\"y\",\"Y\",\"N\"))","v":""},{"$f":"IF(ISBLANK(FromEvoM!A207),\"\",Category_ID)","v":""},null,null,null,{"$f":"IF(ISBLANK(FromEvoM!AK207),\"\",FromEvoM!AK207)","v":""},{"$f":"IF(ISBLANK(FromEvoM!AM207),\"\",FromEvoM!AM207)","v":""},{"$f":"IF(ISBLANK(FromEvoM!AN207),\"\",FromEvoM!AN207)","v":""},{"$f":"IF(ISBLANK(FromEvoM!AL207),\"\",FromEvoM!AL207)","v":""},{"$f":"IF(ISBLANK(FromEvoM!A207),\"\",IF(AND(AF207=\"y\",AI207=1),\"Y\",\"N\"))","v":""},{"$f":"IF(ISBLANK(FromEvoM!A207),\"\",IF(FromEvoM!AS207=\"Yes\",2,1))","v":""},{"$f":"IF(FromEvoM!W207=1,\"M\",IF(FromEvoM!W207=7,\"W\",\"\"))","v":""},{"$f":"IF(AJ207=\"Y\",0,IF(AJ207=\"N\",FromEvoM!AF207+FromEvoM!AT207,\"\"))","v":""},{"$f":"IF(AJ207=\"Y\",(FromEvoM!AE207+FromEvoM!AF207-FromEvoM!AT207),IF(AJ207=\"N\",FromEvoM!AE207,\"\"))","v":""}]
[{"$f":"IF(ISBLANK(FromEvoM!A208),\"\",Group_Code)","v":""},{"$f":"IF(ISBLANK(FromEvoM!A208),\"\",SUBSTITUTE(FromEvoM!A208,\" \",\"\"))","v":""},{"$f":"IF(ISBLANK(FromEvoM!C208),\"\",SUBSTITUTE(FromEvoM!G208,\" \",\"\"))","v":""},{"$f":"IF(ISBLANK(FromEvoM!D208),\"\",FromEvoM!B208)","v":""},{"$f":"IF(ISBLANK(FromEvoM!D208),\"\",FromEvoM!D208)","v":""},{"$f":"IF(ISBLANK(FromEvoM!C208),\"\",FromEvoM!C208)","v":""},{"$f":"REPLACE(FromEvoM!F208,2,6, )","v":""},{"$f":"IF(ISNUMBER(FromEvoM!E208),FromEvoM!E208,\"\")","v":""},{"$f":"IF(ISBLANK(FromEvoM!I208),\"\",FromEvoM!I208)","v":""},{"$f":"IF(ISBLANK(FromEvoM!J208),\"\",FromEvoM!J208)","v":""},{"$f":"IF(ISBLANK(FromEvoM!K208),\"\",FromEvoM!K208)","v":""},{"$f":"IF(ISBLANK(FromEvoM!L208),\"\",FromEvoM!L208)","v":""},{"$f":"IF(ISBLANK(FromEvoM!M208),\"\",FromEvoM!M208)","v":""},{"$f":"IF(ISBLANK(FromEvoM!P208),\"\",FromEvoM!P208)","v":""},null,{"$f":"IF(ISNUMBER(FromEvoM!X208),FromEvoM!X208,\"\")","v":""},{"$f":"IF(ISNUMBER(FromEvoM!AB208),FromEvoM!AB208,\"\")","v":""},{"$f":"IF(ISNUMBER(FromEvoM!AA208),FromEvoM!AA208,\"\")","v":""},null,"","",null,null,{"$f":"IF(FromEvoM!W208=1,(FromEvoM!AB208*12),IF(FromEvoM!W208=7,(FromEvoM!AR208),\"\"))","v":""},null,null,{"$f":"IF(ISBLANK(FromEvoM!A208),\"\",IF(FromEvoM!AK208=\"y\",\"Y\",\"N\"))","v":""},{"$f":"IF(ISBLANK(FromEvoM!A208),\"\",Category_ID)","v":""},null,null,null,{"$f":"IF(ISBLANK(FromEvoM!AK208),\"\",FromEvoM!AK208)","v":""},{"$f":"IF(ISBLANK(FromEvoM!AM208),\"\",FromEvoM!AM208)","v":""},{"$f":"IF(ISBLANK(FromEvoM!AN208),\"\",FromEvoM!AN208)","v":""},{"$f":"IF(ISBLANK(FromEvoM!AL208),\"\",FromEvoM!AL208)","v":""},{"$f":"IF(ISBLANK(FromEvoM!A208),\"\",IF(AND(AF208=\"y\",AI208=1),\"Y\",\"N\"))","v":""},{"$f":"IF(ISBLANK(FromEvoM!A208),\"\",IF(FromEvoM!AS208=\"Yes\",2,1))","v":""},{"$f":"IF(FromEvoM!W208=1,\"M\",IF(FromEvoM!W208=7,\"W\",\"\"))","v":""},{"$f":"IF(AJ208=\"Y\",0,IF(AJ208=\"N\",FromEvoM!AF208+FromEvoM!AT208,\"\"))","v":""},{"$f":"IF(AJ208=\"Y\",(FromEvoM!AE208+FromEvoM!AF208-FromEvoM!AT208),IF(AJ208=\"N\",FromEvoM!AE208,\"\"))","v":""}]
[{"$f":"IF(ISBLANK(FromEvoM!A209),\"\",Group_Code)","v":""},{"$f":"IF(ISBLANK(FromEvoM!A209),\"\",SUBSTITUTE(FromEvoM!A209,\" \",\"\"))","v":""},{"$f":"IF(ISBLANK(FromEvoM!C209),\"\",SUBSTITUTE(FromEvoM!G209,\" \",\"\"))","v":""},{"$f":"IF(ISBLANK(FromEvoM!D209),\"\",FromEvoM!B209)","v":""},{"$f":"IF(ISBLANK(FromEvoM!D209),\"\",FromEvoM!D209)","v":""},{"$f":"IF(ISBLANK(FromEvoM!C209),\"\",FromEvoM!C209)","v":""},{"$f":"REPLACE(FromEvoM!F209,2,6, )","v":""},{"$f":"IF(ISNUMBER(FromEvoM!E209),FromEvoM!E209,\"\")","v":""},{"$f":"IF(ISBLANK(FromEvoM!I209),\"\",FromEvoM!I209)","v":""},{"$f":"IF(ISBLANK(FromEvoM!J209),\"\",FromEvoM!J209)","v":""},{"$f":"IF(ISBLANK(FromEvoM!K209),\"\",FromEvoM!K209)","v":""},{"$f":"IF(ISBLANK(FromEvoM!L209),\"\",FromEvoM!L209)","v":""},{"$f":"IF(ISBLANK(FromEvoM!M209),\"\",FromEvoM!M209)","v":""},{"$f":"IF(ISBLANK(FromEvoM!P209),\"\",FromEvoM!P209)","v":""},null,{"$f":"IF(ISNUMBER(FromEvoM!X209),FromEvoM!X209,\"\")","v":""},{"$f":"IF(ISNUMBER(FromEvoM!AB209),FromEvoM!AB209,\"\")","v":""},{"$f":"IF(ISNUMBER(FromEvoM!AA209),FromEvoM!AA209,\"\")","v":""},null,"","",null,null,{"$f":"IF(FromEvoM!W209=1,(FromEvoM!AB209*12),IF(FromEvoM!W209=7,(FromEvoM!AR209),\"\"))","v":""},null,null,{"$f":"IF(ISBLANK(FromEvoM!A209),\"\",IF(FromEvoM!AK209=\"y\",\"Y\",\"N\"))","v":""},{"$f":"IF(ISBLANK(FromEvoM!A209),\"\",Category_ID)","v":""},null,null,null,{"$f":"IF(ISBLANK(FromEvoM!AK209),\"\",FromEvoM!AK209)","v":""},{"$f":"IF(ISBLANK(FromEvoM!AM209),\"\",FromEvoM!AM209)","v":""},{"$f":"IF(ISBLANK(FromEvoM!AN209),\"\",FromEvoM!AN209)","v":""},{"$f":"IF(ISBLANK(FromEvoM!AL209),\"\",FromEvoM!AL209)","v":""},{"$f":"IF(ISBLANK(FromEvoM!A209),\"\",IF(AND(AF209=\"y\",AI209=1),\"Y\",\"N\"))","v":""},{"$f":"IF(ISBLANK(FromEvoM!A209),\"\",IF(FromEvoM!AS209=\"Yes\",2,1))","v":""},{"$f":"IF(FromEvoM!W209=1,\"M\",IF(FromEvoM!W209=7,\"W\",\"\"))","v":""},{"$f":"IF(AJ209=\"Y\",0,IF(AJ209=\"N\",FromEvoM!AF209+FromEvoM!AT209,\"\"))","v":""},{"$f":"IF(AJ209=\"Y\",(FromEvoM!AE209+FromEvoM!AF209-FromEvoM!AT209),IF(AJ209=\"N\",FromEvoM!AE209,\"\"))","v":""}]
[{"$f":"IF(ISBLANK(FromEvoM!A210),\"\",Group_Code)","v":""},{"$f":"IF(ISBLANK(FromEvoM!A210),\"\",SUBSTITUTE(FromEvoM!A210,\" \",\"\"))","v":""},{"$f":"IF(ISBLANK(FromEvoM!C210),\"\",SUBSTITUTE(FromEvoM!G210,\" \",\"\"))","v":""},{"$f":"IF(ISBLANK(FromEvoM!D210),\"\",FromEvoM!B210)","v":""},{"$f":"IF(ISBLANK(FromEvoM!D210),\"\",FromEvoM!D210)","v":""},{"$f":"IF(ISBLANK(FromEvoM!C210),\"\",FromEvoM!C210)","v":""},{"$f":"REPLACE(FromEvoM!F210,2,6, )","v":""},{"$f":"IF(ISNUMBER(FromEvoM!E210),FromEvoM!E210,\"\")","v":""},{"$f":"IF(ISBLANK(FromEvoM!I210),\"\",FromEvoM!I210)","v":""},{"$f":"IF(ISBLANK(FromEvoM!J210),\"\",FromEvoM!J210)","v":""},{"$f":"IF(ISBLANK(FromEvoM!K210),\"\",FromEvoM!K210)","v":""},{"$f":"IF(ISBLANK(FromEvoM!L210),\"\",FromEvoM!L210)","v":""},{"$f":"IF(ISBLANK(FromEvoM!M210),\"\",FromEvoM!M210)","v":""},{"$f":"IF(ISBLANK(FromEvoM!P210),\"\",FromEvoM!P210)","v":""},null,{"$f":"IF(ISNUMBER(FromEvoM!X210),FromEvoM!X210,\"\")","v":""},{"$f":"IF(ISNUMBER(FromEvoM!AB210),FromEvoM!AB210,\"\")","v":""},{"$f":"IF(ISNUMBER(FromEvoM!AA210),FromEvoM!AA210,\"\")","v":""},null,"","",null,null,{"$f":"IF(FromEvoM!W210=1,(FromEvoM!AB210*12),IF(FromEvoM!W210=7,(FromEvoM!AR210),\"\"))","v":""},null,null,{"$f":"IF(ISBLANK(FromEvoM!A210),\"\",IF(FromEvoM!AK210=\"y\",\"Y\",\"N\"))","v":""},{"$f":"IF(ISBLANK(FromEvoM!A210),\"\",Category_ID)","v":""},null,null,null,{"$f":"IF(ISBLANK(FromEvoM!AK210),\"\",FromEvoM!AK210)","v":""},{"$f":"IF(ISBLANK(FromEvoM!AM210),\"\",FromEvoM!AM210)","v":""},{"$f":"IF(ISBLANK(FromEvoM!AN210),\"\",FromEvoM!AN210)","v":""},{"$f":"IF(ISBLANK(FromEvoM!AL210),\"\",FromEvoM!AL210)","v":""},{"$f":"IF(ISBLANK(FromEvoM!A210),\"\",IF(AND(AF210=\"y\",AI210=1),\"Y\",\"N\"))","v":""},{"$f":"IF(ISBLANK(FromEvoM!A210),\"\",IF(FromEvoM!AS210=\"Yes\",2,1))","v":""},{"$f":"IF(FromEvoM!W210=1,\"M\",IF(FromEvoM!W210=7,\"W\",\"\"))","v":""},{"$f":"IF(AJ210=\"Y\",0,IF(AJ210=\"N\",FromEvoM!AF210+FromEvoM!AT210,\"\"))","v":""},{"$f":"IF(AJ210=\"Y\",(FromEvoM!AE210+FromEvoM!AF210-FromEvoM!AT210),IF(AJ210=\"N\",FromEvoM!AE210,\"\"))","v":""}]
[{"$f":"IF(ISBLANK(FromEvoM!A211),\"\",Group_Code)","v":""},{"$f":"IF(ISBLANK(FromEvoM!A211),\"\",SUBSTITUTE(FromEvoM!A211,\" \",\"\"))","v":""},{"$f":"IF(ISBLANK(FromEvoM!C211),\"\",SUBSTITUTE(FromEvoM!G211,\" \",\"\"))","v":""},{"$f":"IF(ISBLANK(FromEvoM!D211),\"\",FromEvoM!B211)","v":""},{"$f":"IF(ISBLANK(FromEvoM!D211),\"\",FromEvoM!D211)","v":""},{"$f":"IF(ISBLANK(FromEvoM!C211),\"\",FromEvoM!C211)","v":""},{"$f":"REPLACE(FromEvoM!F211,2,6, )","v":""},{"$f":"IF(ISNUMBER(FromEvoM!E211),FromEvoM!E211,\"\")","v":""},{"$f":"IF(ISBLANK(FromEvoM!I211),\"\",FromEvoM!I211)","v":""},{"$f":"IF(ISBLANK(FromEvoM!J211),\"\",FromEvoM!J211)","v":""},{"$f":"IF(ISBLANK(FromEvoM!K211),\"\",FromEvoM!K211)","v":""},{"$f":"IF(ISBLANK(FromEvoM!L211),\"\",FromEvoM!L211)","v":""},{"$f":"IF(ISBLANK(FromEvoM!M211),\"\",FromEvoM!M211)","v":""},{"$f":"IF(ISBLANK(FromEvoM!P211),\"\",FromEvoM!P211)","v":""},null,{"$f":"IF(ISNUMBER(FromEvoM!X211),FromEvoM!X211,\"\")","v":""},{"$f":"IF(ISNUMBER(FromEvoM!AB211),FromEvoM!AB211,\"\")","v":""},{"$f":"IF(ISNUMBER(FromEvoM!AA211),FromEvoM!AA211,\"\")","v":""},null,"","",null,null,{"$f":"IF(FromEvoM!W211=1,(FromEvoM!AB211*12),IF(FromEvoM!W211=7,(FromEvoM!AR211),\"\"))","v":""},null,null,{"$f":"IF(ISBLANK(FromEvoM!A211),\"\",IF(FromEvoM!AK211=\"y\",\"Y\",\"N\"))","v":""},{"$f":"IF(ISBLANK(FromEvoM!A211),\"\",Category_ID)","v":""},null,null,null,{"$f":"IF(ISBLANK(FromEvoM!AK211),\"\",FromEvoM!AK211)","v":""},{"$f":"IF(ISBLANK(FromEvoM!AM211),\"\",FromEvoM!AM211)","v":""},{"$f":"IF(ISBLANK(FromEvoM!AN211),\"\",FromEvoM!AN211)","v":""},{"$f":"IF(ISBLANK(FromEvoM!AL211),\"\",FromEvoM!AL211)","v":""},{"$f":"IF(ISBLANK(FromEvoM!A211),\"\",IF(AND(AF211=\"y\",AI211=1),\"Y\",\"N\"))","v":""},{"$f":"IF(ISBLANK(FromEvoM!A211),\"\",IF(FromEvoM!AS211=\"Yes\",2,1))","v":""},{"$f":"IF(FromEvoM!W211=1,\"M\",IF(FromEvoM!W211=7,\"W\",\"\"))","v":""},{"$f":"IF(AJ211=\"Y\",0,IF(AJ211=\"N\",FromEvoM!AF211+FromEvoM!AT211,\"\"))","v":""},{"$f":"IF(AJ211=\"Y\",(FromEvoM!AE211+FromEvoM!AF211-FromEvoM!AT211),IF(AJ211=\"N\",FromEvoM!AE211,\"\"))","v":""}]
[{"$f":"IF(ISBLANK(FromEvoM!A212),\"\",Group_Code)","v":""},{"$f":"IF(ISBLANK(FromEvoM!A212),\"\",SUBSTITUTE(FromEvoM!A212,\" \",\"\"))","v":""},{"$f":"IF(ISBLANK(FromEvoM!C212),\"\",SUBSTITUTE(FromEvoM!G212,\" \",\"\"))","v":""},{"$f":"IF(ISBLANK(FromEvoM!D212),\"\",FromEvoM!B212)","v":""},{"$f":"IF(ISBLANK(FromEvoM!D212),\"\",FromEvoM!D212)","v":""},{"$f":"IF(ISBLANK(FromEvoM!C212),\"\",FromEvoM!C212)","v":""},{"$f":"REPLACE(FromEvoM!F212,2,6, )","v":""},{"$f":"IF(ISNUMBER(FromEvoM!E212),FromEvoM!E212,\"\")","v":""},{"$f":"IF(ISBLANK(FromEvoM!I212),\"\",FromEvoM!I212)","v":""},{"$f":"IF(ISBLANK(FromEvoM!J212),\"\",FromEvoM!J212)","v":""},{"$f":"IF(ISBLANK(FromEvoM!K212),\"\",FromEvoM!K212)","v":""},{"$f":"IF(ISBLANK(FromEvoM!L212),\"\",FromEvoM!L212)","v":""},{"$f":"IF(ISBLANK(FromEvoM!M212),\"\",FromEvoM!M212)","v":""},{"$f":"IF(ISBLANK(FromEvoM!P212),\"\",FromEvoM!P212)","v":""},null,{"$f":"IF(ISNUMBER(FromEvoM!X212),FromEvoM!X212,\"\")","v":""},{"$f":"IF(ISNUMBER(FromEvoM!AB212),FromEvoM!AB212,\"\")","v":""},{"$f":"IF(ISNUMBER(FromEvoM!AA212),FromEvoM!AA212,\"\")","v":""},null,"","",null,null,{"$f":"IF(FromEvoM!W212=1,(FromEvoM!AB212*12),IF(FromEvoM!W212=7,(FromEvoM!AR212),\"\"))","v":""},null,null,{"$f":"IF(ISBLANK(FromEvoM!A212),\"\",IF(FromEvoM!AK212=\"y\",\"Y\",\"N\"))","v":""},{"$f":"IF(ISBLANK(FromEvoM!A212),\"\",Category_ID)","v":""},null,null,null,{"$f":"IF(ISBLANK(FromEvoM!AK212),\"\",FromEvoM!AK212)","v":""},{"$f":"IF(ISBLANK(FromEvoM!AM212),\"\",FromEvoM!AM212)","v":""},{"$f":"IF(ISBLANK(FromEvoM!AN212),\"\",FromEvoM!AN212)","v":""},{"$f":"IF(ISBLANK(FromEvoM!AL212),\"\",FromEvoM!AL212)","v":""},{"$f":"IF(ISBLANK(FromEvoM!A212),\"\",IF(AND(AF212=\"y\",AI212=1),\"Y\",\"N\"))","v":""},{"$f":"IF(ISBLANK(FromEvoM!A212),\"\",IF(FromEvoM!AS212=\"Yes\",2,1))","v":""},{"$f":"IF(FromEvoM!W212=1,\"M\",IF(FromEvoM!W212=7,\"W\",\"\"))","v":""},{"$f":"IF(AJ212=\"Y\",0,IF(AJ212=\"N\",FromEvoM!AF212+FromEvoM!AT212,\"\"))","v":""},{"$f":"IF(AJ212=\"Y\",(FromEvoM!AE212+FromEvoM!AF212-FromEvoM!AT212),IF(AJ212=\"N\",FromEvoM!AE212,\"\"))","v":""}]
[{"$f":"IF(ISBLANK(FromEvoM!A213),\"\",Group_Code)","v":""},{"$f":"IF(ISBLANK(FromEvoM!A213),\"\",SUBSTITUTE(FromEvoM!A213,\" \",\"\"))","v":""},{"$f":"IF(ISBLANK(FromEvoM!C213),\"\",SUBSTITUTE(FromEvoM!G213,\" \",\"\"))","v":""},{"$f":"IF(ISBLANK(FromEvoM!D213),\"\",FromEvoM!B213)","v":""},{"$f":"IF(ISBLANK(FromEvoM!D213),\"\",FromEvoM!D213)","v":""},{"$f":"IF(ISBLANK(FromEvoM!C213),\"\",FromEvoM!C213)","v":""},{"$f":"REPLACE(FromEvoM!F213,2,6, )","v":""},{"$f":"IF(ISNUMBER(FromEvoM!E213),FromEvoM!E213,\"\")","v":""},{"$f":"IF(ISBLANK(FromEvoM!I213),\"\",FromEvoM!I213)","v":""},{"$f":"IF(ISBLANK(FromEvoM!J213),\"\",FromEvoM!J213)","v":""},{"$f":"IF(ISBLANK(FromEvoM!K213),\"\",FromEvoM!K213)","v":""},{"$f":"IF(ISBLANK(FromEvoM!L213),\"\",FromEvoM!L213)","v":""},{"$f":"IF(ISBLANK(FromEvoM!M213),\"\",FromEvoM!M213)","v":""},{"$f":"IF(ISBLANK(FromEvoM!P213),\"\",FromEvoM!P213)","v":""},null,{"$f":"IF(ISNUMBER(FromEvoM!X213),FromEvoM!X213,\"\")","v":""},{"$f":"IF(ISNUMBER(FromEvoM!AB213),FromEvoM!AB213,\"\")","v":""},{"$f":"IF(ISNUMBER(FromEvoM!AA213),FromEvoM!AA213,\"\")","v":""},null,"","",null,null,{"$f":"IF(FromEvoM!W213=1,(FromEvoM!AB213*12),IF(FromEvoM!W213=7,(FromEvoM!AR213),\"\"))","v":""},null,null,{"$f":"IF(ISBLANK(FromEvoM!A213),\"\",IF(FromEvoM!AK213=\"y\",\"Y\",\"N\"))","v":""},{"$f":"IF(ISBLANK(FromEvoM!A213),\"\",Category_ID)","v":""},null,null,null,{"$f":"IF(ISBLANK(FromEvoM!AK213),\"\",FromEvoM!AK213)","v":""},{"$f":"IF(ISBLANK(FromEvoM!AM213),\"\",FromEvoM!AM213)","v":""},{"$f":"IF(ISBLANK(FromEvoM!AN213),\"\",FromEvoM!AN213)","v":""},{"$f":"IF(ISBLANK(FromEvoM!AL213),\"\",FromEvoM!AL213)","v":""},{"$f":"IF(ISBLANK(FromEvoM!A213),\"\",IF(AND(AF213=\"y\",AI213=1),\"Y\",\"N\"))","v":""},{"$f":"IF(ISBLANK(FromEvoM!A213),\"\",IF(FromEvoM!AS213=\"Yes\",2,1))","v":""},{"$f":"IF(FromEvoM!W213=1,\"M\",IF(FromEvoM!W213=7,\"W\",\"\"))","v":""},{"$f":"IF(AJ213=\"Y\",0,IF(AJ213=\"N\",FromEvoM!AF213+FromEvoM!AT213,\"\"))","v":""},{"$f":"IF(AJ213=\"Y\",(FromEvoM!AE213+FromEvoM!AF213-FromEvoM!AT213),IF(AJ213=\"N\",FromEvoM!AE213,\"\"))","v":""}]
[{"$f":"IF(ISBLANK(FromEvoM!A214),\"\",Group_Code)","v":""},{"$f":"IF(ISBLANK(FromEvoM!A214),\"\",SUBSTITUTE(FromEvoM!A214,\" \",\"\"))","v":""},{"$f":"IF(ISBLANK(FromEvoM!C214),\"\",SUBSTITUTE(FromEvoM!G214,\" \",\"\"))","v":""},{"$f":"IF(ISBLANK(FromEvoM!D214),\"\",FromEvoM!B214)","v":""},{"$f":"IF(ISBLANK(FromEvoM!D214),\"\",FromEvoM!D214)","v":""},{"$f":"IF(ISBLANK(FromEvoM!C214),\"\",FromEvoM!C214)","v":""},{"$f":"REPLACE(FromEvoM!F214,2,6, )","v":""},{"$f":"IF(ISNUMBER(FromEvoM!E214),FromEvoM!E214,\"\")","v":""},{"$f":"IF(ISBLANK(FromEvoM!I214),\"\",FromEvoM!I214)","v":""},{"$f":"IF(ISBLANK(FromEvoM!J214),\"\",FromEvoM!J214)","v":""},{"$f":"IF(ISBLANK(FromEvoM!K214),\"\",FromEvoM!K214)","v":""},{"$f":"IF(ISBLANK(FromEvoM!L214),\"\",FromEvoM!L214)","v":""},{"$f":"IF(ISBLANK(FromEvoM!M214),\"\",FromEvoM!M214)","v":""},{"$f":"IF(ISBLANK(FromEvoM!P214),\"\",FromEvoM!P214)","v":""},null,{"$f":"IF(ISNUMBER(FromEvoM!X214),FromEvoM!X214,\"\")","v":""},{"$f":"IF(ISNUMBER(FromEvoM!AB214),FromEvoM!AB214,\"\")","v":""},{"$f":"IF(ISNUMBER(FromEvoM!AA214),FromEvoM!AA214,\"\")","v":""},null,"","",null,null,{"$f":"IF(FromEvoM!W214=1,(FromEvoM!AB214*12),IF(FromEvoM!W214=7,(FromEvoM!AR214),\"\"))","v":""},null,null,{"$f":"IF(ISBLANK(FromEvoM!A214),\"\",IF(FromEvoM!AK214=\"y\",\"Y\",\"N\"))","v":""},{"$f":"IF(ISBLANK(FromEvoM!A214),\"\",Category_ID)","v":""},null,null,null,{"$f":"IF(ISBLANK(FromEvoM!AK214),\"\",FromEvoM!AK214)","v":""},{"$f":"IF(ISBLANK(FromEvoM!AM214),\"\",FromEvoM!AM214)","v":""},{"$f":"IF(ISBLANK(FromEvoM!AN214),\"\",FromEvoM!AN214)","v":""},{"$f":"IF(ISBLANK(FromEvoM!AL214),\"\",FromEvoM!AL214)","v":""},{"$f":"IF(ISBLANK(FromEvoM!A214),\"\",IF(AND(AF214=\"y\",AI214=1),\"Y\",\"N\"))","v":""},{"$f":"IF(ISBLANK(FromEvoM!A214),\"\",IF(FromEvoM!AS214=\"Yes\",2,1))","v":""},{"$f":"IF(FromEvoM!W214=1,\"M\",IF(FromEvoM!W214=7,\"W\",\"\"))","v":""},{"$f":"IF(AJ214=\"Y\",0,IF(AJ214=\"N\",FromEvoM!AF214+FromEvoM!AT214,\"\"))","v":""},{"$f":"IF(AJ214=\"Y\",(FromEvoM!AE214+FromEvoM!AF214-FromEvoM!AT214),IF(AJ214=\"N\",FromEvoM!AE214,\"\"))","v":""}]
[{"$f":"IF(ISBLANK(FromEvoM!A215),\"\",Group_Code)","v":""},{"$f":"IF(ISBLANK(FromEvoM!A215),\"\",SUBSTITUTE(FromEvoM!A215,\" \",\"\"))","v":""},{"$f":"IF(ISBLANK(FromEvoM!C215),\"\",SUBSTITUTE(FromEvoM!G215,\" \",\"\"))","v":""},{"$f":"IF(ISBLANK(FromEvoM!D215),\"\",FromEvoM!B215)","v":""},{"$f":"IF(ISBLANK(FromEvoM!D215),\"\",FromEvoM!D215)","v":""},{"$f":"IF(ISBLANK(FromEvoM!C215),\"\",FromEvoM!C215)","v":""},{"$f":"REPLACE(FromEvoM!F215,2,6, )","v":""},{"$f":"IF(ISNUMBER(FromEvoM!E215),FromEvoM!E215,\"\")","v":""},{"$f":"IF(ISBLANK(FromEvoM!I215),\"\",FromEvoM!I215)","v":""},{"$f":"IF(ISBLANK(FromEvoM!J215),\"\",FromEvoM!J215)","v":""},{"$f":"IF(ISBLANK(FromEvoM!K215),\"\",FromEvoM!K215)","v":""},{"$f":"IF(ISBLANK(FromEvoM!L215),\"\",FromEvoM!L215)","v":""},{"$f":"IF(ISBLANK(FromEvoM!M215),\"\",FromEvoM!M215)","v":""},{"$f":"IF(ISBLANK(FromEvoM!P215),\"\",FromEvoM!P215)","v":""},null,{"$f":"IF(ISNUMBER(FromEvoM!X215),FromEvoM!X215,\"\")","v":""},{"$f":"IF(ISNUMBER(FromEvoM!AB215),FromEvoM!AB215,\"\")","v":""},{"$f":"IF(ISNUMBER(FromEvoM!AA215),FromEvoM!AA215,\"\")","v":""},null,"","",null,null,{"$f":"IF(FromEvoM!W215=1,(FromEvoM!AB215*12),IF(FromEvoM!W215=7,(FromEvoM!AR215),\"\"))","v":""},null,null,{"$f":"IF(ISBLANK(FromEvoM!A215),\"\",IF(FromEvoM!AK215=\"y\",\"Y\",\"N\"))","v":""},{"$f":"IF(ISBLANK(FromEvoM!A215),\"\",Category_ID)","v":""},null,null,null,{"$f":"IF(ISBLANK(FromEvoM!AK215),\"\",FromEvoM!AK215)","v":""},{"$f":"IF(ISBLANK(FromEvoM!AM215),\"\",FromEvoM!AM215)","v":""},{"$f":"IF(ISBLANK(FromEvoM!AN215),\"\",FromEvoM!AN215)","v":""},{"$f":"IF(ISBLANK(FromEvoM!AL215),\"\",FromEvoM!AL215)","v":""},{"$f":"IF(ISBLANK(FromEvoM!A215),\"\",IF(AND(AF215=\"y\",AI215=1),\"Y\",\"N\"))","v":""},{"$f":"IF(ISBLANK(FromEvoM!A215),\"\",IF(FromEvoM!AS215=\"Yes\",2,1))","v":""},{"$f":"IF(FromEvoM!W215=1,\"M\",IF(FromEvoM!W215=7,\"W\",\"\"))","v":""},{"$f":"IF(AJ215=\"Y\",0,IF(AJ215=\"N\",FromEvoM!AF215+FromEvoM!AT215,\"\"))","v":""},{"$f":"IF(AJ215=\"Y\",(FromEvoM!AE215+FromEvoM!AF215-FromEvoM!AT215),IF(AJ215=\"N\",FromEvoM!AE215,\"\"))","v":""}]
[{"$f":"IF(ISBLANK(FromEvoM!A216),\"\",Group_Code)","v":""},{"$f":"IF(ISBLANK(FromEvoM!A216),\"\",SUBSTITUTE(FromEvoM!A216,\" \",\"\"))","v":""},{"$f":"IF(ISBLANK(FromEvoM!C216),\"\",SUBSTITUTE(FromEvoM!G216,\" \",\"\"))","v":""},{"$f":"IF(ISBLANK(FromEvoM!D216),\"\",FromEvoM!B216)","v":""},{"$f":"IF(ISBLANK(FromEvoM!D216),\"\",FromEvoM!D216)","v":""},{"$f":"IF(ISBLANK(FromEvoM!C216),\"\",FromEvoM!C216)","v":""},{"$f":"REPLACE(FromEvoM!F216,2,6, )","v":""},{"$f":"IF(ISNUMBER(FromEvoM!E216),FromEvoM!E216,\"\")","v":""},{"$f":"IF(ISBLANK(FromEvoM!I216),\"\",FromEvoM!I216)","v":""},{"$f":"IF(ISBLANK(FromEvoM!J216),\"\",FromEvoM!J216)","v":""},{"$f":"IF(ISBLANK(FromEvoM!K216),\"\",FromEvoM!K216)","v":""},{"$f":"IF(ISBLANK(FromEvoM!L216),\"\",FromEvoM!L216)","v":""},{"$f":"IF(ISBLANK(FromEvoM!M216),\"\",FromEvoM!M216)","v":""},{"$f":"IF(ISBLANK(FromEvoM!P216),\"\",FromEvoM!P216)","v":""},null,{"$f":"IF(ISNUMBER(FromEvoM!X216),FromEvoM!X216,\"\")","v":""},{"$f":"IF(ISNUMBER(FromEvoM!AB216),FromEvoM!AB216,\"\")","v":""},{"$f":"IF(ISNUMBER(FromEvoM!AA216),FromEvoM!AA216,\"\")","v":""},null,"","",null,null,{"$f":"IF(FromEvoM!W216=1,(FromEvoM!AB216*12),IF(FromEvoM!W216=7,(FromEvoM!AR216),\"\"))","v":""},null,null,{"$f":"IF(ISBLANK(FromEvoM!A216),\"\",IF(FromEvoM!AK216=\"y\",\"Y\",\"N\"))","v":""},{"$f":"IF(ISBLANK(FromEvoM!A216),\"\",Category_ID)","v":""},null,null,null,{"$f":"IF(ISBLANK(FromEvoM!AK216),\"\",FromEvoM!AK216)","v":""},{"$f":"IF(ISBLANK(FromEvoM!AM216),\"\",FromEvoM!AM216)","v":""},{"$f":"IF(ISBLANK(FromEvoM!AN216),\"\",FromEvoM!AN216)","v":""},{"$f":"IF(ISBLANK(FromEvoM!AL216),\"\",FromEvoM!AL216)","v":""},{"$f":"IF(ISBLANK(FromEvoM!A216),\"\",IF(AND(AF216=\"y\",AI216=1),\"Y\",\"N\"))","v":""},{"$f":"IF(ISBLANK(FromEvoM!A216),\"\",IF(FromEvoM!AS216=\"Yes\",2,1))","v":""},{"$f":"IF(FromEvoM!W216=1,\"M\",IF(FromEvoM!W216=7,\"W\",\"\"))","v":""},{"$f":"IF(AJ216=\"Y\",0,IF(AJ216=\"N\",FromEvoM!AF216+FromEvoM!AT216,\"\"))","v":""},{"$f":"IF(AJ216=\"Y\",(FromEvoM!AE216+FromEvoM!AF216-FromEvoM!AT216),IF(AJ216=\"N\",FromEvoM!AE216,\"\"))","v":""}]
[{"$f":"IF(ISBLANK(FromEvoM!A217),\"\",Group_Code)","v":""},{"$f":"IF(ISBLANK(FromEvoM!A217),\"\",SUBSTITUTE(FromEvoM!A217,\" \",\"\"))","v":""},{"$f":"IF(ISBLANK(FromEvoM!C217),\"\",SUBSTITUTE(FromEvoM!G217,\" \",\"\"))","v":""},{"$f":"IF(ISBLANK(FromEvoM!D217),\"\",FromEvoM!B217)","v":""},{"$f":"IF(ISBLANK(FromEvoM!D217),\"\",FromEvoM!D217)","v":""},{"$f":"IF(ISBLANK(FromEvoM!C217),\"\",FromEvoM!C217)","v":""},{"$f":"REPLACE(FromEvoM!F217,2,6, )","v":""},{"$f":"IF(ISNUMBER(FromEvoM!E217),FromEvoM!E217,\"\")","v":""},{"$f":"IF(ISBLANK(FromEvoM!I217),\"\",FromEvoM!I217)","v":""},{"$f":"IF(ISBLANK(FromEvoM!J217),\"\",FromEvoM!J217)","v":""},{"$f":"IF(ISBLANK(FromEvoM!K217),\"\",FromEvoM!K217)","v":""},{"$f":"IF(ISBLANK(FromEvoM!L217),\"\",FromEvoM!L217)","v":""},{"$f":"IF(ISBLANK(FromEvoM!M217),\"\",FromEvoM!M217)","v":""},{"$f":"IF(ISBLANK(FromEvoM!P217),\"\",FromEvoM!P217)","v":""},null,{"$f":"IF(ISNUMBER(FromEvoM!X217),FromEvoM!X217,\"\")","v":""},{"$f":"IF(ISNUMBER(FromEvoM!AB217),FromEvoM!AB217,\"\")","v":""},{"$f":"IF(ISNUMBER(FromEvoM!AA217),FromEvoM!AA217,\"\")","v":""},null,"","",null,null,{"$f":"IF(FromEvoM!W217=1,(FromEvoM!AB217*12),IF(FromEvoM!W217=7,(FromEvoM!AR217),\"\"))","v":""},null,null,{"$f":"IF(ISBLANK(FromEvoM!A217),\"\",IF(FromEvoM!AK217=\"y\",\"Y\",\"N\"))","v":""},{"$f":"IF(ISBLANK(FromEvoM!A217),\"\",Category_ID)","v":""},null,null,null,{"$f":"IF(ISBLANK(FromEvoM!AK217),\"\",FromEvoM!AK217)","v":""},{"$f":"IF(ISBLANK(FromEvoM!AM217),\"\",FromEvoM!AM217)","v":""},{"$f":"IF(ISBLANK(FromEvoM!AN217),\"\",FromEvoM!AN217)","v":""},{"$f":"IF(ISBLANK(FromEvoM!AL217),\"\",FromEvoM!AL217)","v":""},{"$f":"IF(ISBLANK(FromEvoM!A217),\"\",IF(AND(AF217=\"y\",AI217=1),\"Y\",\"N\"))","v":""},{"$f":"IF(ISBLANK(FromEvoM!A217),\"\",IF(FromEvoM!AS217=\"Yes\",2,1))","v":""},{"$f":"IF(FromEvoM!W217=1,\"M\",IF(FromEvoM!W217=7,\"W\",\"\"))","v":""},{"$f":"IF(AJ217=\"Y\",0,IF(AJ217=\"N\",FromEvoM!AF217+FromEvoM!AT217,\"\"))","v":""},{"$f":"IF(AJ217=\"Y\",(FromEvoM!AE217+FromEvoM!AF217-FromEvoM!AT217),IF(AJ217=\"N\",FromEvoM!AE217,\"\"))","v":""}]
[{"$f":"IF(ISBLANK(FromEvoM!A218),\"\",Group_Code)","v":""},{"$f":"IF(ISBLANK(FromEvoM!A218),\"\",SUBSTITUTE(FromEvoM!A218,\" \",\"\"))","v":""},{"$f":"IF(ISBLANK(FromEvoM!C218),\"\",SUBSTITUTE(FromEvoM!G218,\" \",\"\"))","v":""},{"$f":"IF(ISBLANK(FromEvoM!D218),\"\",FromEvoM!B218)","v":""},{"$f":"IF(ISBLANK(FromEvoM!D218),\"\",FromEvoM!D218)","v":""},{"$f":"IF(ISBLANK(FromEvoM!C218),\"\",FromEvoM!C218)","v":""},{"$f":"REPLACE(FromEvoM!F218,2,6, )","v":""},{"$f":"IF(ISNUMBER(FromEvoM!E218),FromEvoM!E218,\"\")","v":""},{"$f":"IF(ISBLANK(FromEvoM!I218),\"\",FromEvoM!I218)","v":""},{"$f":"IF(ISBLANK(FromEvoM!J218),\"\",FromEvoM!J218)","v":""},{"$f":"IF(ISBLANK(FromEvoM!K218),\"\",FromEvoM!K218)","v":""},{"$f":"IF(ISBLANK(FromEvoM!L218),\"\",FromEvoM!L218)","v":""},{"$f":"IF(ISBLANK(FromEvoM!M218),\"\",FromEvoM!M218)","v":""},{"$f":"IF(ISBLANK(FromEvoM!P218),\"\",FromEvoM!P218)","v":""},null,{"$f":"IF(ISNUMBER(FromEvoM!X218),FromEvoM!X218,\"\")","v":""},{"$f":"IF(ISNUMBER(FromEvoM!AB218),FromEvoM!AB218,\"\")","v":""},{"$f":"IF(ISNUMBER(FromEvoM!AA218),FromEvoM!AA218,\"\")","v":""},null,"","",null,null,{"$f":"IF(FromEvoM!W218=1,(FromEvoM!AB218*12),IF(FromEvoM!W218=7,(FromEvoM!AR218),\"\"))","v":""},null,null,{"$f":"IF(ISBLANK(FromEvoM!A218),\"\",IF(FromEvoM!AK218=\"y\",\"Y\",\"N\"))","v":""},{"$f":"IF(ISBLANK(FromEvoM!A218),\"\",Category_ID)","v":""},null,null,null,{"$f":"IF(ISBLANK(FromEvoM!AK218),\"\",FromEvoM!AK218)","v":""},{"$f":"IF(ISBLANK(FromEvoM!AM218),\"\",FromEvoM!AM218)","v":""},{"$f":"IF(ISBLANK(FromEvoM!AN218),\"\",FromEvoM!AN218)","v":""},{"$f":"IF(ISBLANK(FromEvoM!AL218),\"\",FromEvoM!AL218)","v":""},{"$f":"IF(ISBLANK(FromEvoM!A218),\"\",IF(AND(AF218=\"y\",AI218=1),\"Y\",\"N\"))","v":""},{"$f":"IF(ISBLANK(FromEvoM!A218),\"\",IF(FromEvoM!AS218=\"Yes\",2,1))","v":""},{"$f":"IF(FromEvoM!W218=1,\"M\",IF(FromEvoM!W218=7,\"W\",\"\"))","v":""},{"$f":"IF(AJ218=\"Y\",0,IF(AJ218=\"N\",FromEvoM!AF218+FromEvoM!AT218,\"\"))","v":""},{"$f":"IF(AJ218=\"Y\",(FromEvoM!AE218+FromEvoM!AF218-FromEvoM!AT218),IF(AJ218=\"N\",FromEvoM!AE218,\"\"))","v":""}]
[{"$f":"IF(ISBLANK(FromEvoM!A219),\"\",Group_Code)","v":""},{"$f":"IF(ISBLANK(FromEvoM!A219),\"\",SUBSTITUTE(FromEvoM!A219,\" \",\"\"))","v":""},{"$f":"IF(ISBLANK(FromEvoM!C219),\"\",SUBSTITUTE(FromEvoM!G219,\" \",\"\"))","v":""},{"$f":"IF(ISBLANK(FromEvoM!D219),\"\",FromEvoM!B219)","v":""},{"$f":"IF(ISBLANK(FromEvoM!D219),\"\",FromEvoM!D219)","v":""},{"$f":"IF(ISBLANK(FromEvoM!C219),\"\",FromEvoM!C219)","v":""},{"$f":"REPLACE(FromEvoM!F219,2,6, )","v":""},{"$f":"IF(ISNUMBER(FromEvoM!E219),FromEvoM!E219,\"\")","v":""},{"$f":"IF(ISBLANK(FromEvoM!I219),\"\",FromEvoM!I219)","v":""},{"$f":"IF(ISBLANK(FromEvoM!J219),\"\",FromEvoM!J219)","v":""},{"$f":"IF(ISBLANK(FromEvoM!K219),\"\",FromEvoM!K219)","v":""},{"$f":"IF(ISBLANK(FromEvoM!L219),\"\",FromEvoM!L219)","v":""},{"$f":"IF(ISBLANK(FromEvoM!M219),\"\",FromEvoM!M219)","v":""},{"$f":"IF(ISBLANK(FromEvoM!P219),\"\",FromEvoM!P219)","v":""},null,{"$f":"IF(ISNUMBER(FromEvoM!X219),FromEvoM!X219,\"\")","v":""},{"$f":"IF(ISNUMBER(FromEvoM!AB219),FromEvoM!AB219,\"\")","v":""},{"$f":"IF(ISNUMBER(FromEvoM!AA219),FromEvoM!AA219,\"\")","v":""},null,"","",null,null,{"$f":"IF(FromEvoM!W219=1,(FromEvoM!AB219*12),IF(FromEvoM!W219=7,(FromEvoM!AR219),\"\"))","v":""},null,null,{"$f":"IF(ISBLANK(FromEvoM!A219),\"\",IF(FromEvoM!AK219=\"y\",\"Y\",\"N\"))","v":""},{"$f":"IF(ISBLANK(FromEvoM!A219),\"\",Category_ID)","v":""},null,null,null,{"$f":"IF(ISBLANK(FromEvoM!AK219),\"\",FromEvoM!AK219)","v":""},{"$f":"IF(ISBLANK(FromEvoM!AM219),\"\",FromEvoM!AM219)","v":""},{"$f":"IF(ISBLANK(FromEvoM!AN219),\"\",FromEvoM!AN219)","v":""},{"$f":"IF(ISBLANK(FromEvoM!AL219),\"\",FromEvoM!AL219)","v":""},{"$f":"IF(ISBLANK(FromEvoM!A219),\"\",IF(AND(AF219=\"y\",AI219=1),\"Y\",\"N\"))","v":""},{"$f":"IF(ISBLANK(FromEvoM!A219),\"\",IF(FromEvoM!AS219=\"Yes\",2,1))","v":""},{"$f":"IF(FromEvoM!W219=1,\"M\",IF(FromEvoM!W219=7,\"W\",\"\"))","v":""},{"$f":"IF(AJ219=\"Y\",0,IF(AJ219=\"N\",FromEvoM!AF219+FromEvoM!AT219,\"\"))","v":""},{"$f":"IF(AJ219=\"Y\",(FromEvoM!AE219+FromEvoM!AF219-FromEvoM!AT219),IF(AJ219=\"N\",FromEvoM!AE219,\"\"))","v":""}]
[{"$f":"IF(ISBLANK(FromEvoM!A220),\"\",Group_Code)","v":""},{"$f":"IF(ISBLANK(FromEvoM!A220),\"\",SUBSTITUTE(FromEvoM!A220,\" \",\"\"))","v":""},{"$f":"IF(ISBLANK(FromEvoM!C220),\"\",SUBSTITUTE(FromEvoM!G220,\" \",\"\"))","v":""},{"$f":"IF(ISBLANK(FromEvoM!D220),\"\",FromEvoM!B220)","v":""},{"$f":"IF(ISBLANK(FromEvoM!D220),\"\",FromEvoM!D220)","v":""},{"$f":"IF(ISBLANK(FromEvoM!C220),\"\",FromEvoM!C220)","v":""},{"$f":"REPLACE(FromEvoM!F220,2,6, )","v":""},{"$f":"IF(ISNUMBER(FromEvoM!E220),FromEvoM!E220,\"\")","v":""},{"$f":"IF(ISBLANK(FromEvoM!I220),\"\",FromEvoM!I220)","v":""},{"$f":"IF(ISBLANK(FromEvoM!J220),\"\",FromEvoM!J220)","v":""},{"$f":"IF(ISBLANK(FromEvoM!K220),\"\",FromEvoM!K220)","v":""},{"$f":"IF(ISBLANK(FromEvoM!L220),\"\",FromEvoM!L220)","v":""},{"$f":"IF(ISBLANK(FromEvoM!M220),\"\",FromEvoM!M220)","v":""},{"$f":"IF(ISBLANK(FromEvoM!P220),\"\",FromEvoM!P220)","v":""},null,{"$f":"IF(ISNUMBER(FromEvoM!X220),FromEvoM!X220,\"\")","v":""},{"$f":"IF(ISNUMBER(FromEvoM!AB220),FromEvoM!AB220,\"\")","v":""},{"$f":"IF(ISNUMBER(FromEvoM!AA220),FromEvoM!AA220,\"\")","v":""},null,"","",null,null,{"$f":"IF(FromEvoM!W220=1,(FromEvoM!AB220*12),IF(FromEvoM!W220=7,(FromEvoM!AR220),\"\"))","v":""},null,null,{"$f":"IF(ISBLANK(FromEvoM!A220),\"\",IF(FromEvoM!AK220=\"y\",\"Y\",\"N\"))","v":""},{"$f":"IF(ISBLANK(FromEvoM!A220),\"\",Category_ID)","v":""},null,null,null,{"$f":"IF(ISBLANK(FromEvoM!AK220),\"\",FromEvoM!AK220)","v":""},{"$f":"IF(ISBLANK(FromEvoM!AM220),\"\",FromEvoM!AM220)","v":""},{"$f":"IF(ISBLANK(FromEvoM!AN220),\"\",FromEvoM!AN220)","v":""},{"$f":"IF(ISBLANK(FromEvoM!AL220),\"\",FromEvoM!AL220)","v":""},{"$f":"IF(ISBLANK(FromEvoM!A220),\"\",IF(AND(AF220=\"y\",AI220=1),\"Y\",\"N\"))","v":""},{"$f":"IF(ISBLANK(FromEvoM!A220),\"\",IF(FromEvoM!AS220=\"Yes\",2,1))","v":""},{"$f":"IF(FromEvoM!W220=1,\"M\",IF(FromEvoM!W220=7,\"W\",\"\"))","v":""},{"$f":"IF(AJ220=\"Y\",0,IF(AJ220=\"N\",FromEvoM!AF220+FromEvoM!AT220,\"\"))","v":""},{"$f":"IF(AJ220=\"Y\",(FromEvoM!AE220+FromEvoM!AF220-FromEvoM!AT220),IF(AJ220=\"N\",FromEvoM!AE220,\"\"))","v":""}]
[{"$f":"IF(ISBLANK(FromEvoM!A221),\"\",Group_Code)","v":""},{"$f":"IF(ISBLANK(FromEvoM!A221),\"\",SUBSTITUTE(FromEvoM!A221,\" \",\"\"))","v":""},{"$f":"IF(ISBLANK(FromEvoM!C221),\"\",SUBSTITUTE(FromEvoM!G221,\" \",\"\"))","v":""},{"$f":"IF(ISBLANK(FromEvoM!D221),\"\",FromEvoM!B221)","v":""},{"$f":"IF(ISBLANK(FromEvoM!D221),\"\",FromEvoM!D221)","v":""},{"$f":"IF(ISBLANK(FromEvoM!C221),\"\",FromEvoM!C221)","v":""},{"$f":"REPLACE(FromEvoM!F221,2,6, )","v":""},{"$f":"IF(ISNUMBER(FromEvoM!E221),FromEvoM!E221,\"\")","v":""},{"$f":"IF(ISBLANK(FromEvoM!I221),\"\",FromEvoM!I221)","v":""},{"$f":"IF(ISBLANK(FromEvoM!J221),\"\",FromEvoM!J221)","v":""},{"$f":"IF(ISBLANK(FromEvoM!K221),\"\",FromEvoM!K221)","v":""},{"$f":"IF(ISBLANK(FromEvoM!L221),\"\",FromEvoM!L221)","v":""},{"$f":"IF(ISBLANK(FromEvoM!M221),\"\",FromEvoM!M221)","v":""},{"$f":"IF(ISBLANK(FromEvoM!P221),\"\",FromEvoM!P221)","v":""},null,{"$f":"IF(ISNUMBER(FromEvoM!X221),FromEvoM!X221,\"\")","v":""},{"$f":"IF(ISNUMBER(FromEvoM!AB221),FromEvoM!AB221,\"\")","v":""},{"$f":"IF(ISNUMBER(FromEvoM!AA221),FromEvoM!AA221,\"\")","v":""},null,"","",null,null,{"$f":"IF(FromEvoM!W221=1,(FromEvoM!AB221*12),IF(FromEvoM!W221=7,(FromEvoM!AR221),\"\"))","v":""},null,null,{"$f":"IF(ISBLANK(FromEvoM!A221),\"\",IF(FromEvoM!AK221=\"y\",\"Y\",\"N\"))","v":""},{"$f":"IF(ISBLANK(FromEvoM!A221),\"\",Category_ID)","v":""},null,null,null,{"$f":"IF(ISBLANK(FromEvoM!AK221),\"\",FromEvoM!AK221)","v":""},{"$f":"IF(ISBLANK(FromEvoM!AM221),\"\",FromEvoM!AM221)","v":""},{"$f":"IF(ISBLANK(FromEvoM!AN221),\"\",FromEvoM!AN221)","v":""},{"$f":"IF(ISBLANK(FromEvoM!AL221),\"\",FromEvoM!AL221)","v":""},{"$f":"IF(ISBLANK(FromEvoM!A221),\"\",IF(AND(AF221=\"y\",AI221=1),\"Y\",\"N\"))","v":""},{"$f":"IF(ISBLANK(FromEvoM!A221),\"\",IF(FromEvoM!AS221=\"Yes\",2,1))","v":""},{"$f":"IF(FromEvoM!W221=1,\"M\",IF(FromEvoM!W221=7,\"W\",\"\"))","v":""},{"$f":"IF(AJ221=\"Y\",0,IF(AJ221=\"N\",FromEvoM!AF221+FromEvoM!AT221,\"\"))","v":""},{"$f":"IF(AJ221=\"Y\",(FromEvoM!AE221+FromEvoM!AF221-FromEvoM!AT221),IF(AJ221=\"N\",FromEvoM!AE221,\"\"))","v":""}]
[{"$f":"IF(ISBLANK(FromEvoM!A222),\"\",Group_Code)","v":""},{"$f":"IF(ISBLANK(FromEvoM!A222),\"\",SUBSTITUTE(FromEvoM!A222,\" \",\"\"))","v":""},{"$f":"IF(ISBLANK(FromEvoM!C222),\"\",SUBSTITUTE(FromEvoM!G222,\" \",\"\"))","v":""},{"$f":"IF(ISBLANK(FromEvoM!D222),\"\",FromEvoM!B222)","v":""},{"$f":"IF(ISBLANK(FromEvoM!D222),\"\",FromEvoM!D222)","v":""},{"$f":"IF(ISBLANK(FromEvoM!C222),\"\",FromEvoM!C222)","v":""},{"$f":"REPLACE(FromEvoM!F222,2,6, )","v":""},{"$f":"IF(ISNUMBER(FromEvoM!E222),FromEvoM!E222,\"\")","v":""},{"$f":"IF(ISBLANK(FromEvoM!I222),\"\",FromEvoM!I222)","v":""},{"$f":"IF(ISBLANK(FromEvoM!J222),\"\",FromEvoM!J222)","v":""},{"$f":"IF(ISBLANK(FromEvoM!K222),\"\",FromEvoM!K222)","v":""},{"$f":"IF(ISBLANK(FromEvoM!L222),\"\",FromEvoM!L222)","v":""},{"$f":"IF(ISBLANK(FromEvoM!M222),\"\",FromEvoM!M222)","v":""},{"$f":"IF(ISBLANK(FromEvoM!P222),\"\",FromEvoM!P222)","v":""},null,{"$f":"IF(ISNUMBER(FromEvoM!X222),FromEvoM!X222,\"\")","v":""},{"$f":"IF(ISNUMBER(FromEvoM!AB222),FromEvoM!AB222,\"\")","v":""},{"$f":"IF(ISNUMBER(FromEvoM!AA222),FromEvoM!AA222,\"\")","v":""},null,"","",null,null,{"$f":"IF(FromEvoM!W222=1,(FromEvoM!AB222*12),IF(FromEvoM!W222=7,(FromEvoM!AR222),\"\"))","v":""},null,null,{"$f":"IF(ISBLANK(FromEvoM!A222),\"\",IF(FromEvoM!AK222=\"y\",\"Y\",\"N\"))","v":""},{"$f":"IF(ISBLANK(FromEvoM!A222),\"\",Category_ID)","v":""},null,null,null,{"$f":"IF(ISBLANK(FromEvoM!AK222),\"\",FromEvoM!AK222)","v":""},{"$f":"IF(ISBLANK(FromEvoM!AM222),\"\",FromEvoM!AM222)","v":""},{"$f":"IF(ISBLANK(FromEvoM!AN222),\"\",FromEvoM!AN222)","v":""},{"$f":"IF(ISBLANK(FromEvoM!AL222),\"\",FromEvoM!AL222)","v":""},{"$f":"IF(ISBLANK(FromEvoM!A222),\"\",IF(AND(AF222=\"y\",AI222=1),\"Y\",\"N\"))","v":""},{"$f":"IF(ISBLANK(FromEvoM!A222),\"\",IF(FromEvoM!AS222=\"Yes\",2,1))","v":""},{"$f":"IF(FromEvoM!W222=1,\"M\",IF(FromEvoM!W222=7,\"W\",\"\"))","v":""},{"$f":"IF(AJ222=\"Y\",0,IF(AJ222=\"N\",FromEvoM!AF222+FromEvoM!AT222,\"\"))","v":""},{"$f":"IF(AJ222=\"Y\",(FromEvoM!AE222+FromEvoM!AF222-FromEvoM!AT222),IF(AJ222=\"N\",FromEvoM!AE222,\"\"))","v":""}]
[{"$f":"IF(ISBLANK(FromEvoM!A223),\"\",Group_Code)","v":""},{"$f":"IF(ISBLANK(FromEvoM!A223),\"\",SUBSTITUTE(FromEvoM!A223,\" \",\"\"))","v":""},{"$f":"IF(ISBLANK(FromEvoM!C223),\"\",SUBSTITUTE(FromEvoM!G223,\" \",\"\"))","v":""},{"$f":"IF(ISBLANK(FromEvoM!D223),\"\",FromEvoM!B223)","v":""},{"$f":"IF(ISBLANK(FromEvoM!D223),\"\",FromEvoM!D223)","v":""},{"$f":"IF(ISBLANK(FromEvoM!C223),\"\",FromEvoM!C223)","v":""},{"$f":"REPLACE(FromEvoM!F223,2,6, )","v":""},{"$f":"IF(ISNUMBER(FromEvoM!E223),FromEvoM!E223,\"\")","v":""},{"$f":"IF(ISBLANK(FromEvoM!I223),\"\",FromEvoM!I223)","v":""},{"$f":"IF(ISBLANK(FromEvoM!J223),\"\",FromEvoM!J223)","v":""},{"$f":"IF(ISBLANK(FromEvoM!K223),\"\",FromEvoM!K223)","v":""},{"$f":"IF(ISBLANK(FromEvoM!L223),\"\",FromEvoM!L223)","v":""},{"$f":"IF(ISBLANK(FromEvoM!M223),\"\",FromEvoM!M223)","v":""},{"$f":"IF(ISBLANK(FromEvoM!P223),\"\",FromEvoM!P223)","v":""},null,{"$f":"IF(ISNUMBER(FromEvoM!X223),FromEvoM!X223,\"\")","v":""},{"$f":"IF(ISNUMBER(FromEvoM!AB223),FromEvoM!AB223,\"\")","v":""},{"$f":"IF(ISNUMBER(FromEvoM!AA223),FromEvoM!AA223,\"\")","v":""},null,"","",null,null,{"$f":"IF(FromEvoM!W223=1,(FromEvoM!AB223*12),IF(FromEvoM!W223=7,(FromEvoM!AR223),\"\"))","v":""},null,null,{"$f":"IF(ISBLANK(FromEvoM!A223),\"\",IF(FromEvoM!AK223=\"y\",\"Y\",\"N\"))","v":""},{"$f":"IF(ISBLANK(FromEvoM!A223),\"\",Category_ID)","v":""},null,null,null,{"$f":"IF(ISBLANK(FromEvoM!AK223),\"\",FromEvoM!AK223)","v":""},{"$f":"IF(ISBLANK(FromEvoM!AM223),\"\",FromEvoM!AM223)","v":""},{"$f":"IF(ISBLANK(FromEvoM!AN223),\"\",FromEvoM!AN223)","v":""},{"$f":"IF(ISBLANK(FromEvoM!AL223),\"\",FromEvoM!AL223)","v":""},{"$f":"IF(ISBLANK(FromEvoM!A223),\"\",IF(AND(AF223=\"y\",AI223=1),\"Y\",\"N\"))","v":""},{"$f":"IF(ISBLANK(FromEvoM!A223),\"\",IF(FromEvoM!AS223=\"Yes\",2,1))","v":""},{"$f":"IF(FromEvoM!W223=1,\"M\",IF(FromEvoM!W223=7,\"W\",\"\"))","v":""},{"$f":"IF(AJ223=\"Y\",0,IF(AJ223=\"N\",FromEvoM!AF223+FromEvoM!AT223,\"\"))","v":""},{"$f":"IF(AJ223=\"Y\",(FromEvoM!AE223+FromEvoM!AF223-FromEvoM!AT223),IF(AJ223=\"N\",FromEvoM!AE223,\"\"))","v":""}]
[{"$f":"IF(ISBLANK(FromEvoM!A224),\"\",Group_Code)","v":""},{"$f":"IF(ISBLANK(FromEvoM!A224),\"\",SUBSTITUTE(FromEvoM!A224,\" \",\"\"))","v":""},{"$f":"IF(ISBLANK(FromEvoM!C224),\"\",SUBSTITUTE(FromEvoM!G224,\" \",\"\"))","v":""},{"$f":"IF(ISBLANK(FromEvoM!D224),\"\",FromEvoM!B224)","v":""},{"$f":"IF(ISBLANK(FromEvoM!D224),\"\",FromEvoM!D224)","v":""},{"$f":"IF(ISBLANK(FromEvoM!C224),\"\",FromEvoM!C224)","v":""},{"$f":"REPLACE(FromEvoM!F224,2,6, )","v":""},{"$f":"IF(ISNUMBER(FromEvoM!E224),FromEvoM!E224,\"\")","v":""},{"$f":"IF(ISBLANK(FromEvoM!I224),\"\",FromEvoM!I224)","v":""},{"$f":"IF(ISBLANK(FromEvoM!J224),\"\",FromEvoM!J224)","v":""},{"$f":"IF(ISBLANK(FromEvoM!K224),\"\",FromEvoM!K224)","v":""},{"$f":"IF(ISBLANK(FromEvoM!L224),\"\",FromEvoM!L224)","v":""},{"$f":"IF(ISBLANK(FromEvoM!M224),\"\",FromEvoM!M224)","v":""},{"$f":"IF(ISBLANK(FromEvoM!P224),\"\",FromEvoM!P224)","v":""},null,{"$f":"IF(ISNUMBER(FromEvoM!X224),FromEvoM!X224,\"\")","v":""},{"$f":"IF(ISNUMBER(FromEvoM!AB224),FromEvoM!AB224,\"\")","v":""},{"$f":"IF(ISNUMBER(FromEvoM!AA224),FromEvoM!AA224,\"\")","v":""},null,"","",null,null,{"$f":"IF(FromEvoM!W224=1,(FromEvoM!AB224*12),IF(FromEvoM!W224=7,(FromEvoM!AR224),\"\"))","v":""},null,null,{"$f":"IF(ISBLANK(FromEvoM!A224),\"\",IF(FromEvoM!AK224=\"y\",\"Y\",\"N\"))","v":""},{"$f":"IF(ISBLANK(FromEvoM!A224),\"\",Category_ID)","v":""},null,null,null,{"$f":"IF(ISBLANK(FromEvoM!AK224),\"\",FromEvoM!AK224)","v":""},{"$f":"IF(ISBLANK(FromEvoM!AM224),\"\",FromEvoM!AM224)","v":""},{"$f":"IF(ISBLANK(FromEvoM!AN224),\"\",FromEvoM!AN224)","v":""},{"$f":"IF(ISBLANK(FromEvoM!AL224),\"\",FromEvoM!AL224)","v":""},{"$f":"IF(ISBLANK(FromEvoM!A224),\"\",IF(AND(AF224=\"y\",AI224=1),\"Y\",\"N\"))","v":""},{"$f":"IF(ISBLANK(FromEvoM!A224),\"\",IF(FromEvoM!AS224=\"Yes\",2,1))","v":""},{"$f":"IF(FromEvoM!W224=1,\"M\",IF(FromEvoM!W224=7,\"W\",\"\"))","v":""},{"$f":"IF(AJ224=\"Y\",0,IF(AJ224=\"N\",FromEvoM!AF224+FromEvoM!AT224,\"\"))","v":""},{"$f":"IF(AJ224=\"Y\",(FromEvoM!AE224+FromEvoM!AF224-FromEvoM!AT224),IF(AJ224=\"N\",FromEvoM!AE224,\"\"))","v":""}]
[{"$f":"IF(ISBLANK(FromEvoM!A225),\"\",Group_Code)","v":""},{"$f":"IF(ISBLANK(FromEvoM!A225),\"\",SUBSTITUTE(FromEvoM!A225,\" \",\"\"))","v":""},{"$f":"IF(ISBLANK(FromEvoM!C225),\"\",SUBSTITUTE(FromEvoM!G225,\" \",\"\"))","v":""},{"$f":"IF(ISBLANK(FromEvoM!D225),\"\",FromEvoM!B225)","v":""},{"$f":"IF(ISBLANK(FromEvoM!D225),\"\",FromEvoM!D225)","v":""},{"$f":"IF(ISBLANK(FromEvoM!C225),\"\",FromEvoM!C225)","v":""},{"$f":"REPLACE(FromEvoM!F225,2,6, )","v":""},{"$f":"IF(ISNUMBER(FromEvoM!E225),FromEvoM!E225,\"\")","v":""},{"$f":"IF(ISBLANK(FromEvoM!I225),\"\",FromEvoM!I225)","v":""},{"$f":"IF(ISBLANK(FromEvoM!J225),\"\",FromEvoM!J225)","v":""},{"$f":"IF(ISBLANK(FromEvoM!K225),\"\",FromEvoM!K225)","v":""},{"$f":"IF(ISBLANK(FromEvoM!L225),\"\",FromEvoM!L225)","v":""},{"$f":"IF(ISBLANK(FromEvoM!M225),\"\",FromEvoM!M225)","v":""},{"$f":"IF(ISBLANK(FromEvoM!P225),\"\",FromEvoM!P225)","v":""},null,{"$f":"IF(ISNUMBER(FromEvoM!X225),FromEvoM!X225,\"\")","v":""},{"$f":"IF(ISNUMBER(FromEvoM!AB225),FromEvoM!AB225,\"\")","v":""},{"$f":"IF(ISNUMBER(FromEvoM!AA225),FromEvoM!AA225,\"\")","v":""},null,"","",null,null,{"$f":"IF(FromEvoM!W225=1,(FromEvoM!AB225*12),IF(FromEvoM!W225=7,(FromEvoM!AR225),\"\"))","v":""},null,null,{"$f":"IF(ISBLANK(FromEvoM!A225),\"\",IF(FromEvoM!AK225=\"y\",\"Y\",\"N\"))","v":""},{"$f":"IF(ISBLANK(FromEvoM!A225),\"\",Category_ID)","v":""},null,null,null,{"$f":"IF(ISBLANK(FromEvoM!AK225),\"\",FromEvoM!AK225)","v":""},{"$f":"IF(ISBLANK(FromEvoM!AM225),\"\",FromEvoM!AM225)","v":""},{"$f":"IF(ISBLANK(FromEvoM!AN225),\"\",FromEvoM!AN225)","v":""},{"$f":"IF(ISBLANK(FromEvoM!AL225),\"\",FromEvoM!AL225)","v":""},{"$f":"IF(ISBLANK(FromEvoM!A225),\"\",IF(AND(AF225=\"y\",AI225=1),\"Y\",\"N\"))","v":""},{"$f":"IF(ISBLANK(FromEvoM!A225),\"\",IF(FromEvoM!AS225=\"Yes\",2,1))","v":""},{"$f":"IF(FromEvoM!W225=1,\"M\",IF(FromEvoM!W225=7,\"W\",\"\"))","v":""},{"$f":"IF(AJ225=\"Y\",0,IF(AJ225=\"N\",FromEvoM!AF225+FromEvoM!AT225,\"\"))","v":""},{"$f":"IF(AJ225=\"Y\",(FromEvoM!AE225+FromEvoM!AF225-FromEvoM!AT225),IF(AJ225=\"N\",FromEvoM!AE225,\"\"))","v":""}]
[{"$f":"IF(ISBLANK(FromEvoM!A226),\"\",Group_Code)","v":""},{"$f":"IF(ISBLANK(FromEvoM!A226),\"\",SUBSTITUTE(FromEvoM!A226,\" \",\"\"))","v":""},{"$f":"IF(ISBLANK(FromEvoM!C226),\"\",SUBSTITUTE(FromEvoM!G226,\" \",\"\"))","v":""},{"$f":"IF(ISBLANK(FromEvoM!D226),\"\",FromEvoM!B226)","v":""},{"$f":"IF(ISBLANK(FromEvoM!D226),\"\",FromEvoM!D226)","v":""},{"$f":"IF(ISBLANK(FromEvoM!C226),\"\",FromEvoM!C226)","v":""},{"$f":"REPLACE(FromEvoM!F226,2,6, )","v":""},{"$f":"IF(ISNUMBER(FromEvoM!E226),FromEvoM!E226,\"\")","v":""},{"$f":"IF(ISBLANK(FromEvoM!I226),\"\",FromEvoM!I226)","v":""},{"$f":"IF(ISBLANK(FromEvoM!J226),\"\",FromEvoM!J226)","v":""},{"$f":"IF(ISBLANK(FromEvoM!K226),\"\",FromEvoM!K226)","v":""},{"$f":"IF(ISBLANK(FromEvoM!L226),\"\",FromEvoM!L226)","v":""},{"$f":"IF(ISBLANK(FromEvoM!M226),\"\",FromEvoM!M226)","v":""},{"$f":"IF(ISBLANK(FromEvoM!P226),\"\",FromEvoM!P226)","v":""},null,{"$f":"IF(ISNUMBER(FromEvoM!X226),FromEvoM!X226,\"\")","v":""},{"$f":"IF(ISNUMBER(FromEvoM!AB226),FromEvoM!AB226,\"\")","v":""},{"$f":"IF(ISNUMBER(FromEvoM!AA226),FromEvoM!AA226,\"\")","v":""},null,"","",null,null,{"$f":"IF(FromEvoM!W226=1,(FromEvoM!AB226*12),IF(FromEvoM!W226=7,(FromEvoM!AR226),\"\"))","v":""},null,null,{"$f":"IF(ISBLANK(FromEvoM!A226),\"\",IF(FromEvoM!AK226=\"y\",\"Y\",\"N\"))","v":""},{"$f":"IF(ISBLANK(FromEvoM!A226),\"\",Category_ID)","v":""},null,null,null,{"$f":"IF(ISBLANK(FromEvoM!AK226),\"\",FromEvoM!AK226)","v":""},{"$f":"IF(ISBLANK(FromEvoM!AM226),\"\",FromEvoM!AM226)","v":""},{"$f":"IF(ISBLANK(FromEvoM!AN226),\"\",FromEvoM!AN226)","v":""},{"$f":"IF(ISBLANK(FromEvoM!AL226),\"\",FromEvoM!AL226)","v":""},{"$f":"IF(ISBLANK(FromEvoM!A226),\"\",IF(AND(AF226=\"y\",AI226=1),\"Y\",\"N\"))","v":""},{"$f":"IF(ISBLANK(FromEvoM!A226),\"\",IF(FromEvoM!AS226=\"Yes\",2,1))","v":""},{"$f":"IF(FromEvoM!W226=1,\"M\",IF(FromEvoM!W226=7,\"W\",\"\"))","v":""},{"$f":"IF(AJ226=\"Y\",0,IF(AJ226=\"N\",FromEvoM!AF226+FromEvoM!AT226,\"\"))","v":""},{"$f":"IF(AJ226=\"Y\",(FromEvoM!AE226+FromEvoM!AF226-FromEvoM!AT226),IF(AJ226=\"N\",FromEvoM!AE226,\"\"))","v":""}]
[{"$f":"IF(ISBLANK(FromEvoM!A227),\"\",Group_Code)","v":""},{"$f":"IF(ISBLANK(FromEvoM!A227),\"\",SUBSTITUTE(FromEvoM!A227,\" \",\"\"))","v":""},{"$f":"IF(ISBLANK(FromEvoM!C227),\"\",SUBSTITUTE(FromEvoM!G227,\" \",\"\"))","v":""},{"$f":"IF(ISBLANK(FromEvoM!D227),\"\",FromEvoM!B227)","v":""},{"$f":"IF(ISBLANK(FromEvoM!D227),\"\",FromEvoM!D227)","v":""},{"$f":"IF(ISBLANK(FromEvoM!C227),\"\",FromEvoM!C227)","v":""},{"$f":"REPLACE(FromEvoM!F227,2,6, )","v":""},{"$f":"IF(ISNUMBER(FromEvoM!E227),FromEvoM!E227,\"\")","v":""},{"$f":"IF(ISBLANK(FromEvoM!I227),\"\",FromEvoM!I227)","v":""},{"$f":"IF(ISBLANK(FromEvoM!J227),\"\",FromEvoM!J227)","v":""},{"$f":"IF(ISBLANK(FromEvoM!K227),\"\",FromEvoM!K227)","v":""},{"$f":"IF(ISBLANK(FromEvoM!L227),\"\",FromEvoM!L227)","v":""},{"$f":"IF(ISBLANK(FromEvoM!M227),\"\",FromEvoM!M227)","v":""},{"$f":"IF(ISBLANK(FromEvoM!P227),\"\",FromEvoM!P227)","v":""},null,{"$f":"IF(ISNUMBER(FromEvoM!X227),FromEvoM!X227,\"\")","v":""},{"$f":"IF(ISNUMBER(FromEvoM!AB227),FromEvoM!AB227,\"\")","v":""},{"$f":"IF(ISNUMBER(FromEvoM!AA227),FromEvoM!AA227,\"\")","v":""},null,"","",null,null,{"$f":"IF(FromEvoM!W227=1,(FromEvoM!AB227*12),IF(FromEvoM!W227=7,(FromEvoM!AR227),\"\"))","v":""},null,null,{"$f":"IF(ISBLANK(FromEvoM!A227),\"\",IF(FromEvoM!AK227=\"y\",\"Y\",\"N\"))","v":""},{"$f":"IF(ISBLANK(FromEvoM!A227),\"\",Category_ID)","v":""},null,null,null,{"$f":"IF(ISBLANK(FromEvoM!AK227),\"\",FromEvoM!AK227)","v":""},{"$f":"IF(ISBLANK(FromEvoM!AM227),\"\",FromEvoM!AM227)","v":""},{"$f":"IF(ISBLANK(FromEvoM!AN227),\"\",FromEvoM!AN227)","v":""},{"$f":"IF(ISBLANK(FromEvoM!AL227),\"\",FromEvoM!AL227)","v":""},{"$f":"IF(ISBLANK(FromEvoM!A227),\"\",IF(AND(AF227=\"y\",AI227=1),\"Y\",\"N\"))","v":""},{"$f":"IF(ISBLANK(FromEvoM!A227),\"\",IF(FromEvoM!AS227=\"Yes\",2,1))","v":""},{"$f":"IF(FromEvoM!W227=1,\"M\",IF(FromEvoM!W227=7,\"W\",\"\"))","v":""},{"$f":"IF(AJ227=\"Y\",0,IF(AJ227=\"N\",FromEvoM!AF227+FromEvoM!AT227,\"\"))","v":""},{"$f":"IF(AJ227=\"Y\",(FromEvoM!AE227+FromEvoM!AF227-FromEvoM!AT227),IF(AJ227=\"N\",FromEvoM!AE227,\"\"))","v":""}]
[{"$f":"IF(ISBLANK(FromEvoM!A228),\"\",Group_Code)","v":""},{"$f":"IF(ISBLANK(FromEvoM!A228),\"\",SUBSTITUTE(FromEvoM!A228,\" \",\"\"))","v":""},{"$f":"IF(ISBLANK(FromEvoM!C228),\"\",SUBSTITUTE(FromEvoM!G228,\" \",\"\"))","v":""},{"$f":"IF(ISBLANK(FromEvoM!D228),\"\",FromEvoM!B228)","v":""},{"$f":"IF(ISBLANK(FromEvoM!D228),\"\",FromEvoM!D228)","v":""},{"$f":"IF(ISBLANK(FromEvoM!C228),\"\",FromEvoM!C228)","v":""},{"$f":"REPLACE(FromEvoM!F228,2,6, )","v":""},{"$f":"IF(ISNUMBER(FromEvoM!E228),FromEvoM!E228,\"\")","v":""},{"$f":"IF(ISBLANK(FromEvoM!I228),\"\",FromEvoM!I228)","v":""},{"$f":"IF(ISBLANK(FromEvoM!J228),\"\",FromEvoM!J228)","v":""},{"$f":"IF(ISBLANK(FromEvoM!K228),\"\",FromEvoM!K228)","v":""},{"$f":"IF(ISBLANK(FromEvoM!L228),\"\",FromEvoM!L228)","v":""},{"$f":"IF(ISBLANK(FromEvoM!M228),\"\",FromEvoM!M228)","v":""},{"$f":"IF(ISBLANK(FromEvoM!P228),\"\",FromEvoM!P228)","v":""},null,{"$f":"IF(ISNUMBER(FromEvoM!X228),FromEvoM!X228,\"\")","v":""},{"$f":"IF(ISNUMBER(FromEvoM!AB228),FromEvoM!AB228,\"\")","v":""},{"$f":"IF(ISNUMBER(FromEvoM!AA228),FromEvoM!AA228,\"\")","v":""},null,"","",null,null,{"$f":"IF(FromEvoM!W228=1,(FromEvoM!AB228*12),IF(FromEvoM!W228=7,(FromEvoM!AR228),\"\"))","v":""},null,null,{"$f":"IF(ISBLANK(FromEvoM!A228),\"\",IF(FromEvoM!AK228=\"y\",\"Y\",\"N\"))","v":""},{"$f":"IF(ISBLANK(FromEvoM!A228),\"\",Category_ID)","v":""},null,null,null,{"$f":"IF(ISBLANK(FromEvoM!AK228),\"\",FromEvoM!AK228)","v":""},{"$f":"IF(ISBLANK(FromEvoM!AM228),\"\",FromEvoM!AM228)","v":""},{"$f":"IF(ISBLANK(FromEvoM!AN228),\"\",FromEvoM!AN228)","v":""},{"$f":"IF(ISBLANK(FromEvoM!AL228),\"\",FromEvoM!AL228)","v":""},{"$f":"IF(ISBLANK(FromEvoM!A228),\"\",IF(AND(AF228=\"y\",AI228=1),\"Y\",\"N\"))","v":""},{"$f":"IF(ISBLANK(FromEvoM!A228),\"\",IF(FromEvoM!AS228=\"Yes\",2,1))","v":""},{"$f":"IF(FromEvoM!W228=1,\"M\",IF(FromEvoM!W228=7,\"W\",\"\"))","v":""},{"$f":"IF(AJ228=\"Y\",0,IF(AJ228=\"N\",FromEvoM!AF228+FromEvoM!AT228,\"\"))","v":""},{"$f":"IF(AJ228=\"Y\",(FromEvoM!AE228+FromEvoM!AF228-FromEvoM!AT228),IF(AJ228=\"N\",FromEvoM!AE228,\"\"))","v":""}]
[{"$f":"IF(ISBLANK(FromEvoM!A229),\"\",Group_Code)","v":""},{"$f":"IF(ISBLANK(FromEvoM!A229),\"\",SUBSTITUTE(FromEvoM!A229,\" \",\"\"))","v":""},{"$f":"IF(ISBLANK(FromEvoM!C229),\"\",SUBSTITUTE(FromEvoM!G229,\" \",\"\"))","v":""},{"$f":"IF(ISBLANK(FromEvoM!D229),\"\",FromEvoM!B229)","v":""},{"$f":"IF(ISBLANK(FromEvoM!D229),\"\",FromEvoM!D229)","v":""},{"$f":"IF(ISBLANK(FromEvoM!C229),\"\",FromEvoM!C229)","v":""},{"$f":"REPLACE(FromEvoM!F229,2,6, )","v":""},{"$f":"IF(ISNUMBER(FromEvoM!E229),FromEvoM!E229,\"\")","v":""},{"$f":"IF(ISBLANK(FromEvoM!I229),\"\",FromEvoM!I229)","v":""},{"$f":"IF(ISBLANK(FromEvoM!J229),\"\",FromEvoM!J229)","v":""},{"$f":"IF(ISBLANK(FromEvoM!K229),\"\",FromEvoM!K229)","v":""},{"$f":"IF(ISBLANK(FromEvoM!L229),\"\",FromEvoM!L229)","v":""},{"$f":"IF(ISBLANK(FromEvoM!M229),\"\",FromEvoM!M229)","v":""},{"$f":"IF(ISBLANK(FromEvoM!P229),\"\",FromEvoM!P229)","v":""},null,{"$f":"IF(ISNUMBER(FromEvoM!X229),FromEvoM!X229,\"\")","v":""},{"$f":"IF(ISNUMBER(FromEvoM!AB229),FromEvoM!AB229,\"\")","v":""},{"$f":"IF(ISNUMBER(FromEvoM!AA229),FromEvoM!AA229,\"\")","v":""},null,"","",null,null,{"$f":"IF(FromEvoM!W229=1,(FromEvoM!AB229*12),IF(FromEvoM!W229=7,(FromEvoM!AR229),\"\"))","v":""},null,null,{"$f":"IF(ISBLANK(FromEvoM!A229),\"\",IF(FromEvoM!AK229=\"y\",\"Y\",\"N\"))","v":""},{"$f":"IF(ISBLANK(FromEvoM!A229),\"\",Category_ID)","v":""},null,null,null,{"$f":"IF(ISBLANK(FromEvoM!AK229),\"\",FromEvoM!AK229)","v":""},{"$f":"IF(ISBLANK(FromEvoM!AM229),\"\",FromEvoM!AM229)","v":""},{"$f":"IF(ISBLANK(FromEvoM!AN229),\"\",FromEvoM!AN229)","v":""},{"$f":"IF(ISBLANK(FromEvoM!AL229),\"\",FromEvoM!AL229)","v":""},{"$f":"IF(ISBLANK(FromEvoM!A229),\"\",IF(AND(AF229=\"y\",AI229=1),\"Y\",\"N\"))","v":""},{"$f":"IF(ISBLANK(FromEvoM!A229),\"\",IF(FromEvoM!AS229=\"Yes\",2,1))","v":""},{"$f":"IF(FromEvoM!W229=1,\"M\",IF(FromEvoM!W229=7,\"W\",\"\"))","v":""},{"$f":"IF(AJ229=\"Y\",0,IF(AJ229=\"N\",FromEvoM!AF229+FromEvoM!AT229,\"\"))","v":""},{"$f":"IF(AJ229=\"Y\",(FromEvoM!AE229+FromEvoM!AF229-FromEvoM!AT229),IF(AJ229=\"N\",FromEvoM!AE229,\"\"))","v":""}]
[{"$f":"IF(ISBLANK(FromEvoM!A230),\"\",Group_Code)","v":""},{"$f":"IF(ISBLANK(FromEvoM!A230),\"\",SUBSTITUTE(FromEvoM!A230,\" \",\"\"))","v":""},{"$f":"IF(ISBLANK(FromEvoM!C230),\"\",SUBSTITUTE(FromEvoM!G230,\" \",\"\"))","v":""},{"$f":"IF(ISBLANK(FromEvoM!D230),\"\",FromEvoM!B230)","v":""},{"$f":"IF(ISBLANK(FromEvoM!D230),\"\",FromEvoM!D230)","v":""},{"$f":"IF(ISBLANK(FromEvoM!C230),\"\",FromEvoM!C230)","v":""},{"$f":"REPLACE(FromEvoM!F230,2,6, )","v":""},{"$f":"IF(ISNUMBER(FromEvoM!E230),FromEvoM!E230,\"\")","v":""},{"$f":"IF(ISBLANK(FromEvoM!I230),\"\",FromEvoM!I230)","v":""},{"$f":"IF(ISBLANK(FromEvoM!J230),\"\",FromEvoM!J230)","v":""},{"$f":"IF(ISBLANK(FromEvoM!K230),\"\",FromEvoM!K230)","v":""},{"$f":"IF(ISBLANK(FromEvoM!L230),\"\",FromEvoM!L230)","v":""},{"$f":"IF(ISBLANK(FromEvoM!M230),\"\",FromEvoM!M230)","v":""},{"$f":"IF(ISBLANK(FromEvoM!P230),\"\",FromEvoM!P230)","v":""},null,{"$f":"IF(ISNUMBER(FromEvoM!X230),FromEvoM!X230,\"\")","v":""},{"$f":"IF(ISNUMBER(FromEvoM!AB230),FromEvoM!AB230,\"\")","v":""},{"$f":"IF(ISNUMBER(FromEvoM!AA230),FromEvoM!AA230,\"\")","v":""},null,"","",null,null,{"$f":"IF(FromEvoM!W230=1,(FromEvoM!AB230*12),IF(FromEvoM!W230=7,(FromEvoM!AR230),\"\"))","v":""},null,null,{"$f":"IF(ISBLANK(FromEvoM!A230),\"\",IF(FromEvoM!AK230=\"y\",\"Y\",\"N\"))","v":""},{"$f":"IF(ISBLANK(FromEvoM!A230),\"\",Category_ID)","v":""},null,null,null,{"$f":"IF(ISBLANK(FromEvoM!AK230),\"\",FromEvoM!AK230)","v":""},{"$f":"IF(ISBLANK(FromEvoM!AM230),\"\",FromEvoM!AM230)","v":""},{"$f":"IF(ISBLANK(FromEvoM!AN230),\"\",FromEvoM!AN230)","v":""},{"$f":"IF(ISBLANK(FromEvoM!AL230),\"\",FromEvoM!AL230)","v":""},{"$f":"IF(ISBLANK(FromEvoM!A230),\"\",IF(AND(AF230=\"y\",AI230=1),\"Y\",\"N\"))","v":""},{"$f":"IF(ISBLANK(FromEvoM!A230),\"\",IF(FromEvoM!AS230=\"Yes\",2,1))","v":""},{"$f":"IF(FromEvoM!W230=1,\"M\",IF(FromEvoM!W230=7,\"W\",\"\"))","v":""},{"$f":"IF(AJ230=\"Y\",0,IF(AJ230=\"N\",FromEvoM!AF230+FromEvoM!AT230,\"\"))","v":""},{"$f":"IF(AJ230=\"Y\",(FromEvoM!AE230+FromEvoM!AF230-FromEvoM!AT230),IF(AJ230=\"N\",FromEvoM!AE230,\"\"))","v":""}]
[{"$f":"IF(ISBLANK(FromEvoM!A231),\"\",Group_Code)","v":""},{"$f":"IF(ISBLANK(FromEvoM!A231),\"\",SUBSTITUTE(FromEvoM!A231,\" \",\"\"))","v":""},{"$f":"IF(ISBLANK(FromEvoM!C231),\"\",SUBSTITUTE(FromEvoM!G231,\" \",\"\"))","v":""},{"$f":"IF(ISBLANK(FromEvoM!D231),\"\",FromEvoM!B231)","v":""},{"$f":"IF(ISBLANK(FromEvoM!D231),\"\",FromEvoM!D231)","v":""},{"$f":"IF(ISBLANK(FromEvoM!C231),\"\",FromEvoM!C231)","v":""},{"$f":"REPLACE(FromEvoM!F231,2,6, )","v":""},{"$f":"IF(ISNUMBER(FromEvoM!E231),FromEvoM!E231,\"\")","v":""},{"$f":"IF(ISBLANK(FromEvoM!I231),\"\",FromEvoM!I231)","v":""},{"$f":"IF(ISBLANK(FromEvoM!J231),\"\",FromEvoM!J231)","v":""},{"$f":"IF(ISBLANK(FromEvoM!K231),\"\",FromEvoM!K231)","v":""},{"$f":"IF(ISBLANK(FromEvoM!L231),\"\",FromEvoM!L231)","v":""},{"$f":"IF(ISBLANK(FromEvoM!M231),\"\",FromEvoM!M231)","v":""},{"$f":"IF(ISBLANK(FromEvoM!P231),\"\",FromEvoM!P231)","v":""},null,{"$f":"IF(ISNUMBER(FromEvoM!X231),FromEvoM!X231,\"\")","v":""},{"$f":"IF(ISNUMBER(FromEvoM!AB231),FromEvoM!AB231,\"\")","v":""},{"$f":"IF(ISNUMBER(FromEvoM!AA231),FromEvoM!AA231,\"\")","v":""},null,"","",null,null,{"$f":"IF(FromEvoM!W231=1,(FromEvoM!AB231*12),IF(FromEvoM!W231=7,(FromEvoM!AR231),\"\"))","v":""},null,null,{"$f":"IF(ISBLANK(FromEvoM!A231),\"\",IF(FromEvoM!AK231=\"y\",\"Y\",\"N\"))","v":""},{"$f":"IF(ISBLANK(FromEvoM!A231),\"\",Category_ID)","v":""},null,null,null,{"$f":"IF(ISBLANK(FromEvoM!AK231),\"\",FromEvoM!AK231)","v":""},{"$f":"IF(ISBLANK(FromEvoM!AM231),\"\",FromEvoM!AM231)","v":""},{"$f":"IF(ISBLANK(FromEvoM!AN231),\"\",FromEvoM!AN231)","v":""},{"$f":"IF(ISBLANK(FromEvoM!AL231),\"\",FromEvoM!AL231)","v":""},{"$f":"IF(ISBLANK(FromEvoM!A231),\"\",IF(AND(AF231=\"y\",AI231=1),\"Y\",\"N\"))","v":""},{"$f":"IF(ISBLANK(FromEvoM!A231),\"\",IF(FromEvoM!AS231=\"Yes\",2,1))","v":""},{"$f":"IF(FromEvoM!W231=1,\"M\",IF(FromEvoM!W231=7,\"W\",\"\"))","v":""},{"$f":"IF(AJ231=\"Y\",0,IF(AJ231=\"N\",FromEvoM!AF231+FromEvoM!AT231,\"\"))","v":""},{"$f":"IF(AJ231=\"Y\",(FromEvoM!AE231+FromEvoM!AF231-FromEvoM!AT231),IF(AJ231=\"N\",FromEvoM!AE231,\"\"))","v":""}]
[{"$f":"IF(ISBLANK(FromEvoM!A232),\"\",Group_Code)","v":""},{"$f":"IF(ISBLANK(FromEvoM!A232),\"\",SUBSTITUTE(FromEvoM!A232,\" \",\"\"))","v":""},{"$f":"IF(ISBLANK(FromEvoM!C232),\"\",SUBSTITUTE(FromEvoM!G232,\" \",\"\"))","v":""},{"$f":"IF(ISBLANK(FromEvoM!D232),\"\",FromEvoM!B232)","v":""},{"$f":"IF(ISBLANK(FromEvoM!D232),\"\",FromEvoM!D232)","v":""},{"$f":"IF(ISBLANK(FromEvoM!C232),\"\",FromEvoM!C232)","v":""},{"$f":"REPLACE(FromEvoM!F232,2,6, )","v":""},{"$f":"IF(ISNUMBER(FromEvoM!E232),FromEvoM!E232,\"\")","v":""},{"$f":"IF(ISBLANK(FromEvoM!I232),\"\",FromEvoM!I232)","v":""},{"$f":"IF(ISBLANK(FromEvoM!J232),\"\",FromEvoM!J232)","v":""},{"$f":"IF(ISBLANK(FromEvoM!K232),\"\",FromEvoM!K232)","v":""},{"$f":"IF(ISBLANK(FromEvoM!L232),\"\",FromEvoM!L232)","v":""},{"$f":"IF(ISBLANK(FromEvoM!M232),\"\",FromEvoM!M232)","v":""},{"$f":"IF(ISBLANK(FromEvoM!P232),\"\",FromEvoM!P232)","v":""},null,{"$f":"IF(ISNUMBER(FromEvoM!X232),FromEvoM!X232,\"\")","v":""},{"$f":"IF(ISNUMBER(FromEvoM!AB232),FromEvoM!AB232,\"\")","v":""},{"$f":"IF(ISNUMBER(FromEvoM!AA232),FromEvoM!AA232,\"\")","v":""},null,"","",null,null,{"$f":"IF(FromEvoM!W232=1,(FromEvoM!AB232*12),IF(FromEvoM!W232=7,(FromEvoM!AR232),\"\"))","v":""},null,null,{"$f":"IF(ISBLANK(FromEvoM!A232),\"\",IF(FromEvoM!AK232=\"y\",\"Y\",\"N\"))","v":""},{"$f":"IF(ISBLANK(FromEvoM!A232),\"\",Category_ID)","v":""},null,null,null,{"$f":"IF(ISBLANK(FromEvoM!AK232),\"\",FromEvoM!AK232)","v":""},{"$f":"IF(ISBLANK(FromEvoM!AM232),\"\",FromEvoM!AM232)","v":""},{"$f":"IF(ISBLANK(FromEvoM!AN232),\"\",FromEvoM!AN232)","v":""},{"$f":"IF(ISBLANK(FromEvoM!AL232),\"\",FromEvoM!AL232)","v":""},{"$f":"IF(ISBLANK(FromEvoM!A232),\"\",IF(AND(AF232=\"y\",AI232=1),\"Y\",\"N\"))","v":""},{"$f":"IF(ISBLANK(FromEvoM!A232),\"\",IF(FromEvoM!AS232=\"Yes\",2,1))","v":""},{"$f":"IF(FromEvoM!W232=1,\"M\",IF(FromEvoM!W232=7,\"W\",\"\"))","v":""},{"$f":"IF(AJ232=\"Y\",0,IF(AJ232=\"N\",FromEvoM!AF232+FromEvoM!AT232,\"\"))","v":""},{"$f":"IF(AJ232=\"Y\",(FromEvoM!AE232+FromEvoM!AF232-FromEvoM!AT232),IF(AJ232=\"N\",FromEvoM!AE232,\"\"))","v":""}]
[{"$f":"IF(ISBLANK(FromEvoM!A233),\"\",Group_Code)","v":""},{"$f":"IF(ISBLANK(FromEvoM!A233),\"\",SUBSTITUTE(FromEvoM!A233,\" \",\"\"))","v":""},{"$f":"IF(ISBLANK(FromEvoM!C233),\"\",SUBSTITUTE(FromEvoM!G233,\" \",\"\"))","v":""},{"$f":"IF(ISBLANK(FromEvoM!D233),\"\",FromEvoM!B233)","v":""},{"$f":"IF(ISBLANK(FromEvoM!D233),\"\",FromEvoM!D233)","v":""},{"$f":"IF(ISBLANK(FromEvoM!C233),\"\",FromEvoM!C233)","v":""},{"$f":"REPLACE(FromEvoM!F233,2,6, )","v":""},{"$f":"IF(ISNUMBER(FromEvoM!E233),FromEvoM!E233,\"\")","v":""},{"$f":"IF(ISBLANK(FromEvoM!I233),\"\",FromEvoM!I233)","v":""},{"$f":"IF(ISBLANK(FromEvoM!J233),\"\",FromEvoM!J233)","v":""},{"$f":"IF(ISBLANK(FromEvoM!K233),\"\",FromEvoM!K233)","v":""},{"$f":"IF(ISBLANK(FromEvoM!L233),\"\",FromEvoM!L233)","v":""},{"$f":"IF(ISBLANK(FromEvoM!M233),\"\",FromEvoM!M233)","v":""},{"$f":"IF(ISBLANK(FromEvoM!P233),\"\",FromEvoM!P233)","v":""},null,{"$f":"IF(ISNUMBER(FromEvoM!X233),FromEvoM!X233,\"\")","v":""},{"$f":"IF(ISNUMBER(FromEvoM!AB233),FromEvoM!AB233,\"\")","v":""},{"$f":"IF(ISNUMBER(FromEvoM!AA233),FromEvoM!AA233,\"\")","v":""},null,"","",null,null,{"$f":"IF(FromEvoM!W233=1,(FromEvoM!AB233*12),IF(FromEvoM!W233=7,(FromEvoM!AR233),\"\"))","v":""},null,null,{"$f":"IF(ISBLANK(FromEvoM!A233),\"\",IF(FromEvoM!AK233=\"y\",\"Y\",\"N\"))","v":""},{"$f":"IF(ISBLANK(FromEvoM!A233),\"\",Category_ID)","v":""},null,null,null,{"$f":"IF(ISBLANK(FromEvoM!AK233),\"\",FromEvoM!AK233)","v":""},{"$f":"IF(ISBLANK(FromEvoM!AM233),\"\",FromEvoM!AM233)","v":""},{"$f":"IF(ISBLANK(FromEvoM!AN233),\"\",FromEvoM!AN233)","v":""},{"$f":"IF(ISBLANK(FromEvoM!AL233),\"\",FromEvoM!AL233)","v":""},{"$f":"IF(ISBLANK(FromEvoM!A233),\"\",IF(AND(AF233=\"y\",AI233=1),\"Y\",\"N\"))","v":""},{"$f":"IF(ISBLANK(FromEvoM!A233),\"\",IF(FromEvoM!AS233=\"Yes\",2,1))","v":""},{"$f":"IF(FromEvoM!W233=1,\"M\",IF(FromEvoM!W233=7,\"W\",\"\"))","v":""},{"$f":"IF(AJ233=\"Y\",0,IF(AJ233=\"N\",FromEvoM!AF233+FromEvoM!AT233,\"\"))","v":""},{"$f":"IF(AJ233=\"Y\",(FromEvoM!AE233+FromEvoM!AF233-FromEvoM!AT233),IF(AJ233=\"N\",FromEvoM!AE233,\"\"))","v":""}]
[{"$f":"IF(ISBLANK(FromEvoM!A234),\"\",Group_Code)","v":""},{"$f":"IF(ISBLANK(FromEvoM!A234),\"\",SUBSTITUTE(FromEvoM!A234,\" \",\"\"))","v":""},{"$f":"IF(ISBLANK(FromEvoM!C234),\"\",SUBSTITUTE(FromEvoM!G234,\" \",\"\"))","v":""},{"$f":"IF(ISBLANK(FromEvoM!D234),\"\",FromEvoM!B234)","v":""},{"$f":"IF(ISBLANK(FromEvoM!D234),\"\",FromEvoM!D234)","v":""},{"$f":"IF(ISBLANK(FromEvoM!C234),\"\",FromEvoM!C234)","v":""},{"$f":"REPLACE(FromEvoM!F234,2,6, )","v":""},{"$f":"IF(ISNUMBER(FromEvoM!E234),FromEvoM!E234,\"\")","v":""},{"$f":"IF(ISBLANK(FromEvoM!I234),\"\",FromEvoM!I234)","v":""},{"$f":"IF(ISBLANK(FromEvoM!J234),\"\",FromEvoM!J234)","v":""},{"$f":"IF(ISBLANK(FromEvoM!K234),\"\",FromEvoM!K234)","v":""},{"$f":"IF(ISBLANK(FromEvoM!L234),\"\",FromEvoM!L234)","v":""},{"$f":"IF(ISBLANK(FromEvoM!M234),\"\",FromEvoM!M234)","v":""},{"$f":"IF(ISBLANK(FromEvoM!P234),\"\",FromEvoM!P234)","v":""},null,{"$f":"IF(ISNUMBER(FromEvoM!X234),FromEvoM!X234,\"\")","v":""},{"$f":"IF(ISNUMBER(FromEvoM!AB234),FromEvoM!AB234,\"\")","v":""},{"$f":"IF(ISNUMBER(FromEvoM!AA234),FromEvoM!AA234,\"\")","v":""},null,"","",null,null,{"$f":"IF(FromEvoM!W234=1,(FromEvoM!AB234*12),IF(FromEvoM!W234=7,(FromEvoM!AR234),\"\"))","v":""},null,null,{"$f":"IF(ISBLANK(FromEvoM!A234),\"\",IF(FromEvoM!AK234=\"y\",\"Y\",\"N\"))","v":""},{"$f":"IF(ISBLANK(FromEvoM!A234),\"\",Category_ID)","v":""},null,null,null,{"$f":"IF(ISBLANK(FromEvoM!AK234),\"\",FromEvoM!AK234)","v":""},{"$f":"IF(ISBLANK(FromEvoM!AM234),\"\",FromEvoM!AM234)","v":""},{"$f":"IF(ISBLANK(FromEvoM!AN234),\"\",FromEvoM!AN234)","v":""},{"$f":"IF(ISBLANK(FromEvoM!AL234),\"\",FromEvoM!AL234)","v":""},{"$f":"IF(ISBLANK(FromEvoM!A234),\"\",IF(AND(AF234=\"y\",AI234=1),\"Y\",\"N\"))","v":""},{"$f":"IF(ISBLANK(FromEvoM!A234),\"\",IF(FromEvoM!AS234=\"Yes\",2,1))","v":""},{"$f":"IF(FromEvoM!W234=1,\"M\",IF(FromEvoM!W234=7,\"W\",\"\"))","v":""},{"$f":"IF(AJ234=\"Y\",0,IF(AJ234=\"N\",FromEvoM!AF234+FromEvoM!AT234,\"\"))","v":""},{"$f":"IF(AJ234=\"Y\",(FromEvoM!AE234+FromEvoM!AF234-FromEvoM!AT234),IF(AJ234=\"N\",FromEvoM!AE234,\"\"))","v":""}]
[{"$f":"IF(ISBLANK(FromEvoM!A235),\"\",Group_Code)","v":""},{"$f":"IF(ISBLANK(FromEvoM!A235),\"\",SUBSTITUTE(FromEvoM!A235,\" \",\"\"))","v":""},{"$f":"IF(ISBLANK(FromEvoM!C235),\"\",SUBSTITUTE(FromEvoM!G235,\" \",\"\"))","v":""},{"$f":"IF(ISBLANK(FromEvoM!D235),\"\",FromEvoM!B235)","v":""},{"$f":"IF(ISBLANK(FromEvoM!D235),\"\",FromEvoM!D235)","v":""},{"$f":"IF(ISBLANK(FromEvoM!C235),\"\",FromEvoM!C235)","v":""},{"$f":"REPLACE(FromEvoM!F235,2,6, )","v":""},{"$f":"IF(ISNUMBER(FromEvoM!E235),FromEvoM!E235,\"\")","v":""},{"$f":"IF(ISBLANK(FromEvoM!I235),\"\",FromEvoM!I235)","v":""},{"$f":"IF(ISBLANK(FromEvoM!J235),\"\",FromEvoM!J235)","v":""},{"$f":"IF(ISBLANK(FromEvoM!K235),\"\",FromEvoM!K235)","v":""},{"$f":"IF(ISBLANK(FromEvoM!L235),\"\",FromEvoM!L235)","v":""},{"$f":"IF(ISBLANK(FromEvoM!M235),\"\",FromEvoM!M235)","v":""},{"$f":"IF(ISBLANK(FromEvoM!P235),\"\",FromEvoM!P235)","v":""},null,{"$f":"IF(ISNUMBER(FromEvoM!X235),FromEvoM!X235,\"\")","v":""},{"$f":"IF(ISNUMBER(FromEvoM!AB235),FromEvoM!AB235,\"\")","v":""},{"$f":"IF(ISNUMBER(FromEvoM!AA235),FromEvoM!AA235,\"\")","v":""},null,"","",null,null,{"$f":"IF(FromEvoM!W235=1,(FromEvoM!AB235*12),IF(FromEvoM!W235=7,(FromEvoM!AR235),\"\"))","v":""},null,null,{"$f":"IF(ISBLANK(FromEvoM!A235),\"\",IF(FromEvoM!AK235=\"y\",\"Y\",\"N\"))","v":""},{"$f":"IF(ISBLANK(FromEvoM!A235),\"\",Category_ID)","v":""},null,null,null,{"$f":"IF(ISBLANK(FromEvoM!AK235),\"\",FromEvoM!AK235)","v":""},{"$f":"IF(ISBLANK(FromEvoM!AM235),\"\",FromEvoM!AM235)","v":""},{"$f":"IF(ISBLANK(FromEvoM!AN235),\"\",FromEvoM!AN235)","v":""},{"$f":"IF(ISBLANK(FromEvoM!AL235),\"\",FromEvoM!AL235)","v":""},{"$f":"IF(ISBLANK(FromEvoM!A235),\"\",IF(AND(AF235=\"y\",AI235=1),\"Y\",\"N\"))","v":""},{"$f":"IF(ISBLANK(FromEvoM!A235),\"\",IF(FromEvoM!AS235=\"Yes\",2,1))","v":""},{"$f":"IF(FromEvoM!W235=1,\"M\",IF(FromEvoM!W235=7,\"W\",\"\"))","v":""},{"$f":"IF(AJ235=\"Y\",0,IF(AJ235=\"N\",FromEvoM!AF235+FromEvoM!AT235,\"\"))","v":""},{"$f":"IF(AJ235=\"Y\",(FromEvoM!AE235+FromEvoM!AF235-FromEvoM!AT235),IF(AJ235=\"N\",FromEvoM!AE235,\"\"))","v":""}]
[{"$f":"IF(ISBLANK(FromEvoM!A236),\"\",Group_Code)","v":""},{"$f":"IF(ISBLANK(FromEvoM!A236),\"\",SUBSTITUTE(FromEvoM!A236,\" \",\"\"))","v":""},{"$f":"IF(ISBLANK(FromEvoM!C236),\"\",SUBSTITUTE(FromEvoM!G236,\" \",\"\"))","v":""},{"$f":"IF(ISBLANK(FromEvoM!D236),\"\",FromEvoM!B236)","v":""},{"$f":"IF(ISBLANK(FromEvoM!D236),\"\",FromEvoM!D236)","v":""},{"$f":"IF(ISBLANK(FromEvoM!C236),\"\",FromEvoM!C236)","v":""},{"$f":"REPLACE(FromEvoM!F236,2,6, )","v":""},{"$f":"IF(ISNUMBER(FromEvoM!E236),FromEvoM!E236,\"\")","v":""},{"$f":"IF(ISBLANK(FromEvoM!I236),\"\",FromEvoM!I236)","v":""},{"$f":"IF(ISBLANK(FromEvoM!J236),\"\",FromEvoM!J236)","v":""},{"$f":"IF(ISBLANK(FromEvoM!K236),\"\",FromEvoM!K236)","v":""},{"$f":"IF(ISBLANK(FromEvoM!L236),\"\",FromEvoM!L236)","v":""},{"$f":"IF(ISBLANK(FromEvoM!M236),\"\",FromEvoM!M236)","v":""},{"$f":"IF(ISBLANK(FromEvoM!P236),\"\",FromEvoM!P236)","v":""},null,{"$f":"IF(ISNUMBER(FromEvoM!X236),FromEvoM!X236,\"\")","v":""},{"$f":"IF(ISNUMBER(FromEvoM!AB236),FromEvoM!AB236,\"\")","v":""},{"$f":"IF(ISNUMBER(FromEvoM!AA236),FromEvoM!AA236,\"\")","v":""},null,"","",null,null,{"$f":"IF(FromEvoM!W236=1,(FromEvoM!AB236*12),IF(FromEvoM!W236=7,(FromEvoM!AR236),\"\"))","v":""},null,null,{"$f":"IF(ISBLANK(FromEvoM!A236),\"\",IF(FromEvoM!AK236=\"y\",\"Y\",\"N\"))","v":""},{"$f":"IF(ISBLANK(FromEvoM!A236),\"\",Category_ID)","v":""},null,null,null,{"$f":"IF(ISBLANK(FromEvoM!AK236),\"\",FromEvoM!AK236)","v":""},{"$f":"IF(ISBLANK(FromEvoM!AM236),\"\",FromEvoM!AM236)","v":""},{"$f":"IF(ISBLANK(FromEvoM!AN236),\"\",FromEvoM!AN236)","v":""},{"$f":"IF(ISBLANK(FromEvoM!AL236),\"\",FromEvoM!AL236)","v":""},{"$f":"IF(ISBLANK(FromEvoM!A236),\"\",IF(AND(AF236=\"y\",AI236=1),\"Y\",\"N\"))","v":""},{"$f":"IF(ISBLANK(FromEvoM!A236),\"\",IF(FromEvoM!AS236=\"Yes\",2,1))","v":""},{"$f":"IF(FromEvoM!W236=1,\"M\",IF(FromEvoM!W236=7,\"W\",\"\"))","v":""},{"$f":"IF(AJ236=\"Y\",0,IF(AJ236=\"N\",FromEvoM!AF236+FromEvoM!AT236,\"\"))","v":""},{"$f":"IF(AJ236=\"Y\",(FromEvoM!AE236+FromEvoM!AF236-FromEvoM!AT236),IF(AJ236=\"N\",FromEvoM!AE236,\"\"))","v":""}]
[{"$f":"IF(ISBLANK(FromEvoM!A237),\"\",Group_Code)","v":""},{"$f":"IF(ISBLANK(FromEvoM!A237),\"\",SUBSTITUTE(FromEvoM!A237,\" \",\"\"))","v":""},{"$f":"IF(ISBLANK(FromEvoM!C237),\"\",SUBSTITUTE(FromEvoM!G237,\" \",\"\"))","v":""},{"$f":"IF(ISBLANK(FromEvoM!D237),\"\",FromEvoM!B237)","v":""},{"$f":"IF(ISBLANK(FromEvoM!D237),\"\",FromEvoM!D237)","v":""},{"$f":"IF(ISBLANK(FromEvoM!C237),\"\",FromEvoM!C237)","v":""},{"$f":"REPLACE(FromEvoM!F237,2,6, )","v":""},{"$f":"IF(ISNUMBER(FromEvoM!E237),FromEvoM!E237,\"\")","v":""},{"$f":"IF(ISBLANK(FromEvoM!I237),\"\",FromEvoM!I237)","v":""},{"$f":"IF(ISBLANK(FromEvoM!J237),\"\",FromEvoM!J237)","v":""},{"$f":"IF(ISBLANK(FromEvoM!K237),\"\",FromEvoM!K237)","v":""},{"$f":"IF(ISBLANK(FromEvoM!L237),\"\",FromEvoM!L237)","v":""},{"$f":"IF(ISBLANK(FromEvoM!M237),\"\",FromEvoM!M237)","v":""},{"$f":"IF(ISBLANK(FromEvoM!P237),\"\",FromEvoM!P237)","v":""},null,{"$f":"IF(ISNUMBER(FromEvoM!X237),FromEvoM!X237,\"\")","v":""},{"$f":"IF(ISNUMBER(FromEvoM!AB237),FromEvoM!AB237,\"\")","v":""},{"$f":"IF(ISNUMBER(FromEvoM!AA237),FromEvoM!AA237,\"\")","v":""},null,"","",null,null,{"$f":"IF(FromEvoM!W237=1,(FromEvoM!AB237*12),IF(FromEvoM!W237=7,(FromEvoM!AR237),\"\"))","v":""},null,null,{"$f":"IF(ISBLANK(FromEvoM!A237),\"\",IF(FromEvoM!AK237=\"y\",\"Y\",\"N\"))","v":""},{"$f":"IF(ISBLANK(FromEvoM!A237),\"\",Category_ID)","v":""},null,null,null,{"$f":"IF(ISBLANK(FromEvoM!AK237),\"\",FromEvoM!AK237)","v":""},{"$f":"IF(ISBLANK(FromEvoM!AM237),\"\",FromEvoM!AM237)","v":""},{"$f":"IF(ISBLANK(FromEvoM!AN237),\"\",FromEvoM!AN237)","v":""},{"$f":"IF(ISBLANK(FromEvoM!AL237),\"\",FromEvoM!AL237)","v":""},{"$f":"IF(ISBLANK(FromEvoM!A237),\"\",IF(AND(AF237=\"y\",AI237=1),\"Y\",\"N\"))","v":""},{"$f":"IF(ISBLANK(FromEvoM!A237),\"\",IF(FromEvoM!AS237=\"Yes\",2,1))","v":""},{"$f":"IF(FromEvoM!W237=1,\"M\",IF(FromEvoM!W237=7,\"W\",\"\"))","v":""},{"$f":"IF(AJ237=\"Y\",0,IF(AJ237=\"N\",FromEvoM!AF237+FromEvoM!AT237,\"\"))","v":""},{"$f":"IF(AJ237=\"Y\",(FromEvoM!AE237+FromEvoM!AF237-FromEvoM!AT237),IF(AJ237=\"N\",FromEvoM!AE237,\"\"))","v":""}]
[{"$f":"IF(ISBLANK(FromEvoM!A238),\"\",Group_Code)","v":""},{"$f":"IF(ISBLANK(FromEvoM!A238),\"\",SUBSTITUTE(FromEvoM!A238,\" \",\"\"))","v":""},{"$f":"IF(ISBLANK(FromEvoM!C238),\"\",SUBSTITUTE(FromEvoM!G238,\" \",\"\"))","v":""},{"$f":"IF(ISBLANK(FromEvoM!D238),\"\",FromEvoM!B238)","v":""},{"$f":"IF(ISBLANK(FromEvoM!D238),\"\",FromEvoM!D238)","v":""},{"$f":"IF(ISBLANK(FromEvoM!C238),\"\",FromEvoM!C238)","v":""},{"$f":"REPLACE(FromEvoM!F238,2,6, )","v":""},{"$f":"IF(ISNUMBER(FromEvoM!E238),FromEvoM!E238,\"\")","v":""},{"$f":"IF(ISBLANK(FromEvoM!I238),\"\",FromEvoM!I238)","v":""},{"$f":"IF(ISBLANK(FromEvoM!J238),\"\",FromEvoM!J238)","v":""},{"$f":"IF(ISBLANK(FromEvoM!K238),\"\",FromEvoM!K238)","v":""},{"$f":"IF(ISBLANK(FromEvoM!L238),\"\",FromEvoM!L238)","v":""},{"$f":"IF(ISBLANK(FromEvoM!M238),\"\",FromEvoM!M238)","v":""},{"$f":"IF(ISBLANK(FromEvoM!P238),\"\",FromEvoM!P238)","v":""},null,{"$f":"IF(ISNUMBER(FromEvoM!X238),FromEvoM!X238,\"\")","v":""},{"$f":"IF(ISNUMBER(FromEvoM!AB238),FromEvoM!AB238,\"\")","v":""},{"$f":"IF(ISNUMBER(FromEvoM!AA238),FromEvoM!AA238,\"\")","v":""},null,"","",null,null,{"$f":"IF(FromEvoM!W238=1,(FromEvoM!AB238*12),IF(FromEvoM!W238=7,(FromEvoM!AR238),\"\"))","v":""},null,null,{"$f":"IF(ISBLANK(FromEvoM!A238),\"\",IF(FromEvoM!AK238=\"y\",\"Y\",\"N\"))","v":""},{"$f":"IF(ISBLANK(FromEvoM!A238),\"\",Category_ID)","v":""},null,null,null,{"$f":"IF(ISBLANK(FromEvoM!AK238),\"\",FromEvoM!AK238)","v":""},{"$f":"IF(ISBLANK(FromEvoM!AM238),\"\",FromEvoM!AM238)","v":""},{"$f":"IF(ISBLANK(FromEvoM!AN238),\"\",FromEvoM!AN238)","v":""},{"$f":"IF(ISBLANK(FromEvoM!AL238),\"\",FromEvoM!AL238)","v":""},{"$f":"IF(ISBLANK(FromEvoM!A238),\"\",IF(AND(AF238=\"y\",AI238=1),\"Y\",\"N\"))","v":""},{"$f":"IF(ISBLANK(FromEvoM!A238),\"\",IF(FromEvoM!AS238=\"Yes\",2,1))","v":""},{"$f":"IF(FromEvoM!W238=1,\"M\",IF(FromEvoM!W238=7,\"W\",\"\"))","v":""},{"$f":"IF(AJ238=\"Y\",0,IF(AJ238=\"N\",FromEvoM!AF238+FromEvoM!AT238,\"\"))","v":""},{"$f":"IF(AJ238=\"Y\",(FromEvoM!AE238+FromEvoM!AF238-FromEvoM!AT238),IF(AJ238=\"N\",FromEvoM!AE238,\"\"))","v":""}]
[{"$f":"IF(ISBLANK(FromEvoM!A239),\"\",Group_Code)","v":""},{"$f":"IF(ISBLANK(FromEvoM!A239),\"\",SUBSTITUTE(FromEvoM!A239,\" \",\"\"))","v":""},{"$f":"IF(ISBLANK(FromEvoM!C239),\"\",SUBSTITUTE(FromEvoM!G239,\" \",\"\"))","v":""},{"$f":"IF(ISBLANK(FromEvoM!D239),\"\",FromEvoM!B239)","v":""},{"$f":"IF(ISBLANK(FromEvoM!D239),\"\",FromEvoM!D239)","v":""},{"$f":"IF(ISBLANK(FromEvoM!C239),\"\",FromEvoM!C239)","v":""},{"$f":"REPLACE(FromEvoM!F239,2,6, )","v":""},{"$f":"IF(ISNUMBER(FromEvoM!E239),FromEvoM!E239,\"\")","v":""},{"$f":"IF(ISBLANK(FromEvoM!I239),\"\",FromEvoM!I239)","v":""},{"$f":"IF(ISBLANK(FromEvoM!J239),\"\",FromEvoM!J239)","v":""},{"$f":"IF(ISBLANK(FromEvoM!K239),\"\",FromEvoM!K239)","v":""},{"$f":"IF(ISBLANK(FromEvoM!L239),\"\",FromEvoM!L239)","v":""},{"$f":"IF(ISBLANK(FromEvoM!M239),\"\",FromEvoM!M239)","v":""},{"$f":"IF(ISBLANK(FromEvoM!P239),\"\",FromEvoM!P239)","v":""},null,{"$f":"IF(ISNUMBER(FromEvoM!X239),FromEvoM!X239,\"\")","v":""},{"$f":"IF(ISNUMBER(FromEvoM!AB239),FromEvoM!AB239,\"\")","v":""},{"$f":"IF(ISNUMBER(FromEvoM!AA239),FromEvoM!AA239,\"\")","v":""},null,"","",null,null,{"$f":"IF(FromEvoM!W239=1,(FromEvoM!AB239*12),IF(FromEvoM!W239=7,(FromEvoM!AR239),\"\"))","v":""},null,null,{"$f":"IF(ISBLANK(FromEvoM!A239),\"\",IF(FromEvoM!AK239=\"y\",\"Y\",\"N\"))","v":""},{"$f":"IF(ISBLANK(FromEvoM!A239),\"\",Category_ID)","v":""},null,null,null,{"$f":"IF(ISBLANK(FromEvoM!AK239),\"\",FromEvoM!AK239)","v":""},{"$f":"IF(ISBLANK(FromEvoM!AM239),\"\",FromEvoM!AM239)","v":""},{"$f":"IF(ISBLANK(FromEvoM!AN239),\"\",FromEvoM!AN239)","v":""},{"$f":"IF(ISBLANK(FromEvoM!AL239),\"\",FromEvoM!AL239)","v":""},{"$f":"IF(ISBLANK(FromEvoM!A239),\"\",IF(AND(AF239=\"y\",AI239=1),\"Y\",\"N\"))","v":""},{"$f":"IF(ISBLANK(FromEvoM!A239),\"\",IF(FromEvoM!AS239=\"Yes\",2,1))","v":""},{"$f":"IF(FromEvoM!W239=1,\"M\",IF(FromEvoM!W239=7,\"W\",\"\"))","v":""},{"$f":"IF(AJ239=\"Y\",0,IF(AJ239=\"N\",FromEvoM!AF239+FromEvoM!AT239,\"\"))","v":""},{"$f":"IF(AJ239=\"Y\",(FromEvoM!AE239+FromEvoM!AF239-FromEvoM!AT239),IF(AJ239=\"N\",FromEvoM!AE239,\"\"))","v":""}]
[{"$f":"IF(ISBLANK(FromEvoM!A240),\"\",Group_Code)","v":""},{"$f":"IF(ISBLANK(FromEvoM!A240),\"\",SUBSTITUTE(FromEvoM!A240,\" \",\"\"))","v":""},{"$f":"IF(ISBLANK(FromEvoM!C240),\"\",SUBSTITUTE(FromEvoM!G240,\" \",\"\"))","v":""},{"$f":"IF(ISBLANK(FromEvoM!D240),\"\",FromEvoM!B240)","v":""},{"$f":"IF(ISBLANK(FromEvoM!D240),\"\",FromEvoM!D240)","v":""},{"$f":"IF(ISBLANK(FromEvoM!C240),\"\",FromEvoM!C240)","v":""},{"$f":"REPLACE(FromEvoM!F240,2,6, )","v":""},{"$f":"IF(ISNUMBER(FromEvoM!E240),FromEvoM!E240,\"\")","v":""},{"$f":"IF(ISBLANK(FromEvoM!I240),\"\",FromEvoM!I240)","v":""},{"$f":"IF(ISBLANK(FromEvoM!J240),\"\",FromEvoM!J240)","v":""},{"$f":"IF(ISBLANK(FromEvoM!K240),\"\",FromEvoM!K240)","v":""},{"$f":"IF(ISBLANK(FromEvoM!L240),\"\",FromEvoM!L240)","v":""},{"$f":"IF(ISBLANK(FromEvoM!M240),\"\",FromEvoM!M240)","v":""},{"$f":"IF(ISBLANK(FromEvoM!P240),\"\",FromEvoM!P240)","v":""},null,{"$f":"IF(ISNUMBER(FromEvoM!X240),FromEvoM!X240,\"\")","v":""},{"$f":"IF(ISNUMBER(FromEvoM!AB240),FromEvoM!AB240,\"\")","v":""},{"$f":"IF(ISNUMBER(FromEvoM!AA240),FromEvoM!AA240,\"\")","v":""},null,"","",null,null,{"$f":"IF(FromEvoM!W240=1,(FromEvoM!AB240*12),IF(FromEvoM!W240=7,(FromEvoM!AR240),\"\"))","v":""},null,null,{"$f":"IF(ISBLANK(FromEvoM!A240),\"\",IF(FromEvoM!AK240=\"y\",\"Y\",\"N\"))","v":""},{"$f":"IF(ISBLANK(FromEvoM!A240),\"\",Category_ID)","v":""},null,null,null,{"$f":"IF(ISBLANK(FromEvoM!AK240),\"\",FromEvoM!AK240)","v":""},{"$f":"IF(ISBLANK(FromEvoM!AM240),\"\",FromEvoM!AM240)","v":""},{"$f":"IF(ISBLANK(FromEvoM!AN240),\"\",FromEvoM!AN240)","v":""},{"$f":"IF(ISBLANK(FromEvoM!AL240),\"\",FromEvoM!AL240)","v":""},{"$f":"IF(ISBLANK(FromEvoM!A240),\"\",IF(AND(AF240=\"y\",AI240=1),\"Y\",\"N\"))","v":""},{"$f":"IF(ISBLANK(FromEvoM!A240),\"\",IF(FromEvoM!AS240=\"Yes\",2,1))","v":""},{"$f":"IF(FromEvoM!W240=1,\"M\",IF(FromEvoM!W240=7,\"W\",\"\"))","v":""},{"$f":"IF(AJ240=\"Y\",0,IF(AJ240=\"N\",FromEvoM!AF240+FromEvoM!AT240,\"\"))","v":""},{"$f":"IF(AJ240=\"Y\",(FromEvoM!AE240+FromEvoM!AF240-FromEvoM!AT240),IF(AJ240=\"N\",FromEvoM!AE240,\"\"))","v":""}]
[{"$f":"IF(ISBLANK(FromEvoM!A241),\"\",Group_Code)","v":""},{"$f":"IF(ISBLANK(FromEvoM!A241),\"\",SUBSTITUTE(FromEvoM!A241,\" \",\"\"))","v":""},{"$f":"IF(ISBLANK(FromEvoM!C241),\"\",SUBSTITUTE(FromEvoM!G241,\" \",\"\"))","v":""},{"$f":"IF(ISBLANK(FromEvoM!D241),\"\",FromEvoM!B241)","v":""},{"$f":"IF(ISBLANK(FromEvoM!D241),\"\",FromEvoM!D241)","v":""},{"$f":"IF(ISBLANK(FromEvoM!C241),\"\",FromEvoM!C241)","v":""},{"$f":"REPLACE(FromEvoM!F241,2,6, )","v":""},{"$f":"IF(ISNUMBER(FromEvoM!E241),FromEvoM!E241,\"\")","v":""},{"$f":"IF(ISBLANK(FromEvoM!I241),\"\",FromEvoM!I241)","v":""},{"$f":"IF(ISBLANK(FromEvoM!J241),\"\",FromEvoM!J241)","v":""},{"$f":"IF(ISBLANK(FromEvoM!K241),\"\",FromEvoM!K241)","v":""},{"$f":"IF(ISBLANK(FromEvoM!L241),\"\",FromEvoM!L241)","v":""},{"$f":"IF(ISBLANK(FromEvoM!M241),\"\",FromEvoM!M241)","v":""},{"$f":"IF(ISBLANK(FromEvoM!P241),\"\",FromEvoM!P241)","v":""},null,{"$f":"IF(ISNUMBER(FromEvoM!X241),FromEvoM!X241,\"\")","v":""},{"$f":"IF(ISNUMBER(FromEvoM!AB241),FromEvoM!AB241,\"\")","v":""},{"$f":"IF(ISNUMBER(FromEvoM!AA241),FromEvoM!AA241,\"\")","v":""},null,"","",null,null,{"$f":"IF(FromEvoM!W241=1,(FromEvoM!AB241*12),IF(FromEvoM!W241=7,(FromEvoM!AR241),\"\"))","v":""},null,null,{"$f":"IF(ISBLANK(FromEvoM!A241),\"\",IF(FromEvoM!AK241=\"y\",\"Y\",\"N\"))","v":""},{"$f":"IF(ISBLANK(FromEvoM!A241),\"\",Category_ID)","v":""},null,null,null,{"$f":"IF(ISBLANK(FromEvoM!AK241),\"\",FromEvoM!AK241)","v":""},{"$f":"IF(ISBLANK(FromEvoM!AM241),\"\",FromEvoM!AM241)","v":""},{"$f":"IF(ISBLANK(FromEvoM!AN241),\"\",FromEvoM!AN241)","v":""},{"$f":"IF(ISBLANK(FromEvoM!AL241),\"\",FromEvoM!AL241)","v":""},{"$f":"IF(ISBLANK(FromEvoM!A241),\"\",IF(AND(AF241=\"y\",AI241=1),\"Y\",\"N\"))","v":""},{"$f":"IF(ISBLANK(FromEvoM!A241),\"\",IF(FromEvoM!AS241=\"Yes\",2,1))","v":""},{"$f":"IF(FromEvoM!W241=1,\"M\",IF(FromEvoM!W241=7,\"W\",\"\"))","v":""},{"$f":"IF(AJ241=\"Y\",0,IF(AJ241=\"N\",FromEvoM!AF241+FromEvoM!AT241,\"\"))","v":""},{"$f":"IF(AJ241=\"Y\",(FromEvoM!AE241+FromEvoM!AF241-FromEvoM!AT241),IF(AJ241=\"N\",FromEvoM!AE241,\"\"))","v":""}]
[{"$f":"IF(ISBLANK(FromEvoM!A242),\"\",Group_Code)","v":""},{"$f":"IF(ISBLANK(FromEvoM!A242),\"\",SUBSTITUTE(FromEvoM!A242,\" \",\"\"))","v":""},{"$f":"IF(ISBLANK(FromEvoM!C242),\"\",SUBSTITUTE(FromEvoM!G242,\" \",\"\"))","v":""},{"$f":"IF(ISBLANK(FromEvoM!D242),\"\",FromEvoM!B242)","v":""},{"$f":"IF(ISBLANK(FromEvoM!D242),\"\",FromEvoM!D242)","v":""},{"$f":"IF(ISBLANK(FromEvoM!C242),\"\",FromEvoM!C242)","v":""},{"$f":"REPLACE(FromEvoM!F242,2,6, )","v":""},{"$f":"IF(ISNUMBER(FromEvoM!E242),FromEvoM!E242,\"\")","v":""},{"$f":"IF(ISBLANK(FromEvoM!I242),\"\",FromEvoM!I242)","v":""},{"$f":"IF(ISBLANK(FromEvoM!J242),\"\",FromEvoM!J242)","v":""},{"$f":"IF(ISBLANK(FromEvoM!K242),\"\",FromEvoM!K242)","v":""},{"$f":"IF(ISBLANK(FromEvoM!L242),\"\",FromEvoM!L242)","v":""},{"$f":"IF(ISBLANK(FromEvoM!M242),\"\",FromEvoM!M242)","v":""},{"$f":"IF(ISBLANK(FromEvoM!P242),\"\",FromEvoM!P242)","v":""},null,{"$f":"IF(ISNUMBER(FromEvoM!X242),FromEvoM!X242,\"\")","v":""},{"$f":"IF(ISNUMBER(FromEvoM!AB242),FromEvoM!AB242,\"\")","v":""},{"$f":"IF(ISNUMBER(FromEvoM!AA242),FromEvoM!AA242,\"\")","v":""},null,"","",null,null,{"$f":"IF(FromEvoM!W242=1,(FromEvoM!AB242*12),IF(FromEvoM!W242=7,(FromEvoM!AR242),\"\"))","v":""},null,null,{"$f":"IF(ISBLANK(FromEvoM!A242),\"\",IF(FromEvoM!AK242=\"y\",\"Y\",\"N\"))","v":""},{"$f":"IF(ISBLANK(FromEvoM!A242),\"\",Category_ID)","v":""},null,null,null,{"$f":"IF(ISBLANK(FromEvoM!AK242),\"\",FromEvoM!AK242)","v":""},{"$f":"IF(ISBLANK(FromEvoM!AM242),\"\",FromEvoM!AM242)","v":""},{"$f":"IF(ISBLANK(FromEvoM!AN242),\"\",FromEvoM!AN242)","v":""},{"$f":"IF(ISBLANK(FromEvoM!AL242),\"\",FromEvoM!AL242)","v":""},{"$f":"IF(ISBLANK(FromEvoM!A242),\"\",IF(AND(AF242=\"y\",AI242=1),\"Y\",\"N\"))","v":""},{"$f":"IF(ISBLANK(FromEvoM!A242),\"\",IF(FromEvoM!AS242=\"Yes\",2,1))","v":""},{"$f":"IF(FromEvoM!W242=1,\"M\",IF(FromEvoM!W242=7,\"W\",\"\"))","v":""},{"$f":"IF(AJ242=\"Y\",0,IF(AJ242=\"N\",FromEvoM!AF242+FromEvoM!AT242,\"\"))","v":""},{"$f":"IF(AJ242=\"Y\",(FromEvoM!AE242+FromEvoM!AF242-FromEvoM!AT242),IF(AJ242=\"N\",FromEvoM!AE242,\"\"))","v":""}]
[{"$f":"IF(ISBLANK(FromEvoM!A243),\"\",Group_Code)","v":""},{"$f":"IF(ISBLANK(FromEvoM!A243),\"\",SUBSTITUTE(FromEvoM!A243,\" \",\"\"))","v":""},{"$f":"IF(ISBLANK(FromEvoM!C243),\"\",SUBSTITUTE(FromEvoM!G243,\" \",\"\"))","v":""},{"$f":"IF(ISBLANK(FromEvoM!D243),\"\",FromEvoM!B243)","v":""},{"$f":"IF(ISBLANK(FromEvoM!D243),\"\",FromEvoM!D243)","v":""},{"$f":"IF(ISBLANK(FromEvoM!C243),\"\",FromEvoM!C243)","v":""},{"$f":"REPLACE(FromEvoM!F243,2,6, )","v":""},{"$f":"IF(ISNUMBER(FromEvoM!E243),FromEvoM!E243,\"\")","v":""},{"$f":"IF(ISBLANK(FromEvoM!I243),\"\",FromEvoM!I243)","v":""},{"$f":"IF(ISBLANK(FromEvoM!J243),\"\",FromEvoM!J243)","v":""},{"$f":"IF(ISBLANK(FromEvoM!K243),\"\",FromEvoM!K243)","v":""},{"$f":"IF(ISBLANK(FromEvoM!L243),\"\",FromEvoM!L243)","v":""},{"$f":"IF(ISBLANK(FromEvoM!M243),\"\",FromEvoM!M243)","v":""},{"$f":"IF(ISBLANK(FromEvoM!P243),\"\",FromEvoM!P243)","v":""},null,{"$f":"IF(ISNUMBER(FromEvoM!X243),FromEvoM!X243,\"\")","v":""},{"$f":"IF(ISNUMBER(FromEvoM!AB243),FromEvoM!AB243,\"\")","v":""},{"$f":"IF(ISNUMBER(FromEvoM!AA243),FromEvoM!AA243,\"\")","v":""},null,"","",null,null,{"$f":"IF(FromEvoM!W243=1,(FromEvoM!AB243*12),IF(FromEvoM!W243=7,(FromEvoM!AR243),\"\"))","v":""},null,null,{"$f":"IF(ISBLANK(FromEvoM!A243),\"\",IF(FromEvoM!AK243=\"y\",\"Y\",\"N\"))","v":""},{"$f":"IF(ISBLANK(FromEvoM!A243),\"\",Category_ID)","v":""},null,null,null,{"$f":"IF(ISBLANK(FromEvoM!AK243),\"\",FromEvoM!AK243)","v":""},{"$f":"IF(ISBLANK(FromEvoM!AM243),\"\",FromEvoM!AM243)","v":""},{"$f":"IF(ISBLANK(FromEvoM!AN243),\"\",FromEvoM!AN243)","v":""},{"$f":"IF(ISBLANK(FromEvoM!AL243),\"\",FromEvoM!AL243)","v":""},{"$f":"IF(ISBLANK(FromEvoM!A243),\"\",IF(AND(AF243=\"y\",AI243=1),\"Y\",\"N\"))","v":""},{"$f":"IF(ISBLANK(FromEvoM!A243),\"\",IF(FromEvoM!AS243=\"Yes\",2,1))","v":""},{"$f":"IF(FromEvoM!W243=1,\"M\",IF(FromEvoM!W243=7,\"W\",\"\"))","v":""},{"$f":"IF(AJ243=\"Y\",0,IF(AJ243=\"N\",FromEvoM!AF243+FromEvoM!AT243,\"\"))","v":""},{"$f":"IF(AJ243=\"Y\",(FromEvoM!AE243+FromEvoM!AF243-FromEvoM!AT243),IF(AJ243=\"N\",FromEvoM!AE243,\"\"))","v":""}]
[{"$f":"IF(ISBLANK(FromEvoM!A244),\"\",Group_Code)","v":""},{"$f":"IF(ISBLANK(FromEvoM!A244),\"\",SUBSTITUTE(FromEvoM!A244,\" \",\"\"))","v":""},{"$f":"IF(ISBLANK(FromEvoM!C244),\"\",SUBSTITUTE(FromEvoM!G244,\" \",\"\"))","v":""},{"$f":"IF(ISBLANK(FromEvoM!D244),\"\",FromEvoM!B244)","v":""},{"$f":"IF(ISBLANK(FromEvoM!D244),\"\",FromEvoM!D244)","v":""},{"$f":"IF(ISBLANK(FromEvoM!C244),\"\",FromEvoM!C244)","v":""},{"$f":"REPLACE(FromEvoM!F244,2,6, )","v":""},{"$f":"IF(ISNUMBER(FromEvoM!E244),FromEvoM!E244,\"\")","v":""},{"$f":"IF(ISBLANK(FromEvoM!I244),\"\",FromEvoM!I244)","v":""},{"$f":"IF(ISBLANK(FromEvoM!J244),\"\",FromEvoM!J244)","v":""},{"$f":"IF(ISBLANK(FromEvoM!K244),\"\",FromEvoM!K244)","v":""},{"$f":"IF(ISBLANK(FromEvoM!L244),\"\",FromEvoM!L244)","v":""},{"$f":"IF(ISBLANK(FromEvoM!M244),\"\",FromEvoM!M244)","v":""},{"$f":"IF(ISBLANK(FromEvoM!P244),\"\",FromEvoM!P244)","v":""},null,{"$f":"IF(ISNUMBER(FromEvoM!X244),FromEvoM!X244,\"\")","v":""},{"$f":"IF(ISNUMBER(FromEvoM!AB244),FromEvoM!AB244,\"\")","v":""},{"$f":"IF(ISNUMBER(FromEvoM!AA244),FromEvoM!AA244,\"\")","v":""},null,"","",null,null,{"$f":"IF(FromEvoM!W244=1,(FromEvoM!AB244*12),IF(FromEvoM!W244=7,(FromEvoM!AR244),\"\"))","v":""},null,null,{"$f":"IF(ISBLANK(FromEvoM!A244),\"\",IF(FromEvoM!AK244=\"y\",\"Y\",\"N\"))","v":""},{"$f":"IF(ISBLANK(FromEvoM!A244),\"\",Category_ID)","v":""},null,null,null,{"$f":"IF(ISBLANK(FromEvoM!AK244),\"\",FromEvoM!AK244)","v":""},{"$f":"IF(ISBLANK(FromEvoM!AM244),\"\",FromEvoM!AM244)","v":""},{"$f":"IF(ISBLANK(FromEvoM!AN244),\"\",FromEvoM!AN244)","v":""},{"$f":"IF(ISBLANK(FromEvoM!AL244),\"\",FromEvoM!AL244)","v":""},{"$f":"IF(ISBLANK(FromEvoM!A244),\"\",IF(AND(AF244=\"y\",AI244=1),\"Y\",\"N\"))","v":""},{"$f":"IF(ISBLANK(FromEvoM!A244),\"\",IF(FromEvoM!AS244=\"Yes\",2,1))","v":""},{"$f":"IF(FromEvoM!W244=1,\"M\",IF(FromEvoM!W244=7,\"W\",\"\"))","v":""},{"$f":"IF(AJ244=\"Y\",0,IF(AJ244=\"N\",FromEvoM!AF244+FromEvoM!AT244,\"\"))","v":""},{"$f":"IF(AJ244=\"Y\",(FromEvoM!AE244+FromEvoM!AF244-FromEvoM!AT244),IF(AJ244=\"N\",FromEvoM!AE244,\"\"))","v":""}]
[{"$f":"IF(ISBLANK(FromEvoM!A245),\"\",Group_Code)","v":""},{"$f":"IF(ISBLANK(FromEvoM!A245),\"\",SUBSTITUTE(FromEvoM!A245,\" \",\"\"))","v":""},{"$f":"IF(ISBLANK(FromEvoM!C245),\"\",SUBSTITUTE(FromEvoM!G245,\" \",\"\"))","v":""},{"$f":"IF(ISBLANK(FromEvoM!D245),\"\",FromEvoM!B245)","v":""},{"$f":"IF(ISBLANK(FromEvoM!D245),\"\",FromEvoM!D245)","v":""},{"$f":"IF(ISBLANK(FromEvoM!C245),\"\",FromEvoM!C245)","v":""},{"$f":"REPLACE(FromEvoM!F245,2,6, )","v":""},{"$f":"IF(ISNUMBER(FromEvoM!E245),FromEvoM!E245,\"\")","v":""},{"$f":"IF(ISBLANK(FromEvoM!I245),\"\",FromEvoM!I245)","v":""},{"$f":"IF(ISBLANK(FromEvoM!J245),\"\",FromEvoM!J245)","v":""},{"$f":"IF(ISBLANK(FromEvoM!K245),\"\",FromEvoM!K245)","v":""},{"$f":"IF(ISBLANK(FromEvoM!L245),\"\",FromEvoM!L245)","v":""},{"$f":"IF(ISBLANK(FromEvoM!M245),\"\",FromEvoM!M245)","v":""},{"$f":"IF(ISBLANK(FromEvoM!P245),\"\",FromEvoM!P245)","v":""},null,{"$f":"IF(ISNUMBER(FromEvoM!X245),FromEvoM!X245,\"\")","v":""},{"$f":"IF(ISNUMBER(FromEvoM!AB245),FromEvoM!AB245,\"\")","v":""},{"$f":"IF(ISNUMBER(FromEvoM!AA245),FromEvoM!AA245,\"\")","v":""},null,"","",null,null,{"$f":"IF(FromEvoM!W245=1,(FromEvoM!AB245*12),IF(FromEvoM!W245=7,(FromEvoM!AR245),\"\"))","v":""},null,null,{"$f":"IF(ISBLANK(FromEvoM!A245),\"\",IF(FromEvoM!AK245=\"y\",\"Y\",\"N\"))","v":""},{"$f":"IF(ISBLANK(FromEvoM!A245),\"\",Category_ID)","v":""},null,null,null,{"$f":"IF(ISBLANK(FromEvoM!AK245),\"\",FromEvoM!AK245)","v":""},{"$f":"IF(ISBLANK(FromEvoM!AM245),\"\",FromEvoM!AM245)","v":""},{"$f":"IF(ISBLANK(FromEvoM!AN245),\"\",FromEvoM!AN245)","v":""},{"$f":"IF(ISBLANK(FromEvoM!AL245),\"\",FromEvoM!AL245)","v":""},{"$f":"IF(ISBLANK(FromEvoM!A245),\"\",IF(AND(AF245=\"y\",AI245=1),\"Y\",\"N\"))","v":""},{"$f":"IF(ISBLANK(FromEvoM!A245),\"\",IF(FromEvoM!AS245=\"Yes\",2,1))","v":""},{"$f":"IF(FromEvoM!W245=1,\"M\",IF(FromEvoM!W245=7,\"W\",\"\"))","v":""},{"$f":"IF(AJ245=\"Y\",0,IF(AJ245=\"N\",FromEvoM!AF245+FromEvoM!AT245,\"\"))","v":""},{"$f":"IF(AJ245=\"Y\",(FromEvoM!AE245+FromEvoM!AF245-FromEvoM!AT245),IF(AJ245=\"N\",FromEvoM!AE245,\"\"))","v":""}]
[{"$f":"IF(ISBLANK(FromEvoM!A246),\"\",Group_Code)","v":""},{"$f":"IF(ISBLANK(FromEvoM!A246),\"\",SUBSTITUTE(FromEvoM!A246,\" \",\"\"))","v":""},{"$f":"IF(ISBLANK(FromEvoM!C246),\"\",SUBSTITUTE(FromEvoM!G246,\" \",\"\"))","v":""},{"$f":"IF(ISBLANK(FromEvoM!D246),\"\",FromEvoM!B246)","v":""},{"$f":"IF(ISBLANK(FromEvoM!D246),\"\",FromEvoM!D246)","v":""},{"$f":"IF(ISBLANK(FromEvoM!C246),\"\",FromEvoM!C246)","v":""},{"$f":"REPLACE(FromEvoM!F246,2,6, )","v":""},{"$f":"IF(ISNUMBER(FromEvoM!E246),FromEvoM!E246,\"\")","v":""},{"$f":"IF(ISBLANK(FromEvoM!I246),\"\",FromEvoM!I246)","v":""},{"$f":"IF(ISBLANK(FromEvoM!J246),\"\",FromEvoM!J246)","v":""},{"$f":"IF(ISBLANK(FromEvoM!K246),\"\",FromEvoM!K246)","v":""},{"$f":"IF(ISBLANK(FromEvoM!L246),\"\",FromEvoM!L246)","v":""},{"$f":"IF(ISBLANK(FromEvoM!M246),\"\",FromEvoM!M246)","v":""},{"$f":"IF(ISBLANK(FromEvoM!P246),\"\",FromEvoM!P246)","v":""},null,{"$f":"IF(ISNUMBER(FromEvoM!X246),FromEvoM!X246,\"\")","v":""},{"$f":"IF(ISNUMBER(FromEvoM!AB246),FromEvoM!AB246,\"\")","v":""},{"$f":"IF(ISNUMBER(FromEvoM!AA246),FromEvoM!AA246,\"\")","v":""},null,"","",null,null,{"$f":"IF(FromEvoM!W246=1,(FromEvoM!AB246*12),IF(FromEvoM!W246=7,(FromEvoM!AR246),\"\"))","v":""},null,null,{"$f":"IF(ISBLANK(FromEvoM!A246),\"\",IF(FromEvoM!AK246=\"y\",\"Y\",\"N\"))","v":""},{"$f":"IF(ISBLANK(FromEvoM!A246),\"\",Category_ID)","v":""},null,null,null,{"$f":"IF(ISBLANK(FromEvoM!AK246),\"\",FromEvoM!AK246)","v":""},{"$f":"IF(ISBLANK(FromEvoM!AM246),\"\",FromEvoM!AM246)","v":""},{"$f":"IF(ISBLANK(FromEvoM!AN246),\"\",FromEvoM!AN246)","v":""},{"$f":"IF(ISBLANK(FromEvoM!AL246),\"\",FromEvoM!AL246)","v":""},{"$f":"IF(ISBLANK(FromEvoM!A246),\"\",IF(AND(AF246=\"y\",AI246=1),\"Y\",\"N\"))","v":""},{"$f":"IF(ISBLANK(FromEvoM!A246),\"\",IF(FromEvoM!AS246=\"Yes\",2,1))","v":""},{"$f":"IF(FromEvoM!W246=1,\"M\",IF(FromEvoM!W246=7,\"W\",\"\"))","v":""},{"$f":"IF(AJ246=\"Y\",0,IF(AJ246=\"N\",FromEvoM!AF246+FromEvoM!AT246,\"\"))","v":""},{"$f":"IF(AJ246=\"Y\",(FromEvoM!AE246+FromEvoM!AF246-FromEvoM!AT246),IF(AJ246=\"N\",FromEvoM!AE246,\"\"))","v":""}]
[{"$f":"IF(ISBLANK(FromEvoM!A247),\"\",Group_Code)","v":""},{"$f":"IF(ISBLANK(FromEvoM!A247),\"\",SUBSTITUTE(FromEvoM!A247,\" \",\"\"))","v":""},{"$f":"IF(ISBLANK(FromEvoM!C247),\"\",SUBSTITUTE(FromEvoM!G247,\" \",\"\"))","v":""},{"$f":"IF(ISBLANK(FromEvoM!D247),\"\",FromEvoM!B247)","v":""},{"$f":"IF(ISBLANK(FromEvoM!D247),\"\",FromEvoM!D247)","v":""},{"$f":"IF(ISBLANK(FromEvoM!C247),\"\",FromEvoM!C247)","v":""},{"$f":"REPLACE(FromEvoM!F247,2,6, )","v":""},{"$f":"IF(ISNUMBER(FromEvoM!E247),FromEvoM!E247,\"\")","v":""},{"$f":"IF(ISBLANK(FromEvoM!I247),\"\",FromEvoM!I247)","v":""},{"$f":"IF(ISBLANK(FromEvoM!J247),\"\",FromEvoM!J247)","v":""},{"$f":"IF(ISBLANK(FromEvoM!K247),\"\",FromEvoM!K247)","v":""},{"$f":"IF(ISBLANK(FromEvoM!L247),\"\",FromEvoM!L247)","v":""},{"$f":"IF(ISBLANK(FromEvoM!M247),\"\",FromEvoM!M247)","v":""},{"$f":"IF(ISBLANK(FromEvoM!P247),\"\",FromEvoM!P247)","v":""},null,{"$f":"IF(ISNUMBER(FromEvoM!X247),FromEvoM!X247,\"\")","v":""},{"$f":"IF(ISNUMBER(FromEvoM!AB247),FromEvoM!AB247,\"\")","v":""},{"$f":"IF(ISNUMBER(FromEvoM!AA247),FromEvoM!AA247,\"\")","v":""},null,"","",null,null,{"$f":"IF(FromEvoM!W247=1,(FromEvoM!AB247*12),IF(FromEvoM!W247=7,(FromEvoM!AR247),\"\"))","v":""},null,null,{"$f":"IF(ISBLANK(FromEvoM!A247),\"\",IF(FromEvoM!AK247=\"y\",\"Y\",\"N\"))","v":""},{"$f":"IF(ISBLANK(FromEvoM!A247),\"\",Category_ID)","v":""},null,null,null,{"$f":"IF(ISBLANK(FromEvoM!AK247),\"\",FromEvoM!AK247)","v":""},{"$f":"IF(ISBLANK(FromEvoM!AM247),\"\",FromEvoM!AM247)","v":""},{"$f":"IF(ISBLANK(FromEvoM!AN247),\"\",FromEvoM!AN247)","v":""},{"$f":"IF(ISBLANK(FromEvoM!AL247),\"\",FromEvoM!AL247)","v":""},{"$f":"IF(ISBLANK(FromEvoM!A247),\"\",IF(AND(AF247=\"y\",AI247=1),\"Y\",\"N\"))","v":""},{"$f":"IF(ISBLANK(FromEvoM!A247),\"\",IF(FromEvoM!AS247=\"Yes\",2,1))","v":""},{"$f":"IF(FromEvoM!W247=1,\"M\",IF(FromEvoM!W247=7,\"W\",\"\"))","v":""},{"$f":"IF(AJ247=\"Y\",0,IF(AJ247=\"N\",FromEvoM!AF247+FromEvoM!AT247,\"\"))","v":""},{"$f":"IF(AJ247=\"Y\",(FromEvoM!AE247+FromEvoM!AF247-FromEvoM!AT247),IF(AJ247=\"N\",FromEvoM!AE247,\"\"))","v":""}]
[{"$f":"IF(ISBLANK(FromEvoM!A248),\"\",Group_Code)","v":""},{"$f":"IF(ISBLANK(FromEvoM!A248),\"\",SUBSTITUTE(FromEvoM!A248,\" \",\"\"))","v":""},{"$f":"IF(ISBLANK(FromEvoM!C248),\"\",SUBSTITUTE(FromEvoM!G248,\" \",\"\"))","v":""},{"$f":"IF(ISBLANK(FromEvoM!D248),\"\",FromEvoM!B248)","v":""},{"$f":"IF(ISBLANK(FromEvoM!D248),\"\",FromEvoM!D248)","v":""},{"$f":"IF(ISBLANK(FromEvoM!C248),\"\",FromEvoM!C248)","v":""},{"$f":"REPLACE(FromEvoM!F248,2,6, )","v":""},{"$f":"IF(ISNUMBER(FromEvoM!E248),FromEvoM!E248,\"\")","v":""},{"$f":"IF(ISBLANK(FromEvoM!I248),\"\",FromEvoM!I248)","v":""},{"$f":"IF(ISBLANK(FromEvoM!J248),\"\",FromEvoM!J248)","v":""},{"$f":"IF(ISBLANK(FromEvoM!K248),\"\",FromEvoM!K248)","v":""},{"$f":"IF(ISBLANK(FromEvoM!L248),\"\",FromEvoM!L248)","v":""},{"$f":"IF(ISBLANK(FromEvoM!M248),\"\",FromEvoM!M248)","v":""},{"$f":"IF(ISBLANK(FromEvoM!P248),\"\",FromEvoM!P248)","v":""},null,{"$f":"IF(ISNUMBER(FromEvoM!X248),FromEvoM!X248,\"\")","v":""},{"$f":"IF(ISNUMBER(FromEvoM!AB248),FromEvoM!AB248,\"\")","v":""},{"$f":"IF(ISNUMBER(FromEvoM!AA248),FromEvoM!AA248,\"\")","v":""},null,"","",null,null,{"$f":"IF(FromEvoM!W248=1,(FromEvoM!AB248*12),IF(FromEvoM!W248=7,(FromEvoM!AR248),\"\"))","v":""},null,null,{"$f":"IF(ISBLANK(FromEvoM!A248),\"\",IF(FromEvoM!AK248=\"y\",\"Y\",\"N\"))","v":""},{"$f":"IF(ISBLANK(FromEvoM!A248),\"\",Category_ID)","v":""},null,null,null,{"$f":"IF(ISBLANK(FromEvoM!AK248),\"\",FromEvoM!AK248)","v":""},{"$f":"IF(ISBLANK(FromEvoM!AM248),\"\",FromEvoM!AM248)","v":""},{"$f":"IF(ISBLANK(FromEvoM!AN248),\"\",FromEvoM!AN248)","v":""},{"$f":"IF(ISBLANK(FromEvoM!AL248),\"\",FromEvoM!AL248)","v":""},{"$f":"IF(ISBLANK(FromEvoM!A248),\"\",IF(AND(AF248=\"y\",AI248=1),\"Y\",\"N\"))","v":""},{"$f":"IF(ISBLANK(FromEvoM!A248),\"\",IF(FromEvoM!AS248=\"Yes\",2,1))","v":""},{"$f":"IF(FromEvoM!W248=1,\"M\",IF(FromEvoM!W248=7,\"W\",\"\"))","v":""},{"$f":"IF(AJ248=\"Y\",0,IF(AJ248=\"N\",FromEvoM!AF248+FromEvoM!AT248,\"\"))","v":""},{"$f":"IF(AJ248=\"Y\",(FromEvoM!AE248+FromEvoM!AF248-FromEvoM!AT248),IF(AJ248=\"N\",FromEvoM!AE248,\"\"))","v":""}]
[{"$f":"IF(ISBLANK(FromEvoM!A249),\"\",Group_Code)","v":""},{"$f":"IF(ISBLANK(FromEvoM!A249),\"\",SUBSTITUTE(FromEvoM!A249,\" \",\"\"))","v":""},{"$f":"IF(ISBLANK(FromEvoM!C249),\"\",SUBSTITUTE(FromEvoM!G249,\" \",\"\"))","v":""},{"$f":"IF(ISBLANK(FromEvoM!D249),\"\",FromEvoM!B249)","v":""},{"$f":"IF(ISBLANK(FromEvoM!D249),\"\",FromEvoM!D249)","v":""},{"$f":"IF(ISBLANK(FromEvoM!C249),\"\",FromEvoM!C249)","v":""},{"$f":"REPLACE(FromEvoM!F249,2,6, )","v":""},{"$f":"IF(ISNUMBER(FromEvoM!E249),FromEvoM!E249,\"\")","v":""},{"$f":"IF(ISBLANK(FromEvoM!I249),\"\",FromEvoM!I249)","v":""},{"$f":"IF(ISBLANK(FromEvoM!J249),\"\",FromEvoM!J249)","v":""},{"$f":"IF(ISBLANK(FromEvoM!K249),\"\",FromEvoM!K249)","v":""},{"$f":"IF(ISBLANK(FromEvoM!L249),\"\",FromEvoM!L249)","v":""},{"$f":"IF(ISBLANK(FromEvoM!M249),\"\",FromEvoM!M249)","v":""},{"$f":"IF(ISBLANK(FromEvoM!P249),\"\",FromEvoM!P249)","v":""},null,{"$f":"IF(ISNUMBER(FromEvoM!X249),FromEvoM!X249,\"\")","v":""},{"$f":"IF(ISNUMBER(FromEvoM!AB249),FromEvoM!AB249,\"\")","v":""},{"$f":"IF(ISNUMBER(FromEvoM!AA249),FromEvoM!AA249,\"\")","v":""},null,"","",null,null,{"$f":"IF(FromEvoM!W249=1,(FromEvoM!AB249*12),IF(FromEvoM!W249=7,(FromEvoM!AR249),\"\"))","v":""},null,null,{"$f":"IF(ISBLANK(FromEvoM!A249),\"\",IF(FromEvoM!AK249=\"y\",\"Y\",\"N\"))","v":""},{"$f":"IF(ISBLANK(FromEvoM!A249),\"\",Category_ID)","v":""},null,null,null,{"$f":"IF(ISBLANK(FromEvoM!AK249),\"\",FromEvoM!AK249)","v":""},{"$f":"IF(ISBLANK(FromEvoM!AM249),\"\",FromEvoM!AM249)","v":""},{"$f":"IF(ISBLANK(FromEvoM!AN249),\"\",FromEvoM!AN249)","v":""},{"$f":"IF(ISBLANK(FromEvoM!AL249),\"\",FromEvoM!AL249)","v":""},{"$f":"IF(ISBLANK(FromEvoM!A249),\"\",IF(AND(AF249=\"y\",AI249=1),\"Y\",\"N\"))","v":""},{"$f":"IF(ISBLANK(FromEvoM!A249),\"\",IF(FromEvoM!AS249=\"Yes\",2,1))","v":""},{"$f":"IF(FromEvoM!W249=1,\"M\",IF(FromEvoM!W249=7,\"W\",\"\"))","v":""},{"$f":"IF(AJ249=\"Y\",0,IF(AJ249=\"N\",FromEvoM!AF249+FromEvoM!AT249,\"\"))","v":""},{"$f":"IF(AJ249=\"Y\",(FromEvoM!AE249+FromEvoM!AF249-FromEvoM!AT249),IF(AJ249=\"N\",FromEvoM!AE249,\"\"))","v":""}]
[{"$f":"IF(ISBLANK(FromEvoM!A250),\"\",Group_Code)","v":""},{"$f":"IF(ISBLANK(FromEvoM!A250),\"\",SUBSTITUTE(FromEvoM!A250,\" \",\"\"))","v":""},{"$f":"IF(ISBLANK(FromEvoM!C250),\"\",SUBSTITUTE(FromEvoM!G250,\" \",\"\"))","v":""},{"$f":"IF(ISBLANK(FromEvoM!D250),\"\",FromEvoM!B250)","v":""},{"$f":"IF(ISBLANK(FromEvoM!D250),\"\",FromEvoM!D250)","v":""},{"$f":"IF(ISBLANK(FromEvoM!C250),\"\",FromEvoM!C250)","v":""},{"$f":"REPLACE(FromEvoM!F250,2,6, )","v":""},{"$f":"IF(ISNUMBER(FromEvoM!E250),FromEvoM!E250,\"\")","v":""},{"$f":"IF(ISBLANK(FromEvoM!I250),\"\",FromEvoM!I250)","v":""},{"$f":"IF(ISBLANK(FromEvoM!J250),\"\",FromEvoM!J250)","v":""},{"$f":"IF(ISBLANK(FromEvoM!K250),\"\",FromEvoM!K250)","v":""},{"$f":"IF(ISBLANK(FromEvoM!L250),\"\",FromEvoM!L250)","v":""},{"$f":"IF(ISBLANK(FromEvoM!M250),\"\",FromEvoM!M250)","v":""},{"$f":"IF(ISBLANK(FromEvoM!P250),\"\",FromEvoM!P250)","v":""},null,{"$f":"IF(ISNUMBER(FromEvoM!X250),FromEvoM!X250,\"\")","v":""},{"$f":"IF(ISNUMBER(FromEvoM!AB250),FromEvoM!AB250,\"\")","v":""},{"$f":"IF(ISNUMBER(FromEvoM!AA250),FromEvoM!AA250,\"\")","v":""},null,"","",null,null,{"$f":"IF(FromEvoM!W250=1,(FromEvoM!AB250*12),IF(FromEvoM!W250=7,(FromEvoM!AR250),\"\"))","v":""},null,null,{"$f":"IF(ISBLANK(FromEvoM!A250),\"\",IF(FromEvoM!AK250=\"y\",\"Y\",\"N\"))","v":""},{"$f":"IF(ISBLANK(FromEvoM!A250),\"\",Category_ID)","v":""},null,null,null,{"$f":"IF(ISBLANK(FromEvoM!AK250),\"\",FromEvoM!AK250)","v":""},{"$f":"IF(ISBLANK(FromEvoM!AM250),\"\",FromEvoM!AM250)","v":""},{"$f":"IF(ISBLANK(FromEvoM!AN250),\"\",FromEvoM!AN250)","v":""},{"$f":"IF(ISBLANK(FromEvoM!AL250),\"\",FromEvoM!AL250)","v":""},{"$f":"IF(ISBLANK(FromEvoM!A250),\"\",IF(AND(AF250=\"y\",AI250=1),\"Y\",\"N\"))","v":""},{"$f":"IF(ISBLANK(FromEvoM!A250),\"\",IF(FromEvoM!AS250=\"Yes\",2,1))","v":""},{"$f":"IF(FromEvoM!W250=1,\"M\",IF(FromEvoM!W250=7,\"W\",\"\"))","v":""},{"$f":"IF(AJ250=\"Y\",0,IF(AJ250=\"N\",FromEvoM!AF250+FromEvoM!AT250,\"\"))","v":""},{"$f":"IF(AJ250=\"Y\",(FromEvoM!AE250+FromEvoM!AF250-FromEvoM!AT250),IF(AJ250=\"N\",FromEvoM!AE250,\"\"))","v":""}]
[{"$f":"IF(ISBLANK(FromEvoM!A251),\"\",Group_Code)","v":""},{"$f":"IF(ISBLANK(FromEvoM!A251),\"\",SUBSTITUTE(FromEvoM!A251,\" \",\"\"))","v":""},{"$f":"IF(ISBLANK(FromEvoM!C251),\"\",SUBSTITUTE(FromEvoM!G251,\" \",\"\"))","v":""},{"$f":"IF(ISBLANK(FromEvoM!D251),\"\",FromEvoM!B251)","v":""},{"$f":"IF(ISBLANK(FromEvoM!D251),\"\",FromEvoM!D251)","v":""},{"$f":"IF(ISBLANK(FromEvoM!C251),\"\",FromEvoM!C251)","v":""},{"$f":"REPLACE(FromEvoM!F251,2,6, )","v":""},{"$f":"IF(ISNUMBER(FromEvoM!E251),FromEvoM!E251,\"\")","v":""},{"$f":"IF(ISBLANK(FromEvoM!I251),\"\",FromEvoM!I251)","v":""},{"$f":"IF(ISBLANK(FromEvoM!J251),\"\",FromEvoM!J251)","v":""},{"$f":"IF(ISBLANK(FromEvoM!K251),\"\",FromEvoM!K251)","v":""},{"$f":"IF(ISBLANK(FromEvoM!L251),\"\",FromEvoM!L251)","v":""},{"$f":"IF(ISBLANK(FromEvoM!M251),\"\",FromEvoM!M251)","v":""},{"$f":"IF(ISBLANK(FromEvoM!P251),\"\",FromEvoM!P251)","v":""},null,{"$f":"IF(ISNUMBER(FromEvoM!X251),FromEvoM!X251,\"\")","v":""},{"$f":"IF(ISNUMBER(FromEvoM!AB251),FromEvoM!AB251,\"\")","v":""},{"$f":"IF(ISNUMBER(FromEvoM!AA251),FromEvoM!AA251,\"\")","v":""},null,"","",null,null,{"$f":"IF(FromEvoM!W251=1,(FromEvoM!AB251*12),IF(FromEvoM!W251=7,(FromEvoM!AR251),\"\"))","v":""},null,null,{"$f":"IF(ISBLANK(FromEvoM!A251),\"\",IF(FromEvoM!AK251=\"y\",\"Y\",\"N\"))","v":""},{"$f":"IF(ISBLANK(FromEvoM!A251),\"\",Category_ID)","v":""},null,null,null,{"$f":"IF(ISBLANK(FromEvoM!AK251),\"\",FromEvoM!AK251)","v":""},{"$f":"IF(ISBLANK(FromEvoM!AM251),\"\",FromEvoM!AM251)","v":""},{"$f":"IF(ISBLANK(FromEvoM!AN251),\"\",FromEvoM!AN251)","v":""},{"$f":"IF(ISBLANK(FromEvoM!AL251),\"\",FromEvoM!AL251)","v":""},{"$f":"IF(ISBLANK(FromEvoM!A251),\"\",IF(AND(AF251=\"y\",AI251=1),\"Y\",\"N\"))","v":""},{"$f":"IF(ISBLANK(FromEvoM!A251),\"\",IF(FromEvoM!AS251=\"Yes\",2,1))","v":""},{"$f":"IF(FromEvoM!W251=1,\"M\",IF(FromEvoM!W251=7,\"W\",\"\"))","v":""},{"$f":"IF(AJ251=\"Y\",0,IF(AJ251=\"N\",FromEvoM!AF251+FromEvoM!AT251,\"\"))","v":""},{"$f":"IF(AJ251=\"Y\",(FromEvoM!AE251+FromEvoM!AF251-FromEvoM!AT251),IF(AJ251=\"N\",FromEvoM!AE251,\"\"))","v":""}]
[{"$f":"IF(ISBLANK(FromEvoM!A252),\"\",Group_Code)","v":""},{"$f":"IF(ISBLANK(FromEvoM!A252),\"\",SUBSTITUTE(FromEvoM!A252,\" \",\"\"))","v":""},{"$f":"IF(ISBLANK(FromEvoM!C252),\"\",SUBSTITUTE(FromEvoM!G252,\" \",\"\"))","v":""},{"$f":"IF(ISBLANK(FromEvoM!D252),\"\",FromEvoM!B252)","v":""},{"$f":"IF(ISBLANK(FromEvoM!D252),\"\",FromEvoM!D252)","v":""},{"$f":"IF(ISBLANK(FromEvoM!C252),\"\",FromEvoM!C252)","v":""},{"$f":"REPLACE(FromEvoM!F252,2,6, )","v":""},{"$f":"IF(ISNUMBER(FromEvoM!E252),FromEvoM!E252,\"\")","v":""},{"$f":"IF(ISBLANK(FromEvoM!I252),\"\",FromEvoM!I252)","v":""},{"$f":"IF(ISBLANK(FromEvoM!J252),\"\",FromEvoM!J252)","v":""},{"$f":"IF(ISBLANK(FromEvoM!K252),\"\",FromEvoM!K252)","v":""},{"$f":"IF(ISBLANK(FromEvoM!L252),\"\",FromEvoM!L252)","v":""},{"$f":"IF(ISBLANK(FromEvoM!M252),\"\",FromEvoM!M252)","v":""},{"$f":"IF(ISBLANK(FromEvoM!P252),\"\",FromEvoM!P252)","v":""},null,{"$f":"IF(ISNUMBER(FromEvoM!X252),FromEvoM!X252,\"\")","v":""},{"$f":"IF(ISNUMBER(FromEvoM!AB252),FromEvoM!AB252,\"\")","v":""},{"$f":"IF(ISNUMBER(FromEvoM!AA252),FromEvoM!AA252,\"\")","v":""},null,"","",null,null,{"$f":"IF(FromEvoM!W252=1,(FromEvoM!AB252*12),IF(FromEvoM!W252=7,(FromEvoM!AR252),\"\"))","v":""},null,null,{"$f":"IF(ISBLANK(FromEvoM!A252),\"\",IF(FromEvoM!AK252=\"y\",\"Y\",\"N\"))","v":""},{"$f":"IF(ISBLANK(FromEvoM!A252),\"\",Category_ID)","v":""},null,null,null,{"$f":"IF(ISBLANK(FromEvoM!AK252),\"\",FromEvoM!AK252)","v":""},{"$f":"IF(ISBLANK(FromEvoM!AM252),\"\",FromEvoM!AM252)","v":""},{"$f":"IF(ISBLANK(FromEvoM!AN252),\"\",FromEvoM!AN252)","v":""},{"$f":"IF(ISBLANK(FromEvoM!AL252),\"\",FromEvoM!AL252)","v":""},{"$f":"IF(ISBLANK(FromEvoM!A252),\"\",IF(AND(AF252=\"y\",AI252=1),\"Y\",\"N\"))","v":""},{"$f":"IF(ISBLANK(FromEvoM!A252),\"\",IF(FromEvoM!AS252=\"Yes\",2,1))","v":""},{"$f":"IF(FromEvoM!W252=1,\"M\",IF(FromEvoM!W252=7,\"W\",\"\"))","v":""},{"$f":"IF(AJ252=\"Y\",0,IF(AJ252=\"N\",FromEvoM!AF252+FromEvoM!AT252,\"\"))","v":""},{"$f":"IF(AJ252=\"Y\",(FromEvoM!AE252+FromEvoM!AF252-FromEvoM!AT252),IF(AJ252=\"N\",FromEvoM!AE252,\"\"))","v":""}]
[{"$f":"IF(ISBLANK(FromEvoM!A253),\"\",Group_Code)","v":""},{"$f":"IF(ISBLANK(FromEvoM!A253),\"\",SUBSTITUTE(FromEvoM!A253,\" \",\"\"))","v":""},{"$f":"IF(ISBLANK(FromEvoM!C253),\"\",SUBSTITUTE(FromEvoM!G253,\" \",\"\"))","v":""},{"$f":"IF(ISBLANK(FromEvoM!D253),\"\",FromEvoM!B253)","v":""},{"$f":"IF(ISBLANK(FromEvoM!D253),\"\",FromEvoM!D253)","v":""},{"$f":"IF(ISBLANK(FromEvoM!C253),\"\",FromEvoM!C253)","v":""},{"$f":"REPLACE(FromEvoM!F253,2,6, )","v":""},{"$f":"IF(ISNUMBER(FromEvoM!E253),FromEvoM!E253,\"\")","v":""},{"$f":"IF(ISBLANK(FromEvoM!I253),\"\",FromEvoM!I253)","v":""},{"$f":"IF(ISBLANK(FromEvoM!J253),\"\",FromEvoM!J253)","v":""},{"$f":"IF(ISBLANK(FromEvoM!K253),\"\",FromEvoM!K253)","v":""},{"$f":"IF(ISBLANK(FromEvoM!L253),\"\",FromEvoM!L253)","v":""},{"$f":"IF(ISBLANK(FromEvoM!M253),\"\",FromEvoM!M253)","v":""},{"$f":"IF(ISBLANK(FromEvoM!P253),\"\",FromEvoM!P253)","v":""},null,{"$f":"IF(ISNUMBER(FromEvoM!X253),FromEvoM!X253,\"\")","v":""},{"$f":"IF(ISNUMBER(FromEvoM!AB253),FromEvoM!AB253,\"\")","v":""},{"$f":"IF(ISNUMBER(FromEvoM!AA253),FromEvoM!AA253,\"\")","v":""},null,"","",null,null,{"$f":"IF(FromEvoM!W253=1,(FromEvoM!AB253*12),IF(FromEvoM!W253=7,(FromEvoM!AR253),\"\"))","v":""},null,null,{"$f":"IF(ISBLANK(FromEvoM!A253),\"\",IF(FromEvoM!AK253=\"y\",\"Y\",\"N\"))","v":""},{"$f":"IF(ISBLANK(FromEvoM!A253),\"\",Category_ID)","v":""},null,null,null,{"$f":"IF(ISBLANK(FromEvoM!AK253),\"\",FromEvoM!AK253)","v":""},{"$f":"IF(ISBLANK(FromEvoM!AM253),\"\",FromEvoM!AM253)","v":""},{"$f":"IF(ISBLANK(FromEvoM!AN253),\"\",FromEvoM!AN253)","v":""},{"$f":"IF(ISBLANK(FromEvoM!AL253),\"\",FromEvoM!AL253)","v":""},{"$f":"IF(ISBLANK(FromEvoM!A253),\"\",IF(AND(AF253=\"y\",AI253=1),\"Y\",\"N\"))","v":""},{"$f":"IF(ISBLANK(FromEvoM!A253),\"\",IF(FromEvoM!AS253=\"Yes\",2,1))","v":""},{"$f":"IF(FromEvoM!W253=1,\"M\",IF(FromEvoM!W253=7,\"W\",\"\"))","v":""},{"$f":"IF(AJ253=\"Y\",0,IF(AJ253=\"N\",FromEvoM!AF253+FromEvoM!AT253,\"\"))","v":""},{"$f":"IF(AJ253=\"Y\",(FromEvoM!AE253+FromEvoM!AF253-FromEvoM!AT253),IF(AJ253=\"N\",FromEvoM!AE253,\"\"))","v":""}]
[{"$f":"IF(ISBLANK(FromEvoM!A254),\"\",Group_Code)","v":""},{"$f":"IF(ISBLANK(FromEvoM!A254),\"\",SUBSTITUTE(FromEvoM!A254,\" \",\"\"))","v":""},{"$f":"IF(ISBLANK(FromEvoM!C254),\"\",SUBSTITUTE(FromEvoM!G254,\" \",\"\"))","v":""},{"$f":"IF(ISBLANK(FromEvoM!D254),\"\",FromEvoM!B254)","v":""},{"$f":"IF(ISBLANK(FromEvoM!D254),\"\",FromEvoM!D254)","v":""},{"$f":"IF(ISBLANK(FromEvoM!C254),\"\",FromEvoM!C254)","v":""},{"$f":"REPLACE(FromEvoM!F254,2,6, )","v":""},{"$f":"IF(ISNUMBER(FromEvoM!E254),FromEvoM!E254,\"\")","v":""},{"$f":"IF(ISBLANK(FromEvoM!I254),\"\",FromEvoM!I254)","v":""},{"$f":"IF(ISBLANK(FromEvoM!J254),\"\",FromEvoM!J254)","v":""},{"$f":"IF(ISBLANK(FromEvoM!K254),\"\",FromEvoM!K254)","v":""},{"$f":"IF(ISBLANK(FromEvoM!L254),\"\",FromEvoM!L254)","v":""},{"$f":"IF(ISBLANK(FromEvoM!M254),\"\",FromEvoM!M254)","v":""},{"$f":"IF(ISBLANK(FromEvoM!P254),\"\",FromEvoM!P254)","v":""},null,{"$f":"IF(ISNUMBER(FromEvoM!X254),FromEvoM!X254,\"\")","v":""},{"$f":"IF(ISNUMBER(FromEvoM!AB254),FromEvoM!AB254,\"\")","v":""},{"$f":"IF(ISNUMBER(FromEvoM!AA254),FromEvoM!AA254,\"\")","v":""},null,"","",null,null,{"$f":"IF(FromEvoM!W254=1,(FromEvoM!AB254*12),IF(FromEvoM!W254=7,(FromEvoM!AR254),\"\"))","v":""},null,null,{"$f":"IF(ISBLANK(FromEvoM!A254),\"\",IF(FromEvoM!AK254=\"y\",\"Y\",\"N\"))","v":""},{"$f":"IF(ISBLANK(FromEvoM!A254),\"\",Category_ID)","v":""},null,null,null,{"$f":"IF(ISBLANK(FromEvoM!AK254),\"\",FromEvoM!AK254)","v":""},{"$f":"IF(ISBLANK(FromEvoM!AM254),\"\",FromEvoM!AM254)","v":""},{"$f":"IF(ISBLANK(FromEvoM!AN254),\"\",FromEvoM!AN254)","v":""},{"$f":"IF(ISBLANK(FromEvoM!AL254),\"\",FromEvoM!AL254)","v":""},{"$f":"IF(ISBLANK(FromEvoM!A254),\"\",IF(AND(AF254=\"y\",AI254=1),\"Y\",\"N\"))","v":""},{"$f":"IF(ISBLANK(FromEvoM!A254),\"\",IF(FromEvoM!AS254=\"Yes\",2,1))","v":""},{"$f":"IF(FromEvoM!W254=1,\"M\",IF(FromEvoM!W254=7,\"W\",\"\"))","v":""},{"$f":"IF(AJ254=\"Y\",0,IF(AJ254=\"N\",FromEvoM!AF254+FromEvoM!AT254,\"\"))","v":""},{"$f":"IF(AJ254=\"Y\",(FromEvoM!AE254+FromEvoM!AF254-FromEvoM!AT254),IF(AJ254=\"N\",FromEvoM!AE254,\"\"))","v":""}]
[{"$f":"IF(ISBLANK(FromEvoM!A255),\"\",Group_Code)","v":""},{"$f":"IF(ISBLANK(FromEvoM!A255),\"\",SUBSTITUTE(FromEvoM!A255,\" \",\"\"))","v":""},{"$f":"IF(ISBLANK(FromEvoM!C255),\"\",SUBSTITUTE(FromEvoM!G255,\" \",\"\"))","v":""},{"$f":"IF(ISBLANK(FromEvoM!D255),\"\",FromEvoM!B255)","v":""},{"$f":"IF(ISBLANK(FromEvoM!D255),\"\",FromEvoM!D255)","v":""},{"$f":"IF(ISBLANK(FromEvoM!C255),\"\",FromEvoM!C255)","v":""},{"$f":"REPLACE(FromEvoM!F255,2,6, )","v":""},{"$f":"IF(ISNUMBER(FromEvoM!E255),FromEvoM!E255,\"\")","v":""},{"$f":"IF(ISBLANK(FromEvoM!I255),\"\",FromEvoM!I255)","v":""},{"$f":"IF(ISBLANK(FromEvoM!J255),\"\",FromEvoM!J255)","v":""},{"$f":"IF(ISBLANK(FromEvoM!K255),\"\",FromEvoM!K255)","v":""},{"$f":"IF(ISBLANK(FromEvoM!L255),\"\",FromEvoM!L255)","v":""},{"$f":"IF(ISBLANK(FromEvoM!M255),\"\",FromEvoM!M255)","v":""},{"$f":"IF(ISBLANK(FromEvoM!P255),\"\",FromEvoM!P255)","v":""},null,{"$f":"IF(ISNUMBER(FromEvoM!X255),FromEvoM!X255,\"\")","v":""},{"$f":"IF(ISNUMBER(FromEvoM!AB255),FromEvoM!AB255,\"\")","v":""},{"$f":"IF(ISNUMBER(FromEvoM!AA255),FromEvoM!AA255,\"\")","v":""},null,"","",null,null,{"$f":"IF(FromEvoM!W255=1,(FromEvoM!AB255*12),IF(FromEvoM!W255=7,(FromEvoM!AR255),\"\"))","v":""},null,null,{"$f":"IF(ISBLANK(FromEvoM!A255),\"\",IF(FromEvoM!AK255=\"y\",\"Y\",\"N\"))","v":""},{"$f":"IF(ISBLANK(FromEvoM!A255),\"\",Category_ID)","v":""},null,null,null,{"$f":"IF(ISBLANK(FromEvoM!AK255),\"\",FromEvoM!AK255)","v":""},{"$f":"IF(ISBLANK(FromEvoM!AM255),\"\",FromEvoM!AM255)","v":""},{"$f":"IF(ISBLANK(FromEvoM!AN255),\"\",FromEvoM!AN255)","v":""},{"$f":"IF(ISBLANK(FromEvoM!AL255),\"\",FromEvoM!AL255)","v":""},{"$f":"IF(ISBLANK(FromEvoM!A255),\"\",IF(AND(AF255=\"y\",AI255=1),\"Y\",\"N\"))","v":""},{"$f":"IF(ISBLANK(FromEvoM!A255),\"\",IF(FromEvoM!AS255=\"Yes\",2,1))","v":""},{"$f":"IF(FromEvoM!W255=1,\"M\",IF(FromEvoM!W255=7,\"W\",\"\"))","v":""},{"$f":"IF(AJ255=\"Y\",0,IF(AJ255=\"N\",FromEvoM!AF255+FromEvoM!AT255,\"\"))","v":""},{"$f":"IF(AJ255=\"Y\",(FromEvoM!AE255+FromEvoM!AF255-FromEvoM!AT255),IF(AJ255=\"N\",FromEvoM!AE255,\"\"))","v":""}]
[{"$f":"IF(ISBLANK(FromEvoM!A256),\"\",Group_Code)","v":""},{"$f":"IF(ISBLANK(FromEvoM!A256),\"\",SUBSTITUTE(FromEvoM!A256,\" \",\"\"))","v":""},{"$f":"IF(ISBLANK(FromEvoM!C256),\"\",SUBSTITUTE(FromEvoM!G256,\" \",\"\"))","v":""},{"$f":"IF(ISBLANK(FromEvoM!D256),\"\",FromEvoM!B256)","v":""},{"$f":"IF(ISBLANK(FromEvoM!D256),\"\",FromEvoM!D256)","v":""},{"$f":"IF(ISBLANK(FromEvoM!C256),\"\",FromEvoM!C256)","v":""},{"$f":"REPLACE(FromEvoM!F256,2,6, )","v":""},{"$f":"IF(ISNUMBER(FromEvoM!E256),FromEvoM!E256,\"\")","v":""},{"$f":"IF(ISBLANK(FromEvoM!I256),\"\",FromEvoM!I256)","v":""},{"$f":"IF(ISBLANK(FromEvoM!J256),\"\",FromEvoM!J256)","v":""},{"$f":"IF(ISBLANK(FromEvoM!K256),\"\",FromEvoM!K256)","v":""},{"$f":"IF(ISBLANK(FromEvoM!L256),\"\",FromEvoM!L256)","v":""},{"$f":"IF(ISBLANK(FromEvoM!M256),\"\",FromEvoM!M256)","v":""},{"$f":"IF(ISBLANK(FromEvoM!P256),\"\",FromEvoM!P256)","v":""},null,{"$f":"IF(ISNUMBER(FromEvoM!X256),FromEvoM!X256,\"\")","v":""},{"$f":"IF(ISNUMBER(FromEvoM!AB256),FromEvoM!AB256,\"\")","v":""},{"$f":"IF(ISNUMBER(FromEvoM!AA256),FromEvoM!AA256,\"\")","v":""},null,"","",null,null,{"$f":"IF(FromEvoM!W256=1,(FromEvoM!AB256*12),IF(FromEvoM!W256=7,(FromEvoM!AR256),\"\"))","v":""},null,null,{"$f":"IF(ISBLANK(FromEvoM!A256),\"\",IF(FromEvoM!AK256=\"y\",\"Y\",\"N\"))","v":""},{"$f":"IF(ISBLANK(FromEvoM!A256),\"\",Category_ID)","v":""},null,null,null,{"$f":"IF(ISBLANK(FromEvoM!AK256),\"\",FromEvoM!AK256)","v":""},{"$f":"IF(ISBLANK(FromEvoM!AM256),\"\",FromEvoM!AM256)","v":""},{"$f":"IF(ISBLANK(FromEvoM!AN256),\"\",FromEvoM!AN256)","v":""},{"$f":"IF(ISBLANK(FromEvoM!AL256),\"\",FromEvoM!AL256)","v":""},{"$f":"IF(ISBLANK(FromEvoM!A256),\"\",IF(AND(AF256=\"y\",AI256=1),\"Y\",\"N\"))","v":""},{"$f":"IF(ISBLANK(FromEvoM!A256),\"\",IF(FromEvoM!AS256=\"Yes\",2,1))","v":""},{"$f":"IF(FromEvoM!W256=1,\"M\",IF(FromEvoM!W256=7,\"W\",\"\"))","v":""},{"$f":"IF(AJ256=\"Y\",0,IF(AJ256=\"N\",FromEvoM!AF256+FromEvoM!AT256,\"\"))","v":""},{"$f":"IF(AJ256=\"Y\",(FromEvoM!AE256+FromEvoM!AF256-FromEvoM!AT256),IF(AJ256=\"N\",FromEvoM!AE256,\"\"))","v":""}]
[{"$f":"IF(ISBLANK(FromEvoM!A257),\"\",Group_Code)","v":""},{"$f":"IF(ISBLANK(FromEvoM!A257),\"\",SUBSTITUTE(FromEvoM!A257,\" \",\"\"))","v":""},{"$f":"IF(ISBLANK(FromEvoM!C257),\"\",SUBSTITUTE(FromEvoM!G257,\" \",\"\"))","v":""},{"$f":"IF(ISBLANK(FromEvoM!D257),\"\",FromEvoM!B257)","v":""},{"$f":"IF(ISBLANK(FromEvoM!D257),\"\",FromEvoM!D257)","v":""},{"$f":"IF(ISBLANK(FromEvoM!C257),\"\",FromEvoM!C257)","v":""},{"$f":"REPLACE(FromEvoM!F257,2,6, )","v":""},{"$f":"IF(ISNUMBER(FromEvoM!E257),FromEvoM!E257,\"\")","v":""},{"$f":"IF(ISBLANK(FromEvoM!I257),\"\",FromEvoM!I257)","v":""},{"$f":"IF(ISBLANK(FromEvoM!J257),\"\",FromEvoM!J257)","v":""},{"$f":"IF(ISBLANK(FromEvoM!K257),\"\",FromEvoM!K257)","v":""},{"$f":"IF(ISBLANK(FromEvoM!L257),\"\",FromEvoM!L257)","v":""},{"$f":"IF(ISBLANK(FromEvoM!M257),\"\",FromEvoM!M257)","v":""},{"$f":"IF(ISBLANK(FromEvoM!P257),\"\",FromEvoM!P257)","v":""},null,{"$f":"IF(ISNUMBER(FromEvoM!X257),FromEvoM!X257,\"\")","v":""},{"$f":"IF(ISNUMBER(FromEvoM!AB257),FromEvoM!AB257,\"\")","v":""},{"$f":"IF(ISNUMBER(FromEvoM!AA257),FromEvoM!AA257,\"\")","v":""},null,"","",null,null,{"$f":"IF(FromEvoM!W257=1,(FromEvoM!AB257*12),IF(FromEvoM!W257=7,(FromEvoM!AR257),\"\"))","v":""},null,null,{"$f":"IF(ISBLANK(FromEvoM!A257),\"\",IF(FromEvoM!AK257=\"y\",\"Y\",\"N\"))","v":""},{"$f":"IF(ISBLANK(FromEvoM!A257),\"\",Category_ID)","v":""},null,null,null,{"$f":"IF(ISBLANK(FromEvoM!AK257),\"\",FromEvoM!AK257)","v":""},{"$f":"IF(ISBLANK(FromEvoM!AM257),\"\",FromEvoM!AM257)","v":""},{"$f":"IF(ISBLANK(FromEvoM!AN257),\"\",FromEvoM!AN257)","v":""},{"$f":"IF(ISBLANK(FromEvoM!AL257),\"\",FromEvoM!AL257)","v":""},{"$f":"IF(ISBLANK(FromEvoM!A257),\"\",IF(AND(AF257=\"y\",AI257=1),\"Y\",\"N\"))","v":""},{"$f":"IF(ISBLANK(FromEvoM!A257),\"\",IF(FromEvoM!AS257=\"Yes\",2,1))","v":""},{"$f":"IF(FromEvoM!W257=1,\"M\",IF(FromEvoM!W257=7,\"W\",\"\"))","v":""},{"$f":"IF(AJ257=\"Y\",0,IF(AJ257=\"N\",FromEvoM!AF257+FromEvoM!AT257,\"\"))","v":""},{"$f":"IF(AJ257=\"Y\",(FromEvoM!AE257+FromEvoM!AF257-FromEvoM!AT257),IF(AJ257=\"N\",FromEvoM!AE257,\"\"))","v":""}]
[{"$f":"IF(ISBLANK(FromEvoM!A258),\"\",Group_Code)","v":""},{"$f":"IF(ISBLANK(FromEvoM!A258),\"\",SUBSTITUTE(FromEvoM!A258,\" \",\"\"))","v":""},{"$f":"IF(ISBLANK(FromEvoM!C258),\"\",SUBSTITUTE(FromEvoM!G258,\" \",\"\"))","v":""},{"$f":"IF(ISBLANK(FromEvoM!D258),\"\",FromEvoM!B258)","v":""},{"$f":"IF(ISBLANK(FromEvoM!D258),\"\",FromEvoM!D258)","v":""},{"$f":"IF(ISBLANK(FromEvoM!C258),\"\",FromEvoM!C258)","v":""},{"$f":"REPLACE(FromEvoM!F258,2,6, )","v":""},{"$f":"IF(ISNUMBER(FromEvoM!E258),FromEvoM!E258,\"\")","v":""},{"$f":"IF(ISBLANK(FromEvoM!I258),\"\",FromEvoM!I258)","v":""},{"$f":"IF(ISBLANK(FromEvoM!J258),\"\",FromEvoM!J258)","v":""},{"$f":"IF(ISBLANK(FromEvoM!K258),\"\",FromEvoM!K258)","v":""},{"$f":"IF(ISBLANK(FromEvoM!L258),\"\",FromEvoM!L258)","v":""},{"$f":"IF(ISBLANK(FromEvoM!M258),\"\",FromEvoM!M258)","v":""},{"$f":"IF(ISBLANK(FromEvoM!P258),\"\",FromEvoM!P258)","v":""},null,{"$f":"IF(ISNUMBER(FromEvoM!X258),FromEvoM!X258,\"\")","v":""},{"$f":"IF(ISNUMBER(FromEvoM!AB258),FromEvoM!AB258,\"\")","v":""},{"$f":"IF(ISNUMBER(FromEvoM!AA258),FromEvoM!AA258,\"\")","v":""},null,"","",null,null,{"$f":"IF(FromEvoM!W258=1,(FromEvoM!AB258*12),IF(FromEvoM!W258=7,(FromEvoM!AR258),\"\"))","v":""},null,null,{"$f":"IF(ISBLANK(FromEvoM!A258),\"\",IF(FromEvoM!AK258=\"y\",\"Y\",\"N\"))","v":""},{"$f":"IF(ISBLANK(FromEvoM!A258),\"\",Category_ID)","v":""},null,null,null,{"$f":"IF(ISBLANK(FromEvoM!AK258),\"\",FromEvoM!AK258)","v":""},{"$f":"IF(ISBLANK(FromEvoM!AM258),\"\",FromEvoM!AM258)","v":""},{"$f":"IF(ISBLANK(FromEvoM!AN258),\"\",FromEvoM!AN258)","v":""},{"$f":"IF(ISBLANK(FromEvoM!AL258),\"\",FromEvoM!AL258)","v":""},{"$f":"IF(ISBLANK(FromEvoM!A258),\"\",IF(AND(AF258=\"y\",AI258=1),\"Y\",\"N\"))","v":""},{"$f":"IF(ISBLANK(FromEvoM!A258),\"\",IF(FromEvoM!AS258=\"Yes\",2,1))","v":""},{"$f":"IF(FromEvoM!W258=1,\"M\",IF(FromEvoM!W258=7,\"W\",\"\"))","v":""},{"$f":"IF(AJ258=\"Y\",0,IF(AJ258=\"N\",FromEvoM!AF258+FromEvoM!AT258,\"\"))","v":""},{"$f":"IF(AJ258=\"Y\",(FromEvoM!AE258+FromEvoM!AF258-FromEvoM!AT258),IF(AJ258=\"N\",FromEvoM!AE258,\"\"))","v":""}]
[{"$f":"IF(ISBLANK(FromEvoM!A259),\"\",Group_Code)","v":""},{"$f":"IF(ISBLANK(FromEvoM!A259),\"\",SUBSTITUTE(FromEvoM!A259,\" \",\"\"))","v":""},{"$f":"IF(ISBLANK(FromEvoM!C259),\"\",SUBSTITUTE(FromEvoM!G259,\" \",\"\"))","v":""},{"$f":"IF(ISBLANK(FromEvoM!D259),\"\",FromEvoM!B259)","v":""},{"$f":"IF(ISBLANK(FromEvoM!D259),\"\",FromEvoM!D259)","v":""},{"$f":"IF(ISBLANK(FromEvoM!C259),\"\",FromEvoM!C259)","v":""},{"$f":"REPLACE(FromEvoM!F259,2,6, )","v":""},{"$f":"IF(ISNUMBER(FromEvoM!E259),FromEvoM!E259,\"\")","v":""},{"$f":"IF(ISBLANK(FromEvoM!I259),\"\",FromEvoM!I259)","v":""},{"$f":"IF(ISBLANK(FromEvoM!J259),\"\",FromEvoM!J259)","v":""},{"$f":"IF(ISBLANK(FromEvoM!K259),\"\",FromEvoM!K259)","v":""},{"$f":"IF(ISBLANK(FromEvoM!L259),\"\",FromEvoM!L259)","v":""},{"$f":"IF(ISBLANK(FromEvoM!M259),\"\",FromEvoM!M259)","v":""},{"$f":"IF(ISBLANK(FromEvoM!P259),\"\",FromEvoM!P259)","v":""},null,{"$f":"IF(ISNUMBER(FromEvoM!X259),FromEvoM!X259,\"\")","v":""},{"$f":"IF(ISNUMBER(FromEvoM!AB259),FromEvoM!AB259,\"\")","v":""},{"$f":"IF(ISNUMBER(FromEvoM!AA259),FromEvoM!AA259,\"\")","v":""},null,{"$f":"AM259","v":""},{"$f":"AN259","v":""},null,null,{"$f":"IF(FromEvoM!W259=1,(FromEvoM!AB259*12),IF(FromEvoM!W259=7,(FromEvoM!AR259),\"\"))","v":""},null,null,{"$f":"IF(ISBLANK(FromEvoM!A259),\"\",IF(FromEvoM!AK259=\"y\",\"Y\",\"N\"))","v":""},{"$f":"IF(ISBLANK(FromEvoM!A259),\"\",Category_ID)","v":""},null,null,null,{"$f":"IF(ISBLANK(FromEvoM!AK259),\"\",FromEvoM!AK259)","v":""},{"$f":"IF(ISBLANK(FromEvoM!AM259),\"\",FromEvoM!AM259)","v":""},{"$f":"IF(ISBLANK(FromEvoM!AN259),\"\",FromEvoM!AN259)","v":""},{"$f":"IF(ISBLANK(FromEvoM!AL259),\"\",FromEvoM!AL259)","v":""},{"$f":"IF(ISBLANK(FromEvoM!A259),\"\",IF(AND(AF259=\"y\",AI259=1),\"Y\",\"N\"))","v":""},{"$f":"IF(ISBLANK(FromEvoM!A259),\"\",IF(FromEvoM!AS259=\"Yes\",2,1))","v":""},{"$f":"IF(FromEvoM!W259=1,\"M\",IF(FromEvoM!W259=7,\"W\",\"\"))","v":""},{"$f":"IF(AJ259=\"Y\",0,IF(AJ259=\"N\",FromEvoM!AF259+FromEvoM!AT259,\"\"))","v":""},{"$f":"IF(AJ259=\"Y\",(FromEvoM!AE259+FromEvoM!AF259-FromEvoM!AT259),IF(AJ259=\"N\",FromEvoM!AE259,\"\"))","v":""}]
[{"$f":"IF(ISBLANK(FromEvoM!A260),\"\",Group_Code)","v":""},{"$f":"IF(ISBLANK(FromEvoM!A260),\"\",SUBSTITUTE(FromEvoM!A260,\" \",\"\"))","v":""},{"$f":"IF(ISBLANK(FromEvoM!C260),\"\",SUBSTITUTE(FromEvoM!G260,\" \",\"\"))","v":""},{"$f":"IF(ISBLANK(FromEvoM!D260),\"\",FromEvoM!B260)","v":""},{"$f":"IF(ISBLANK(FromEvoM!D260),\"\",FromEvoM!D260)","v":""},{"$f":"IF(ISBLANK(FromEvoM!C260),\"\",FromEvoM!C260)","v":""},{"$f":"REPLACE(FromEvoM!F260,2,6, )","v":""},{"$f":"IF(ISNUMBER(FromEvoM!E260),FromEvoM!E260,\"\")","v":""},{"$f":"IF(ISBLANK(FromEvoM!I260),\"\",FromEvoM!I260)","v":""},{"$f":"IF(ISBLANK(FromEvoM!J260),\"\",FromEvoM!J260)","v":""},{"$f":"IF(ISBLANK(FromEvoM!K260),\"\",FromEvoM!K260)","v":""},{"$f":"IF(ISBLANK(FromEvoM!L260),\"\",FromEvoM!L260)","v":""},{"$f":"IF(ISBLANK(FromEvoM!M260),\"\",FromEvoM!M260)","v":""},{"$f":"IF(ISBLANK(FromEvoM!P260),\"\",FromEvoM!P260)","v":""},null,{"$f":"IF(ISNUMBER(FromEvoM!X260),FromEvoM!X260,\"\")","v":""},{"$f":"IF(ISNUMBER(FromEvoM!AB260),FromEvoM!AB260,\"\")","v":""},{"$f":"IF(ISNUMBER(FromEvoM!AA260),FromEvoM!AA260,\"\")","v":""},null,"","",null,null,{"$f":"IF(FromEvoM!W260=1,(FromEvoM!AB260*12),IF(FromEvoM!W260=7,(FromEvoM!AR260),\"\"))","v":""},null,null,{"$f":"IF(ISBLANK(FromEvoM!A260),\"\",IF(FromEvoM!AK260=\"y\",\"Y\",\"N\"))","v":""},{"$f":"IF(ISBLANK(FromEvoM!A260),\"\",Category_ID)","v":""},null,null,null,{"$f":"IF(ISBLANK(FromEvoM!AK260),\"\",FromEvoM!AK260)","v":""},{"$f":"IF(ISBLANK(FromEvoM!AM260),\"\",FromEvoM!AM260)","v":""},{"$f":"IF(ISBLANK(FromEvoM!AN260),\"\",FromEvoM!AN260)","v":""},{"$f":"IF(ISBLANK(FromEvoM!AL260),\"\",FromEvoM!AL260)","v":""},{"$f":"IF(ISBLANK(FromEvoM!A260),\"\",IF(AND(AF260=\"y\",AI260=1),\"Y\",\"N\"))","v":""},{"$f":"IF(ISBLANK(FromEvoM!A260),\"\",IF(FromEvoM!AS260=\"Yes\",2,1))","v":""},{"$f":"IF(FromEvoM!W260=1,\"M\",IF(FromEvoM!W260=7,\"W\",\"\"))","v":""},{"$f":"IF(AJ260=\"Y\",0,IF(AJ260=\"N\",FromEvoM!AF260+FromEvoM!AT260,\"\"))","v":""},{"$f":"IF(AJ260=\"Y\",(FromEvoM!AE260+FromEvoM!AF260-FromEvoM!AT260),IF(AJ260=\"N\",FromEvoM!AE260,\"\"))","v":""}]
[{"$f":"IF(ISBLANK(FromEvoM!A261),\"\",Group_Code)","v":""},{"$f":"IF(ISBLANK(FromEvoM!A261),\"\",SUBSTITUTE(FromEvoM!A261,\" \",\"\"))","v":""},{"$f":"IF(ISBLANK(FromEvoM!C261),\"\",SUBSTITUTE(FromEvoM!G261,\" \",\"\"))","v":""},{"$f":"IF(ISBLANK(FromEvoM!D261),\"\",FromEvoM!B261)","v":""},{"$f":"IF(ISBLANK(FromEvoM!D261),\"\",FromEvoM!D261)","v":""},{"$f":"IF(ISBLANK(FromEvoM!C261),\"\",FromEvoM!C261)","v":""},{"$f":"REPLACE(FromEvoM!F261,2,6, )","v":""},{"$f":"IF(ISNUMBER(FromEvoM!E261),FromEvoM!E261,\"\")","v":""},{"$f":"IF(ISBLANK(FromEvoM!I261),\"\",FromEvoM!I261)","v":""},{"$f":"IF(ISBLANK(FromEvoM!J261),\"\",FromEvoM!J261)","v":""},{"$f":"IF(ISBLANK(FromEvoM!K261),\"\",FromEvoM!K261)","v":""},{"$f":"IF(ISBLANK(FromEvoM!L261),\"\",FromEvoM!L261)","v":""},{"$f":"IF(ISBLANK(FromEvoM!M261),\"\",FromEvoM!M261)","v":""},{"$f":"IF(ISBLANK(FromEvoM!P261),\"\",FromEvoM!P261)","v":""},null,{"$f":"IF(ISNUMBER(FromEvoM!X261),FromEvoM!X261,\"\")","v":""},{"$f":"IF(ISNUMBER(FromEvoM!AB261),FromEvoM!AB261,\"\")","v":""},{"$f":"IF(ISNUMBER(FromEvoM!AA261),FromEvoM!AA261,\"\")","v":""},null,"","",null,null,{"$f":"IF(FromEvoM!W261=1,(FromEvoM!AB261*12),IF(FromEvoM!W261=7,(FromEvoM!AR261),\"\"))","v":""},null,null,{"$f":"IF(ISBLANK(FromEvoM!A261),\"\",IF(FromEvoM!AK261=\"y\",\"Y\",\"N\"))","v":""},{"$f":"IF(ISBLANK(FromEvoM!A261),\"\",Category_ID)","v":""},null,null,null,{"$f":"IF(ISBLANK(FromEvoM!AK261),\"\",FromEvoM!AK261)","v":""},{"$f":"IF(ISBLANK(FromEvoM!AM261),\"\",FromEvoM!AM261)","v":""},{"$f":"IF(ISBLANK(FromEvoM!AN261),\"\",FromEvoM!AN261)","v":""},{"$f":"IF(ISBLANK(FromEvoM!AL261),\"\",FromEvoM!AL261)","v":""},{"$f":"IF(ISBLANK(FromEvoM!A261),\"\",IF(AND(AF261=\"y\",AI261=1),\"Y\",\"N\"))","v":""},{"$f":"IF(ISBLANK(FromEvoM!A261),\"\",IF(FromEvoM!AS261=\"Yes\",2,1))","v":""},{"$f":"IF(FromEvoM!W261=1,\"M\",IF(FromEvoM!W261=7,\"W\",\"\"))","v":""},{"$f":"IF(AJ261=\"Y\",0,IF(AJ261=\"N\",FromEvoM!AF261+FromEvoM!AT261,\"\"))","v":""},{"$f":"IF(AJ261=\"Y\",(FromEvoM!AE261+FromEvoM!AF261-FromEvoM!AT261),IF(AJ261=\"N\",FromEvoM!AE261,\"\"))","v":""}]
[{"$f":"IF(ISBLANK(FromEvoM!A262),\"\",Group_Code)","v":""},{"$f":"IF(ISBLANK(FromEvoM!A262),\"\",SUBSTITUTE(FromEvoM!A262,\" \",\"\"))","v":""},{"$f":"IF(ISBLANK(FromEvoM!C262),\"\",SUBSTITUTE(FromEvoM!G262,\" \",\"\"))","v":""},{"$f":"IF(ISBLANK(FromEvoM!D262),\"\",FromEvoM!B262)","v":""},{"$f":"IF(ISBLANK(FromEvoM!D262),\"\",FromEvoM!D262)","v":""},{"$f":"IF(ISBLANK(FromEvoM!C262),\"\",FromEvoM!C262)","v":""},{"$f":"REPLACE(FromEvoM!F262,2,6, )","v":""},{"$f":"IF(ISNUMBER(FromEvoM!E262),FromEvoM!E262,\"\")","v":""},{"$f":"IF(ISBLANK(FromEvoM!I262),\"\",FromEvoM!I262)","v":""},{"$f":"IF(ISBLANK(FromEvoM!J262),\"\",FromEvoM!J262)","v":""},{"$f":"IF(ISBLANK(FromEvoM!K262),\"\",FromEvoM!K262)","v":""},{"$f":"IF(ISBLANK(FromEvoM!L262),\"\",FromEvoM!L262)","v":""},{"$f":"IF(ISBLANK(FromEvoM!M262),\"\",FromEvoM!M262)","v":""},{"$f":"IF(ISBLANK(FromEvoM!P262),\"\",FromEvoM!P262)","v":""},null,{"$f":"IF(ISNUMBER(FromEvoM!X262),FromEvoM!X262,\"\")","v":""},{"$f":"IF(ISNUMBER(FromEvoM!AB262),FromEvoM!AB262,\"\")","v":""},{"$f":"IF(ISNUMBER(FromEvoM!AA262),FromEvoM!AA262,\"\")","v":""},null,"","",null,null,{"$f":"IF(FromEvoM!W262=1,(FromEvoM!AB262*12),IF(FromEvoM!W262=7,(FromEvoM!AR262),\"\"))","v":""},null,null,{"$f":"IF(ISBLANK(FromEvoM!A262),\"\",IF(FromEvoM!AK262=\"y\",\"Y\",\"N\"))","v":""},{"$f":"IF(ISBLANK(FromEvoM!A262),\"\",Category_ID)","v":""},null,null,null,{"$f":"IF(ISBLANK(FromEvoM!AK262),\"\",FromEvoM!AK262)","v":""},{"$f":"IF(ISBLANK(FromEvoM!AM262),\"\",FromEvoM!AM262)","v":""},{"$f":"IF(ISBLANK(FromEvoM!AN262),\"\",FromEvoM!AN262)","v":""},{"$f":"IF(ISBLANK(FromEvoM!AL262),\"\",FromEvoM!AL262)","v":""},{"$f":"IF(ISBLANK(FromEvoM!A262),\"\",IF(AND(AF262=\"y\",AI262=1),\"Y\",\"N\"))","v":""},{"$f":"IF(ISBLANK(FromEvoM!A262),\"\",IF(FromEvoM!AS262=\"Yes\",2,1))","v":""},{"$f":"IF(FromEvoM!W262=1,\"M\",IF(FromEvoM!W262=7,\"W\",\"\"))","v":""},{"$f":"IF(AJ262=\"Y\",0,IF(AJ262=\"N\",FromEvoM!AF262+FromEvoM!AT262,\"\"))","v":""},{"$f":"IF(AJ262=\"Y\",(FromEvoM!AE262+FromEvoM!AF262-FromEvoM!AT262),IF(AJ262=\"N\",FromEvoM!AE262,\"\"))","v":""}]
[{"$f":"IF(ISBLANK(FromEvoM!A263),\"\",Group_Code)","v":""},{"$f":"IF(ISBLANK(FromEvoM!A263),\"\",SUBSTITUTE(FromEvoM!A263,\" \",\"\"))","v":""},{"$f":"IF(ISBLANK(FromEvoM!C263),\"\",SUBSTITUTE(FromEvoM!G263,\" \",\"\"))","v":""},{"$f":"IF(ISBLANK(FromEvoM!D263),\"\",FromEvoM!B263)","v":""},{"$f":"IF(ISBLANK(FromEvoM!D263),\"\",FromEvoM!D263)","v":""},{"$f":"IF(ISBLANK(FromEvoM!C263),\"\",FromEvoM!C263)","v":""},{"$f":"REPLACE(FromEvoM!F263,2,6, )","v":""},{"$f":"IF(ISNUMBER(FromEvoM!E263),FromEvoM!E263,\"\")","v":""},{"$f":"IF(ISBLANK(FromEvoM!I263),\"\",FromEvoM!I263)","v":""},{"$f":"IF(ISBLANK(FromEvoM!J263),\"\",FromEvoM!J263)","v":""},{"$f":"IF(ISBLANK(FromEvoM!K263),\"\",FromEvoM!K263)","v":""},{"$f":"IF(ISBLANK(FromEvoM!L263),\"\",FromEvoM!L263)","v":""},{"$f":"IF(ISBLANK(FromEvoM!M263),\"\",FromEvoM!M263)","v":""},{"$f":"IF(ISBLANK(FromEvoM!P263),\"\",FromEvoM!P263)","v":""},null,{"$f":"IF(ISNUMBER(FromEvoM!X263),FromEvoM!X263,\"\")","v":""},{"$f":"IF(ISNUMBER(FromEvoM!AB263),FromEvoM!AB263,\"\")","v":""},{"$f":"IF(ISNUMBER(FromEvoM!AA263),FromEvoM!AA263,\"\")","v":""},null,"","",null,null,{"$f":"IF(FromEvoM!W263=1,(FromEvoM!AB263*12),IF(FromEvoM!W263=7,(FromEvoM!AR263),\"\"))","v":""},null,null,{"$f":"IF(ISBLANK(FromEvoM!A263),\"\",IF(FromEvoM!AK263=\"y\",\"Y\",\"N\"))","v":""},{"$f":"IF(ISBLANK(FromEvoM!A263),\"\",Category_ID)","v":""},null,null,null,{"$f":"IF(ISBLANK(FromEvoM!AK263),\"\",FromEvoM!AK263)","v":""},{"$f":"IF(ISBLANK(FromEvoM!AM263),\"\",FromEvoM!AM263)","v":""},{"$f":"IF(ISBLANK(FromEvoM!AN263),\"\",FromEvoM!AN263)","v":""},{"$f":"IF(ISBLANK(FromEvoM!AL263),\"\",FromEvoM!AL263)","v":""},{"$f":"IF(ISBLANK(FromEvoM!A263),\"\",IF(AND(AF263=\"y\",AI263=1),\"Y\",\"N\"))","v":""},{"$f":"IF(ISBLANK(FromEvoM!A263),\"\",IF(FromEvoM!AS263=\"Yes\",2,1))","v":""},{"$f":"IF(FromEvoM!W263=1,\"M\",IF(FromEvoM!W263=7,\"W\",\"\"))","v":""},{"$f":"IF(AJ263=\"Y\",0,IF(AJ263=\"N\",FromEvoM!AF263+FromEvoM!AT263,\"\"))","v":""},{"$f":"IF(AJ263=\"Y\",(FromEvoM!AE263+FromEvoM!AF263-FromEvoM!AT263),IF(AJ263=\"N\",FromEvoM!AE263,\"\"))","v":""}]
[{"$f":"IF(ISBLANK(FromEvoM!A264),\"\",Group_Code)","v":""},{"$f":"IF(ISBLANK(FromEvoM!A264),\"\",SUBSTITUTE(FromEvoM!A264,\" \",\"\"))","v":""},{"$f":"IF(ISBLANK(FromEvoM!C264),\"\",SUBSTITUTE(FromEvoM!G264,\" \",\"\"))","v":""},{"$f":"IF(ISBLANK(FromEvoM!D264),\"\",FromEvoM!B264)","v":""},{"$f":"IF(ISBLANK(FromEvoM!D264),\"\",FromEvoM!D264)","v":""},{"$f":"IF(ISBLANK(FromEvoM!C264),\"\",FromEvoM!C264)","v":""},{"$f":"REPLACE(FromEvoM!F264,2,6, )","v":""},{"$f":"IF(ISNUMBER(FromEvoM!E264),FromEvoM!E264,\"\")","v":""},{"$f":"IF(ISBLANK(FromEvoM!I264),\"\",FromEvoM!I264)","v":""},{"$f":"IF(ISBLANK(FromEvoM!J264),\"\",FromEvoM!J264)","v":""},{"$f":"IF(ISBLANK(FromEvoM!K264),\"\",FromEvoM!K264)","v":""},{"$f":"IF(ISBLANK(FromEvoM!L264),\"\",FromEvoM!L264)","v":""},{"$f":"IF(ISBLANK(FromEvoM!M264),\"\",FromEvoM!M264)","v":""},{"$f":"IF(ISBLANK(FromEvoM!P264),\"\",FromEvoM!P264)","v":""},null,{"$f":"IF(ISNUMBER(FromEvoM!X264),FromEvoM!X264,\"\")","v":""},{"$f":"IF(ISNUMBER(FromEvoM!AB264),FromEvoM!AB264,\"\")","v":""},{"$f":"IF(ISNUMBER(FromEvoM!AA264),FromEvoM!AA264,\"\")","v":""},null,"","",null,null,{"$f":"IF(FromEvoM!W264=1,(FromEvoM!AB264*12),IF(FromEvoM!W264=7,(FromEvoM!AR264),\"\"))","v":""},null,null,{"$f":"IF(ISBLANK(FromEvoM!A264),\"\",IF(FromEvoM!AK264=\"y\",\"Y\",\"N\"))","v":""},{"$f":"IF(ISBLANK(FromEvoM!A264),\"\",Category_ID)","v":""},null,null,null,{"$f":"IF(ISBLANK(FromEvoM!AK264),\"\",FromEvoM!AK264)","v":""},{"$f":"IF(ISBLANK(FromEvoM!AM264),\"\",FromEvoM!AM264)","v":""},{"$f":"IF(ISBLANK(FromEvoM!AN264),\"\",FromEvoM!AN264)","v":""},{"$f":"IF(ISBLANK(FromEvoM!AL264),\"\",FromEvoM!AL264)","v":""},{"$f":"IF(ISBLANK(FromEvoM!A264),\"\",IF(AND(AF264=\"y\",AI264=1),\"Y\",\"N\"))","v":""},{"$f":"IF(ISBLANK(FromEvoM!A264),\"\",IF(FromEvoM!AS264=\"Yes\",2,1))","v":""},{"$f":"IF(FromEvoM!W264=1,\"M\",IF(FromEvoM!W264=7,\"W\",\"\"))","v":""},{"$f":"IF(AJ264=\"Y\",0,IF(AJ264=\"N\",FromEvoM!AF264+FromEvoM!AT264,\"\"))","v":""},{"$f":"IF(AJ264=\"Y\",(FromEvoM!AE264+FromEvoM!AF264-FromEvoM!AT264),IF(AJ264=\"N\",FromEvoM!AE264,\"\"))","v":""}]
[{"$f":"IF(ISBLANK(FromEvoM!A265),\"\",Group_Code)","v":""},{"$f":"IF(ISBLANK(FromEvoM!A265),\"\",SUBSTITUTE(FromEvoM!A265,\" \",\"\"))","v":""},{"$f":"IF(ISBLANK(FromEvoM!C265),\"\",SUBSTITUTE(FromEvoM!G265,\" \",\"\"))","v":""},{"$f":"IF(ISBLANK(FromEvoM!D265),\"\",FromEvoM!B265)","v":""},{"$f":"IF(ISBLANK(FromEvoM!D265),\"\",FromEvoM!D265)","v":""},{"$f":"IF(ISBLANK(FromEvoM!C265),\"\",FromEvoM!C265)","v":""},{"$f":"REPLACE(FromEvoM!F265,2,6, )","v":""},{"$f":"IF(ISNUMBER(FromEvoM!E265),FromEvoM!E265,\"\")","v":""},{"$f":"IF(ISBLANK(FromEvoM!I265),\"\",FromEvoM!I265)","v":""},{"$f":"IF(ISBLANK(FromEvoM!J265),\"\",FromEvoM!J265)","v":""},{"$f":"IF(ISBLANK(FromEvoM!K265),\"\",FromEvoM!K265)","v":""},{"$f":"IF(ISBLANK(FromEvoM!L265),\"\",FromEvoM!L265)","v":""},{"$f":"IF(ISBLANK(FromEvoM!M265),\"\",FromEvoM!M265)","v":""},{"$f":"IF(ISBLANK(FromEvoM!P265),\"\",FromEvoM!P265)","v":""},null,{"$f":"IF(ISNUMBER(FromEvoM!X265),FromEvoM!X265,\"\")","v":""},{"$f":"IF(ISNUMBER(FromEvoM!AB265),FromEvoM!AB265,\"\")","v":""},{"$f":"IF(ISNUMBER(FromEvoM!AA265),FromEvoM!AA265,\"\")","v":""},null,"","",null,null,{"$f":"IF(FromEvoM!W265=1,(FromEvoM!AB265*12),IF(FromEvoM!W265=7,(FromEvoM!AR265),\"\"))","v":""},null,null,{"$f":"IF(ISBLANK(FromEvoM!A265),\"\",IF(FromEvoM!AK265=\"y\",\"Y\",\"N\"))","v":""},{"$f":"IF(ISBLANK(FromEvoM!A265),\"\",Category_ID)","v":""},null,null,null,{"$f":"IF(ISBLANK(FromEvoM!AK265),\"\",FromEvoM!AK265)","v":""},{"$f":"IF(ISBLANK(FromEvoM!AM265),\"\",FromEvoM!AM265)","v":""},{"$f":"IF(ISBLANK(FromEvoM!AN265),\"\",FromEvoM!AN265)","v":""},{"$f":"IF(ISBLANK(FromEvoM!AL265),\"\",FromEvoM!AL265)","v":""},{"$f":"IF(ISBLANK(FromEvoM!A265),\"\",IF(AND(AF265=\"y\",AI265=1),\"Y\",\"N\"))","v":""},{"$f":"IF(ISBLANK(FromEvoM!A265),\"\",IF(FromEvoM!AS265=\"Yes\",2,1))","v":""},{"$f":"IF(FromEvoM!W265=1,\"M\",IF(FromEvoM!W265=7,\"W\",\"\"))","v":""},{"$f":"IF(AJ265=\"Y\",0,IF(AJ265=\"N\",FromEvoM!AF265+FromEvoM!AT265,\"\"))","v":""},{"$f":"IF(AJ265=\"Y\",(FromEvoM!AE265+FromEvoM!AF265-FromEvoM!AT265),IF(AJ265=\"N\",FromEvoM!AE265,\"\"))","v":""}]
[{"$f":"IF(ISBLANK(FromEvoM!A266),\"\",Group_Code)","v":""},{"$f":"IF(ISBLANK(FromEvoM!A266),\"\",SUBSTITUTE(FromEvoM!A266,\" \",\"\"))","v":""},{"$f":"IF(ISBLANK(FromEvoM!C266),\"\",SUBSTITUTE(FromEvoM!G266,\" \",\"\"))","v":""},{"$f":"IF(ISBLANK(FromEvoM!D266),\"\",FromEvoM!B266)","v":""},{"$f":"IF(ISBLANK(FromEvoM!D266),\"\",FromEvoM!D266)","v":""},{"$f":"IF(ISBLANK(FromEvoM!C266),\"\",FromEvoM!C266)","v":""},{"$f":"REPLACE(FromEvoM!F266,2,6, )","v":""},{"$f":"IF(ISNUMBER(FromEvoM!E266),FromEvoM!E266,\"\")","v":""},{"$f":"IF(ISBLANK(FromEvoM!I266),\"\",FromEvoM!I266)","v":""},{"$f":"IF(ISBLANK(FromEvoM!J266),\"\",FromEvoM!J266)","v":""},{"$f":"IF(ISBLANK(FromEvoM!K266),\"\",FromEvoM!K266)","v":""},{"$f":"IF(ISBLANK(FromEvoM!L266),\"\",FromEvoM!L266)","v":""},{"$f":"IF(ISBLANK(FromEvoM!M266),\"\",FromEvoM!M266)","v":""},{"$f":"IF(ISBLANK(FromEvoM!P266),\"\",FromEvoM!P266)","v":""},null,{"$f":"IF(ISNUMBER(FromEvoM!X266),FromEvoM!X266,\"\")","v":""},{"$f":"IF(ISNUMBER(FromEvoM!AB266),FromEvoM!AB266,\"\")","v":""},{"$f":"IF(ISNUMBER(FromEvoM!AA266),FromEvoM!AA266,\"\")","v":""},null,"","",null,null,{"$f":"IF(FromEvoM!W266=1,(FromEvoM!AB266*12),IF(FromEvoM!W266=7,(FromEvoM!AR266),\"\"))","v":""},null,null,{"$f":"IF(ISBLANK(FromEvoM!A266),\"\",IF(FromEvoM!AK266=\"y\",\"Y\",\"N\"))","v":""},{"$f":"IF(ISBLANK(FromEvoM!A266),\"\",Category_ID)","v":""},null,null,null,{"$f":"IF(ISBLANK(FromEvoM!AK266),\"\",FromEvoM!AK266)","v":""},{"$f":"IF(ISBLANK(FromEvoM!AM266),\"\",FromEvoM!AM266)","v":""},{"$f":"IF(ISBLANK(FromEvoM!AN266),\"\",FromEvoM!AN266)","v":""},{"$f":"IF(ISBLANK(FromEvoM!AL266),\"\",FromEvoM!AL266)","v":""},{"$f":"IF(ISBLANK(FromEvoM!A266),\"\",IF(AND(AF266=\"y\",AI266=1),\"Y\",\"N\"))","v":""},{"$f":"IF(ISBLANK(FromEvoM!A266),\"\",IF(FromEvoM!AS266=\"Yes\",2,1))","v":""},{"$f":"IF(FromEvoM!W266=1,\"M\",IF(FromEvoM!W266=7,\"W\",\"\"))","v":""},{"$f":"IF(AJ266=\"Y\",0,IF(AJ266=\"N\",FromEvoM!AF266+FromEvoM!AT266,\"\"))","v":""},{"$f":"IF(AJ266=\"Y\",(FromEvoM!AE266+FromEvoM!AF266-FromEvoM!AT266),IF(AJ266=\"N\",FromEvoM!AE266,\"\"))","v":""}]
[{"$f":"IF(ISBLANK(FromEvoM!A267),\"\",Group_Code)","v":""},{"$f":"IF(ISBLANK(FromEvoM!A267),\"\",SUBSTITUTE(FromEvoM!A267,\" \",\"\"))","v":""},{"$f":"IF(ISBLANK(FromEvoM!C267),\"\",SUBSTITUTE(FromEvoM!G267,\" \",\"\"))","v":""},{"$f":"IF(ISBLANK(FromEvoM!D267),\"\",FromEvoM!B267)","v":""},{"$f":"IF(ISBLANK(FromEvoM!D267),\"\",FromEvoM!D267)","v":""},{"$f":"IF(ISBLANK(FromEvoM!C267),\"\",FromEvoM!C267)","v":""},{"$f":"REPLACE(FromEvoM!F267,2,6, )","v":""},{"$f":"IF(ISNUMBER(FromEvoM!E267),FromEvoM!E267,\"\")","v":""},{"$f":"IF(ISBLANK(FromEvoM!I267),\"\",FromEvoM!I267)","v":""},{"$f":"IF(ISBLANK(FromEvoM!J267),\"\",FromEvoM!J267)","v":""},{"$f":"IF(ISBLANK(FromEvoM!K267),\"\",FromEvoM!K267)","v":""},{"$f":"IF(ISBLANK(FromEvoM!L267),\"\",FromEvoM!L267)","v":""},{"$f":"IF(ISBLANK(FromEvoM!M267),\"\",FromEvoM!M267)","v":""},{"$f":"IF(ISBLANK(FromEvoM!P267),\"\",FromEvoM!P267)","v":""},null,{"$f":"IF(ISNUMBER(FromEvoM!X267),FromEvoM!X267,\"\")","v":""},{"$f":"IF(ISNUMBER(FromEvoM!AB267),FromEvoM!AB267,\"\")","v":""},{"$f":"IF(ISNUMBER(FromEvoM!AA267),FromEvoM!AA267,\"\")","v":""},null,"","",null,null,{"$f":"IF(FromEvoM!W267=1,(FromEvoM!AB267*12),IF(FromEvoM!W267=7,(FromEvoM!AR267),\"\"))","v":""},null,null,{"$f":"IF(ISBLANK(FromEvoM!A267),\"\",IF(FromEvoM!AK267=\"y\",\"Y\",\"N\"))","v":""},{"$f":"IF(ISBLANK(FromEvoM!A267),\"\",Category_ID)","v":""},null,null,null,{"$f":"IF(ISBLANK(FromEvoM!AK267),\"\",FromEvoM!AK267)","v":""},{"$f":"IF(ISBLANK(FromEvoM!AM267),\"\",FromEvoM!AM267)","v":""},{"$f":"IF(ISBLANK(FromEvoM!AN267),\"\",FromEvoM!AN267)","v":""},{"$f":"IF(ISBLANK(FromEvoM!AL267),\"\",FromEvoM!AL267)","v":""},{"$f":"IF(ISBLANK(FromEvoM!A267),\"\",IF(AND(AF267=\"y\",AI267=1),\"Y\",\"N\"))","v":""},{"$f":"IF(ISBLANK(FromEvoM!A267),\"\",IF(FromEvoM!AS267=\"Yes\",2,1))","v":""},{"$f":"IF(FromEvoM!W267=1,\"M\",IF(FromEvoM!W267=7,\"W\",\"\"))","v":""},{"$f":"IF(AJ267=\"Y\",0,IF(AJ267=\"N\",FromEvoM!AF267+FromEvoM!AT267,\"\"))","v":""},{"$f":"IF(AJ267=\"Y\",(FromEvoM!AE267+FromEvoM!AF267-FromEvoM!AT267),IF(AJ267=\"N\",FromEvoM!AE267,\"\"))","v":""}]
[{"$f":"IF(ISBLANK(FromEvoM!A268),\"\",Group_Code)","v":""},{"$f":"IF(ISBLANK(FromEvoM!A268),\"\",SUBSTITUTE(FromEvoM!A268,\" \",\"\"))","v":""},{"$f":"IF(ISBLANK(FromEvoM!C268),\"\",SUBSTITUTE(FromEvoM!G268,\" \",\"\"))","v":""},{"$f":"IF(ISBLANK(FromEvoM!D268),\"\",FromEvoM!B268)","v":""},{"$f":"IF(ISBLANK(FromEvoM!D268),\"\",FromEvoM!D268)","v":""},{"$f":"IF(ISBLANK(FromEvoM!C268),\"\",FromEvoM!C268)","v":""},{"$f":"REPLACE(FromEvoM!F268,2,6, )","v":""},{"$f":"IF(ISNUMBER(FromEvoM!E268),FromEvoM!E268,\"\")","v":""},{"$f":"IF(ISBLANK(FromEvoM!I268),\"\",FromEvoM!I268)","v":""},{"$f":"IF(ISBLANK(FromEvoM!J268),\"\",FromEvoM!J268)","v":""},{"$f":"IF(ISBLANK(FromEvoM!K268),\"\",FromEvoM!K268)","v":""},{"$f":"IF(ISBLANK(FromEvoM!L268),\"\",FromEvoM!L268)","v":""},{"$f":"IF(ISBLANK(FromEvoM!M268),\"\",FromEvoM!M268)","v":""},{"$f":"IF(ISBLANK(FromEvoM!P268),\"\",FromEvoM!P268)","v":""},null,{"$f":"IF(ISNUMBER(FromEvoM!X268),FromEvoM!X268,\"\")","v":""},{"$f":"IF(ISNUMBER(FromEvoM!AB268),FromEvoM!AB268,\"\")","v":""},{"$f":"IF(ISNUMBER(FromEvoM!AA268),FromEvoM!AA268,\"\")","v":""},null,"","",null,null,{"$f":"IF(FromEvoM!W268=1,(FromEvoM!AB268*12),IF(FromEvoM!W268=7,(FromEvoM!AR268),\"\"))","v":""},null,null,{"$f":"IF(ISBLANK(FromEvoM!A268),\"\",IF(FromEvoM!AK268=\"y\",\"Y\",\"N\"))","v":""},{"$f":"IF(ISBLANK(FromEvoM!A268),\"\",Category_ID)","v":""},null,null,null,{"$f":"IF(ISBLANK(FromEvoM!AK268),\"\",FromEvoM!AK268)","v":""},{"$f":"IF(ISBLANK(FromEvoM!AM268),\"\",FromEvoM!AM268)","v":""},{"$f":"IF(ISBLANK(FromEvoM!AN268),\"\",FromEvoM!AN268)","v":""},{"$f":"IF(ISBLANK(FromEvoM!AL268),\"\",FromEvoM!AL268)","v":""},{"$f":"IF(ISBLANK(FromEvoM!A268),\"\",IF(AND(AF268=\"y\",AI268=1),\"Y\",\"N\"))","v":""},{"$f":"IF(ISBLANK(FromEvoM!A268),\"\",IF(FromEvoM!AS268=\"Yes\",2,1))","v":""},{"$f":"IF(FromEvoM!W268=1,\"M\",IF(FromEvoM!W268=7,\"W\",\"\"))","v":""},{"$f":"IF(AJ268=\"Y\",0,IF(AJ268=\"N\",FromEvoM!AF268+FromEvoM!AT268,\"\"))","v":""},{"$f":"IF(AJ268=\"Y\",(FromEvoM!AE268+FromEvoM!AF268-FromEvoM!AT268),IF(AJ268=\"N\",FromEvoM!AE268,\"\"))","v":""}]
[{"$f":"IF(ISBLANK(FromEvoM!A269),\"\",Group_Code)","v":""},{"$f":"IF(ISBLANK(FromEvoM!A269),\"\",SUBSTITUTE(FromEvoM!A269,\" \",\"\"))","v":""},{"$f":"IF(ISBLANK(FromEvoM!C269),\"\",SUBSTITUTE(FromEvoM!G269,\" \",\"\"))","v":""},{"$f":"IF(ISBLANK(FromEvoM!D269),\"\",FromEvoM!B269)","v":""},{"$f":"IF(ISBLANK(FromEvoM!D269),\"\",FromEvoM!D269)","v":""},{"$f":"IF(ISBLANK(FromEvoM!C269),\"\",FromEvoM!C269)","v":""},{"$f":"REPLACE(FromEvoM!F269,2,6, )","v":""},{"$f":"IF(ISNUMBER(FromEvoM!E269),FromEvoM!E269,\"\")","v":""},{"$f":"IF(ISBLANK(FromEvoM!I269),\"\",FromEvoM!I269)","v":""},{"$f":"IF(ISBLANK(FromEvoM!J269),\"\",FromEvoM!J269)","v":""},{"$f":"IF(ISBLANK(FromEvoM!K269),\"\",FromEvoM!K269)","v":""},{"$f":"IF(ISBLANK(FromEvoM!L269),\"\",FromEvoM!L269)","v":""},{"$f":"IF(ISBLANK(FromEvoM!M269),\"\",FromEvoM!M269)","v":""},{"$f":"IF(ISBLANK(FromEvoM!P269),\"\",FromEvoM!P269)","v":""},null,{"$f":"IF(ISNUMBER(FromEvoM!X269),FromEvoM!X269,\"\")","v":""},{"$f":"IF(ISNUMBER(FromEvoM!AB269),FromEvoM!AB269,\"\")","v":""},{"$f":"IF(ISNUMBER(FromEvoM!AA269),FromEvoM!AA269,\"\")","v":""},null,"","",null,null,{"$f":"IF(FromEvoM!W269=1,(FromEvoM!AB269*12),IF(FromEvoM!W269=7,(FromEvoM!AR269),\"\"))","v":""},null,null,{"$f":"IF(ISBLANK(FromEvoM!A269),\"\",IF(FromEvoM!AK269=\"y\",\"Y\",\"N\"))","v":""},{"$f":"IF(ISBLANK(FromEvoM!A269),\"\",Category_ID)","v":""},null,null,null,{"$f":"IF(ISBLANK(FromEvoM!AK269),\"\",FromEvoM!AK269)","v":""},{"$f":"IF(ISBLANK(FromEvoM!AM269),\"\",FromEvoM!AM269)","v":""},{"$f":"IF(ISBLANK(FromEvoM!AN269),\"\",FromEvoM!AN269)","v":""},{"$f":"IF(ISBLANK(FromEvoM!AL269),\"\",FromEvoM!AL269)","v":""},{"$f":"IF(ISBLANK(FromEvoM!A269),\"\",IF(AND(AF269=\"y\",AI269=1),\"Y\",\"N\"))","v":""},{"$f":"IF(ISBLANK(FromEvoM!A269),\"\",IF(FromEvoM!AS269=\"Yes\",2,1))","v":""},{"$f":"IF(FromEvoM!W269=1,\"M\",IF(FromEvoM!W269=7,\"W\",\"\"))","v":""},{"$f":"IF(AJ269=\"Y\",0,IF(AJ269=\"N\",FromEvoM!AF269+FromEvoM!AT269,\"\"))","v":""},{"$f":"IF(AJ269=\"Y\",(FromEvoM!AE269+FromEvoM!AF269-FromEvoM!AT269),IF(AJ269=\"N\",FromEvoM!AE269,\"\"))","v":""}]
[{"$f":"IF(ISBLANK(FromEvoM!A270),\"\",Group_Code)","v":""},{"$f":"IF(ISBLANK(FromEvoM!A270),\"\",SUBSTITUTE(FromEvoM!A270,\" \",\"\"))","v":""},{"$f":"IF(ISBLANK(FromEvoM!C270),\"\",SUBSTITUTE(FromEvoM!G270,\" \",\"\"))","v":""},{"$f":"IF(ISBLANK(FromEvoM!D270),\"\",FromEvoM!B270)","v":""},{"$f":"IF(ISBLANK(FromEvoM!D270),\"\",FromEvoM!D270)","v":""},{"$f":"IF(ISBLANK(FromEvoM!C270),\"\",FromEvoM!C270)","v":""},{"$f":"REPLACE(FromEvoM!F270,2,6, )","v":""},{"$f":"IF(ISNUMBER(FromEvoM!E270),FromEvoM!E270,\"\")","v":""},{"$f":"IF(ISBLANK(FromEvoM!I270),\"\",FromEvoM!I270)","v":""},{"$f":"IF(ISBLANK(FromEvoM!J270),\"\",FromEvoM!J270)","v":""},{"$f":"IF(ISBLANK(FromEvoM!K270),\"\",FromEvoM!K270)","v":""},{"$f":"IF(ISBLANK(FromEvoM!L270),\"\",FromEvoM!L270)","v":""},{"$f":"IF(ISBLANK(FromEvoM!M270),\"\",FromEvoM!M270)","v":""},{"$f":"IF(ISBLANK(FromEvoM!P270),\"\",FromEvoM!P270)","v":""},null,{"$f":"IF(ISNUMBER(FromEvoM!X270),FromEvoM!X270,\"\")","v":""},{"$f":"IF(ISNUMBER(FromEvoM!AB270),FromEvoM!AB270,\"\")","v":""},{"$f":"IF(ISNUMBER(FromEvoM!AA270),FromEvoM!AA270,\"\")","v":""},null,"","",null,null,{"$f":"IF(FromEvoM!W270=1,(FromEvoM!AB270*12),IF(FromEvoM!W270=7,(FromEvoM!AR270),\"\"))","v":""},null,null,{"$f":"IF(ISBLANK(FromEvoM!A270),\"\",IF(FromEvoM!AK270=\"y\",\"Y\",\"N\"))","v":""},{"$f":"IF(ISBLANK(FromEvoM!A270),\"\",Category_ID)","v":""},null,null,null,{"$f":"IF(ISBLANK(FromEvoM!AK270),\"\",FromEvoM!AK270)","v":""},{"$f":"IF(ISBLANK(FromEvoM!AM270),\"\",FromEvoM!AM270)","v":""},{"$f":"IF(ISBLANK(FromEvoM!AN270),\"\",FromEvoM!AN270)","v":""},{"$f":"IF(ISBLANK(FromEvoM!AL270),\"\",FromEvoM!AL270)","v":""},{"$f":"IF(ISBLANK(FromEvoM!A270),\"\",IF(AND(AF270=\"y\",AI270=1),\"Y\",\"N\"))","v":""},{"$f":"IF(ISBLANK(FromEvoM!A270),\"\",IF(FromEvoM!AS270=\"Yes\",2,1))","v":""},{"$f":"IF(FromEvoM!W270=1,\"M\",IF(FromEvoM!W270=7,\"W\",\"\"))","v":""},{"$f":"IF(AJ270=\"Y\",0,IF(AJ270=\"N\",FromEvoM!AF270+FromEvoM!AT270,\"\"))","v":""},{"$f":"IF(AJ270=\"Y\",(FromEvoM!AE270+FromEvoM!AF270-FromEvoM!AT270),IF(AJ270=\"N\",FromEvoM!AE270,\"\"))","v":""}]
[{"$f":"IF(ISBLANK(FromEvoM!A271),\"\",Group_Code)","v":""},{"$f":"IF(ISBLANK(FromEvoM!A271),\"\",SUBSTITUTE(FromEvoM!A271,\" \",\"\"))","v":""},{"$f":"IF(ISBLANK(FromEvoM!C271),\"\",SUBSTITUTE(FromEvoM!G271,\" \",\"\"))","v":""},{"$f":"IF(ISBLANK(FromEvoM!D271),\"\",FromEvoM!B271)","v":""},{"$f":"IF(ISBLANK(FromEvoM!D271),\"\",FromEvoM!D271)","v":""},{"$f":"IF(ISBLANK(FromEvoM!C271),\"\",FromEvoM!C271)","v":""},{"$f":"REPLACE(FromEvoM!F271,2,6, )","v":""},{"$f":"IF(ISNUMBER(FromEvoM!E271),FromEvoM!E271,\"\")","v":""},{"$f":"IF(ISBLANK(FromEvoM!I271),\"\",FromEvoM!I271)","v":""},{"$f":"IF(ISBLANK(FromEvoM!J271),\"\",FromEvoM!J271)","v":""},{"$f":"IF(ISBLANK(FromEvoM!K271),\"\",FromEvoM!K271)","v":""},{"$f":"IF(ISBLANK(FromEvoM!L271),\"\",FromEvoM!L271)","v":""},{"$f":"IF(ISBLANK(FromEvoM!M271),\"\",FromEvoM!M271)","v":""},{"$f":"IF(ISBLANK(FromEvoM!P271),\"\",FromEvoM!P271)","v":""},null,{"$f":"IF(ISNUMBER(FromEvoM!X271),FromEvoM!X271,\"\")","v":""},{"$f":"IF(ISNUMBER(FromEvoM!AB271),FromEvoM!AB271,\"\")","v":""},{"$f":"IF(ISNUMBER(FromEvoM!AA271),FromEvoM!AA271,\"\")","v":""},null,"","",null,null,{"$f":"IF(FromEvoM!W271=1,(FromEvoM!AB271*12),IF(FromEvoM!W271=7,(FromEvoM!AR271),\"\"))","v":""},null,null,{"$f":"IF(ISBLANK(FromEvoM!A271),\"\",IF(FromEvoM!AK271=\"y\",\"Y\",\"N\"))","v":""},{"$f":"IF(ISBLANK(FromEvoM!A271),\"\",Category_ID)","v":""},null,null,null,{"$f":"IF(ISBLANK(FromEvoM!AK271),\"\",FromEvoM!AK271)","v":""},{"$f":"IF(ISBLANK(FromEvoM!AM271),\"\",FromEvoM!AM271)","v":""},{"$f":"IF(ISBLANK(FromEvoM!AN271),\"\",FromEvoM!AN271)","v":""},{"$f":"IF(ISBLANK(FromEvoM!AL271),\"\",FromEvoM!AL271)","v":""},{"$f":"IF(ISBLANK(FromEvoM!A271),\"\",IF(AND(AF271=\"y\",AI271=1),\"Y\",\"N\"))","v":""},{"$f":"IF(ISBLANK(FromEvoM!A271),\"\",IF(FromEvoM!AS271=\"Yes\",2,1))","v":""},{"$f":"IF(FromEvoM!W271=1,\"M\",IF(FromEvoM!W271=7,\"W\",\"\"))","v":""},{"$f":"IF(AJ271=\"Y\",0,IF(AJ271=\"N\",FromEvoM!AF271+FromEvoM!AT271,\"\"))","v":""},{"$f":"IF(AJ271=\"Y\",(FromEvoM!AE271+FromEvoM!AF271-FromEvoM!AT271),IF(AJ271=\"N\",FromEvoM!AE271,\"\"))","v":""}]
[{"$f":"IF(ISBLANK(FromEvoM!A272),\"\",Group_Code)","v":""},{"$f":"IF(ISBLANK(FromEvoM!A272),\"\",SUBSTITUTE(FromEvoM!A272,\" \",\"\"))","v":""},{"$f":"IF(ISBLANK(FromEvoM!C272),\"\",SUBSTITUTE(FromEvoM!G272,\" \",\"\"))","v":""},{"$f":"IF(ISBLANK(FromEvoM!D272),\"\",FromEvoM!B272)","v":""},{"$f":"IF(ISBLANK(FromEvoM!D272),\"\",FromEvoM!D272)","v":""},{"$f":"IF(ISBLANK(FromEvoM!C272),\"\",FromEvoM!C272)","v":""},{"$f":"REPLACE(FromEvoM!F272,2,6, )","v":""},{"$f":"IF(ISNUMBER(FromEvoM!E272),FromEvoM!E272,\"\")","v":""},{"$f":"IF(ISBLANK(FromEvoM!I272),\"\",FromEvoM!I272)","v":""},{"$f":"IF(ISBLANK(FromEvoM!J272),\"\",FromEvoM!J272)","v":""},{"$f":"IF(ISBLANK(FromEvoM!K272),\"\",FromEvoM!K272)","v":""},{"$f":"IF(ISBLANK(FromEvoM!L272),\"\",FromEvoM!L272)","v":""},{"$f":"IF(ISBLANK(FromEvoM!M272),\"\",FromEvoM!M272)","v":""},{"$f":"IF(ISBLANK(FromEvoM!P272),\"\",FromEvoM!P272)","v":""},null,{"$f":"IF(ISNUMBER(FromEvoM!X272),FromEvoM!X272,\"\")","v":""},{"$f":"IF(ISNUMBER(FromEvoM!AB272),FromEvoM!AB272,\"\")","v":""},{"$f":"IF(ISNUMBER(FromEvoM!AA272),FromEvoM!AA272,\"\")","v":""},null,"","",null,null,{"$f":"IF(FromEvoM!W272=1,(FromEvoM!AB272*12),IF(FromEvoM!W272=7,(FromEvoM!AR272),\"\"))","v":""},null,null,{"$f":"IF(ISBLANK(FromEvoM!A272),\"\",IF(FromEvoM!AK272=\"y\",\"Y\",\"N\"))","v":""},{"$f":"IF(ISBLANK(FromEvoM!A272),\"\",Category_ID)","v":""},null,null,null,{"$f":"IF(ISBLANK(FromEvoM!AK272),\"\",FromEvoM!AK272)","v":""},{"$f":"IF(ISBLANK(FromEvoM!AM272),\"\",FromEvoM!AM272)","v":""},{"$f":"IF(ISBLANK(FromEvoM!AN272),\"\",FromEvoM!AN272)","v":""},{"$f":"IF(ISBLANK(FromEvoM!AL272),\"\",FromEvoM!AL272)","v":""},{"$f":"IF(ISBLANK(FromEvoM!A272),\"\",IF(AND(AF272=\"y\",AI272=1),\"Y\",\"N\"))","v":""},{"$f":"IF(ISBLANK(FromEvoM!A272),\"\",IF(FromEvoM!AS272=\"Yes\",2,1))","v":""},{"$f":"IF(FromEvoM!W272=1,\"M\",IF(FromEvoM!W272=7,\"W\",\"\"))","v":""},{"$f":"IF(AJ272=\"Y\",0,IF(AJ272=\"N\",FromEvoM!AF272+FromEvoM!AT272,\"\"))","v":""},{"$f":"IF(AJ272=\"Y\",(FromEvoM!AE272+FromEvoM!AF272-FromEvoM!AT272),IF(AJ272=\"N\",FromEvoM!AE272,\"\"))","v":""}]
[{"$f":"IF(ISBLANK(FromEvoM!A273),\"\",Group_Code)","v":""},{"$f":"IF(ISBLANK(FromEvoM!A273),\"\",SUBSTITUTE(FromEvoM!A273,\" \",\"\"))","v":""},{"$f":"IF(ISBLANK(FromEvoM!C273),\"\",SUBSTITUTE(FromEvoM!G273,\" \",\"\"))","v":""},{"$f":"IF(ISBLANK(FromEvoM!D273),\"\",FromEvoM!B273)","v":""},{"$f":"IF(ISBLANK(FromEvoM!D273),\"\",FromEvoM!D273)","v":""},{"$f":"IF(ISBLANK(FromEvoM!C273),\"\",FromEvoM!C273)","v":""},{"$f":"REPLACE(FromEvoM!F273,2,6, )","v":""},{"$f":"IF(ISNUMBER(FromEvoM!E273),FromEvoM!E273,\"\")","v":""},{"$f":"IF(ISBLANK(FromEvoM!I273),\"\",FromEvoM!I273)","v":""},{"$f":"IF(ISBLANK(FromEvoM!J273),\"\",FromEvoM!J273)","v":""},{"$f":"IF(ISBLANK(FromEvoM!K273),\"\",FromEvoM!K273)","v":""},{"$f":"IF(ISBLANK(FromEvoM!L273),\"\",FromEvoM!L273)","v":""},{"$f":"IF(ISBLANK(FromEvoM!M273),\"\",FromEvoM!M273)","v":""},{"$f":"IF(ISBLANK(FromEvoM!P273),\"\",FromEvoM!P273)","v":""},null,{"$f":"IF(ISNUMBER(FromEvoM!X273),FromEvoM!X273,\"\")","v":""},{"$f":"IF(ISNUMBER(FromEvoM!AB273),FromEvoM!AB273,\"\")","v":""},{"$f":"IF(ISNUMBER(FromEvoM!AA273),FromEvoM!AA273,\"\")","v":""},null,"","",null,null,{"$f":"IF(FromEvoM!W273=1,(FromEvoM!AB273*12),IF(FromEvoM!W273=7,(FromEvoM!AR273),\"\"))","v":""},null,null,{"$f":"IF(ISBLANK(FromEvoM!A273),\"\",IF(FromEvoM!AK273=\"y\",\"Y\",\"N\"))","v":""},{"$f":"IF(ISBLANK(FromEvoM!A273),\"\",Category_ID)","v":""},null,null,null,{"$f":"IF(ISBLANK(FromEvoM!AK273),\"\",FromEvoM!AK273)","v":""},{"$f":"IF(ISBLANK(FromEvoM!AM273),\"\",FromEvoM!AM273)","v":""},{"$f":"IF(ISBLANK(FromEvoM!AN273),\"\",FromEvoM!AN273)","v":""},{"$f":"IF(ISBLANK(FromEvoM!AL273),\"\",FromEvoM!AL273)","v":""},{"$f":"IF(ISBLANK(FromEvoM!A273),\"\",IF(AND(AF273=\"y\",AI273=1),\"Y\",\"N\"))","v":""},{"$f":"IF(ISBLANK(FromEvoM!A273),\"\",IF(FromEvoM!AS273=\"Yes\",2,1))","v":""},{"$f":"IF(FromEvoM!W273=1,\"M\",IF(FromEvoM!W273=7,\"W\",\"\"))","v":""},{"$f":"IF(AJ273=\"Y\",0,IF(AJ273=\"N\",FromEvoM!AF273+FromEvoM!AT273,\"\"))","v":""},{"$f":"IF(AJ273=\"Y\",(FromEvoM!AE273+FromEvoM!AF273-FromEvoM!AT273),IF(AJ273=\"N\",FromEvoM!AE273,\"\"))","v":""}]
[{"$f":"IF(ISBLANK(FromEvoM!A274),\"\",Group_Code)","v":""},{"$f":"IF(ISBLANK(FromEvoM!A274),\"\",SUBSTITUTE(FromEvoM!A274,\" \",\"\"))","v":""},{"$f":"IF(ISBLANK(FromEvoM!C274),\"\",SUBSTITUTE(FromEvoM!G274,\" \",\"\"))","v":""},{"$f":"IF(ISBLANK(FromEvoM!D274),\"\",FromEvoM!B274)","v":""},{"$f":"IF(ISBLANK(FromEvoM!D274),\"\",FromEvoM!D274)","v":""},{"$f":"IF(ISBLANK(FromEvoM!C274),\"\",FromEvoM!C274)","v":""},{"$f":"REPLACE(FromEvoM!F274,2,6, )","v":""},{"$f":"IF(ISNUMBER(FromEvoM!E274),FromEvoM!E274,\"\")","v":""},{"$f":"IF(ISBLANK(FromEvoM!I274),\"\",FromEvoM!I274)","v":""},{"$f":"IF(ISBLANK(FromEvoM!J274),\"\",FromEvoM!J274)","v":""},{"$f":"IF(ISBLANK(FromEvoM!K274),\"\",FromEvoM!K274)","v":""},{"$f":"IF(ISBLANK(FromEvoM!L274),\"\",FromEvoM!L274)","v":""},{"$f":"IF(ISBLANK(FromEvoM!M274),\"\",FromEvoM!M274)","v":""},{"$f":"IF(ISBLANK(FromEvoM!P274),\"\",FromEvoM!P274)","v":""},null,{"$f":"IF(ISNUMBER(FromEvoM!X274),FromEvoM!X274,\"\")","v":""},{"$f":"IF(ISNUMBER(FromEvoM!AB274),FromEvoM!AB274,\"\")","v":""},{"$f":"IF(ISNUMBER(FromEvoM!AA274),FromEvoM!AA274,\"\")","v":""},null,"","",null,null,{"$f":"IF(FromEvoM!W274=1,(FromEvoM!AB274*12),IF(FromEvoM!W274=7,(FromEvoM!AR274),\"\"))","v":""},null,null,{"$f":"IF(ISBLANK(FromEvoM!A274),\"\",IF(FromEvoM!AK274=\"y\",\"Y\",\"N\"))","v":""},{"$f":"IF(ISBLANK(FromEvoM!A274),\"\",Category_ID)","v":""},null,null,null,{"$f":"IF(ISBLANK(FromEvoM!AK274),\"\",FromEvoM!AK274)","v":""},{"$f":"IF(ISBLANK(FromEvoM!AM274),\"\",FromEvoM!AM274)","v":""},{"$f":"IF(ISBLANK(FromEvoM!AN274),\"\",FromEvoM!AN274)","v":""},{"$f":"IF(ISBLANK(FromEvoM!AL274),\"\",FromEvoM!AL274)","v":""},{"$f":"IF(ISBLANK(FromEvoM!A274),\"\",IF(AND(AF274=\"y\",AI274=1),\"Y\",\"N\"))","v":""},{"$f":"IF(ISBLANK(FromEvoM!A274),\"\",IF(FromEvoM!AS274=\"Yes\",2,1))","v":""},{"$f":"IF(FromEvoM!W274=1,\"M\",IF(FromEvoM!W274=7,\"W\",\"\"))","v":""},{"$f":"IF(AJ274=\"Y\",0,IF(AJ274=\"N\",FromEvoM!AF274+FromEvoM!AT274,\"\"))","v":""},{"$f":"IF(AJ274=\"Y\",(FromEvoM!AE274+FromEvoM!AF274-FromEvoM!AT274),IF(AJ274=\"N\",FromEvoM!AE274,\"\"))","v":""}]
[{"$f":"IF(ISBLANK(FromEvoM!A275),\"\",Group_Code)","v":""},{"$f":"IF(ISBLANK(FromEvoM!A275),\"\",SUBSTITUTE(FromEvoM!A275,\" \",\"\"))","v":""},{"$f":"IF(ISBLANK(FromEvoM!C275),\"\",SUBSTITUTE(FromEvoM!G275,\" \",\"\"))","v":""},{"$f":"IF(ISBLANK(FromEvoM!D275),\"\",FromEvoM!B275)","v":""},{"$f":"IF(ISBLANK(FromEvoM!D275),\"\",FromEvoM!D275)","v":""},{"$f":"IF(ISBLANK(FromEvoM!C275),\"\",FromEvoM!C275)","v":""},{"$f":"REPLACE(FromEvoM!F275,2,6, )","v":""},{"$f":"IF(ISNUMBER(FromEvoM!E275),FromEvoM!E275,\"\")","v":""},{"$f":"IF(ISBLANK(FromEvoM!I275),\"\",FromEvoM!I275)","v":""},{"$f":"IF(ISBLANK(FromEvoM!J275),\"\",FromEvoM!J275)","v":""},{"$f":"IF(ISBLANK(FromEvoM!K275),\"\",FromEvoM!K275)","v":""},{"$f":"IF(ISBLANK(FromEvoM!L275),\"\",FromEvoM!L275)","v":""},{"$f":"IF(ISBLANK(FromEvoM!M275),\"\",FromEvoM!M275)","v":""},{"$f":"IF(ISBLANK(FromEvoM!P275),\"\",FromEvoM!P275)","v":""},null,{"$f":"IF(ISNUMBER(FromEvoM!X275),FromEvoM!X275,\"\")","v":""},{"$f":"IF(ISNUMBER(FromEvoM!AB275),FromEvoM!AB275,\"\")","v":""},{"$f":"IF(ISNUMBER(FromEvoM!AA275),FromEvoM!AA275,\"\")","v":""},null,"","",null,null,{"$f":"IF(FromEvoM!W275=1,(FromEvoM!AB275*12),IF(FromEvoM!W275=7,(FromEvoM!AR275),\"\"))","v":""},null,null,{"$f":"IF(ISBLANK(FromEvoM!A275),\"\",IF(FromEvoM!AK275=\"y\",\"Y\",\"N\"))","v":""},{"$f":"IF(ISBLANK(FromEvoM!A275),\"\",Category_ID)","v":""},null,null,null,{"$f":"IF(ISBLANK(FromEvoM!AK275),\"\",FromEvoM!AK275)","v":""},{"$f":"IF(ISBLANK(FromEvoM!AM275),\"\",FromEvoM!AM275)","v":""},{"$f":"IF(ISBLANK(FromEvoM!AN275),\"\",FromEvoM!AN275)","v":""},{"$f":"IF(ISBLANK(FromEvoM!AL275),\"\",FromEvoM!AL275)","v":""},{"$f":"IF(ISBLANK(FromEvoM!A275),\"\",IF(AND(AF275=\"y\",AI275=1),\"Y\",\"N\"))","v":""},{"$f":"IF(ISBLANK(FromEvoM!A275),\"\",IF(FromEvoM!AS275=\"Yes\",2,1))","v":""},{"$f":"IF(FromEvoM!W275=1,\"M\",IF(FromEvoM!W275=7,\"W\",\"\"))","v":""},{"$f":"IF(AJ275=\"Y\",0,IF(AJ275=\"N\",FromEvoM!AF275+FromEvoM!AT275,\"\"))","v":""},{"$f":"IF(AJ275=\"Y\",(FromEvoM!AE275+FromEvoM!AF275-FromEvoM!AT275),IF(AJ275=\"N\",FromEvoM!AE275,\"\"))","v":""}]
[{"$f":"IF(ISBLANK(FromEvoM!A276),\"\",Group_Code)","v":""},{"$f":"IF(ISBLANK(FromEvoM!A276),\"\",SUBSTITUTE(FromEvoM!A276,\" \",\"\"))","v":""},{"$f":"IF(ISBLANK(FromEvoM!C276),\"\",SUBSTITUTE(FromEvoM!G276,\" \",\"\"))","v":""},{"$f":"IF(ISBLANK(FromEvoM!D276),\"\",FromEvoM!B276)","v":""},{"$f":"IF(ISBLANK(FromEvoM!D276),\"\",FromEvoM!D276)","v":""},{"$f":"IF(ISBLANK(FromEvoM!C276),\"\",FromEvoM!C276)","v":""},{"$f":"REPLACE(FromEvoM!F276,2,6, )","v":""},{"$f":"IF(ISNUMBER(FromEvoM!E276),FromEvoM!E276,\"\")","v":""},{"$f":"IF(ISBLANK(FromEvoM!I276),\"\",FromEvoM!I276)","v":""},{"$f":"IF(ISBLANK(FromEvoM!J276),\"\",FromEvoM!J276)","v":""},{"$f":"IF(ISBLANK(FromEvoM!K276),\"\",FromEvoM!K276)","v":""},{"$f":"IF(ISBLANK(FromEvoM!L276),\"\",FromEvoM!L276)","v":""},{"$f":"IF(ISBLANK(FromEvoM!M276),\"\",FromEvoM!M276)","v":""},{"$f":"IF(ISBLANK(FromEvoM!P276),\"\",FromEvoM!P276)","v":""},null,{"$f":"IF(ISNUMBER(FromEvoM!X276),FromEvoM!X276,\"\")","v":""},{"$f":"IF(ISNUMBER(FromEvoM!AB276),FromEvoM!AB276,\"\")","v":""},{"$f":"IF(ISNUMBER(FromEvoM!AA276),FromEvoM!AA276,\"\")","v":""},null,"","",null,null,{"$f":"IF(FromEvoM!W276=1,(FromEvoM!AB276*12),IF(FromEvoM!W276=7,(FromEvoM!AR276),\"\"))","v":""},null,null,{"$f":"IF(ISBLANK(FromEvoM!A276),\"\",IF(FromEvoM!AK276=\"y\",\"Y\",\"N\"))","v":""},{"$f":"IF(ISBLANK(FromEvoM!A276),\"\",Category_ID)","v":""},null,null,null,{"$f":"IF(ISBLANK(FromEvoM!AK276),\"\",FromEvoM!AK276)","v":""},{"$f":"IF(ISBLANK(FromEvoM!AM276),\"\",FromEvoM!AM276)","v":""},{"$f":"IF(ISBLANK(FromEvoM!AN276),\"\",FromEvoM!AN276)","v":""},{"$f":"IF(ISBLANK(FromEvoM!AL276),\"\",FromEvoM!AL276)","v":""},{"$f":"IF(ISBLANK(FromEvoM!A276),\"\",IF(AND(AF276=\"y\",AI276=1),\"Y\",\"N\"))","v":""},{"$f":"IF(ISBLANK(FromEvoM!A276),\"\",IF(FromEvoM!AS276=\"Yes\",2,1))","v":""},{"$f":"IF(FromEvoM!W276=1,\"M\",IF(FromEvoM!W276=7,\"W\",\"\"))","v":""},{"$f":"IF(AJ276=\"Y\",0,IF(AJ276=\"N\",FromEvoM!AF276+FromEvoM!AT276,\"\"))","v":""},{"$f":"IF(AJ276=\"Y\",(FromEvoM!AE276+FromEvoM!AF276-FromEvoM!AT276),IF(AJ276=\"N\",FromEvoM!AE276,\"\"))","v":""}]
[{"$f":"IF(ISBLANK(FromEvoM!A277),\"\",Group_Code)","v":""},{"$f":"IF(ISBLANK(FromEvoM!A277),\"\",SUBSTITUTE(FromEvoM!A277,\" \",\"\"))","v":""},{"$f":"IF(ISBLANK(FromEvoM!C277),\"\",SUBSTITUTE(FromEvoM!G277,\" \",\"\"))","v":""},{"$f":"IF(ISBLANK(FromEvoM!D277),\"\",FromEvoM!B277)","v":""},{"$f":"IF(ISBLANK(FromEvoM!D277),\"\",FromEvoM!D277)","v":""},{"$f":"IF(ISBLANK(FromEvoM!C277),\"\",FromEvoM!C277)","v":""},{"$f":"REPLACE(FromEvoM!F277,2,6, )","v":""},{"$f":"IF(ISNUMBER(FromEvoM!E277),FromEvoM!E277,\"\")","v":""},{"$f":"IF(ISBLANK(FromEvoM!I277),\"\",FromEvoM!I277)","v":""},{"$f":"IF(ISBLANK(FromEvoM!J277),\"\",FromEvoM!J277)","v":""},{"$f":"IF(ISBLANK(FromEvoM!K277),\"\",FromEvoM!K277)","v":""},{"$f":"IF(ISBLANK(FromEvoM!L277),\"\",FromEvoM!L277)","v":""},{"$f":"IF(ISBLANK(FromEvoM!M277),\"\",FromEvoM!M277)","v":""},{"$f":"IF(ISBLANK(FromEvoM!P277),\"\",FromEvoM!P277)","v":""},null,{"$f":"IF(ISNUMBER(FromEvoM!X277),FromEvoM!X277,\"\")","v":""},{"$f":"IF(ISNUMBER(FromEvoM!AB277),FromEvoM!AB277,\"\")","v":""},{"$f":"IF(ISNUMBER(FromEvoM!AA277),FromEvoM!AA277,\"\")","v":""},null,"","",null,null,{"$f":"IF(FromEvoM!W277=1,(FromEvoM!AB277*12),IF(FromEvoM!W277=7,(FromEvoM!AR277),\"\"))","v":""},null,null,{"$f":"IF(ISBLANK(FromEvoM!A277),\"\",IF(FromEvoM!AK277=\"y\",\"Y\",\"N\"))","v":""},{"$f":"IF(ISBLANK(FromEvoM!A277),\"\",Category_ID)","v":""},null,null,null,{"$f":"IF(ISBLANK(FromEvoM!AK277),\"\",FromEvoM!AK277)","v":""},{"$f":"IF(ISBLANK(FromEvoM!AM277),\"\",FromEvoM!AM277)","v":""},{"$f":"IF(ISBLANK(FromEvoM!AN277),\"\",FromEvoM!AN277)","v":""},{"$f":"IF(ISBLANK(FromEvoM!AL277),\"\",FromEvoM!AL277)","v":""},{"$f":"IF(ISBLANK(FromEvoM!A277),\"\",IF(AND(AF277=\"y\",AI277=1),\"Y\",\"N\"))","v":""},{"$f":"IF(ISBLANK(FromEvoM!A277),\"\",IF(FromEvoM!AS277=\"Yes\",2,1))","v":""},{"$f":"IF(FromEvoM!W277=1,\"M\",IF(FromEvoM!W277=7,\"W\",\"\"))","v":""},{"$f":"IF(AJ277=\"Y\",0,IF(AJ277=\"N\",FromEvoM!AF277+FromEvoM!AT277,\"\"))","v":""},{"$f":"IF(AJ277=\"Y\",(FromEvoM!AE277+FromEvoM!AF277-FromEvoM!AT277),IF(AJ277=\"N\",FromEvoM!AE277,\"\"))","v":""}]
[{"$f":"IF(ISBLANK(FromEvoM!A278),\"\",Group_Code)","v":""},{"$f":"IF(ISBLANK(FromEvoM!A278),\"\",SUBSTITUTE(FromEvoM!A278,\" \",\"\"))","v":""},{"$f":"IF(ISBLANK(FromEvoM!C278),\"\",SUBSTITUTE(FromEvoM!G278,\" \",\"\"))","v":""},{"$f":"IF(ISBLANK(FromEvoM!D278),\"\",FromEvoM!B278)","v":""},{"$f":"IF(ISBLANK(FromEvoM!D278),\"\",FromEvoM!D278)","v":""},{"$f":"IF(ISBLANK(FromEvoM!C278),\"\",FromEvoM!C278)","v":""},{"$f":"REPLACE(FromEvoM!F278,2,6, )","v":""},{"$f":"IF(ISNUMBER(FromEvoM!E278),FromEvoM!E278,\"\")","v":""},{"$f":"IF(ISBLANK(FromEvoM!I278),\"\",FromEvoM!I278)","v":""},{"$f":"IF(ISBLANK(FromEvoM!J278),\"\",FromEvoM!J278)","v":""},{"$f":"IF(ISBLANK(FromEvoM!K278),\"\",FromEvoM!K278)","v":""},{"$f":"IF(ISBLANK(FromEvoM!L278),\"\",FromEvoM!L278)","v":""},{"$f":"IF(ISBLANK(FromEvoM!M278),\"\",FromEvoM!M278)","v":""},{"$f":"IF(ISBLANK(FromEvoM!P278),\"\",FromEvoM!P278)","v":""},null,{"$f":"IF(ISNUMBER(FromEvoM!X278),FromEvoM!X278,\"\")","v":""},{"$f":"IF(ISNUMBER(FromEvoM!AB278),FromEvoM!AB278,\"\")","v":""},{"$f":"IF(ISNUMBER(FromEvoM!AA278),FromEvoM!AA278,\"\")","v":""},null,"","",null,null,{"$f":"IF(FromEvoM!W278=1,(FromEvoM!AB278*12),IF(FromEvoM!W278=7,(FromEvoM!AR278),\"\"))","v":""},null,null,{"$f":"IF(ISBLANK(FromEvoM!A278),\"\",IF(FromEvoM!AK278=\"y\",\"Y\",\"N\"))","v":""},{"$f":"IF(ISBLANK(FromEvoM!A278),\"\",Category_ID)","v":""},null,null,null,{"$f":"IF(ISBLANK(FromEvoM!AK278),\"\",FromEvoM!AK278)","v":""},{"$f":"IF(ISBLANK(FromEvoM!AM278),\"\",FromEvoM!AM278)","v":""},{"$f":"IF(ISBLANK(FromEvoM!AN278),\"\",FromEvoM!AN278)","v":""},{"$f":"IF(ISBLANK(FromEvoM!AL278),\"\",FromEvoM!AL278)","v":""},{"$f":"IF(ISBLANK(FromEvoM!A278),\"\",IF(AND(AF278=\"y\",AI278=1),\"Y\",\"N\"))","v":""},{"$f":"IF(ISBLANK(FromEvoM!A278),\"\",IF(FromEvoM!AS278=\"Yes\",2,1))","v":""},{"$f":"IF(FromEvoM!W278=1,\"M\",IF(FromEvoM!W278=7,\"W\",\"\"))","v":""},{"$f":"IF(AJ278=\"Y\",0,IF(AJ278=\"N\",FromEvoM!AF278+FromEvoM!AT278,\"\"))","v":""},{"$f":"IF(AJ278=\"Y\",(FromEvoM!AE278+FromEvoM!AF278-FromEvoM!AT278),IF(AJ278=\"N\",FromEvoM!AE278,\"\"))","v":""}]
[{"$f":"IF(ISBLANK(FromEvoM!A279),\"\",Group_Code)","v":""},{"$f":"IF(ISBLANK(FromEvoM!A279),\"\",SUBSTITUTE(FromEvoM!A279,\" \",\"\"))","v":""},{"$f":"IF(ISBLANK(FromEvoM!C279),\"\",SUBSTITUTE(FromEvoM!G279,\" \",\"\"))","v":""},{"$f":"IF(ISBLANK(FromEvoM!D279),\"\",FromEvoM!B279)","v":""},{"$f":"IF(ISBLANK(FromEvoM!D279),\"\",FromEvoM!D279)","v":""},{"$f":"IF(ISBLANK(FromEvoM!C279),\"\",FromEvoM!C279)","v":""},{"$f":"REPLACE(FromEvoM!F279,2,6, )","v":""},{"$f":"IF(ISNUMBER(FromEvoM!E279),FromEvoM!E279,\"\")","v":""},{"$f":"IF(ISBLANK(FromEvoM!I279),\"\",FromEvoM!I279)","v":""},{"$f":"IF(ISBLANK(FromEvoM!J279),\"\",FromEvoM!J279)","v":""},{"$f":"IF(ISBLANK(FromEvoM!K279),\"\",FromEvoM!K279)","v":""},{"$f":"IF(ISBLANK(FromEvoM!L279),\"\",FromEvoM!L279)","v":""},{"$f":"IF(ISBLANK(FromEvoM!M279),\"\",FromEvoM!M279)","v":""},{"$f":"IF(ISBLANK(FromEvoM!P279),\"\",FromEvoM!P279)","v":""},null,{"$f":"IF(ISNUMBER(FromEvoM!X279),FromEvoM!X279,\"\")","v":""},{"$f":"IF(ISNUMBER(FromEvoM!AB279),FromEvoM!AB279,\"\")","v":""},{"$f":"IF(ISNUMBER(FromEvoM!AA279),FromEvoM!AA279,\"\")","v":""},null,"","",null,null,{"$f":"IF(FromEvoM!W279=1,(FromEvoM!AB279*12),IF(FromEvoM!W279=7,(FromEvoM!AR279),\"\"))","v":""},null,null,{"$f":"IF(ISBLANK(FromEvoM!A279),\"\",IF(FromEvoM!AK279=\"y\",\"Y\",\"N\"))","v":""},{"$f":"IF(ISBLANK(FromEvoM!A279),\"\",Category_ID)","v":""},null,null,null,{"$f":"IF(ISBLANK(FromEvoM!AK279),\"\",FromEvoM!AK279)","v":""},{"$f":"IF(ISBLANK(FromEvoM!AM279),\"\",FromEvoM!AM279)","v":""},{"$f":"IF(ISBLANK(FromEvoM!AN279),\"\",FromEvoM!AN279)","v":""},{"$f":"IF(ISBLANK(FromEvoM!AL279),\"\",FromEvoM!AL279)","v":""},{"$f":"IF(ISBLANK(FromEvoM!A279),\"\",IF(AND(AF279=\"y\",AI279=1),\"Y\",\"N\"))","v":""},{"$f":"IF(ISBLANK(FromEvoM!A279),\"\",IF(FromEvoM!AS279=\"Yes\",2,1))","v":""},{"$f":"IF(FromEvoM!W279=1,\"M\",IF(FromEvoM!W279=7,\"W\",\"\"))","v":""},{"$f":"IF(AJ279=\"Y\",0,IF(AJ279=\"N\",FromEvoM!AF279+FromEvoM!AT279,\"\"))","v":""},{"$f":"IF(AJ279=\"Y\",(FromEvoM!AE279+FromEvoM!AF279-FromEvoM!AT279),IF(AJ279=\"N\",FromEvoM!AE279,\"\"))","v":""}]
[{"$f":"IF(ISBLANK(FromEvoM!A280),\"\",Group_Code)","v":""},{"$f":"IF(ISBLANK(FromEvoM!A280),\"\",SUBSTITUTE(FromEvoM!A280,\" \",\"\"))","v":""},{"$f":"IF(ISBLANK(FromEvoM!C280),\"\",SUBSTITUTE(FromEvoM!G280,\" \",\"\"))","v":""},{"$f":"IF(ISBLANK(FromEvoM!D280),\"\",FromEvoM!B280)","v":""},{"$f":"IF(ISBLANK(FromEvoM!D280),\"\",FromEvoM!D280)","v":""},{"$f":"IF(ISBLANK(FromEvoM!C280),\"\",FromEvoM!C280)","v":""},{"$f":"REPLACE(FromEvoM!F280,2,6, )","v":""},{"$f":"IF(ISNUMBER(FromEvoM!E280),FromEvoM!E280,\"\")","v":""},{"$f":"IF(ISBLANK(FromEvoM!I280),\"\",FromEvoM!I280)","v":""},{"$f":"IF(ISBLANK(FromEvoM!J280),\"\",FromEvoM!J280)","v":""},{"$f":"IF(ISBLANK(FromEvoM!K280),\"\",FromEvoM!K280)","v":""},{"$f":"IF(ISBLANK(FromEvoM!L280),\"\",FromEvoM!L280)","v":""},{"$f":"IF(ISBLANK(FromEvoM!M280),\"\",FromEvoM!M280)","v":""},{"$f":"IF(ISBLANK(FromEvoM!P280),\"\",FromEvoM!P280)","v":""},null,{"$f":"IF(ISNUMBER(FromEvoM!X280),FromEvoM!X280,\"\")","v":""},{"$f":"IF(ISNUMBER(FromEvoM!AB280),FromEvoM!AB280,\"\")","v":""},{"$f":"IF(ISNUMBER(FromEvoM!AA280),FromEvoM!AA280,\"\")","v":""},null,"","",null,null,{"$f":"IF(FromEvoM!W280=1,(FromEvoM!AB280*12),IF(FromEvoM!W280=7,(FromEvoM!AR280),\"\"))","v":""},null,null,{"$f":"IF(ISBLANK(FromEvoM!A280),\"\",IF(FromEvoM!AK280=\"y\",\"Y\",\"N\"))","v":""},{"$f":"IF(ISBLANK(FromEvoM!A280),\"\",Category_ID)","v":""},null,null,null,{"$f":"IF(ISBLANK(FromEvoM!AK280),\"\",FromEvoM!AK280)","v":""},{"$f":"IF(ISBLANK(FromEvoM!AM280),\"\",FromEvoM!AM280)","v":""},{"$f":"IF(ISBLANK(FromEvoM!AN280),\"\",FromEvoM!AN280)","v":""},{"$f":"IF(ISBLANK(FromEvoM!AL280),\"\",FromEvoM!AL280)","v":""},{"$f":"IF(ISBLANK(FromEvoM!A280),\"\",IF(AND(AF280=\"y\",AI280=1),\"Y\",\"N\"))","v":""},{"$f":"IF(ISBLANK(FromEvoM!A280),\"\",IF(FromEvoM!AS280=\"Yes\",2,1))","v":""},{"$f":"IF(FromEvoM!W280=1,\"M\",IF(FromEvoM!W280=7,\"W\",\"\"))","v":""},{"$f":"IF(AJ280=\"Y\",0,IF(AJ280=\"N\",FromEvoM!AF280+FromEvoM!AT280,\"\"))","v":""},{"$f":"IF(AJ280=\"Y\",(FromEvoM!AE280+FromEvoM!AF280-FromEvoM!AT280),IF(AJ280=\"N\",FromEvoM!AE280,\"\"))","v":""}]
[{"$f":"IF(ISBLANK(FromEvoM!A281),\"\",Group_Code)","v":""},{"$f":"IF(ISBLANK(FromEvoM!A281),\"\",SUBSTITUTE(FromEvoM!A281,\" \",\"\"))","v":""},{"$f":"IF(ISBLANK(FromEvoM!C281),\"\",SUBSTITUTE(FromEvoM!G281,\" \",\"\"))","v":""},{"$f":"IF(ISBLANK(FromEvoM!D281),\"\",FromEvoM!B281)","v":""},{"$f":"IF(ISBLANK(FromEvoM!D281),\"\",FromEvoM!D281)","v":""},{"$f":"IF(ISBLANK(FromEvoM!C281),\"\",FromEvoM!C281)","v":""},{"$f":"REPLACE(FromEvoM!F281,2,6, )","v":""},{"$f":"IF(ISNUMBER(FromEvoM!E281),FromEvoM!E281,\"\")","v":""},{"$f":"IF(ISBLANK(FromEvoM!I281),\"\",FromEvoM!I281)","v":""},{"$f":"IF(ISBLANK(FromEvoM!J281),\"\",FromEvoM!J281)","v":""},{"$f":"IF(ISBLANK(FromEvoM!K281),\"\",FromEvoM!K281)","v":""},{"$f":"IF(ISBLANK(FromEvoM!L281),\"\",FromEvoM!L281)","v":""},{"$f":"IF(ISBLANK(FromEvoM!M281),\"\",FromEvoM!M281)","v":""},{"$f":"IF(ISBLANK(FromEvoM!P281),\"\",FromEvoM!P281)","v":""},null,{"$f":"IF(ISNUMBER(FromEvoM!X281),FromEvoM!X281,\"\")","v":""},{"$f":"IF(ISNUMBER(FromEvoM!AB281),FromEvoM!AB281,\"\")","v":""},{"$f":"IF(ISNUMBER(FromEvoM!AA281),FromEvoM!AA281,\"\")","v":""},null,"","",null,null,{"$f":"IF(FromEvoM!W281=1,(FromEvoM!AB281*12),IF(FromEvoM!W281=7,(FromEvoM!AR281),\"\"))","v":""},null,null,{"$f":"IF(ISBLANK(FromEvoM!A281),\"\",IF(FromEvoM!AK281=\"y\",\"Y\",\"N\"))","v":""},{"$f":"IF(ISBLANK(FromEvoM!A281),\"\",Category_ID)","v":""},null,null,null,{"$f":"IF(ISBLANK(FromEvoM!AK281),\"\",FromEvoM!AK281)","v":""},{"$f":"IF(ISBLANK(FromEvoM!AM281),\"\",FromEvoM!AM281)","v":""},{"$f":"IF(ISBLANK(FromEvoM!AN281),\"\",FromEvoM!AN281)","v":""},{"$f":"IF(ISBLANK(FromEvoM!AL281),\"\",FromEvoM!AL281)","v":""},{"$f":"IF(ISBLANK(FromEvoM!A281),\"\",IF(AND(AF281=\"y\",AI281=1),\"Y\",\"N\"))","v":""},{"$f":"IF(ISBLANK(FromEvoM!A281),\"\",IF(FromEvoM!AS281=\"Yes\",2,1))","v":""},{"$f":"IF(FromEvoM!W281=1,\"M\",IF(FromEvoM!W281=7,\"W\",\"\"))","v":""},{"$f":"IF(AJ281=\"Y\",0,IF(AJ281=\"N\",FromEvoM!AF281+FromEvoM!AT281,\"\"))","v":""},{"$f":"IF(AJ281=\"Y\",(FromEvoM!AE281+FromEvoM!AF281-FromEvoM!AT281),IF(AJ281=\"N\",FromEvoM!AE281,\"\"))","v":""}]
[{"$f":"IF(ISBLANK(FromEvoM!A282),\"\",Group_Code)","v":""},{"$f":"IF(ISBLANK(FromEvoM!A282),\"\",SUBSTITUTE(FromEvoM!A282,\" \",\"\"))","v":""},{"$f":"IF(ISBLANK(FromEvoM!C282),\"\",SUBSTITUTE(FromEvoM!G282,\" \",\"\"))","v":""},{"$f":"IF(ISBLANK(FromEvoM!D282),\"\",FromEvoM!B282)","v":""},{"$f":"IF(ISBLANK(FromEvoM!D282),\"\",FromEvoM!D282)","v":""},{"$f":"IF(ISBLANK(FromEvoM!C282),\"\",FromEvoM!C282)","v":""},{"$f":"REPLACE(FromEvoM!F282,2,6, )","v":""},{"$f":"IF(ISNUMBER(FromEvoM!E282),FromEvoM!E282,\"\")","v":""},{"$f":"IF(ISBLANK(FromEvoM!I282),\"\",FromEvoM!I282)","v":""},{"$f":"IF(ISBLANK(FromEvoM!J282),\"\",FromEvoM!J282)","v":""},{"$f":"IF(ISBLANK(FromEvoM!K282),\"\",FromEvoM!K282)","v":""},{"$f":"IF(ISBLANK(FromEvoM!L282),\"\",FromEvoM!L282)","v":""},{"$f":"IF(ISBLANK(FromEvoM!M282),\"\",FromEvoM!M282)","v":""},{"$f":"IF(ISBLANK(FromEvoM!P282),\"\",FromEvoM!P282)","v":""},null,{"$f":"IF(ISNUMBER(FromEvoM!X282),FromEvoM!X282,\"\")","v":""},{"$f":"IF(ISNUMBER(FromEvoM!AB282),FromEvoM!AB282,\"\")","v":""},{"$f":"IF(ISNUMBER(FromEvoM!AA282),FromEvoM!AA282,\"\")","v":""},null,"","",null,null,{"$f":"IF(FromEvoM!W282=1,(FromEvoM!AB282*12),IF(FromEvoM!W282=7,(FromEvoM!AR282),\"\"))","v":""},null,null,{"$f":"IF(ISBLANK(FromEvoM!A282),\"\",IF(FromEvoM!AK282=\"y\",\"Y\",\"N\"))","v":""},{"$f":"IF(ISBLANK(FromEvoM!A282),\"\",Category_ID)","v":""},null,null,null,{"$f":"IF(ISBLANK(FromEvoM!AK282),\"\",FromEvoM!AK282)","v":""},{"$f":"IF(ISBLANK(FromEvoM!AM282),\"\",FromEvoM!AM282)","v":""},{"$f":"IF(ISBLANK(FromEvoM!AN282),\"\",FromEvoM!AN282)","v":""},{"$f":"IF(ISBLANK(FromEvoM!AL282),\"\",FromEvoM!AL282)","v":""},{"$f":"IF(ISBLANK(FromEvoM!A282),\"\",IF(AND(AF282=\"y\",AI282=1),\"Y\",\"N\"))","v":""},{"$f":"IF(ISBLANK(FromEvoM!A282),\"\",IF(FromEvoM!AS282=\"Yes\",2,1))","v":""},{"$f":"IF(FromEvoM!W282=1,\"M\",IF(FromEvoM!W282=7,\"W\",\"\"))","v":""},{"$f":"IF(AJ282=\"Y\",0,IF(AJ282=\"N\",FromEvoM!AF282+FromEvoM!AT282,\"\"))","v":""},{"$f":"IF(AJ282=\"Y\",(FromEvoM!AE282+FromEvoM!AF282-FromEvoM!AT282),IF(AJ282=\"N\",FromEvoM!AE282,\"\"))","v":""}]
[{"$f":"IF(ISBLANK(FromEvoM!A283),\"\",Group_Code)","v":""},{"$f":"IF(ISBLANK(FromEvoM!A283),\"\",SUBSTITUTE(FromEvoM!A283,\" \",\"\"))","v":""},{"$f":"IF(ISBLANK(FromEvoM!C283),\"\",SUBSTITUTE(FromEvoM!G283,\" \",\"\"))","v":""},{"$f":"IF(ISBLANK(FromEvoM!D283),\"\",FromEvoM!B283)","v":""},{"$f":"IF(ISBLANK(FromEvoM!D283),\"\",FromEvoM!D283)","v":""},{"$f":"IF(ISBLANK(FromEvoM!C283),\"\",FromEvoM!C283)","v":""},{"$f":"REPLACE(FromEvoM!F283,2,6, )","v":""},{"$f":"IF(ISNUMBER(FromEvoM!E283),FromEvoM!E283,\"\")","v":""},{"$f":"IF(ISBLANK(FromEvoM!I283),\"\",FromEvoM!I283)","v":""},{"$f":"IF(ISBLANK(FromEvoM!J283),\"\",FromEvoM!J283)","v":""},{"$f":"IF(ISBLANK(FromEvoM!K283),\"\",FromEvoM!K283)","v":""},{"$f":"IF(ISBLANK(FromEvoM!L283),\"\",FromEvoM!L283)","v":""},{"$f":"IF(ISBLANK(FromEvoM!M283),\"\",FromEvoM!M283)","v":""},{"$f":"IF(ISBLANK(FromEvoM!P283),\"\",FromEvoM!P283)","v":""},null,{"$f":"IF(ISNUMBER(FromEvoM!X283),FromEvoM!X283,\"\")","v":""},{"$f":"IF(ISNUMBER(FromEvoM!AB283),FromEvoM!AB283,\"\")","v":""},{"$f":"IF(ISNUMBER(FromEvoM!AA283),FromEvoM!AA283,\"\")","v":""},null,"","",null,null,{"$f":"IF(FromEvoM!W283=1,(FromEvoM!AB283*12),IF(FromEvoM!W283=7,(FromEvoM!AR283),\"\"))","v":""},null,null,{"$f":"IF(ISBLANK(FromEvoM!A283),\"\",IF(FromEvoM!AK283=\"y\",\"Y\",\"N\"))","v":""},{"$f":"IF(ISBLANK(FromEvoM!A283),\"\",Category_ID)","v":""},null,null,null,{"$f":"IF(ISBLANK(FromEvoM!AK283),\"\",FromEvoM!AK283)","v":""},{"$f":"IF(ISBLANK(FromEvoM!AM283),\"\",FromEvoM!AM283)","v":""},{"$f":"IF(ISBLANK(FromEvoM!AN283),\"\",FromEvoM!AN283)","v":""},{"$f":"IF(ISBLANK(FromEvoM!AL283),\"\",FromEvoM!AL283)","v":""},{"$f":"IF(ISBLANK(FromEvoM!A283),\"\",IF(AND(AF283=\"y\",AI283=1),\"Y\",\"N\"))","v":""},{"$f":"IF(ISBLANK(FromEvoM!A283),\"\",IF(FromEvoM!AS283=\"Yes\",2,1))","v":""},{"$f":"IF(FromEvoM!W283=1,\"M\",IF(FromEvoM!W283=7,\"W\",\"\"))","v":""},{"$f":"IF(AJ283=\"Y\",0,IF(AJ283=\"N\",FromEvoM!AF283+FromEvoM!AT283,\"\"))","v":""},{"$f":"IF(AJ283=\"Y\",(FromEvoM!AE283+FromEvoM!AF283-FromEvoM!AT283),IF(AJ283=\"N\",FromEvoM!AE283,\"\"))","v":""}]
[{"$f":"IF(ISBLANK(FromEvoM!A284),\"\",Group_Code)","v":""},{"$f":"IF(ISBLANK(FromEvoM!A284),\"\",SUBSTITUTE(FromEvoM!A284,\" \",\"\"))","v":""},{"$f":"IF(ISBLANK(FromEvoM!C284),\"\",SUBSTITUTE(FromEvoM!G284,\" \",\"\"))","v":""},{"$f":"IF(ISBLANK(FromEvoM!D284),\"\",FromEvoM!B284)","v":""},{"$f":"IF(ISBLANK(FromEvoM!D284),\"\",FromEvoM!D284)","v":""},{"$f":"IF(ISBLANK(FromEvoM!C284),\"\",FromEvoM!C284)","v":""},{"$f":"REPLACE(FromEvoM!F284,2,6, )","v":""},{"$f":"IF(ISNUMBER(FromEvoM!E284),FromEvoM!E284,\"\")","v":""},{"$f":"IF(ISBLANK(FromEvoM!I284),\"\",FromEvoM!I284)","v":""},{"$f":"IF(ISBLANK(FromEvoM!J284),\"\",FromEvoM!J284)","v":""},{"$f":"IF(ISBLANK(FromEvoM!K284),\"\",FromEvoM!K284)","v":""},{"$f":"IF(ISBLANK(FromEvoM!L284),\"\",FromEvoM!L284)","v":""},{"$f":"IF(ISBLANK(FromEvoM!M284),\"\",FromEvoM!M284)","v":""},{"$f":"IF(ISBLANK(FromEvoM!P284),\"\",FromEvoM!P284)","v":""},null,{"$f":"IF(ISNUMBER(FromEvoM!X284),FromEvoM!X284,\"\")","v":""},{"$f":"IF(ISNUMBER(FromEvoM!AB284),FromEvoM!AB284,\"\")","v":""},{"$f":"IF(ISNUMBER(FromEvoM!AA284),FromEvoM!AA284,\"\")","v":""},null,"","",null,null,{"$f":"IF(FromEvoM!W284=1,(FromEvoM!AB284*12),IF(FromEvoM!W284=7,(FromEvoM!AR284),\"\"))","v":""},null,null,{"$f":"IF(ISBLANK(FromEvoM!A284),\"\",IF(FromEvoM!AK284=\"y\",\"Y\",\"N\"))","v":""},{"$f":"IF(ISBLANK(FromEvoM!A284),\"\",Category_ID)","v":""},null,null,null,{"$f":"IF(ISBLANK(FromEvoM!AK284),\"\",FromEvoM!AK284)","v":""},{"$f":"IF(ISBLANK(FromEvoM!AM284),\"\",FromEvoM!AM284)","v":""},{"$f":"IF(ISBLANK(FromEvoM!AN284),\"\",FromEvoM!AN284)","v":""},{"$f":"IF(ISBLANK(FromEvoM!AL284),\"\",FromEvoM!AL284)","v":""},{"$f":"IF(ISBLANK(FromEvoM!A284),\"\",IF(AND(AF284=\"y\",AI284=1),\"Y\",\"N\"))","v":""},{"$f":"IF(ISBLANK(FromEvoM!A284),\"\",IF(FromEvoM!AS284=\"Yes\",2,1))","v":""},{"$f":"IF(FromEvoM!W284=1,\"M\",IF(FromEvoM!W284=7,\"W\",\"\"))","v":""},{"$f":"IF(AJ284=\"Y\",0,IF(AJ284=\"N\",FromEvoM!AF284+FromEvoM!AT284,\"\"))","v":""},{"$f":"IF(AJ284=\"Y\",(FromEvoM!AE284+FromEvoM!AF284-FromEvoM!AT284),IF(AJ284=\"N\",FromEvoM!AE284,\"\"))","v":""}]
[{"$f":"IF(ISBLANK(FromEvoM!A285),\"\",Group_Code)","v":""},{"$f":"IF(ISBLANK(FromEvoM!A285),\"\",SUBSTITUTE(FromEvoM!A285,\" \",\"\"))","v":""},{"$f":"IF(ISBLANK(FromEvoM!C285),\"\",SUBSTITUTE(FromEvoM!G285,\" \",\"\"))","v":""},{"$f":"IF(ISBLANK(FromEvoM!D285),\"\",FromEvoM!B285)","v":""},{"$f":"IF(ISBLANK(FromEvoM!D285),\"\",FromEvoM!D285)","v":""},{"$f":"IF(ISBLANK(FromEvoM!C285),\"\",FromEvoM!C285)","v":""},{"$f":"REPLACE(FromEvoM!F285,2,6, )","v":""},{"$f":"IF(ISNUMBER(FromEvoM!E285),FromEvoM!E285,\"\")","v":""},{"$f":"IF(ISBLANK(FromEvoM!I285),\"\",FromEvoM!I285)","v":""},{"$f":"IF(ISBLANK(FromEvoM!J285),\"\",FromEvoM!J285)","v":""},{"$f":"IF(ISBLANK(FromEvoM!K285),\"\",FromEvoM!K285)","v":""},{"$f":"IF(ISBLANK(FromEvoM!L285),\"\",FromEvoM!L285)","v":""},{"$f":"IF(ISBLANK(FromEvoM!M285),\"\",FromEvoM!M285)","v":""},{"$f":"IF(ISBLANK(FromEvoM!P285),\"\",FromEvoM!P285)","v":""},null,{"$f":"IF(ISNUMBER(FromEvoM!X285),FromEvoM!X285,\"\")","v":""},{"$f":"IF(ISNUMBER(FromEvoM!AB285),FromEvoM!AB285,\"\")","v":""},{"$f":"IF(ISNUMBER(FromEvoM!AA285),FromEvoM!AA285,\"\")","v":""},null,"","",null,null,{"$f":"IF(FromEvoM!W285=1,(FromEvoM!AB285*12),IF(FromEvoM!W285=7,(FromEvoM!AR285),\"\"))","v":""},null,null,{"$f":"IF(ISBLANK(FromEvoM!A285),\"\",IF(FromEvoM!AK285=\"y\",\"Y\",\"N\"))","v":""},{"$f":"IF(ISBLANK(FromEvoM!A285),\"\",Category_ID)","v":""},null,null,null,{"$f":"IF(ISBLANK(FromEvoM!AK285),\"\",FromEvoM!AK285)","v":""},{"$f":"IF(ISBLANK(FromEvoM!AM285),\"\",FromEvoM!AM285)","v":""},{"$f":"IF(ISBLANK(FromEvoM!AN285),\"\",FromEvoM!AN285)","v":""},{"$f":"IF(ISBLANK(FromEvoM!AL285),\"\",FromEvoM!AL285)","v":""},{"$f":"IF(ISBLANK(FromEvoM!A285),\"\",IF(AND(AF285=\"y\",AI285=1),\"Y\",\"N\"))","v":""},{"$f":"IF(ISBLANK(FromEvoM!A285),\"\",IF(FromEvoM!AS285=\"Yes\",2,1))","v":""},{"$f":"IF(FromEvoM!W285=1,\"M\",IF(FromEvoM!W285=7,\"W\",\"\"))","v":""},{"$f":"IF(AJ285=\"Y\",0,IF(AJ285=\"N\",FromEvoM!AF285+FromEvoM!AT285,\"\"))","v":""},{"$f":"IF(AJ285=\"Y\",(FromEvoM!AE285+FromEvoM!AF285-FromEvoM!AT285),IF(AJ285=\"N\",FromEvoM!AE285,\"\"))","v":""}]
[{"$f":"IF(ISBLANK(FromEvoM!A286),\"\",Group_Code)","v":""},{"$f":"IF(ISBLANK(FromEvoM!A286),\"\",SUBSTITUTE(FromEvoM!A286,\" \",\"\"))","v":""},{"$f":"IF(ISBLANK(FromEvoM!C286),\"\",SUBSTITUTE(FromEvoM!G286,\" \",\"\"))","v":""},{"$f":"IF(ISBLANK(FromEvoM!D286),\"\",FromEvoM!B286)","v":""},{"$f":"IF(ISBLANK(FromEvoM!D286),\"\",FromEvoM!D286)","v":""},{"$f":"IF(ISBLANK(FromEvoM!C286),\"\",FromEvoM!C286)","v":""},{"$f":"REPLACE(FromEvoM!F286,2,6, )","v":""},{"$f":"IF(ISNUMBER(FromEvoM!E286),FromEvoM!E286,\"\")","v":""},{"$f":"IF(ISBLANK(FromEvoM!I286),\"\",FromEvoM!I286)","v":""},{"$f":"IF(ISBLANK(FromEvoM!J286),\"\",FromEvoM!J286)","v":""},{"$f":"IF(ISBLANK(FromEvoM!K286),\"\",FromEvoM!K286)","v":""},{"$f":"IF(ISBLANK(FromEvoM!L286),\"\",FromEvoM!L286)","v":""},{"$f":"IF(ISBLANK(FromEvoM!M286),\"\",FromEvoM!M286)","v":""},{"$f":"IF(ISBLANK(FromEvoM!P286),\"\",FromEvoM!P286)","v":""},null,{"$f":"IF(ISNUMBER(FromEvoM!X286),FromEvoM!X286,\"\")","v":""},{"$f":"IF(ISNUMBER(FromEvoM!AB286),FromEvoM!AB286,\"\")","v":""},{"$f":"IF(ISNUMBER(FromEvoM!AA286),FromEvoM!AA286,\"\")","v":""},null,"","",null,null,{"$f":"IF(FromEvoM!W286=1,(FromEvoM!AB286*12),IF(FromEvoM!W286=7,(FromEvoM!AR286),\"\"))","v":""},null,null,{"$f":"IF(ISBLANK(FromEvoM!A286),\"\",IF(FromEvoM!AK286=\"y\",\"Y\",\"N\"))","v":""},{"$f":"IF(ISBLANK(FromEvoM!A286),\"\",Category_ID)","v":""},null,null,null,{"$f":"IF(ISBLANK(FromEvoM!AK286),\"\",FromEvoM!AK286)","v":""},{"$f":"IF(ISBLANK(FromEvoM!AM286),\"\",FromEvoM!AM286)","v":""},{"$f":"IF(ISBLANK(FromEvoM!AN286),\"\",FromEvoM!AN286)","v":""},{"$f":"IF(ISBLANK(FromEvoM!AL286),\"\",FromEvoM!AL286)","v":""},{"$f":"IF(ISBLANK(FromEvoM!A286),\"\",IF(AND(AF286=\"y\",AI286=1),\"Y\",\"N\"))","v":""},{"$f":"IF(ISBLANK(FromEvoM!A286),\"\",IF(FromEvoM!AS286=\"Yes\",2,1))","v":""},{"$f":"IF(FromEvoM!W286=1,\"M\",IF(FromEvoM!W286=7,\"W\",\"\"))","v":""},{"$f":"IF(AJ286=\"Y\",0,IF(AJ286=\"N\",FromEvoM!AF286+FromEvoM!AT286,\"\"))","v":""},{"$f":"IF(AJ286=\"Y\",(FromEvoM!AE286+FromEvoM!AF286-FromEvoM!AT286),IF(AJ286=\"N\",FromEvoM!AE286,\"\"))","v":""}]
[{"$f":"IF(ISBLANK(FromEvoM!A287),\"\",Group_Code)","v":""},{"$f":"IF(ISBLANK(FromEvoM!A287),\"\",SUBSTITUTE(FromEvoM!A287,\" \",\"\"))","v":""},{"$f":"IF(ISBLANK(FromEvoM!C287),\"\",SUBSTITUTE(FromEvoM!G287,\" \",\"\"))","v":""},{"$f":"IF(ISBLANK(FromEvoM!D287),\"\",FromEvoM!B287)","v":""},{"$f":"IF(ISBLANK(FromEvoM!D287),\"\",FromEvoM!D287)","v":""},{"$f":"IF(ISBLANK(FromEvoM!C287),\"\",FromEvoM!C287)","v":""},{"$f":"REPLACE(FromEvoM!F287,2,6, )","v":""},{"$f":"IF(ISNUMBER(FromEvoM!E287),FromEvoM!E287,\"\")","v":""},{"$f":"IF(ISBLANK(FromEvoM!I287),\"\",FromEvoM!I287)","v":""},{"$f":"IF(ISBLANK(FromEvoM!J287),\"\",FromEvoM!J287)","v":""},{"$f":"IF(ISBLANK(FromEvoM!K287),\"\",FromEvoM!K287)","v":""},{"$f":"IF(ISBLANK(FromEvoM!L287),\"\",FromEvoM!L287)","v":""},{"$f":"IF(ISBLANK(FromEvoM!M287),\"\",FromEvoM!M287)","v":""},{"$f":"IF(ISBLANK(FromEvoM!P287),\"\",FromEvoM!P287)","v":""},null,{"$f":"IF(ISNUMBER(FromEvoM!X287),FromEvoM!X287,\"\")","v":""},{"$f":"IF(ISNUMBER(FromEvoM!AB287),FromEvoM!AB287,\"\")","v":""},{"$f":"IF(ISNUMBER(FromEvoM!AA287),FromEvoM!AA287,\"\")","v":""},null,"","",null,null,{"$f":"IF(FromEvoM!W287=1,(FromEvoM!AB287*12),IF(FromEvoM!W287=7,(FromEvoM!AR287),\"\"))","v":""},null,null,{"$f":"IF(ISBLANK(FromEvoM!A287),\"\",IF(FromEvoM!AK287=\"y\",\"Y\",\"N\"))","v":""},{"$f":"IF(ISBLANK(FromEvoM!A287),\"\",Category_ID)","v":""},null,null,null,{"$f":"IF(ISBLANK(FromEvoM!AK287),\"\",FromEvoM!AK287)","v":""},{"$f":"IF(ISBLANK(FromEvoM!AM287),\"\",FromEvoM!AM287)","v":""},{"$f":"IF(ISBLANK(FromEvoM!AN287),\"\",FromEvoM!AN287)","v":""},{"$f":"IF(ISBLANK(FromEvoM!AL287),\"\",FromEvoM!AL287)","v":""},{"$f":"IF(ISBLANK(FromEvoM!A287),\"\",IF(AND(AF287=\"y\",AI287=1),\"Y\",\"N\"))","v":""},{"$f":"IF(ISBLANK(FromEvoM!A287),\"\",IF(FromEvoM!AS287=\"Yes\",2,1))","v":""},{"$f":"IF(FromEvoM!W287=1,\"M\",IF(FromEvoM!W287=7,\"W\",\"\"))","v":""},{"$f":"IF(AJ287=\"Y\",0,IF(AJ287=\"N\",FromEvoM!AF287+FromEvoM!AT287,\"\"))","v":""},{"$f":"IF(AJ287=\"Y\",(FromEvoM!AE287+FromEvoM!AF287-FromEvoM!AT287),IF(AJ287=\"N\",FromEvoM!AE287,\"\"))","v":""}]
[{"$f":"IF(ISBLANK(FromEvoM!A288),\"\",Group_Code)","v":""},{"$f":"IF(ISBLANK(FromEvoM!A288),\"\",SUBSTITUTE(FromEvoM!A288,\" \",\"\"))","v":""},{"$f":"IF(ISBLANK(FromEvoM!C288),\"\",SUBSTITUTE(FromEvoM!G288,\" \",\"\"))","v":""},{"$f":"IF(ISBLANK(FromEvoM!D288),\"\",FromEvoM!B288)","v":""},{"$f":"IF(ISBLANK(FromEvoM!D288),\"\",FromEvoM!D288)","v":""},{"$f":"IF(ISBLANK(FromEvoM!C288),\"\",FromEvoM!C288)","v":""},{"$f":"REPLACE(FromEvoM!F288,2,6, )","v":""},{"$f":"IF(ISNUMBER(FromEvoM!E288),FromEvoM!E288,\"\")","v":""},{"$f":"IF(ISBLANK(FromEvoM!I288),\"\",FromEvoM!I288)","v":""},{"$f":"IF(ISBLANK(FromEvoM!J288),\"\",FromEvoM!J288)","v":""},{"$f":"IF(ISBLANK(FromEvoM!K288),\"\",FromEvoM!K288)","v":""},{"$f":"IF(ISBLANK(FromEvoM!L288),\"\",FromEvoM!L288)","v":""},{"$f":"IF(ISBLANK(FromEvoM!M288),\"\",FromEvoM!M288)","v":""},{"$f":"IF(ISBLANK(FromEvoM!P288),\"\",FromEvoM!P288)","v":""},null,{"$f":"IF(ISNUMBER(FromEvoM!X288),FromEvoM!X288,\"\")","v":""},{"$f":"IF(ISNUMBER(FromEvoM!AB288),FromEvoM!AB288,\"\")","v":""},{"$f":"IF(ISNUMBER(FromEvoM!AA288),FromEvoM!AA288,\"\")","v":""},null,"","",null,null,{"$f":"IF(FromEvoM!W288=1,(FromEvoM!AB288*12),IF(FromEvoM!W288=7,(FromEvoM!AR288),\"\"))","v":""},null,null,{"$f":"IF(ISBLANK(FromEvoM!A288),\"\",IF(FromEvoM!AK288=\"y\",\"Y\",\"N\"))","v":""},{"$f":"IF(ISBLANK(FromEvoM!A288),\"\",Category_ID)","v":""},null,null,null,{"$f":"IF(ISBLANK(FromEvoM!AK288),\"\",FromEvoM!AK288)","v":""},{"$f":"IF(ISBLANK(FromEvoM!AM288),\"\",FromEvoM!AM288)","v":""},{"$f":"IF(ISBLANK(FromEvoM!AN288),\"\",FromEvoM!AN288)","v":""},{"$f":"IF(ISBLANK(FromEvoM!AL288),\"\",FromEvoM!AL288)","v":""},{"$f":"IF(ISBLANK(FromEvoM!A288),\"\",IF(AND(AF288=\"y\",AI288=1),\"Y\",\"N\"))","v":""},{"$f":"IF(ISBLANK(FromEvoM!A288),\"\",IF(FromEvoM!AS288=\"Yes\",2,1))","v":""},{"$f":"IF(FromEvoM!W288=1,\"M\",IF(FromEvoM!W288=7,\"W\",\"\"))","v":""},{"$f":"IF(AJ288=\"Y\",0,IF(AJ288=\"N\",FromEvoM!AF288+FromEvoM!AT288,\"\"))","v":""},{"$f":"IF(AJ288=\"Y\",(FromEvoM!AE288+FromEvoM!AF288-FromEvoM!AT288),IF(AJ288=\"N\",FromEvoM!AE288,\"\"))","v":""}]
[{"$f":"IF(ISBLANK(FromEvoM!A289),\"\",Group_Code)","v":""},{"$f":"IF(ISBLANK(FromEvoM!A289),\"\",SUBSTITUTE(FromEvoM!A289,\" \",\"\"))","v":""},{"$f":"IF(ISBLANK(FromEvoM!C289),\"\",SUBSTITUTE(FromEvoM!G289,\" \",\"\"))","v":""},{"$f":"IF(ISBLANK(FromEvoM!D289),\"\",FromEvoM!B289)","v":""},{"$f":"IF(ISBLANK(FromEvoM!D289),\"\",FromEvoM!D289)","v":""},{"$f":"IF(ISBLANK(FromEvoM!C289),\"\",FromEvoM!C289)","v":""},{"$f":"REPLACE(FromEvoM!F289,2,6, )","v":""},{"$f":"IF(ISNUMBER(FromEvoM!E289),FromEvoM!E289,\"\")","v":""},{"$f":"IF(ISBLANK(FromEvoM!I289),\"\",FromEvoM!I289)","v":""},{"$f":"IF(ISBLANK(FromEvoM!J289),\"\",FromEvoM!J289)","v":""},{"$f":"IF(ISBLANK(FromEvoM!K289),\"\",FromEvoM!K289)","v":""},{"$f":"IF(ISBLANK(FromEvoM!L289),\"\",FromEvoM!L289)","v":""},{"$f":"IF(ISBLANK(FromEvoM!M289),\"\",FromEvoM!M289)","v":""},{"$f":"IF(ISBLANK(FromEvoM!P289),\"\",FromEvoM!P289)","v":""},null,{"$f":"IF(ISNUMBER(FromEvoM!X289),FromEvoM!X289,\"\")","v":""},{"$f":"IF(ISNUMBER(FromEvoM!AB289),FromEvoM!AB289,\"\")","v":""},{"$f":"IF(ISNUMBER(FromEvoM!AA289),FromEvoM!AA289,\"\")","v":""},null,"","",null,null,{"$f":"IF(FromEvoM!W289=1,(FromEvoM!AB289*12),IF(FromEvoM!W289=7,(FromEvoM!AR289),\"\"))","v":""},null,null,{"$f":"IF(ISBLANK(FromEvoM!A289),\"\",IF(FromEvoM!AK289=\"y\",\"Y\",\"N\"))","v":""},{"$f":"IF(ISBLANK(FromEvoM!A289),\"\",Category_ID)","v":""},null,null,null,{"$f":"IF(ISBLANK(FromEvoM!AK289),\"\",FromEvoM!AK289)","v":""},{"$f":"IF(ISBLANK(FromEvoM!AM289),\"\",FromEvoM!AM289)","v":""},{"$f":"IF(ISBLANK(FromEvoM!AN289),\"\",FromEvoM!AN289)","v":""},{"$f":"IF(ISBLANK(FromEvoM!AL289),\"\",FromEvoM!AL289)","v":""},{"$f":"IF(ISBLANK(FromEvoM!A289),\"\",IF(AND(AF289=\"y\",AI289=1),\"Y\",\"N\"))","v":""},{"$f":"IF(ISBLANK(FromEvoM!A289),\"\",IF(FromEvoM!AS289=\"Yes\",2,1))","v":""},{"$f":"IF(FromEvoM!W289=1,\"M\",IF(FromEvoM!W289=7,\"W\",\"\"))","v":""},{"$f":"IF(AJ289=\"Y\",0,IF(AJ289=\"N\",FromEvoM!AF289+FromEvoM!AT289,\"\"))","v":""},{"$f":"IF(AJ289=\"Y\",(FromEvoM!AE289+FromEvoM!AF289-FromEvoM!AT289),IF(AJ289=\"N\",FromEvoM!AE289,\"\"))","v":""}]
[{"$f":"IF(ISBLANK(FromEvoM!A290),\"\",Group_Code)","v":""},{"$f":"IF(ISBLANK(FromEvoM!A290),\"\",SUBSTITUTE(FromEvoM!A290,\" \",\"\"))","v":""},{"$f":"IF(ISBLANK(FromEvoM!C290),\"\",SUBSTITUTE(FromEvoM!G290,\" \",\"\"))","v":""},{"$f":"IF(ISBLANK(FromEvoM!D290),\"\",FromEvoM!B290)","v":""},{"$f":"IF(ISBLANK(FromEvoM!D290),\"\",FromEvoM!D290)","v":""},{"$f":"IF(ISBLANK(FromEvoM!C290),\"\",FromEvoM!C290)","v":""},{"$f":"REPLACE(FromEvoM!F290,2,6, )","v":""},{"$f":"IF(ISNUMBER(FromEvoM!E290),FromEvoM!E290,\"\")","v":""},{"$f":"IF(ISBLANK(FromEvoM!I290),\"\",FromEvoM!I290)","v":""},{"$f":"IF(ISBLANK(FromEvoM!J290),\"\",FromEvoM!J290)","v":""},{"$f":"IF(ISBLANK(FromEvoM!K290),\"\",FromEvoM!K290)","v":""},{"$f":"IF(ISBLANK(FromEvoM!L290),\"\",FromEvoM!L290)","v":""},{"$f":"IF(ISBLANK(FromEvoM!M290),\"\",FromEvoM!M290)","v":""},{"$f":"IF(ISBLANK(FromEvoM!P290),\"\",FromEvoM!P290)","v":""},null,{"$f":"IF(ISNUMBER(FromEvoM!X290),FromEvoM!X290,\"\")","v":""},{"$f":"IF(ISNUMBER(FromEvoM!AB290),FromEvoM!AB290,\"\")","v":""},{"$f":"IF(ISNUMBER(FromEvoM!AA290),FromEvoM!AA290,\"\")","v":""},null,"","",null,null,{"$f":"IF(FromEvoM!W290=1,(FromEvoM!AB290*12),IF(FromEvoM!W290=7,(FromEvoM!AR290),\"\"))","v":""},null,null,{"$f":"IF(ISBLANK(FromEvoM!A290),\"\",IF(FromEvoM!AK290=\"y\",\"Y\",\"N\"))","v":""},{"$f":"IF(ISBLANK(FromEvoM!A290),\"\",Category_ID)","v":""},null,null,null,{"$f":"IF(ISBLANK(FromEvoM!AK290),\"\",FromEvoM!AK290)","v":""},{"$f":"IF(ISBLANK(FromEvoM!AM290),\"\",FromEvoM!AM290)","v":""},{"$f":"IF(ISBLANK(FromEvoM!AN290),\"\",FromEvoM!AN290)","v":""},{"$f":"IF(ISBLANK(FromEvoM!AL290),\"\",FromEvoM!AL290)","v":""},{"$f":"IF(ISBLANK(FromEvoM!A290),\"\",IF(AND(AF290=\"y\",AI290=1),\"Y\",\"N\"))","v":""},{"$f":"IF(ISBLANK(FromEvoM!A290),\"\",IF(FromEvoM!AS290=\"Yes\",2,1))","v":""},{"$f":"IF(FromEvoM!W290=1,\"M\",IF(FromEvoM!W290=7,\"W\",\"\"))","v":""},{"$f":"IF(AJ290=\"Y\",0,IF(AJ290=\"N\",FromEvoM!AF290+FromEvoM!AT290,\"\"))","v":""},{"$f":"IF(AJ290=\"Y\",(FromEvoM!AE290+FromEvoM!AF290-FromEvoM!AT290),IF(AJ290=\"N\",FromEvoM!AE290,\"\"))","v":""}]
[{"$f":"IF(ISBLANK(FromEvoM!A291),\"\",Group_Code)","v":""},{"$f":"IF(ISBLANK(FromEvoM!A291),\"\",SUBSTITUTE(FromEvoM!A291,\" \",\"\"))","v":""},{"$f":"IF(ISBLANK(FromEvoM!C291),\"\",SUBSTITUTE(FromEvoM!G291,\" \",\"\"))","v":""},{"$f":"IF(ISBLANK(FromEvoM!D291),\"\",FromEvoM!B291)","v":""},{"$f":"IF(ISBLANK(FromEvoM!D291),\"\",FromEvoM!D291)","v":""},{"$f":"IF(ISBLANK(FromEvoM!C291),\"\",FromEvoM!C291)","v":""},{"$f":"REPLACE(FromEvoM!F291,2,6, )","v":""},{"$f":"IF(ISNUMBER(FromEvoM!E291),FromEvoM!E291,\"\")","v":""},{"$f":"IF(ISBLANK(FromEvoM!I291),\"\",FromEvoM!I291)","v":""},{"$f":"IF(ISBLANK(FromEvoM!J291),\"\",FromEvoM!J291)","v":""},{"$f":"IF(ISBLANK(FromEvoM!K291),\"\",FromEvoM!K291)","v":""},{"$f":"IF(ISBLANK(FromEvoM!L291),\"\",FromEvoM!L291)","v":""},{"$f":"IF(ISBLANK(FromEvoM!M291),\"\",FromEvoM!M291)","v":""},{"$f":"IF(ISBLANK(FromEvoM!P291),\"\",FromEvoM!P291)","v":""},null,{"$f":"IF(ISNUMBER(FromEvoM!X291),FromEvoM!X291,\"\")","v":""},{"$f":"IF(ISNUMBER(FromEvoM!AB291),FromEvoM!AB291,\"\")","v":""},{"$f":"IF(ISNUMBER(FromEvoM!AA291),FromEvoM!AA291,\"\")","v":""},null,"","",null,null,{"$f":"IF(FromEvoM!W291=1,(FromEvoM!AB291*12),IF(FromEvoM!W291=7,(FromEvoM!AR291),\"\"))","v":""},null,null,{"$f":"IF(ISBLANK(FromEvoM!A291),\"\",IF(FromEvoM!AK291=\"y\",\"Y\",\"N\"))","v":""},{"$f":"IF(ISBLANK(FromEvoM!A291),\"\",Category_ID)","v":""},null,null,null,{"$f":"IF(ISBLANK(FromEvoM!AK291),\"\",FromEvoM!AK291)","v":""},{"$f":"IF(ISBLANK(FromEvoM!AM291),\"\",FromEvoM!AM291)","v":""},{"$f":"IF(ISBLANK(FromEvoM!AN291),\"\",FromEvoM!AN291)","v":""},{"$f":"IF(ISBLANK(FromEvoM!AL291),\"\",FromEvoM!AL291)","v":""},{"$f":"IF(ISBLANK(FromEvoM!A291),\"\",IF(AND(AF291=\"y\",AI291=1),\"Y\",\"N\"))","v":""},{"$f":"IF(ISBLANK(FromEvoM!A291),\"\",IF(FromEvoM!AS291=\"Yes\",2,1))","v":""},{"$f":"IF(FromEvoM!W291=1,\"M\",IF(FromEvoM!W291=7,\"W\",\"\"))","v":""},{"$f":"IF(AJ291=\"Y\",0,IF(AJ291=\"N\",FromEvoM!AF291+FromEvoM!AT291,\"\"))","v":""},{"$f":"IF(AJ291=\"Y\",(FromEvoM!AE291+FromEvoM!AF291-FromEvoM!AT291),IF(AJ291=\"N\",FromEvoM!AE291,\"\"))","v":""}]
[{"$f":"IF(ISBLANK(FromEvoM!A292),\"\",Group_Code)","v":""},{"$f":"IF(ISBLANK(FromEvoM!A292),\"\",SUBSTITUTE(FromEvoM!A292,\" \",\"\"))","v":""},{"$f":"IF(ISBLANK(FromEvoM!C292),\"\",SUBSTITUTE(FromEvoM!G292,\" \",\"\"))","v":""},{"$f":"IF(ISBLANK(FromEvoM!D292),\"\",FromEvoM!B292)","v":""},{"$f":"IF(ISBLANK(FromEvoM!D292),\"\",FromEvoM!D292)","v":""},{"$f":"IF(ISBLANK(FromEvoM!C292),\"\",FromEvoM!C292)","v":""},{"$f":"REPLACE(FromEvoM!F292,2,6, )","v":""},{"$f":"IF(ISNUMBER(FromEvoM!E292),FromEvoM!E292,\"\")","v":""},{"$f":"IF(ISBLANK(FromEvoM!I292),\"\",FromEvoM!I292)","v":""},{"$f":"IF(ISBLANK(FromEvoM!J292),\"\",FromEvoM!J292)","v":""},{"$f":"IF(ISBLANK(FromEvoM!K292),\"\",FromEvoM!K292)","v":""},{"$f":"IF(ISBLANK(FromEvoM!L292),\"\",FromEvoM!L292)","v":""},{"$f":"IF(ISBLANK(FromEvoM!M292),\"\",FromEvoM!M292)","v":""},{"$f":"IF(ISBLANK(FromEvoM!P292),\"\",FromEvoM!P292)","v":""},null,{"$f":"IF(ISNUMBER(FromEvoM!X292),FromEvoM!X292,\"\")","v":""},{"$f":"IF(ISNUMBER(FromEvoM!AB292),FromEvoM!AB292,\"\")","v":""},{"$f":"IF(ISNUMBER(FromEvoM!AA292),FromEvoM!AA292,\"\")","v":""},null,"","",null,null,{"$f":"IF(FromEvoM!W292=1,(FromEvoM!AB292*12),IF(FromEvoM!W292=7,(FromEvoM!AR292),\"\"))","v":""},null,null,{"$f":"IF(ISBLANK(FromEvoM!A292),\"\",IF(FromEvoM!AK292=\"y\",\"Y\",\"N\"))","v":""},{"$f":"IF(ISBLANK(FromEvoM!A292),\"\",Category_ID)","v":""},null,null,null,{"$f":"IF(ISBLANK(FromEvoM!AK292),\"\",FromEvoM!AK292)","v":""},{"$f":"IF(ISBLANK(FromEvoM!AM292),\"\",FromEvoM!AM292)","v":""},{"$f":"IF(ISBLANK(FromEvoM!AN292),\"\",FromEvoM!AN292)","v":""},{"$f":"IF(ISBLANK(FromEvoM!AL292),\"\",FromEvoM!AL292)","v":""},{"$f":"IF(ISBLANK(FromEvoM!A292),\"\",IF(AND(AF292=\"y\",AI292=1),\"Y\",\"N\"))","v":""},{"$f":"IF(ISBLANK(FromEvoM!A292),\"\",IF(FromEvoM!AS292=\"Yes\",2,1))","v":""},{"$f":"IF(FromEvoM!W292=1,\"M\",IF(FromEvoM!W292=7,\"W\",\"\"))","v":""},{"$f":"IF(AJ292=\"Y\",0,IF(AJ292=\"N\",FromEvoM!AF292+FromEvoM!AT292,\"\"))","v":""},{"$f":"IF(AJ292=\"Y\",(FromEvoM!AE292+FromEvoM!AF292-FromEvoM!AT292),IF(AJ292=\"N\",FromEvoM!AE292,\"\"))","v":""}]
[{"$f":"IF(ISBLANK(FromEvoM!A293),\"\",Group_Code)","v":""},{"$f":"IF(ISBLANK(FromEvoM!A293),\"\",SUBSTITUTE(FromEvoM!A293,\" \",\"\"))","v":""},{"$f":"IF(ISBLANK(FromEvoM!C293),\"\",SUBSTITUTE(FromEvoM!G293,\" \",\"\"))","v":""},{"$f":"IF(ISBLANK(FromEvoM!D293),\"\",FromEvoM!B293)","v":""},{"$f":"IF(ISBLANK(FromEvoM!D293),\"\",FromEvoM!D293)","v":""},{"$f":"IF(ISBLANK(FromEvoM!C293),\"\",FromEvoM!C293)","v":""},{"$f":"REPLACE(FromEvoM!F293,2,6, )","v":""},{"$f":"IF(ISNUMBER(FromEvoM!E293),FromEvoM!E293,\"\")","v":""},{"$f":"IF(ISBLANK(FromEvoM!I293),\"\",FromEvoM!I293)","v":""},{"$f":"IF(ISBLANK(FromEvoM!J293),\"\",FromEvoM!J293)","v":""},{"$f":"IF(ISBLANK(FromEvoM!K293),\"\",FromEvoM!K293)","v":""},{"$f":"IF(ISBLANK(FromEvoM!L293),\"\",FromEvoM!L293)","v":""},{"$f":"IF(ISBLANK(FromEvoM!M293),\"\",FromEvoM!M293)","v":""},{"$f":"IF(ISBLANK(FromEvoM!P293),\"\",FromEvoM!P293)","v":""},null,{"$f":"IF(ISNUMBER(FromEvoM!X293),FromEvoM!X293,\"\")","v":""},{"$f":"IF(ISNUMBER(FromEvoM!AB293),FromEvoM!AB293,\"\")","v":""},{"$f":"IF(ISNUMBER(FromEvoM!AA293),FromEvoM!AA293,\"\")","v":""},null,"","",null,null,{"$f":"IF(FromEvoM!W293=1,(FromEvoM!AB293*12),IF(FromEvoM!W293=7,(FromEvoM!AR293),\"\"))","v":""},null,null,{"$f":"IF(ISBLANK(FromEvoM!A293),\"\",IF(FromEvoM!AK293=\"y\",\"Y\",\"N\"))","v":""},{"$f":"IF(ISBLANK(FromEvoM!A293),\"\",Category_ID)","v":""},null,null,null,{"$f":"IF(ISBLANK(FromEvoM!AK293),\"\",FromEvoM!AK293)","v":""},{"$f":"IF(ISBLANK(FromEvoM!AM293),\"\",FromEvoM!AM293)","v":""},{"$f":"IF(ISBLANK(FromEvoM!AN293),\"\",FromEvoM!AN293)","v":""},{"$f":"IF(ISBLANK(FromEvoM!AL293),\"\",FromEvoM!AL293)","v":""},{"$f":"IF(ISBLANK(FromEvoM!A293),\"\",IF(AND(AF293=\"y\",AI293=1),\"Y\",\"N\"))","v":""},{"$f":"IF(ISBLANK(FromEvoM!A293),\"\",IF(FromEvoM!AS293=\"Yes\",2,1))","v":""},{"$f":"IF(FromEvoM!W293=1,\"M\",IF(FromEvoM!W293=7,\"W\",\"\"))","v":""},{"$f":"IF(AJ293=\"Y\",0,IF(AJ293=\"N\",FromEvoM!AF293+FromEvoM!AT293,\"\"))","v":""},{"$f":"IF(AJ293=\"Y\",(FromEvoM!AE293+FromEvoM!AF293-FromEvoM!AT293),IF(AJ293=\"N\",FromEvoM!AE293,\"\"))","v":""}]
[{"$f":"IF(ISBLANK(FromEvoM!A294),\"\",Group_Code)","v":""},{"$f":"IF(ISBLANK(FromEvoM!A294),\"\",SUBSTITUTE(FromEvoM!A294,\" \",\"\"))","v":""},{"$f":"IF(ISBLANK(FromEvoM!C294),\"\",SUBSTITUTE(FromEvoM!G294,\" \",\"\"))","v":""},{"$f":"IF(ISBLANK(FromEvoM!D294),\"\",FromEvoM!B294)","v":""},{"$f":"IF(ISBLANK(FromEvoM!D294),\"\",FromEvoM!D294)","v":""},{"$f":"IF(ISBLANK(FromEvoM!C294),\"\",FromEvoM!C294)","v":""},{"$f":"REPLACE(FromEvoM!F294,2,6, )","v":""},{"$f":"IF(ISNUMBER(FromEvoM!E294),FromEvoM!E294,\"\")","v":""},{"$f":"IF(ISBLANK(FromEvoM!I294),\"\",FromEvoM!I294)","v":""},{"$f":"IF(ISBLANK(FromEvoM!J294),\"\",FromEvoM!J294)","v":""},{"$f":"IF(ISBLANK(FromEvoM!K294),\"\",FromEvoM!K294)","v":""},{"$f":"IF(ISBLANK(FromEvoM!L294),\"\",FromEvoM!L294)","v":""},{"$f":"IF(ISBLANK(FromEvoM!M294),\"\",FromEvoM!M294)","v":""},{"$f":"IF(ISBLANK(FromEvoM!P294),\"\",FromEvoM!P294)","v":""},null,{"$f":"IF(ISNUMBER(FromEvoM!X294),FromEvoM!X294,\"\")","v":""},{"$f":"IF(ISNUMBER(FromEvoM!AB294),FromEvoM!AB294,\"\")","v":""},{"$f":"IF(ISNUMBER(FromEvoM!AA294),FromEvoM!AA294,\"\")","v":""},null,"","",null,null,{"$f":"IF(FromEvoM!W294=1,(FromEvoM!AB294*12),IF(FromEvoM!W294=7,(FromEvoM!AR294),\"\"))","v":""},null,null,{"$f":"IF(ISBLANK(FromEvoM!A294),\"\",IF(FromEvoM!AK294=\"y\",\"Y\",\"N\"))","v":""},{"$f":"IF(ISBLANK(FromEvoM!A294),\"\",Category_ID)","v":""},null,null,null,{"$f":"IF(ISBLANK(FromEvoM!AK294),\"\",FromEvoM!AK294)","v":""},{"$f":"IF(ISBLANK(FromEvoM!AM294),\"\",FromEvoM!AM294)","v":""},{"$f":"IF(ISBLANK(FromEvoM!AN294),\"\",FromEvoM!AN294)","v":""},{"$f":"IF(ISBLANK(FromEvoM!AL294),\"\",FromEvoM!AL294)","v":""},{"$f":"IF(ISBLANK(FromEvoM!A294),\"\",IF(AND(AF294=\"y\",AI294=1),\"Y\",\"N\"))","v":""},{"$f":"IF(ISBLANK(FromEvoM!A294),\"\",IF(FromEvoM!AS294=\"Yes\",2,1))","v":""},{"$f":"IF(FromEvoM!W294=1,\"M\",IF(FromEvoM!W294=7,\"W\",\"\"))","v":""},{"$f":"IF(AJ294=\"Y\",0,IF(AJ294=\"N\",FromEvoM!AF294+FromEvoM!AT294,\"\"))","v":""},{"$f":"IF(AJ294=\"Y\",(FromEvoM!AE294+FromEvoM!AF294-FromEvoM!AT294),IF(AJ294=\"N\",FromEvoM!AE294,\"\"))","v":""}]
[{"$f":"IF(ISBLANK(FromEvoM!A295),\"\",Group_Code)","v":""},{"$f":"IF(ISBLANK(FromEvoM!A295),\"\",SUBSTITUTE(FromEvoM!A295,\" \",\"\"))","v":""},{"$f":"IF(ISBLANK(FromEvoM!C295),\"\",SUBSTITUTE(FromEvoM!G295,\" \",\"\"))","v":""},{"$f":"IF(ISBLANK(FromEvoM!D295),\"\",FromEvoM!B295)","v":""},{"$f":"IF(ISBLANK(FromEvoM!D295),\"\",FromEvoM!D295)","v":""},{"$f":"IF(ISBLANK(FromEvoM!C295),\"\",FromEvoM!C295)","v":""},{"$f":"REPLACE(FromEvoM!F295,2,6, )","v":""},{"$f":"IF(ISNUMBER(FromEvoM!E295),FromEvoM!E295,\"\")","v":""},{"$f":"IF(ISBLANK(FromEvoM!I295),\"\",FromEvoM!I295)","v":""},{"$f":"IF(ISBLANK(FromEvoM!J295),\"\",FromEvoM!J295)","v":""},{"$f":"IF(ISBLANK(FromEvoM!K295),\"\",FromEvoM!K295)","v":""},{"$f":"IF(ISBLANK(FromEvoM!L295),\"\",FromEvoM!L295)","v":""},{"$f":"IF(ISBLANK(FromEvoM!M295),\"\",FromEvoM!M295)","v":""},{"$f":"IF(ISBLANK(FromEvoM!P295),\"\",FromEvoM!P295)","v":""},null,{"$f":"IF(ISNUMBER(FromEvoM!X295),FromEvoM!X295,\"\")","v":""},{"$f":"IF(ISNUMBER(FromEvoM!AB295),FromEvoM!AB295,\"\")","v":""},{"$f":"IF(ISNUMBER(FromEvoM!AA295),FromEvoM!AA295,\"\")","v":""},null,"","",null,null,{"$f":"IF(FromEvoM!W295=1,(FromEvoM!AB295*12),IF(FromEvoM!W295=7,(FromEvoM!AR295),\"\"))","v":""},null,null,{"$f":"IF(ISBLANK(FromEvoM!A295),\"\",IF(FromEvoM!AK295=\"y\",\"Y\",\"N\"))","v":""},{"$f":"IF(ISBLANK(FromEvoM!A295),\"\",Category_ID)","v":""},null,null,null,{"$f":"IF(ISBLANK(FromEvoM!AK295),\"\",FromEvoM!AK295)","v":""},{"$f":"IF(ISBLANK(FromEvoM!AM295),\"\",FromEvoM!AM295)","v":""},{"$f":"IF(ISBLANK(FromEvoM!AN295),\"\",FromEvoM!AN295)","v":""},{"$f":"IF(ISBLANK(FromEvoM!AL295),\"\",FromEvoM!AL295)","v":""},{"$f":"IF(ISBLANK(FromEvoM!A295),\"\",IF(AND(AF295=\"y\",AI295=1),\"Y\",\"N\"))","v":""},{"$f":"IF(ISBLANK(FromEvoM!A295),\"\",IF(FromEvoM!AS295=\"Yes\",2,1))","v":""},{"$f":"IF(FromEvoM!W295=1,\"M\",IF(FromEvoM!W295=7,\"W\",\"\"))","v":""},{"$f":"IF(AJ295=\"Y\",0,IF(AJ295=\"N\",FromEvoM!AF295+FromEvoM!AT295,\"\"))","v":""},{"$f":"IF(AJ295=\"Y\",(FromEvoM!AE295+FromEvoM!AF295-FromEvoM!AT295),IF(AJ295=\"N\",FromEvoM!AE295,\"\"))","v":""}]
[{"$f":"IF(ISBLANK(FromEvoM!A296),\"\",Group_Code)","v":""},{"$f":"IF(ISBLANK(FromEvoM!A296),\"\",SUBSTITUTE(FromEvoM!A296,\" \",\"\"))","v":""},{"$f":"IF(ISBLANK(FromEvoM!C296),\"\",SUBSTITUTE(FromEvoM!G296,\" \",\"\"))","v":""},{"$f":"IF(ISBLANK(FromEvoM!D296),\"\",FromEvoM!B296)","v":""},{"$f":"IF(ISBLANK(FromEvoM!D296),\"\",FromEvoM!D296)","v":""},{"$f":"IF(ISBLANK(FromEvoM!C296),\"\",FromEvoM!C296)","v":""},{"$f":"REPLACE(FromEvoM!F296,2,6, )","v":""},{"$f":"IF(ISNUMBER(FromEvoM!E296),FromEvoM!E296,\"\")","v":""},{"$f":"IF(ISBLANK(FromEvoM!I296),\"\",FromEvoM!I296)","v":""},{"$f":"IF(ISBLANK(FromEvoM!J296),\"\",FromEvoM!J296)","v":""},{"$f":"IF(ISBLANK(FromEvoM!K296),\"\",FromEvoM!K296)","v":""},{"$f":"IF(ISBLANK(FromEvoM!L296),\"\",FromEvoM!L296)","v":""},{"$f":"IF(ISBLANK(FromEvoM!M296),\"\",FromEvoM!M296)","v":""},{"$f":"IF(ISBLANK(FromEvoM!P296),\"\",FromEvoM!P296)","v":""},null,{"$f":"IF(ISNUMBER(FromEvoM!X296),FromEvoM!X296,\"\")","v":""},{"$f":"IF(ISNUMBER(FromEvoM!AB296),FromEvoM!AB296,\"\")","v":""},{"$f":"IF(ISNUMBER(FromEvoM!AA296),FromEvoM!AA296,\"\")","v":""},null,"","",null,null,{"$f":"IF(FromEvoM!W296=1,(FromEvoM!AB296*12),IF(FromEvoM!W296=7,(FromEvoM!AR296),\"\"))","v":""},null,null,{"$f":"IF(ISBLANK(FromEvoM!A296),\"\",IF(FromEvoM!AK296=\"y\",\"Y\",\"N\"))","v":""},{"$f":"IF(ISBLANK(FromEvoM!A296),\"\",Category_ID)","v":""},null,null,null,{"$f":"IF(ISBLANK(FromEvoM!AK296),\"\",FromEvoM!AK296)","v":""},{"$f":"IF(ISBLANK(FromEvoM!AM296),\"\",FromEvoM!AM296)","v":""},{"$f":"IF(ISBLANK(FromEvoM!AN296),\"\",FromEvoM!AN296)","v":""},{"$f":"IF(ISBLANK(FromEvoM!AL296),\"\",FromEvoM!AL296)","v":""},{"$f":"IF(ISBLANK(FromEvoM!A296),\"\",IF(AND(AF296=\"y\",AI296=1),\"Y\",\"N\"))","v":""},{"$f":"IF(ISBLANK(FromEvoM!A296),\"\",IF(FromEvoM!AS296=\"Yes\",2,1))","v":""},{"$f":"IF(FromEvoM!W296=1,\"M\",IF(FromEvoM!W296=7,\"W\",\"\"))","v":""},{"$f":"IF(AJ296=\"Y\",0,IF(AJ296=\"N\",FromEvoM!AF296+FromEvoM!AT296,\"\"))","v":""},{"$f":"IF(AJ296=\"Y\",(FromEvoM!AE296+FromEvoM!AF296-FromEvoM!AT296),IF(AJ296=\"N\",FromEvoM!AE296,\"\"))","v":""}]
[{"$f":"IF(ISBLANK(FromEvoM!A297),\"\",Group_Code)","v":""},{"$f":"IF(ISBLANK(FromEvoM!A297),\"\",SUBSTITUTE(FromEvoM!A297,\" \",\"\"))","v":""},{"$f":"IF(ISBLANK(FromEvoM!C297),\"\",SUBSTITUTE(FromEvoM!G297,\" \",\"\"))","v":""},{"$f":"IF(ISBLANK(FromEvoM!D297),\"\",FromEvoM!B297)","v":""},{"$f":"IF(ISBLANK(FromEvoM!D297),\"\",FromEvoM!D297)","v":""},{"$f":"IF(ISBLANK(FromEvoM!C297),\"\",FromEvoM!C297)","v":""},{"$f":"REPLACE(FromEvoM!F297,2,6, )","v":""},{"$f":"IF(ISNUMBER(FromEvoM!E297),FromEvoM!E297,\"\")","v":""},{"$f":"IF(ISBLANK(FromEvoM!I297),\"\",FromEvoM!I297)","v":""},{"$f":"IF(ISBLANK(FromEvoM!J297),\"\",FromEvoM!J297)","v":""},{"$f":"IF(ISBLANK(FromEvoM!K297),\"\",FromEvoM!K297)","v":""},{"$f":"IF(ISBLANK(FromEvoM!L297),\"\",FromEvoM!L297)","v":""},{"$f":"IF(ISBLANK(FromEvoM!M297),\"\",FromEvoM!M297)","v":""},{"$f":"IF(ISBLANK(FromEvoM!P297),\"\",FromEvoM!P297)","v":""},null,{"$f":"IF(ISNUMBER(FromEvoM!X297),FromEvoM!X297,\"\")","v":""},{"$f":"IF(ISNUMBER(FromEvoM!AB297),FromEvoM!AB297,\"\")","v":""},{"$f":"IF(ISNUMBER(FromEvoM!AA297),FromEvoM!AA297,\"\")","v":""},null,"","",null,null,{"$f":"IF(FromEvoM!W297=1,(FromEvoM!AB297*12),IF(FromEvoM!W297=7,(FromEvoM!AR297),\"\"))","v":""},null,null,{"$f":"IF(ISBLANK(FromEvoM!A297),\"\",IF(FromEvoM!AK297=\"y\",\"Y\",\"N\"))","v":""},{"$f":"IF(ISBLANK(FromEvoM!A297),\"\",Category_ID)","v":""},null,null,null,{"$f":"IF(ISBLANK(FromEvoM!AK297),\"\",FromEvoM!AK297)","v":""},{"$f":"IF(ISBLANK(FromEvoM!AM297),\"\",FromEvoM!AM297)","v":""},{"$f":"IF(ISBLANK(FromEvoM!AN297),\"\",FromEvoM!AN297)","v":""},{"$f":"IF(ISBLANK(FromEvoM!AL297),\"\",FromEvoM!AL297)","v":""},{"$f":"IF(ISBLANK(FromEvoM!A297),\"\",IF(AND(AF297=\"y\",AI297=1),\"Y\",\"N\"))","v":""},{"$f":"IF(ISBLANK(FromEvoM!A297),\"\",IF(FromEvoM!AS297=\"Yes\",2,1))","v":""},{"$f":"IF(FromEvoM!W297=1,\"M\",IF(FromEvoM!W297=7,\"W\",\"\"))","v":""},{"$f":"IF(AJ297=\"Y\",0,IF(AJ297=\"N\",FromEvoM!AF297+FromEvoM!AT297,\"\"))","v":""},{"$f":"IF(AJ297=\"Y\",(FromEvoM!AE297+FromEvoM!AF297-FromEvoM!AT297),IF(AJ297=\"N\",FromEvoM!AE297,\"\"))","v":""}]
[{"$f":"IF(ISBLANK(FromEvoM!A298),\"\",Group_Code)","v":""},{"$f":"IF(ISBLANK(FromEvoM!A298),\"\",SUBSTITUTE(FromEvoM!A298,\" \",\"\"))","v":""},{"$f":"IF(ISBLANK(FromEvoM!C298),\"\",SUBSTITUTE(FromEvoM!G298,\" \",\"\"))","v":""},{"$f":"IF(ISBLANK(FromEvoM!D298),\"\",FromEvoM!B298)","v":""},{"$f":"IF(ISBLANK(FromEvoM!D298),\"\",FromEvoM!D298)","v":""},{"$f":"IF(ISBLANK(FromEvoM!C298),\"\",FromEvoM!C298)","v":""},{"$f":"REPLACE(FromEvoM!F298,2,6, )","v":""},{"$f":"IF(ISNUMBER(FromEvoM!E298),FromEvoM!E298,\"\")","v":""},{"$f":"IF(ISBLANK(FromEvoM!I298),\"\",FromEvoM!I298)","v":""},{"$f":"IF(ISBLANK(FromEvoM!J298),\"\",FromEvoM!J298)","v":""},{"$f":"IF(ISBLANK(FromEvoM!K298),\"\",FromEvoM!K298)","v":""},{"$f":"IF(ISBLANK(FromEvoM!L298),\"\",FromEvoM!L298)","v":""},{"$f":"IF(ISBLANK(FromEvoM!M298),\"\",FromEvoM!M298)","v":""},{"$f":"IF(ISBLANK(FromEvoM!P298),\"\",FromEvoM!P298)","v":""},null,{"$f":"IF(ISNUMBER(FromEvoM!X298),FromEvoM!X298,\"\")","v":""},{"$f":"IF(ISNUMBER(FromEvoM!AB298),FromEvoM!AB298,\"\")","v":""},{"$f":"IF(ISNUMBER(FromEvoM!AA298),FromEvoM!AA298,\"\")","v":""},null,"","",null,null,{"$f":"IF(FromEvoM!W298=1,(FromEvoM!AB298*12),IF(FromEvoM!W298=7,(FromEvoM!AR298),\"\"))","v":""},null,null,{"$f":"IF(ISBLANK(FromEvoM!A298),\"\",IF(FromEvoM!AK298=\"y\",\"Y\",\"N\"))","v":""},{"$f":"IF(ISBLANK(FromEvoM!A298),\"\",Category_ID)","v":""},null,null,null,{"$f":"IF(ISBLANK(FromEvoM!AK298),\"\",FromEvoM!AK298)","v":""},{"$f":"IF(ISBLANK(FromEvoM!AM298),\"\",FromEvoM!AM298)","v":""},{"$f":"IF(ISBLANK(FromEvoM!AN298),\"\",FromEvoM!AN298)","v":""},{"$f":"IF(ISBLANK(FromEvoM!AL298),\"\",FromEvoM!AL298)","v":""},{"$f":"IF(ISBLANK(FromEvoM!A298),\"\",IF(AND(AF298=\"y\",AI298=1),\"Y\",\"N\"))","v":""},{"$f":"IF(ISBLANK(FromEvoM!A298),\"\",IF(FromEvoM!AS298=\"Yes\",2,1))","v":""},{"$f":"IF(FromEvoM!W298=1,\"M\",IF(FromEvoM!W298=7,\"W\",\"\"))","v":""},{"$f":"IF(AJ298=\"Y\",0,IF(AJ298=\"N\",FromEvoM!AF298+FromEvoM!AT298,\"\"))","v":""},{"$f":"IF(AJ298=\"Y\",(FromEvoM!AE298+FromEvoM!AF298-FromEvoM!AT298),IF(AJ298=\"N\",FromEvoM!AE298,\"\"))","v":""}]
[{"$f":"IF(ISBLANK(FromEvoM!A299),\"\",Group_Code)","v":""},{"$f":"IF(ISBLANK(FromEvoM!A299),\"\",SUBSTITUTE(FromEvoM!A299,\" \",\"\"))","v":""},{"$f":"IF(ISBLANK(FromEvoM!C299),\"\",SUBSTITUTE(FromEvoM!G299,\" \",\"\"))","v":""},{"$f":"IF(ISBLANK(FromEvoM!D299),\"\",FromEvoM!B299)","v":""},{"$f":"IF(ISBLANK(FromEvoM!D299),\"\",FromEvoM!D299)","v":""},{"$f":"IF(ISBLANK(FromEvoM!C299),\"\",FromEvoM!C299)","v":""},{"$f":"REPLACE(FromEvoM!F299,2,6, )","v":""},{"$f":"IF(ISNUMBER(FromEvoM!E299),FromEvoM!E299,\"\")","v":""},{"$f":"IF(ISBLANK(FromEvoM!I299),\"\",FromEvoM!I299)","v":""},{"$f":"IF(ISBLANK(FromEvoM!J299),\"\",FromEvoM!J299)","v":""},{"$f":"IF(ISBLANK(FromEvoM!K299),\"\",FromEvoM!K299)","v":""},{"$f":"IF(ISBLANK(FromEvoM!L299),\"\",FromEvoM!L299)","v":""},{"$f":"IF(ISBLANK(FromEvoM!M299),\"\",FromEvoM!M299)","v":""},{"$f":"IF(ISBLANK(FromEvoM!P299),\"\",FromEvoM!P299)","v":""},null,{"$f":"IF(ISNUMBER(FromEvoM!X299),FromEvoM!X299,\"\")","v":""},{"$f":"IF(ISNUMBER(FromEvoM!AB299),FromEvoM!AB299,\"\")","v":""},{"$f":"IF(ISNUMBER(FromEvoM!AA299),FromEvoM!AA299,\"\")","v":""},null,"","",null,null,{"$f":"IF(FromEvoM!W299=1,(FromEvoM!AB299*12),IF(FromEvoM!W299=7,(FromEvoM!AR299),\"\"))","v":""},null,null,{"$f":"IF(ISBLANK(FromEvoM!A299),\"\",IF(FromEvoM!AK299=\"y\",\"Y\",\"N\"))","v":""},{"$f":"IF(ISBLANK(FromEvoM!A299),\"\",Category_ID)","v":""},null,null,null,{"$f":"IF(ISBLANK(FromEvoM!AK299),\"\",FromEvoM!AK299)","v":""},{"$f":"IF(ISBLANK(FromEvoM!AM299),\"\",FromEvoM!AM299)","v":""},{"$f":"IF(ISBLANK(FromEvoM!AN299),\"\",FromEvoM!AN299)","v":""},{"$f":"IF(ISBLANK(FromEvoM!AL299),\"\",FromEvoM!AL299)","v":""},{"$f":"IF(ISBLANK(FromEvoM!A299),\"\",IF(AND(AF299=\"y\",AI299=1),\"Y\",\"N\"))","v":""},{"$f":"IF(ISBLANK(FromEvoM!A299),\"\",IF(FromEvoM!AS299=\"Yes\",2,1))","v":""},{"$f":"IF(FromEvoM!W299=1,\"M\",IF(FromEvoM!W299=7,\"W\",\"\"))","v":""},{"$f":"IF(AJ299=\"Y\",0,IF(AJ299=\"N\",FromEvoM!AF299+FromEvoM!AT299,\"\"))","v":""},{"$f":"IF(AJ299=\"Y\",(FromEvoM!AE299+FromEvoM!AF299-FromEvoM!AT299),IF(AJ299=\"N\",FromEvoM!AE299,\"\"))","v":""}]
[{"$f":"IF(ISBLANK(FromEvoM!A300),\"\",Group_Code)","v":""},{"$f":"IF(ISBLANK(FromEvoM!A300),\"\",SUBSTITUTE(FromEvoM!A300,\" \",\"\"))","v":""},{"$f":"IF(ISBLANK(FromEvoM!C300),\"\",SUBSTITUTE(FromEvoM!G300,\" \",\"\"))","v":""},{"$f":"IF(ISBLANK(FromEvoM!D300),\"\",FromEvoM!B300)","v":""},{"$f":"IF(ISBLANK(FromEvoM!D300),\"\",FromEvoM!D300)","v":""},{"$f":"IF(ISBLANK(FromEvoM!C300),\"\",FromEvoM!C300)","v":""},{"$f":"REPLACE(FromEvoM!F300,2,6, )","v":""},{"$f":"IF(ISNUMBER(FromEvoM!E300),FromEvoM!E300,\"\")","v":""},{"$f":"IF(ISBLANK(FromEvoM!I300),\"\",FromEvoM!I300)","v":""},{"$f":"IF(ISBLANK(FromEvoM!J300),\"\",FromEvoM!J300)","v":""},{"$f":"IF(ISBLANK(FromEvoM!K300),\"\",FromEvoM!K300)","v":""},{"$f":"IF(ISBLANK(FromEvoM!L300),\"\",FromEvoM!L300)","v":""},{"$f":"IF(ISBLANK(FromEvoM!M300),\"\",FromEvoM!M300)","v":""},{"$f":"IF(ISBLANK(FromEvoM!P300),\"\",FromEvoM!P300)","v":""},null,{"$f":"IF(ISNUMBER(FromEvoM!X300),FromEvoM!X300,\"\")","v":""},{"$f":"IF(ISNUMBER(FromEvoM!AB300),FromEvoM!AB300,\"\")","v":""},{"$f":"IF(ISNUMBER(FromEvoM!AA300),FromEvoM!AA300,\"\")","v":""},null,"","",null,null,{"$f":"IF(FromEvoM!W300=1,(FromEvoM!AB300*12),IF(FromEvoM!W300=7,(FromEvoM!AR300),\"\"))","v":""},null,null,{"$f":"IF(ISBLANK(FromEvoM!A300),\"\",IF(FromEvoM!AK300=\"y\",\"Y\",\"N\"))","v":""},{"$f":"IF(ISBLANK(FromEvoM!A300),\"\",Category_ID)","v":""},null,null,null,{"$f":"IF(ISBLANK(FromEvoM!AK300),\"\",FromEvoM!AK300)","v":""},{"$f":"IF(ISBLANK(FromEvoM!AM300),\"\",FromEvoM!AM300)","v":""},{"$f":"IF(ISBLANK(FromEvoM!AN300),\"\",FromEvoM!AN300)","v":""},{"$f":"IF(ISBLANK(FromEvoM!AL300),\"\",FromEvoM!AL300)","v":""},{"$f":"IF(ISBLANK(FromEvoM!A300),\"\",IF(AND(AF300=\"y\",AI300=1),\"Y\",\"N\"))","v":""},{"$f":"IF(ISBLANK(FromEvoM!A300),\"\",IF(FromEvoM!AS300=\"Yes\",2,1))","v":""},{"$f":"IF(FromEvoM!W300=1,\"M\",IF(FromEvoM!W300=7,\"W\",\"\"))","v":""},{"$f":"IF(AJ300=\"Y\",0,IF(AJ300=\"N\",FromEvoM!AF300+FromEvoM!AT300,\"\"))","v":""},{"$f":"IF(AJ300=\"Y\",(FromEvoM!AE300+FromEvoM!AF300-FromEvoM!AT300),IF(AJ300=\"N\",FromEvoM!AE300,\"\"))","v":""}]
[{"$f":"IF(ISBLANK(FromEvoM!A301),\"\",Group_Code)","v":""},{"$f":"IF(ISBLANK(FromEvoM!A301),\"\",SUBSTITUTE(FromEvoM!A301,\" \",\"\"))","v":""},{"$f":"IF(ISBLANK(FromEvoM!C301),\"\",SUBSTITUTE(FromEvoM!G301,\" \",\"\"))","v":""},{"$f":"IF(ISBLANK(FromEvoM!D301),\"\",FromEvoM!B301)","v":""},{"$f":"IF(ISBLANK(FromEvoM!D301),\"\",FromEvoM!D301)","v":""},{"$f":"IF(ISBLANK(FromEvoM!C301),\"\",FromEvoM!C301)","v":""},{"$f":"REPLACE(FromEvoM!F301,2,6, )","v":""},{"$f":"IF(ISNUMBER(FromEvoM!E301),FromEvoM!E301,\"\")","v":""},{"$f":"IF(ISBLANK(FromEvoM!I301),\"\",FromEvoM!I301)","v":""},{"$f":"IF(ISBLANK(FromEvoM!J301),\"\",FromEvoM!J301)","v":""},{"$f":"IF(ISBLANK(FromEvoM!K301),\"\",FromEvoM!K301)","v":""},{"$f":"IF(ISBLANK(FromEvoM!L301),\"\",FromEvoM!L301)","v":""},{"$f":"IF(ISBLANK(FromEvoM!M301),\"\",FromEvoM!M301)","v":""},{"$f":"IF(ISBLANK(FromEvoM!P301),\"\",FromEvoM!P301)","v":""},null,{"$f":"IF(ISNUMBER(FromEvoM!X301),FromEvoM!X301,\"\")","v":""},{"$f":"IF(ISNUMBER(FromEvoM!AB301),FromEvoM!AB301,\"\")","v":""},{"$f":"IF(ISNUMBER(FromEvoM!AA301),FromEvoM!AA301,\"\")","v":""},null,"","",null,null,{"$f":"IF(FromEvoM!W301=1,(FromEvoM!AB301*12),IF(FromEvoM!W301=7,(FromEvoM!AR301),\"\"))","v":""},null,null,{"$f":"IF(ISBLANK(FromEvoM!A301),\"\",IF(FromEvoM!AK301=\"y\",\"Y\",\"N\"))","v":""},{"$f":"IF(ISBLANK(FromEvoM!A301),\"\",Category_ID)","v":""},null,null,null,{"$f":"IF(ISBLANK(FromEvoM!AK301),\"\",FromEvoM!AK301)","v":""},{"$f":"IF(ISBLANK(FromEvoM!AM301),\"\",FromEvoM!AM301)","v":""},{"$f":"IF(ISBLANK(FromEvoM!AN301),\"\",FromEvoM!AN301)","v":""},{"$f":"IF(ISBLANK(FromEvoM!AL301),\"\",FromEvoM!AL301)","v":""},{"$f":"IF(ISBLANK(FromEvoM!A301),\"\",IF(AND(AF301=\"y\",AI301=1),\"Y\",\"N\"))","v":""},{"$f":"IF(ISBLANK(FromEvoM!A301),\"\",IF(FromEvoM!AS301=\"Yes\",2,1))","v":""},{"$f":"IF(FromEvoM!W301=1,\"M\",IF(FromEvoM!W301=7,\"W\",\"\"))","v":""},{"$f":"IF(AJ301=\"Y\",0,IF(AJ301=\"N\",FromEvoM!AF301+FromEvoM!AT301,\"\"))","v":""},{"$f":"IF(AJ301=\"Y\",(FromEvoM!AE301+FromEvoM!AF301-FromEvoM!AT301),IF(AJ301=\"N\",FromEvoM!AE301,\"\"))","v":""}]
[{"$f":"IF(ISBLANK(FromEvoM!A302),\"\",Group_Code)","v":""},{"$f":"IF(ISBLANK(FromEvoM!A302),\"\",SUBSTITUTE(FromEvoM!A302,\" \",\"\"))","v":""},{"$f":"IF(ISBLANK(FromEvoM!C302),\"\",SUBSTITUTE(FromEvoM!G302,\" \",\"\"))","v":""},{"$f":"IF(ISBLANK(FromEvoM!D302),\"\",FromEvoM!B302)","v":""},{"$f":"IF(ISBLANK(FromEvoM!D302),\"\",FromEvoM!D302)","v":""},{"$f":"IF(ISBLANK(FromEvoM!C302),\"\",FromEvoM!C302)","v":""},{"$f":"REPLACE(FromEvoM!F302,2,6, )","v":""},{"$f":"IF(ISNUMBER(FromEvoM!E302),FromEvoM!E302,\"\")","v":""},{"$f":"IF(ISBLANK(FromEvoM!I302),\"\",FromEvoM!I302)","v":""},{"$f":"IF(ISBLANK(FromEvoM!J302),\"\",FromEvoM!J302)","v":""},{"$f":"IF(ISBLANK(FromEvoM!K302),\"\",FromEvoM!K302)","v":""},{"$f":"IF(ISBLANK(FromEvoM!L302),\"\",FromEvoM!L302)","v":""},{"$f":"IF(ISBLANK(FromEvoM!M302),\"\",FromEvoM!M302)","v":""},{"$f":"IF(ISBLANK(FromEvoM!P302),\"\",FromEvoM!P302)","v":""},null,{"$f":"IF(ISNUMBER(FromEvoM!X302),FromEvoM!X302,\"\")","v":""},{"$f":"IF(ISNUMBER(FromEvoM!AB302),FromEvoM!AB302,\"\")","v":""},{"$f":"IF(ISNUMBER(FromEvoM!AA302),FromEvoM!AA302,\"\")","v":""},null,"","",null,null,{"$f":"IF(FromEvoM!W302=1,(FromEvoM!AB302*12),IF(FromEvoM!W302=7,(FromEvoM!AR302),\"\"))","v":""},null,null,{"$f":"IF(ISBLANK(FromEvoM!A302),\"\",IF(FromEvoM!AK302=\"y\",\"Y\",\"N\"))","v":""},{"$f":"IF(ISBLANK(FromEvoM!A302),\"\",Category_ID)","v":""},null,null,null,{"$f":"IF(ISBLANK(FromEvoM!AK302),\"\",FromEvoM!AK302)","v":""},{"$f":"IF(ISBLANK(FromEvoM!AM302),\"\",FromEvoM!AM302)","v":""},{"$f":"IF(ISBLANK(FromEvoM!AN302),\"\",FromEvoM!AN302)","v":""},{"$f":"IF(ISBLANK(FromEvoM!AL302),\"\",FromEvoM!AL302)","v":""},{"$f":"IF(ISBLANK(FromEvoM!A302),\"\",IF(AND(AF302=\"y\",AI302=1),\"Y\",\"N\"))","v":""},{"$f":"IF(ISBLANK(FromEvoM!A302),\"\",IF(FromEvoM!AS302=\"Yes\",2,1))","v":""},{"$f":"IF(FromEvoM!W302=1,\"M\",IF(FromEvoM!W302=7,\"W\",\"\"))","v":""},{"$f":"IF(AJ302=\"Y\",0,IF(AJ302=\"N\",FromEvoM!AF302+FromEvoM!AT302,\"\"))","v":""},{"$f":"IF(AJ302=\"Y\",(FromEvoM!AE302+FromEvoM!AF302-FromEvoM!AT302),IF(AJ302=\"N\",FromEvoM!AE302,\"\"))","v":""}]
[{"$f":"IF(ISBLANK(FromEvoM!A303),\"\",Group_Code)","v":""},{"$f":"IF(ISBLANK(FromEvoM!A303),\"\",SUBSTITUTE(FromEvoM!A303,\" \",\"\"))","v":""},{"$f":"IF(ISBLANK(FromEvoM!C303),\"\",SUBSTITUTE(FromEvoM!G303,\" \",\"\"))","v":""},{"$f":"IF(ISBLANK(FromEvoM!D303),\"\",FromEvoM!B303)","v":""},{"$f":"IF(ISBLANK(FromEvoM!D303),\"\",FromEvoM!D303)","v":""},{"$f":"IF(ISBLANK(FromEvoM!C303),\"\",FromEvoM!C303)","v":""},{"$f":"REPLACE(FromEvoM!F303,2,6, )","v":""},{"$f":"IF(ISNUMBER(FromEvoM!E303),FromEvoM!E303,\"\")","v":""},{"$f":"IF(ISBLANK(FromEvoM!I303),\"\",FromEvoM!I303)","v":""},{"$f":"IF(ISBLANK(FromEvoM!J303),\"\",FromEvoM!J303)","v":""},{"$f":"IF(ISBLANK(FromEvoM!K303),\"\",FromEvoM!K303)","v":""},{"$f":"IF(ISBLANK(FromEvoM!L303),\"\",FromEvoM!L303)","v":""},{"$f":"IF(ISBLANK(FromEvoM!M303),\"\",FromEvoM!M303)","v":""},{"$f":"IF(ISBLANK(FromEvoM!P303),\"\",FromEvoM!P303)","v":""},null,{"$f":"IF(ISNUMBER(FromEvoM!X303),FromEvoM!X303,\"\")","v":""},{"$f":"IF(ISNUMBER(FromEvoM!AB303),FromEvoM!AB303,\"\")","v":""},{"$f":"IF(ISNUMBER(FromEvoM!AA303),FromEvoM!AA303,\"\")","v":""},null,"","",null,null,{"$f":"IF(FromEvoM!W303=1,(FromEvoM!AB303*12),IF(FromEvoM!W303=7,(FromEvoM!AR303),\"\"))","v":""},null,null,{"$f":"IF(ISBLANK(FromEvoM!A303),\"\",IF(FromEvoM!AK303=\"y\",\"Y\",\"N\"))","v":""},{"$f":"IF(ISBLANK(FromEvoM!A303),\"\",Category_ID)","v":""},null,null,null,{"$f":"IF(ISBLANK(FromEvoM!AK303),\"\",FromEvoM!AK303)","v":""},{"$f":"IF(ISBLANK(FromEvoM!AM303),\"\",FromEvoM!AM303)","v":""},{"$f":"IF(ISBLANK(FromEvoM!AN303),\"\",FromEvoM!AN303)","v":""},{"$f":"IF(ISBLANK(FromEvoM!AL303),\"\",FromEvoM!AL303)","v":""},{"$f":"IF(ISBLANK(FromEvoM!A303),\"\",IF(AND(AF303=\"y\",AI303=1),\"Y\",\"N\"))","v":""},{"$f":"IF(ISBLANK(FromEvoM!A303),\"\",IF(FromEvoM!AS303=\"Yes\",2,1))","v":""},{"$f":"IF(FromEvoM!W303=1,\"M\",IF(FromEvoM!W303=7,\"W\",\"\"))","v":""},{"$f":"IF(AJ303=\"Y\",0,IF(AJ303=\"N\",FromEvoM!AF303+FromEvoM!AT303,\"\"))","v":""},{"$f":"IF(AJ303=\"Y\",(FromEvoM!AE303+FromEvoM!AF303-FromEvoM!AT303),IF(AJ303=\"N\",FromEvoM!AE303,\"\"))","v":""}]
[{"$f":"IF(ISBLANK(FromEvoM!A304),\"\",Group_Code)","v":""},{"$f":"IF(ISBLANK(FromEvoM!A304),\"\",SUBSTITUTE(FromEvoM!A304,\" \",\"\"))","v":""},{"$f":"IF(ISBLANK(FromEvoM!C304),\"\",SUBSTITUTE(FromEvoM!G304,\" \",\"\"))","v":""},{"$f":"IF(ISBLANK(FromEvoM!D304),\"\",FromEvoM!B304)","v":""},{"$f":"IF(ISBLANK(FromEvoM!D304),\"\",FromEvoM!D304)","v":""},{"$f":"IF(ISBLANK(FromEvoM!C304),\"\",FromEvoM!C304)","v":""},{"$f":"REPLACE(FromEvoM!F304,2,6, )","v":""},{"$f":"IF(ISNUMBER(FromEvoM!E304),FromEvoM!E304,\"\")","v":""},{"$f":"IF(ISBLANK(FromEvoM!I304),\"\",FromEvoM!I304)","v":""},{"$f":"IF(ISBLANK(FromEvoM!J304),\"\",FromEvoM!J304)","v":""},{"$f":"IF(ISBLANK(FromEvoM!K304),\"\",FromEvoM!K304)","v":""},{"$f":"IF(ISBLANK(FromEvoM!L304),\"\",FromEvoM!L304)","v":""},{"$f":"IF(ISBLANK(FromEvoM!M304),\"\",FromEvoM!M304)","v":""},{"$f":"IF(ISBLANK(FromEvoM!P304),\"\",FromEvoM!P304)","v":""},null,{"$f":"IF(ISNUMBER(FromEvoM!X304),FromEvoM!X304,\"\")","v":""},{"$f":"IF(ISNUMBER(FromEvoM!AB304),FromEvoM!AB304,\"\")","v":""},{"$f":"IF(ISNUMBER(FromEvoM!AA304),FromEvoM!AA304,\"\")","v":""},null,"","",null,null,{"$f":"IF(FromEvoM!W304=1,(FromEvoM!AB304*12),IF(FromEvoM!W304=7,(FromEvoM!AR304),\"\"))","v":""},null,null,{"$f":"IF(ISBLANK(FromEvoM!A304),\"\",IF(FromEvoM!AK304=\"y\",\"Y\",\"N\"))","v":""},{"$f":"IF(ISBLANK(FromEvoM!A304),\"\",Category_ID)","v":""},null,null,null,{"$f":"IF(ISBLANK(FromEvoM!AK304),\"\",FromEvoM!AK304)","v":""},{"$f":"IF(ISBLANK(FromEvoM!AM304),\"\",FromEvoM!AM304)","v":""},{"$f":"IF(ISBLANK(FromEvoM!AN304),\"\",FromEvoM!AN304)","v":""},{"$f":"IF(ISBLANK(FromEvoM!AL304),\"\",FromEvoM!AL304)","v":""},{"$f":"IF(ISBLANK(FromEvoM!A304),\"\",IF(AND(AF304=\"y\",AI304=1),\"Y\",\"N\"))","v":""},{"$f":"IF(ISBLANK(FromEvoM!A304),\"\",IF(FromEvoM!AS304=\"Yes\",2,1))","v":""},{"$f":"IF(FromEvoM!W304=1,\"M\",IF(FromEvoM!W304=7,\"W\",\"\"))","v":""},{"$f":"IF(AJ304=\"Y\",0,IF(AJ304=\"N\",FromEvoM!AF304+FromEvoM!AT304,\"\"))","v":""},{"$f":"IF(AJ304=\"Y\",(FromEvoM!AE304+FromEvoM!AF304-FromEvoM!AT304),IF(AJ304=\"N\",FromEvoM!AE304,\"\"))","v":""}]
[{"$f":"IF(ISBLANK(FromEvoM!A305),\"\",Group_Code)","v":""},{"$f":"IF(ISBLANK(FromEvoM!A305),\"\",SUBSTITUTE(FromEvoM!A305,\" \",\"\"))","v":""},{"$f":"IF(ISBLANK(FromEvoM!C305),\"\",SUBSTITUTE(FromEvoM!G305,\" \",\"\"))","v":""},{"$f":"IF(ISBLANK(FromEvoM!D305),\"\",FromEvoM!B305)","v":""},{"$f":"IF(ISBLANK(FromEvoM!D305),\"\",FromEvoM!D305)","v":""},{"$f":"IF(ISBLANK(FromEvoM!C305),\"\",FromEvoM!C305)","v":""},{"$f":"REPLACE(FromEvoM!F305,2,6, )","v":""},{"$f":"IF(ISNUMBER(FromEvoM!E305),FromEvoM!E305,\"\")","v":""},{"$f":"IF(ISBLANK(FromEvoM!I305),\"\",FromEvoM!I305)","v":""},{"$f":"IF(ISBLANK(FromEvoM!J305),\"\",FromEvoM!J305)","v":""},{"$f":"IF(ISBLANK(FromEvoM!K305),\"\",FromEvoM!K305)","v":""},{"$f":"IF(ISBLANK(FromEvoM!L305),\"\",FromEvoM!L305)","v":""},{"$f":"IF(ISBLANK(FromEvoM!M305),\"\",FromEvoM!M305)","v":""},{"$f":"IF(ISBLANK(FromEvoM!P305),\"\",FromEvoM!P305)","v":""},null,{"$f":"IF(ISNUMBER(FromEvoM!X305),FromEvoM!X305,\"\")","v":""},{"$f":"IF(ISNUMBER(FromEvoM!AB305),FromEvoM!AB305,\"\")","v":""},{"$f":"IF(ISNUMBER(FromEvoM!AA305),FromEvoM!AA305,\"\")","v":""},null,"","",null,null,{"$f":"IF(FromEvoM!W305=1,(FromEvoM!AB305*12),IF(FromEvoM!W305=7,(FromEvoM!AR305),\"\"))","v":""},null,null,{"$f":"IF(ISBLANK(FromEvoM!A305),\"\",IF(FromEvoM!AK305=\"y\",\"Y\",\"N\"))","v":""},{"$f":"IF(ISBLANK(FromEvoM!A305),\"\",Category_ID)","v":""},null,null,null,{"$f":"IF(ISBLANK(FromEvoM!AK305),\"\",FromEvoM!AK305)","v":""},{"$f":"IF(ISBLANK(FromEvoM!AM305),\"\",FromEvoM!AM305)","v":""},{"$f":"IF(ISBLANK(FromEvoM!AN305),\"\",FromEvoM!AN305)","v":""},{"$f":"IF(ISBLANK(FromEvoM!AL305),\"\",FromEvoM!AL305)","v":""},{"$f":"IF(ISBLANK(FromEvoM!A305),\"\",IF(AND(AF305=\"y\",AI305=1),\"Y\",\"N\"))","v":""},{"$f":"IF(ISBLANK(FromEvoM!A305),\"\",IF(FromEvoM!AS305=\"Yes\",2,1))","v":""},{"$f":"IF(FromEvoM!W305=1,\"M\",IF(FromEvoM!W305=7,\"W\",\"\"))","v":""},{"$f":"IF(AJ305=\"Y\",0,IF(AJ305=\"N\",FromEvoM!AF305+FromEvoM!AT305,\"\"))","v":""},{"$f":"IF(AJ305=\"Y\",(FromEvoM!AE305+FromEvoM!AF305-FromEvoM!AT305),IF(AJ305=\"N\",FromEvoM!AE305,\"\"))","v":""}]
[{"$f":"IF(ISBLANK(FromEvoM!A306),\"\",Group_Code)","v":""},{"$f":"IF(ISBLANK(FromEvoM!A306),\"\",SUBSTITUTE(FromEvoM!A306,\" \",\"\"))","v":""},{"$f":"IF(ISBLANK(FromEvoM!C306),\"\",SUBSTITUTE(FromEvoM!G306,\" \",\"\"))","v":""},{"$f":"IF(ISBLANK(FromEvoM!D306),\"\",FromEvoM!B306)","v":""},{"$f":"IF(ISBLANK(FromEvoM!D306),\"\",FromEvoM!D306)","v":""},{"$f":"IF(ISBLANK(FromEvoM!C306),\"\",FromEvoM!C306)","v":""},{"$f":"REPLACE(FromEvoM!F306,2,6, )","v":""},{"$f":"IF(ISNUMBER(FromEvoM!E306),FromEvoM!E306,\"\")","v":""},{"$f":"IF(ISBLANK(FromEvoM!I306),\"\",FromEvoM!I306)","v":""},{"$f":"IF(ISBLANK(FromEvoM!J306),\"\",FromEvoM!J306)","v":""},{"$f":"IF(ISBLANK(FromEvoM!K306),\"\",FromEvoM!K306)","v":""},{"$f":"IF(ISBLANK(FromEvoM!L306),\"\",FromEvoM!L306)","v":""},{"$f":"IF(ISBLANK(FromEvoM!M306),\"\",FromEvoM!M306)","v":""},{"$f":"IF(ISBLANK(FromEvoM!P306),\"\",FromEvoM!P306)","v":""},null,{"$f":"IF(ISNUMBER(FromEvoM!X306),FromEvoM!X306,\"\")","v":""},{"$f":"IF(ISNUMBER(FromEvoM!AB306),FromEvoM!AB306,\"\")","v":""},{"$f":"IF(ISNUMBER(FromEvoM!AA306),FromEvoM!AA306,\"\")","v":""},null,"","",null,null,{"$f":"IF(FromEvoM!W306=1,(FromEvoM!AB306*12),IF(FromEvoM!W306=7,(FromEvoM!AR306),\"\"))","v":""},null,null,{"$f":"IF(ISBLANK(FromEvoM!A306),\"\",IF(FromEvoM!AK306=\"y\",\"Y\",\"N\"))","v":""},{"$f":"IF(ISBLANK(FromEvoM!A306),\"\",Category_ID)","v":""},null,null,null,{"$f":"IF(ISBLANK(FromEvoM!AK306),\"\",FromEvoM!AK306)","v":""},{"$f":"IF(ISBLANK(FromEvoM!AM306),\"\",FromEvoM!AM306)","v":""},{"$f":"IF(ISBLANK(FromEvoM!AN306),\"\",FromEvoM!AN306)","v":""},{"$f":"IF(ISBLANK(FromEvoM!AL306),\"\",FromEvoM!AL306)","v":""},{"$f":"IF(ISBLANK(FromEvoM!A306),\"\",IF(AND(AF306=\"y\",AI306=1),\"Y\",\"N\"))","v":""},{"$f":"IF(ISBLANK(FromEvoM!A306),\"\",IF(FromEvoM!AS306=\"Yes\",2,1))","v":""},{"$f":"IF(FromEvoM!W306=1,\"M\",IF(FromEvoM!W306=7,\"W\",\"\"))","v":""},{"$f":"IF(AJ306=\"Y\",0,IF(AJ306=\"N\",FromEvoM!AF306+FromEvoM!AT306,\"\"))","v":""},{"$f":"IF(AJ306=\"Y\",(FromEvoM!AE306+FromEvoM!AF306-FromEvoM!AT306),IF(AJ306=\"N\",FromEvoM!AE306,\"\"))","v":""}]
[{"$f":"IF(ISBLANK(FromEvoM!A307),\"\",Group_Code)","v":""},{"$f":"IF(ISBLANK(FromEvoM!A307),\"\",SUBSTITUTE(FromEvoM!A307,\" \",\"\"))","v":""},{"$f":"IF(ISBLANK(FromEvoM!C307),\"\",SUBSTITUTE(FromEvoM!G307,\" \",\"\"))","v":""},{"$f":"IF(ISBLANK(FromEvoM!D307),\"\",FromEvoM!B307)","v":""},{"$f":"IF(ISBLANK(FromEvoM!D307),\"\",FromEvoM!D307)","v":""},{"$f":"IF(ISBLANK(FromEvoM!C307),\"\",FromEvoM!C307)","v":""},{"$f":"REPLACE(FromEvoM!F307,2,6, )","v":""},{"$f":"IF(ISNUMBER(FromEvoM!E307),FromEvoM!E307,\"\")","v":""},{"$f":"IF(ISBLANK(FromEvoM!I307),\"\",FromEvoM!I307)","v":""},{"$f":"IF(ISBLANK(FromEvoM!J307),\"\",FromEvoM!J307)","v":""},{"$f":"IF(ISBLANK(FromEvoM!K307),\"\",FromEvoM!K307)","v":""},{"$f":"IF(ISBLANK(FromEvoM!L307),\"\",FromEvoM!L307)","v":""},{"$f":"IF(ISBLANK(FromEvoM!M307),\"\",FromEvoM!M307)","v":""},{"$f":"IF(ISBLANK(FromEvoM!P307),\"\",FromEvoM!P307)","v":""},null,{"$f":"IF(ISNUMBER(FromEvoM!X307),FromEvoM!X307,\"\")","v":""},{"$f":"IF(ISNUMBER(FromEvoM!AB307),FromEvoM!AB307,\"\")","v":""},{"$f":"IF(ISNUMBER(FromEvoM!AA307),FromEvoM!AA307,\"\")","v":""},null,"","",null,null,{"$f":"IF(FromEvoM!W307=1,(FromEvoM!AB307*12),IF(FromEvoM!W307=7,(FromEvoM!AR307),\"\"))","v":""},null,null,{"$f":"IF(ISBLANK(FromEvoM!A307),\"\",IF(FromEvoM!AK307=\"y\",\"Y\",\"N\"))","v":""},{"$f":"IF(ISBLANK(FromEvoM!A307),\"\",Category_ID)","v":""},null,null,null,{"$f":"IF(ISBLANK(FromEvoM!AK307),\"\",FromEvoM!AK307)","v":""},{"$f":"IF(ISBLANK(FromEvoM!AM307),\"\",FromEvoM!AM307)","v":""},{"$f":"IF(ISBLANK(FromEvoM!AN307),\"\",FromEvoM!AN307)","v":""},{"$f":"IF(ISBLANK(FromEvoM!AL307),\"\",FromEvoM!AL307)","v":""},{"$f":"IF(ISBLANK(FromEvoM!A307),\"\",IF(AND(AF307=\"y\",AI307=1),\"Y\",\"N\"))","v":""},{"$f":"IF(ISBLANK(FromEvoM!A307),\"\",IF(FromEvoM!AS307=\"Yes\",2,1))","v":""},{"$f":"IF(FromEvoM!W307=1,\"M\",IF(FromEvoM!W307=7,\"W\",\"\"))","v":""},{"$f":"IF(AJ307=\"Y\",0,IF(AJ307=\"N\",FromEvoM!AF307+FromEvoM!AT307,\"\"))","v":""},{"$f":"IF(AJ307=\"Y\",(FromEvoM!AE307+FromEvoM!AF307-FromEvoM!AT307),IF(AJ307=\"N\",FromEvoM!AE307,\"\"))","v":""}]
[{"$f":"IF(ISBLANK(FromEvoM!A308),\"\",Group_Code)","v":""},{"$f":"IF(ISBLANK(FromEvoM!A308),\"\",SUBSTITUTE(FromEvoM!A308,\" \",\"\"))","v":""},{"$f":"IF(ISBLANK(FromEvoM!C308),\"\",SUBSTITUTE(FromEvoM!G308,\" \",\"\"))","v":""},{"$f":"IF(ISBLANK(FromEvoM!D308),\"\",FromEvoM!B308)","v":""},{"$f":"IF(ISBLANK(FromEvoM!D308),\"\",FromEvoM!D308)","v":""},{"$f":"IF(ISBLANK(FromEvoM!C308),\"\",FromEvoM!C308)","v":""},{"$f":"REPLACE(FromEvoM!F308,2,6, )","v":""},{"$f":"IF(ISNUMBER(FromEvoM!E308),FromEvoM!E308,\"\")","v":""},{"$f":"IF(ISBLANK(FromEvoM!I308),\"\",FromEvoM!I308)","v":""},{"$f":"IF(ISBLANK(FromEvoM!J308),\"\",FromEvoM!J308)","v":""},{"$f":"IF(ISBLANK(FromEvoM!K308),\"\",FromEvoM!K308)","v":""},{"$f":"IF(ISBLANK(FromEvoM!L308),\"\",FromEvoM!L308)","v":""},{"$f":"IF(ISBLANK(FromEvoM!M308),\"\",FromEvoM!M308)","v":""},{"$f":"IF(ISBLANK(FromEvoM!P308),\"\",FromEvoM!P308)","v":""},null,{"$f":"IF(ISNUMBER(FromEvoM!X308),FromEvoM!X308,\"\")","v":""},{"$f":"IF(ISNUMBER(FromEvoM!AB308),FromEvoM!AB308,\"\")","v":""},{"$f":"IF(ISNUMBER(FromEvoM!AA308),FromEvoM!AA308,\"\")","v":""},null,"","",null,null,{"$f":"IF(FromEvoM!W308=1,(FromEvoM!AB308*12),IF(FromEvoM!W308=7,(FromEvoM!AR308),\"\"))","v":""},null,null,{"$f":"IF(ISBLANK(FromEvoM!A308),\"\",IF(FromEvoM!AK308=\"y\",\"Y\",\"N\"))","v":""},{"$f":"IF(ISBLANK(FromEvoM!A308),\"\",Category_ID)","v":""},null,null,null,{"$f":"IF(ISBLANK(FromEvoM!AK308),\"\",FromEvoM!AK308)","v":""},{"$f":"IF(ISBLANK(FromEvoM!AM308),\"\",FromEvoM!AM308)","v":""},{"$f":"IF(ISBLANK(FromEvoM!AN308),\"\",FromEvoM!AN308)","v":""},{"$f":"IF(ISBLANK(FromEvoM!AL308),\"\",FromEvoM!AL308)","v":""},{"$f":"IF(ISBLANK(FromEvoM!A308),\"\",IF(AND(AF308=\"y\",AI308=1),\"Y\",\"N\"))","v":""},{"$f":"IF(ISBLANK(FromEvoM!A308),\"\",IF(FromEvoM!AS308=\"Yes\",2,1))","v":""},{"$f":"IF(FromEvoM!W308=1,\"M\",IF(FromEvoM!W308=7,\"W\",\"\"))","v":""},{"$f":"IF(AJ308=\"Y\",0,IF(AJ308=\"N\",FromEvoM!AF308+FromEvoM!AT308,\"\"))","v":""},{"$f":"IF(AJ308=\"Y\",(FromEvoM!AE308+FromEvoM!AF308-FromEvoM!AT308),IF(AJ308=\"N\",FromEvoM!AE308,\"\"))","v":""}]
[{"$f":"IF(ISBLANK(FromEvoM!A309),\"\",Group_Code)","v":""},{"$f":"IF(ISBLANK(FromEvoM!A309),\"\",SUBSTITUTE(FromEvoM!A309,\" \",\"\"))","v":""},{"$f":"IF(ISBLANK(FromEvoM!C309),\"\",SUBSTITUTE(FromEvoM!G309,\" \",\"\"))","v":""},{"$f":"IF(ISBLANK(FromEvoM!D309),\"\",FromEvoM!B309)","v":""},{"$f":"IF(ISBLANK(FromEvoM!D309),\"\",FromEvoM!D309)","v":""},{"$f":"IF(ISBLANK(FromEvoM!C309),\"\",FromEvoM!C309)","v":""},{"$f":"REPLACE(FromEvoM!F309,2,6, )","v":""},{"$f":"IF(ISNUMBER(FromEvoM!E309),FromEvoM!E309,\"\")","v":""},{"$f":"IF(ISBLANK(FromEvoM!I309),\"\",FromEvoM!I309)","v":""},{"$f":"IF(ISBLANK(FromEvoM!J309),\"\",FromEvoM!J309)","v":""},{"$f":"IF(ISBLANK(FromEvoM!K309),\"\",FromEvoM!K309)","v":""},{"$f":"IF(ISBLANK(FromEvoM!L309),\"\",FromEvoM!L309)","v":""},{"$f":"IF(ISBLANK(FromEvoM!M309),\"\",FromEvoM!M309)","v":""},{"$f":"IF(ISBLANK(FromEvoM!P309),\"\",FromEvoM!P309)","v":""},null,{"$f":"IF(ISNUMBER(FromEvoM!X309),FromEvoM!X309,\"\")","v":""},{"$f":"IF(ISNUMBER(FromEvoM!AB309),FromEvoM!AB309,\"\")","v":""},{"$f":"IF(ISNUMBER(FromEvoM!AA309),FromEvoM!AA309,\"\")","v":""},null,"","",null,null,{"$f":"IF(FromEvoM!W309=1,(FromEvoM!AB309*12),IF(FromEvoM!W309=7,(FromEvoM!AR309),\"\"))","v":""},null,null,{"$f":"IF(ISBLANK(FromEvoM!A309),\"\",IF(FromEvoM!AK309=\"y\",\"Y\",\"N\"))","v":""},{"$f":"IF(ISBLANK(FromEvoM!A309),\"\",Category_ID)","v":""},null,null,null,{"$f":"IF(ISBLANK(FromEvoM!AK309),\"\",FromEvoM!AK309)","v":""},{"$f":"IF(ISBLANK(FromEvoM!AM309),\"\",FromEvoM!AM309)","v":""},{"$f":"IF(ISBLANK(FromEvoM!AN309),\"\",FromEvoM!AN309)","v":""},{"$f":"IF(ISBLANK(FromEvoM!AL309),\"\",FromEvoM!AL309)","v":""},{"$f":"IF(ISBLANK(FromEvoM!A309),\"\",IF(AND(AF309=\"y\",AI309=1),\"Y\",\"N\"))","v":""},{"$f":"IF(ISBLANK(FromEvoM!A309),\"\",IF(FromEvoM!AS309=\"Yes\",2,1))","v":""},{"$f":"IF(FromEvoM!W309=1,\"M\",IF(FromEvoM!W309=7,\"W\",\"\"))","v":""},{"$f":"IF(AJ309=\"Y\",0,IF(AJ309=\"N\",FromEvoM!AF309+FromEvoM!AT309,\"\"))","v":""},{"$f":"IF(AJ309=\"Y\",(FromEvoM!AE309+FromEvoM!AF309-FromEvoM!AT309),IF(AJ309=\"N\",FromEvoM!AE309,\"\"))","v":""}]
[{"$f":"IF(ISBLANK(FromEvoM!A310),\"\",Group_Code)","v":""},{"$f":"IF(ISBLANK(FromEvoM!A310),\"\",SUBSTITUTE(FromEvoM!A310,\" \",\"\"))","v":""},{"$f":"IF(ISBLANK(FromEvoM!C310),\"\",SUBSTITUTE(FromEvoM!G310,\" \",\"\"))","v":""},{"$f":"IF(ISBLANK(FromEvoM!D310),\"\",FromEvoM!B310)","v":""},{"$f":"IF(ISBLANK(FromEvoM!D310),\"\",FromEvoM!D310)","v":""},{"$f":"IF(ISBLANK(FromEvoM!C310),\"\",FromEvoM!C310)","v":""},{"$f":"REPLACE(FromEvoM!F310,2,6, )","v":""},{"$f":"IF(ISNUMBER(FromEvoM!E310),FromEvoM!E310,\"\")","v":""},{"$f":"IF(ISBLANK(FromEvoM!I310),\"\",FromEvoM!I310)","v":""},{"$f":"IF(ISBLANK(FromEvoM!J310),\"\",FromEvoM!J310)","v":""},{"$f":"IF(ISBLANK(FromEvoM!K310),\"\",FromEvoM!K310)","v":""},{"$f":"IF(ISBLANK(FromEvoM!L310),\"\",FromEvoM!L310)","v":""},{"$f":"IF(ISBLANK(FromEvoM!M310),\"\",FromEvoM!M310)","v":""},{"$f":"IF(ISBLANK(FromEvoM!P310),\"\",FromEvoM!P310)","v":""},null,{"$f":"IF(ISNUMBER(FromEvoM!X310),FromEvoM!X310,\"\")","v":""},{"$f":"IF(ISNUMBER(FromEvoM!AB310),FromEvoM!AB310,\"\")","v":""},{"$f":"IF(ISNUMBER(FromEvoM!AA310),FromEvoM!AA310,\"\")","v":""},null,"","",null,null,{"$f":"IF(FromEvoM!W310=1,(FromEvoM!AB310*12),IF(FromEvoM!W310=7,(FromEvoM!AR310),\"\"))","v":""},null,null,{"$f":"IF(ISBLANK(FromEvoM!A310),\"\",IF(FromEvoM!AK310=\"y\",\"Y\",\"N\"))","v":""},{"$f":"IF(ISBLANK(FromEvoM!A310),\"\",Category_ID)","v":""},null,null,null,{"$f":"IF(ISBLANK(FromEvoM!AK310),\"\",FromEvoM!AK310)","v":""},{"$f":"IF(ISBLANK(FromEvoM!AM310),\"\",FromEvoM!AM310)","v":""},{"$f":"IF(ISBLANK(FromEvoM!AN310),\"\",FromEvoM!AN310)","v":""},{"$f":"IF(ISBLANK(FromEvoM!AL310),\"\",FromEvoM!AL310)","v":""},{"$f":"IF(ISBLANK(FromEvoM!A310),\"\",IF(AND(AF310=\"y\",AI310=1),\"Y\",\"N\"))","v":""},{"$f":"IF(ISBLANK(FromEvoM!A310),\"\",IF(FromEvoM!AS310=\"Yes\",2,1))","v":""},{"$f":"IF(FromEvoM!W310=1,\"M\",IF(FromEvoM!W310=7,\"W\",\"\"))","v":""},{"$f":"IF(AJ310=\"Y\",0,IF(AJ310=\"N\",FromEvoM!AF310+FromEvoM!AT310,\"\"))","v":""},{"$f":"IF(AJ310=\"Y\",(FromEvoM!AE310+FromEvoM!AF310-FromEvoM!AT310),IF(AJ310=\"N\",FromEvoM!AE310,\"\"))","v":""}]
[{"$f":"IF(ISBLANK(FromEvoM!A311),\"\",Group_Code)","v":""},{"$f":"IF(ISBLANK(FromEvoM!A311),\"\",SUBSTITUTE(FromEvoM!A311,\" \",\"\"))","v":""},{"$f":"IF(ISBLANK(FromEvoM!C311),\"\",SUBSTITUTE(FromEvoM!G311,\" \",\"\"))","v":""},{"$f":"IF(ISBLANK(FromEvoM!D311),\"\",FromEvoM!B311)","v":""},{"$f":"IF(ISBLANK(FromEvoM!D311),\"\",FromEvoM!D311)","v":""},{"$f":"IF(ISBLANK(FromEvoM!C311),\"\",FromEvoM!C311)","v":""},{"$f":"REPLACE(FromEvoM!F311,2,6, )","v":""},{"$f":"IF(ISNUMBER(FromEvoM!E311),FromEvoM!E311,\"\")","v":""},{"$f":"IF(ISBLANK(FromEvoM!I311),\"\",FromEvoM!I311)","v":""},{"$f":"IF(ISBLANK(FromEvoM!J311),\"\",FromEvoM!J311)","v":""},{"$f":"IF(ISBLANK(FromEvoM!K311),\"\",FromEvoM!K311)","v":""},{"$f":"IF(ISBLANK(FromEvoM!L311),\"\",FromEvoM!L311)","v":""},{"$f":"IF(ISBLANK(FromEvoM!M311),\"\",FromEvoM!M311)","v":""},{"$f":"IF(ISBLANK(FromEvoM!P311),\"\",FromEvoM!P311)","v":""},null,{"$f":"IF(ISNUMBER(FromEvoM!X311),FromEvoM!X311,\"\")","v":""},{"$f":"IF(ISNUMBER(FromEvoM!AB311),FromEvoM!AB311,\"\")","v":""},{"$f":"IF(ISNUMBER(FromEvoM!AA311),FromEvoM!AA311,\"\")","v":""},null,"","",null,null,{"$f":"IF(FromEvoM!W311=1,(FromEvoM!AB311*12),IF(FromEvoM!W311=7,(FromEvoM!AR311),\"\"))","v":""},null,null,{"$f":"IF(ISBLANK(FromEvoM!A311),\"\",IF(FromEvoM!AK311=\"y\",\"Y\",\"N\"))","v":""},{"$f":"IF(ISBLANK(FromEvoM!A311),\"\",Category_ID)","v":""},null,null,null,{"$f":"IF(ISBLANK(FromEvoM!AK311),\"\",FromEvoM!AK311)","v":""},{"$f":"IF(ISBLANK(FromEvoM!AM311),\"\",FromEvoM!AM311)","v":""},{"$f":"IF(ISBLANK(FromEvoM!AN311),\"\",FromEvoM!AN311)","v":""},{"$f":"IF(ISBLANK(FromEvoM!AL311),\"\",FromEvoM!AL311)","v":""},{"$f":"IF(ISBLANK(FromEvoM!A311),\"\",IF(AND(AF311=\"y\",AI311=1),\"Y\",\"N\"))","v":""},{"$f":"IF(ISBLANK(FromEvoM!A311),\"\",IF(FromEvoM!AS311=\"Yes\",2,1))","v":""},{"$f":"IF(FromEvoM!W311=1,\"M\",IF(FromEvoM!W311=7,\"W\",\"\"))","v":""},{"$f":"IF(AJ311=\"Y\",0,IF(AJ311=\"N\",FromEvoM!AF311+FromEvoM!AT311,\"\"))","v":""},{"$f":"IF(AJ311=\"Y\",(FromEvoM!AE311+FromEvoM!AF311-FromEvoM!AT311),IF(AJ311=\"N\",FromEvoM!AE311,\"\"))","v":""}]
[{"$f":"IF(ISBLANK(FromEvoM!A312),\"\",Group_Code)","v":""},{"$f":"IF(ISBLANK(FromEvoM!A312),\"\",SUBSTITUTE(FromEvoM!A312,\" \",\"\"))","v":""},{"$f":"IF(ISBLANK(FromEvoM!C312),\"\",SUBSTITUTE(FromEvoM!G312,\" \",\"\"))","v":""},{"$f":"IF(ISBLANK(FromEvoM!D312),\"\",FromEvoM!B312)","v":""},{"$f":"IF(ISBLANK(FromEvoM!D312),\"\",FromEvoM!D312)","v":""},{"$f":"IF(ISBLANK(FromEvoM!C312),\"\",FromEvoM!C312)","v":""},{"$f":"REPLACE(FromEvoM!F312,2,6, )","v":""},{"$f":"IF(ISNUMBER(FromEvoM!E312),FromEvoM!E312,\"\")","v":""},{"$f":"IF(ISBLANK(FromEvoM!I312),\"\",FromEvoM!I312)","v":""},{"$f":"IF(ISBLANK(FromEvoM!J312),\"\",FromEvoM!J312)","v":""},{"$f":"IF(ISBLANK(FromEvoM!K312),\"\",FromEvoM!K312)","v":""},{"$f":"IF(ISBLANK(FromEvoM!L312),\"\",FromEvoM!L312)","v":""},{"$f":"IF(ISBLANK(FromEvoM!M312),\"\",FromEvoM!M312)","v":""},{"$f":"IF(ISBLANK(FromEvoM!P312),\"\",FromEvoM!P312)","v":""},null,{"$f":"IF(ISNUMBER(FromEvoM!X312),FromEvoM!X312,\"\")","v":""},{"$f":"IF(ISNUMBER(FromEvoM!AB312),FromEvoM!AB312,\"\")","v":""},{"$f":"IF(ISNUMBER(FromEvoM!AA312),FromEvoM!AA312,\"\")","v":""},null,"","",null,null,{"$f":"IF(FromEvoM!W312=1,(FromEvoM!AB312*12),IF(FromEvoM!W312=7,(FromEvoM!AR312),\"\"))","v":""},null,null,{"$f":"IF(ISBLANK(FromEvoM!A312),\"\",IF(FromEvoM!AK312=\"y\",\"Y\",\"N\"))","v":""},{"$f":"IF(ISBLANK(FromEvoM!A312),\"\",Category_ID)","v":""},null,null,null,{"$f":"IF(ISBLANK(FromEvoM!AK312),\"\",FromEvoM!AK312)","v":""},{"$f":"IF(ISBLANK(FromEvoM!AM312),\"\",FromEvoM!AM312)","v":""},{"$f":"IF(ISBLANK(FromEvoM!AN312),\"\",FromEvoM!AN312)","v":""},{"$f":"IF(ISBLANK(FromEvoM!AL312),\"\",FromEvoM!AL312)","v":""},{"$f":"IF(ISBLANK(FromEvoM!A312),\"\",IF(AND(AF312=\"y\",AI312=1),\"Y\",\"N\"))","v":""},{"$f":"IF(ISBLANK(FromEvoM!A312),\"\",IF(FromEvoM!AS312=\"Yes\",2,1))","v":""},{"$f":"IF(FromEvoM!W312=1,\"M\",IF(FromEvoM!W312=7,\"W\",\"\"))","v":""},{"$f":"IF(AJ312=\"Y\",0,IF(AJ312=\"N\",FromEvoM!AF312+FromEvoM!AT312,\"\"))","v":""},{"$f":"IF(AJ312=\"Y\",(FromEvoM!AE312+FromEvoM!AF312-FromEvoM!AT312),IF(AJ312=\"N\",FromEvoM!AE312,\"\"))","v":""}]
[{"$f":"IF(ISBLANK(FromEvoM!A313),\"\",Group_Code)","v":""},{"$f":"IF(ISBLANK(FromEvoM!A313),\"\",SUBSTITUTE(FromEvoM!A313,\" \",\"\"))","v":""},{"$f":"IF(ISBLANK(FromEvoM!C313),\"\",SUBSTITUTE(FromEvoM!G313,\" \",\"\"))","v":""},{"$f":"IF(ISBLANK(FromEvoM!D313),\"\",FromEvoM!B313)","v":""},{"$f":"IF(ISBLANK(FromEvoM!D313),\"\",FromEvoM!D313)","v":""},{"$f":"IF(ISBLANK(FromEvoM!C313),\"\",FromEvoM!C313)","v":""},{"$f":"REPLACE(FromEvoM!F313,2,6, )","v":""},{"$f":"IF(ISNUMBER(FromEvoM!E313),FromEvoM!E313,\"\")","v":""},{"$f":"IF(ISBLANK(FromEvoM!I313),\"\",FromEvoM!I313)","v":""},{"$f":"IF(ISBLANK(FromEvoM!J313),\"\",FromEvoM!J313)","v":""},{"$f":"IF(ISBLANK(FromEvoM!K313),\"\",FromEvoM!K313)","v":""},{"$f":"IF(ISBLANK(FromEvoM!L313),\"\",FromEvoM!L313)","v":""},{"$f":"IF(ISBLANK(FromEvoM!M313),\"\",FromEvoM!M313)","v":""},{"$f":"IF(ISBLANK(FromEvoM!P313),\"\",FromEvoM!P313)","v":""},null,{"$f":"IF(ISNUMBER(FromEvoM!X313),FromEvoM!X313,\"\")","v":""},{"$f":"IF(ISNUMBER(FromEvoM!AB313),FromEvoM!AB313,\"\")","v":""},{"$f":"IF(ISNUMBER(FromEvoM!AA313),FromEvoM!AA313,\"\")","v":""},null,"","",null,null,{"$f":"IF(FromEvoM!W313=1,(FromEvoM!AB313*12),IF(FromEvoM!W313=7,(FromEvoM!AR313),\"\"))","v":""},null,null,{"$f":"IF(ISBLANK(FromEvoM!A313),\"\",IF(FromEvoM!AK313=\"y\",\"Y\",\"N\"))","v":""},{"$f":"IF(ISBLANK(FromEvoM!A313),\"\",Category_ID)","v":""},null,null,null,{"$f":"IF(ISBLANK(FromEvoM!AK313),\"\",FromEvoM!AK313)","v":""},{"$f":"IF(ISBLANK(FromEvoM!AM313),\"\",FromEvoM!AM313)","v":""},{"$f":"IF(ISBLANK(FromEvoM!AN313),\"\",FromEvoM!AN313)","v":""},{"$f":"IF(ISBLANK(FromEvoM!AL313),\"\",FromEvoM!AL313)","v":""},{"$f":"IF(ISBLANK(FromEvoM!A313),\"\",IF(AND(AF313=\"y\",AI313=1),\"Y\",\"N\"))","v":""},{"$f":"IF(ISBLANK(FromEvoM!A313),\"\",IF(FromEvoM!AS313=\"Yes\",2,1))","v":""},{"$f":"IF(FromEvoM!W313=1,\"M\",IF(FromEvoM!W313=7,\"W\",\"\"))","v":""},{"$f":"IF(AJ313=\"Y\",0,IF(AJ313=\"N\",FromEvoM!AF313+FromEvoM!AT313,\"\"))","v":""},{"$f":"IF(AJ313=\"Y\",(FromEvoM!AE313+FromEvoM!AF313-FromEvoM!AT313),IF(AJ313=\"N\",FromEvoM!AE313,\"\"))","v":""}]
[{"$f":"IF(ISBLANK(FromEvoM!A314),\"\",Group_Code)","v":""},{"$f":"IF(ISBLANK(FromEvoM!A314),\"\",SUBSTITUTE(FromEvoM!A314,\" \",\"\"))","v":""},{"$f":"IF(ISBLANK(FromEvoM!C314),\"\",SUBSTITUTE(FromEvoM!G314,\" \",\"\"))","v":""},{"$f":"IF(ISBLANK(FromEvoM!D314),\"\",FromEvoM!B314)","v":""},{"$f":"IF(ISBLANK(FromEvoM!D314),\"\",FromEvoM!D314)","v":""},{"$f":"IF(ISBLANK(FromEvoM!C314),\"\",FromEvoM!C314)","v":""},{"$f":"REPLACE(FromEvoM!F314,2,6, )","v":""},{"$f":"IF(ISNUMBER(FromEvoM!E314),FromEvoM!E314,\"\")","v":""},{"$f":"IF(ISBLANK(FromEvoM!I314),\"\",FromEvoM!I314)","v":""},{"$f":"IF(ISBLANK(FromEvoM!J314),\"\",FromEvoM!J314)","v":""},{"$f":"IF(ISBLANK(FromEvoM!K314),\"\",FromEvoM!K314)","v":""},{"$f":"IF(ISBLANK(FromEvoM!L314),\"\",FromEvoM!L314)","v":""},{"$f":"IF(ISBLANK(FromEvoM!M314),\"\",FromEvoM!M314)","v":""},{"$f":"IF(ISBLANK(FromEvoM!P314),\"\",FromEvoM!P314)","v":""},null,{"$f":"IF(ISNUMBER(FromEvoM!X314),FromEvoM!X314,\"\")","v":""},{"$f":"IF(ISNUMBER(FromEvoM!AB314),FromEvoM!AB314,\"\")","v":""},{"$f":"IF(ISNUMBER(FromEvoM!AA314),FromEvoM!AA314,\"\")","v":""},null,"","",null,null,{"$f":"IF(FromEvoM!W314=1,(FromEvoM!AB314*12),IF(FromEvoM!W314=7,(FromEvoM!AR314),\"\"))","v":""},null,null,{"$f":"IF(ISBLANK(FromEvoM!A314),\"\",IF(FromEvoM!AK314=\"y\",\"Y\",\"N\"))","v":""},{"$f":"IF(ISBLANK(FromEvoM!A314),\"\",Category_ID)","v":""},null,null,null,{"$f":"IF(ISBLANK(FromEvoM!AK314),\"\",FromEvoM!AK314)","v":""},{"$f":"IF(ISBLANK(FromEvoM!AM314),\"\",FromEvoM!AM314)","v":""},{"$f":"IF(ISBLANK(FromEvoM!AN314),\"\",FromEvoM!AN314)","v":""},{"$f":"IF(ISBLANK(FromEvoM!AL314),\"\",FromEvoM!AL314)","v":""},{"$f":"IF(ISBLANK(FromEvoM!A314),\"\",IF(AND(AF314=\"y\",AI314=1),\"Y\",\"N\"))","v":""},{"$f":"IF(ISBLANK(FromEvoM!A314),\"\",IF(FromEvoM!AS314=\"Yes\",2,1))","v":""},{"$f":"IF(FromEvoM!W314=1,\"M\",IF(FromEvoM!W314=7,\"W\",\"\"))","v":""},{"$f":"IF(AJ314=\"Y\",0,IF(AJ314=\"N\",FromEvoM!AF314+FromEvoM!AT314,\"\"))","v":""},{"$f":"IF(AJ314=\"Y\",(FromEvoM!AE314+FromEvoM!AF314-FromEvoM!AT314),IF(AJ314=\"N\",FromEvoM!AE314,\"\"))","v":""}]
[{"$f":"IF(ISBLANK(FromEvoM!A315),\"\",Group_Code)","v":""},{"$f":"IF(ISBLANK(FromEvoM!A315),\"\",SUBSTITUTE(FromEvoM!A315,\" \",\"\"))","v":""},{"$f":"IF(ISBLANK(FromEvoM!C315),\"\",SUBSTITUTE(FromEvoM!G315,\" \",\"\"))","v":""},{"$f":"IF(ISBLANK(FromEvoM!D315),\"\",FromEvoM!B315)","v":""},{"$f":"IF(ISBLANK(FromEvoM!D315),\"\",FromEvoM!D315)","v":""},{"$f":"IF(ISBLANK(FromEvoM!C315),\"\",FromEvoM!C315)","v":""},{"$f":"REPLACE(FromEvoM!F315,2,6, )","v":""},{"$f":"IF(ISNUMBER(FromEvoM!E315),FromEvoM!E315,\"\")","v":""},{"$f":"IF(ISBLANK(FromEvoM!I315),\"\",FromEvoM!I315)","v":""},{"$f":"IF(ISBLANK(FromEvoM!J315),\"\",FromEvoM!J315)","v":""},{"$f":"IF(ISBLANK(FromEvoM!K315),\"\",FromEvoM!K315)","v":""},{"$f":"IF(ISBLANK(FromEvoM!L315),\"\",FromEvoM!L315)","v":""},{"$f":"IF(ISBLANK(FromEvoM!M315),\"\",FromEvoM!M315)","v":""},{"$f":"IF(ISBLANK(FromEvoM!P315),\"\",FromEvoM!P315)","v":""},null,{"$f":"IF(ISNUMBER(FromEvoM!X315),FromEvoM!X315,\"\")","v":""},{"$f":"IF(ISNUMBER(FromEvoM!AB315),FromEvoM!AB315,\"\")","v":""},{"$f":"IF(ISNUMBER(FromEvoM!AA315),FromEvoM!AA315,\"\")","v":""},null,"","",null,null,{"$f":"IF(FromEvoM!W315=1,(FromEvoM!AB315*12),IF(FromEvoM!W315=7,(FromEvoM!AR315),\"\"))","v":""},null,null,{"$f":"IF(ISBLANK(FromEvoM!A315),\"\",IF(FromEvoM!AK315=\"y\",\"Y\",\"N\"))","v":""},{"$f":"IF(ISBLANK(FromEvoM!A315),\"\",Category_ID)","v":""},null,null,null,{"$f":"IF(ISBLANK(FromEvoM!AK315),\"\",FromEvoM!AK315)","v":""},{"$f":"IF(ISBLANK(FromEvoM!AM315),\"\",FromEvoM!AM315)","v":""},{"$f":"IF(ISBLANK(FromEvoM!AN315),\"\",FromEvoM!AN315)","v":""},{"$f":"IF(ISBLANK(FromEvoM!AL315),\"\",FromEvoM!AL315)","v":""},{"$f":"IF(ISBLANK(FromEvoM!A315),\"\",IF(AND(AF315=\"y\",AI315=1),\"Y\",\"N\"))","v":""},{"$f":"IF(ISBLANK(FromEvoM!A315),\"\",IF(FromEvoM!AS315=\"Yes\",2,1))","v":""},{"$f":"IF(FromEvoM!W315=1,\"M\",IF(FromEvoM!W315=7,\"W\",\"\"))","v":""},{"$f":"IF(AJ315=\"Y\",0,IF(AJ315=\"N\",FromEvoM!AF315+FromEvoM!AT315,\"\"))","v":""},{"$f":"IF(AJ315=\"Y\",(FromEvoM!AE315+FromEvoM!AF315-FromEvoM!AT315),IF(AJ315=\"N\",FromEvoM!AE315,\"\"))","v":""}]
[{"$f":"IF(ISBLANK(FromEvoM!A316),\"\",Group_Code)","v":""},{"$f":"IF(ISBLANK(FromEvoM!A316),\"\",SUBSTITUTE(FromEvoM!A316,\" \",\"\"))","v":""},{"$f":"IF(ISBLANK(FromEvoM!C316),\"\",SUBSTITUTE(FromEvoM!G316,\" \",\"\"))","v":""},{"$f":"IF(ISBLANK(FromEvoM!D316),\"\",FromEvoM!B316)","v":""},{"$f":"IF(ISBLANK(FromEvoM!D316),\"\",FromEvoM!D316)","v":""},{"$f":"IF(ISBLANK(FromEvoM!C316),\"\",FromEvoM!C316)","v":""},{"$f":"REPLACE(FromEvoM!F316,2,6, )","v":""},{"$f":"IF(ISNUMBER(FromEvoM!E316),FromEvoM!E316,\"\")","v":""},{"$f":"IF(ISBLANK(FromEvoM!I316),\"\",FromEvoM!I316)","v":""},{"$f":"IF(ISBLANK(FromEvoM!J316),\"\",FromEvoM!J316)","v":""},{"$f":"IF(ISBLANK(FromEvoM!K316),\"\",FromEvoM!K316)","v":""},{"$f":"IF(ISBLANK(FromEvoM!L316),\"\",FromEvoM!L316)","v":""},{"$f":"IF(ISBLANK(FromEvoM!M316),\"\",FromEvoM!M316)","v":""},{"$f":"IF(ISBLANK(FromEvoM!P316),\"\",FromEvoM!P316)","v":""},null,{"$f":"IF(ISNUMBER(FromEvoM!X316),FromEvoM!X316,\"\")","v":""},{"$f":"IF(ISNUMBER(FromEvoM!AB316),FromEvoM!AB316,\"\")","v":""},{"$f":"IF(ISNUMBER(FromEvoM!AA316),FromEvoM!AA316,\"\")","v":""},null,"","",null,null,{"$f":"IF(FromEvoM!W316=1,(FromEvoM!AB316*12),IF(FromEvoM!W316=7,(FromEvoM!AR316),\"\"))","v":""},null,null,{"$f":"IF(ISBLANK(FromEvoM!A316),\"\",IF(FromEvoM!AK316=\"y\",\"Y\",\"N\"))","v":""},{"$f":"IF(ISBLANK(FromEvoM!A316),\"\",Category_ID)","v":""},null,null,null,{"$f":"IF(ISBLANK(FromEvoM!AK316),\"\",FromEvoM!AK316)","v":""},{"$f":"IF(ISBLANK(FromEvoM!AM316),\"\",FromEvoM!AM316)","v":""},{"$f":"IF(ISBLANK(FromEvoM!AN316),\"\",FromEvoM!AN316)","v":""},{"$f":"IF(ISBLANK(FromEvoM!AL316),\"\",FromEvoM!AL316)","v":""},{"$f":"IF(ISBLANK(FromEvoM!A316),\"\",IF(AND(AF316=\"y\",AI316=1),\"Y\",\"N\"))","v":""},{"$f":"IF(ISBLANK(FromEvoM!A316),\"\",IF(FromEvoM!AS316=\"Yes\",2,1))","v":""},{"$f":"IF(FromEvoM!W316=1,\"M\",IF(FromEvoM!W316=7,\"W\",\"\"))","v":""},{"$f":"IF(AJ316=\"Y\",0,IF(AJ316=\"N\",FromEvoM!AF316+FromEvoM!AT316,\"\"))","v":""},{"$f":"IF(AJ316=\"Y\",(FromEvoM!AE316+FromEvoM!AF316-FromEvoM!AT316),IF(AJ316=\"N\",FromEvoM!AE316,\"\"))","v":""}]
[{"$f":"IF(ISBLANK(FromEvoM!A317),\"\",Group_Code)","v":""},{"$f":"IF(ISBLANK(FromEvoM!A317),\"\",SUBSTITUTE(FromEvoM!A317,\" \",\"\"))","v":""},{"$f":"IF(ISBLANK(FromEvoM!C317),\"\",SUBSTITUTE(FromEvoM!G317,\" \",\"\"))","v":""},{"$f":"IF(ISBLANK(FromEvoM!D317),\"\",FromEvoM!B317)","v":""},{"$f":"IF(ISBLANK(FromEvoM!D317),\"\",FromEvoM!D317)","v":""},{"$f":"IF(ISBLANK(FromEvoM!C317),\"\",FromEvoM!C317)","v":""},{"$f":"REPLACE(FromEvoM!F317,2,6, )","v":""},{"$f":"IF(ISNUMBER(FromEvoM!E317),FromEvoM!E317,\"\")","v":""},{"$f":"IF(ISBLANK(FromEvoM!I317),\"\",FromEvoM!I317)","v":""},{"$f":"IF(ISBLANK(FromEvoM!J317),\"\",FromEvoM!J317)","v":""},{"$f":"IF(ISBLANK(FromEvoM!K317),\"\",FromEvoM!K317)","v":""},{"$f":"IF(ISBLANK(FromEvoM!L317),\"\",FromEvoM!L317)","v":""},{"$f":"IF(ISBLANK(FromEvoM!M317),\"\",FromEvoM!M317)","v":""},{"$f":"IF(ISBLANK(FromEvoM!P317),\"\",FromEvoM!P317)","v":""},null,{"$f":"IF(ISNUMBER(FromEvoM!X317),FromEvoM!X317,\"\")","v":""},{"$f":"IF(ISNUMBER(FromEvoM!AB317),FromEvoM!AB317,\"\")","v":""},{"$f":"IF(ISNUMBER(FromEvoM!AA317),FromEvoM!AA317,\"\")","v":""},null,"","",null,null,{"$f":"IF(FromEvoM!W317=1,(FromEvoM!AB317*12),IF(FromEvoM!W317=7,(FromEvoM!AR317),\"\"))","v":""},null,null,{"$f":"IF(ISBLANK(FromEvoM!A317),\"\",IF(FromEvoM!AK317=\"y\",\"Y\",\"N\"))","v":""},{"$f":"IF(ISBLANK(FromEvoM!A317),\"\",Category_ID)","v":""},null,null,null,{"$f":"IF(ISBLANK(FromEvoM!AK317),\"\",FromEvoM!AK317)","v":""},{"$f":"IF(ISBLANK(FromEvoM!AM317),\"\",FromEvoM!AM317)","v":""},{"$f":"IF(ISBLANK(FromEvoM!AN317),\"\",FromEvoM!AN317)","v":""},{"$f":"IF(ISBLANK(FromEvoM!AL317),\"\",FromEvoM!AL317)","v":""},{"$f":"IF(ISBLANK(FromEvoM!A317),\"\",IF(AND(AF317=\"y\",AI317=1),\"Y\",\"N\"))","v":""},{"$f":"IF(ISBLANK(FromEvoM!A317),\"\",IF(FromEvoM!AS317=\"Yes\",2,1))","v":""},{"$f":"IF(FromEvoM!W317=1,\"M\",IF(FromEvoM!W317=7,\"W\",\"\"))","v":""},{"$f":"IF(AJ317=\"Y\",0,IF(AJ317=\"N\",FromEvoM!AF317+FromEvoM!AT317,\"\"))","v":""},{"$f":"IF(AJ317=\"Y\",(FromEvoM!AE317+FromEvoM!AF317-FromEvoM!AT317),IF(AJ317=\"N\",FromEvoM!AE317,\"\"))","v":""}]
[{"$f":"IF(ISBLANK(FromEvoM!A318),\"\",Group_Code)","v":""},{"$f":"IF(ISBLANK(FromEvoM!A318),\"\",SUBSTITUTE(FromEvoM!A318,\" \",\"\"))","v":""},{"$f":"IF(ISBLANK(FromEvoM!C318),\"\",SUBSTITUTE(FromEvoM!G318,\" \",\"\"))","v":""},{"$f":"IF(ISBLANK(FromEvoM!D318),\"\",FromEvoM!B318)","v":""},{"$f":"IF(ISBLANK(FromEvoM!D318),\"\",FromEvoM!D318)","v":""},{"$f":"IF(ISBLANK(FromEvoM!C318),\"\",FromEvoM!C318)","v":""},{"$f":"REPLACE(FromEvoM!F318,2,6, )","v":""},{"$f":"IF(ISNUMBER(FromEvoM!E318),FromEvoM!E318,\"\")","v":""},{"$f":"IF(ISBLANK(FromEvoM!I318),\"\",FromEvoM!I318)","v":""},{"$f":"IF(ISBLANK(FromEvoM!J318),\"\",FromEvoM!J318)","v":""},{"$f":"IF(ISBLANK(FromEvoM!K318),\"\",FromEvoM!K318)","v":""},{"$f":"IF(ISBLANK(FromEvoM!L318),\"\",FromEvoM!L318)","v":""},{"$f":"IF(ISBLANK(FromEvoM!M318),\"\",FromEvoM!M318)","v":""},{"$f":"IF(ISBLANK(FromEvoM!P318),\"\",FromEvoM!P318)","v":""},null,{"$f":"IF(ISNUMBER(FromEvoM!X318),FromEvoM!X318,\"\")","v":""},{"$f":"IF(ISNUMBER(FromEvoM!AB318),FromEvoM!AB318,\"\")","v":""},{"$f":"IF(ISNUMBER(FromEvoM!AA318),FromEvoM!AA318,\"\")","v":""},null,"","",null,null,{"$f":"IF(FromEvoM!W318=1,(FromEvoM!AB318*12),IF(FromEvoM!W318=7,(FromEvoM!AR318),\"\"))","v":""},null,null,{"$f":"IF(ISBLANK(FromEvoM!A318),\"\",IF(FromEvoM!AK318=\"y\",\"Y\",\"N\"))","v":""},{"$f":"IF(ISBLANK(FromEvoM!A318),\"\",Category_ID)","v":""},null,null,null,{"$f":"IF(ISBLANK(FromEvoM!AK318),\"\",FromEvoM!AK318)","v":""},{"$f":"IF(ISBLANK(FromEvoM!AM318),\"\",FromEvoM!AM318)","v":""},{"$f":"IF(ISBLANK(FromEvoM!AN318),\"\",FromEvoM!AN318)","v":""},{"$f":"IF(ISBLANK(FromEvoM!AL318),\"\",FromEvoM!AL318)","v":""},{"$f":"IF(ISBLANK(FromEvoM!A318),\"\",IF(AND(AF318=\"y\",AI318=1),\"Y\",\"N\"))","v":""},{"$f":"IF(ISBLANK(FromEvoM!A318),\"\",IF(FromEvoM!AS318=\"Yes\",2,1))","v":""},{"$f":"IF(FromEvoM!W318=1,\"M\",IF(FromEvoM!W318=7,\"W\",\"\"))","v":""},{"$f":"IF(AJ318=\"Y\",0,IF(AJ318=\"N\",FromEvoM!AF318+FromEvoM!AT318,\"\"))","v":""},{"$f":"IF(AJ318=\"Y\",(FromEvoM!AE318+FromEvoM!AF318-FromEvoM!AT318),IF(AJ318=\"N\",FromEvoM!AE318,\"\"))","v":""}]
[{"$f":"IF(ISBLANK(FromEvoM!A319),\"\",Group_Code)","v":""},{"$f":"IF(ISBLANK(FromEvoM!A319),\"\",SUBSTITUTE(FromEvoM!A319,\" \",\"\"))","v":""},{"$f":"IF(ISBLANK(FromEvoM!C319),\"\",SUBSTITUTE(FromEvoM!G319,\" \",\"\"))","v":""},{"$f":"IF(ISBLANK(FromEvoM!D319),\"\",FromEvoM!B319)","v":""},{"$f":"IF(ISBLANK(FromEvoM!D319),\"\",FromEvoM!D319)","v":""},{"$f":"IF(ISBLANK(FromEvoM!C319),\"\",FromEvoM!C319)","v":""},{"$f":"REPLACE(FromEvoM!F319,2,6, )","v":""},{"$f":"IF(ISNUMBER(FromEvoM!E319),FromEvoM!E319,\"\")","v":""},{"$f":"IF(ISBLANK(FromEvoM!I319),\"\",FromEvoM!I319)","v":""},{"$f":"IF(ISBLANK(FromEvoM!J319),\"\",FromEvoM!J319)","v":""},{"$f":"IF(ISBLANK(FromEvoM!K319),\"\",FromEvoM!K319)","v":""},{"$f":"IF(ISBLANK(FromEvoM!L319),\"\",FromEvoM!L319)","v":""},{"$f":"IF(ISBLANK(FromEvoM!M319),\"\",FromEvoM!M319)","v":""},{"$f":"IF(ISBLANK(FromEvoM!P319),\"\",FromEvoM!P319)","v":""},null,{"$f":"IF(ISNUMBER(FromEvoM!X319),FromEvoM!X319,\"\")","v":""},{"$f":"IF(ISNUMBER(FromEvoM!AB319),FromEvoM!AB319,\"\")","v":""},{"$f":"IF(ISNUMBER(FromEvoM!AA319),FromEvoM!AA319,\"\")","v":""},null,"","",null,null,{"$f":"IF(FromEvoM!W319=1,(FromEvoM!AB319*12),IF(FromEvoM!W319=7,(FromEvoM!AR319),\"\"))","v":""},null,null,{"$f":"IF(ISBLANK(FromEvoM!A319),\"\",IF(FromEvoM!AK319=\"y\",\"Y\",\"N\"))","v":""},{"$f":"IF(ISBLANK(FromEvoM!A319),\"\",Category_ID)","v":""},null,null,null,{"$f":"IF(ISBLANK(FromEvoM!AK319),\"\",FromEvoM!AK319)","v":""},{"$f":"IF(ISBLANK(FromEvoM!AM319),\"\",FromEvoM!AM319)","v":""},{"$f":"IF(ISBLANK(FromEvoM!AN319),\"\",FromEvoM!AN319)","v":""},{"$f":"IF(ISBLANK(FromEvoM!AL319),\"\",FromEvoM!AL319)","v":""},{"$f":"IF(ISBLANK(FromEvoM!A319),\"\",IF(AND(AF319=\"y\",AI319=1),\"Y\",\"N\"))","v":""},{"$f":"IF(ISBLANK(FromEvoM!A319),\"\",IF(FromEvoM!AS319=\"Yes\",2,1))","v":""},{"$f":"IF(FromEvoM!W319=1,\"M\",IF(FromEvoM!W319=7,\"W\",\"\"))","v":""},{"$f":"IF(AJ319=\"Y\",0,IF(AJ319=\"N\",FromEvoM!AF319+FromEvoM!AT319,\"\"))","v":""},{"$f":"IF(AJ319=\"Y\",(FromEvoM!AE319+FromEvoM!AF319-FromEvoM!AT319),IF(AJ319=\"N\",FromEvoM!AE319,\"\"))","v":""}]
[{"$f":"IF(ISBLANK(FromEvoM!A320),\"\",Group_Code)","v":""},{"$f":"IF(ISBLANK(FromEvoM!A320),\"\",SUBSTITUTE(FromEvoM!A320,\" \",\"\"))","v":""},{"$f":"IF(ISBLANK(FromEvoM!C320),\"\",SUBSTITUTE(FromEvoM!G320,\" \",\"\"))","v":""},{"$f":"IF(ISBLANK(FromEvoM!D320),\"\",FromEvoM!B320)","v":""},{"$f":"IF(ISBLANK(FromEvoM!D320),\"\",FromEvoM!D320)","v":""},{"$f":"IF(ISBLANK(FromEvoM!C320),\"\",FromEvoM!C320)","v":""},{"$f":"REPLACE(FromEvoM!F320,2,6, )","v":""},{"$f":"IF(ISNUMBER(FromEvoM!E320),FromEvoM!E320,\"\")","v":""},{"$f":"IF(ISBLANK(FromEvoM!I320),\"\",FromEvoM!I320)","v":""},{"$f":"IF(ISBLANK(FromEvoM!J320),\"\",FromEvoM!J320)","v":""},{"$f":"IF(ISBLANK(FromEvoM!K320),\"\",FromEvoM!K320)","v":""},{"$f":"IF(ISBLANK(FromEvoM!L320),\"\",FromEvoM!L320)","v":""},{"$f":"IF(ISBLANK(FromEvoM!M320),\"\",FromEvoM!M320)","v":""},{"$f":"IF(ISBLANK(FromEvoM!P320),\"\",FromEvoM!P320)","v":""},null,{"$f":"IF(ISNUMBER(FromEvoM!X320),FromEvoM!X320,\"\")","v":""},{"$f":"IF(ISNUMBER(FromEvoM!AB320),FromEvoM!AB320,\"\")","v":""},{"$f":"IF(ISNUMBER(FromEvoM!AA320),FromEvoM!AA320,\"\")","v":""},null,"","",null,null,{"$f":"IF(FromEvoM!W320=1,(FromEvoM!AB320*12),IF(FromEvoM!W320=7,(FromEvoM!AR320),\"\"))","v":""},null,null,{"$f":"IF(ISBLANK(FromEvoM!A320),\"\",IF(FromEvoM!AK320=\"y\",\"Y\",\"N\"))","v":""},{"$f":"IF(ISBLANK(FromEvoM!A320),\"\",Category_ID)","v":""},null,null,null,{"$f":"IF(ISBLANK(FromEvoM!AK320),\"\",FromEvoM!AK320)","v":""},{"$f":"IF(ISBLANK(FromEvoM!AM320),\"\",FromEvoM!AM320)","v":""},{"$f":"IF(ISBLANK(FromEvoM!AN320),\"\",FromEvoM!AN320)","v":""},{"$f":"IF(ISBLANK(FromEvoM!AL320),\"\",FromEvoM!AL320)","v":""},{"$f":"IF(ISBLANK(FromEvoM!A320),\"\",IF(AND(AF320=\"y\",AI320=1),\"Y\",\"N\"))","v":""},{"$f":"IF(ISBLANK(FromEvoM!A320),\"\",IF(FromEvoM!AS320=\"Yes\",2,1))","v":""},{"$f":"IF(FromEvoM!W320=1,\"M\",IF(FromEvoM!W320=7,\"W\",\"\"))","v":""},{"$f":"IF(AJ320=\"Y\",0,IF(AJ320=\"N\",FromEvoM!AF320+FromEvoM!AT320,\"\"))","v":""},{"$f":"IF(AJ320=\"Y\",(FromEvoM!AE320+FromEvoM!AF320-FromEvoM!AT320),IF(AJ320=\"N\",FromEvoM!AE320,\"\"))","v":""}]
[{"$f":"IF(ISBLANK(FromEvoM!A321),\"\",Group_Code)","v":""},{"$f":"IF(ISBLANK(FromEvoM!A321),\"\",SUBSTITUTE(FromEvoM!A321,\" \",\"\"))","v":""},{"$f":"IF(ISBLANK(FromEvoM!C321),\"\",SUBSTITUTE(FromEvoM!G321,\" \",\"\"))","v":""},{"$f":"IF(ISBLANK(FromEvoM!D321),\"\",FromEvoM!B321)","v":""},{"$f":"IF(ISBLANK(FromEvoM!D321),\"\",FromEvoM!D321)","v":""},{"$f":"IF(ISBLANK(FromEvoM!C321),\"\",FromEvoM!C321)","v":""},{"$f":"REPLACE(FromEvoM!F321,2,6, )","v":""},{"$f":"IF(ISNUMBER(FromEvoM!E321),FromEvoM!E321,\"\")","v":""},{"$f":"IF(ISBLANK(FromEvoM!I321),\"\",FromEvoM!I321)","v":""},{"$f":"IF(ISBLANK(FromEvoM!J321),\"\",FromEvoM!J321)","v":""},{"$f":"IF(ISBLANK(FromEvoM!K321),\"\",FromEvoM!K321)","v":""},{"$f":"IF(ISBLANK(FromEvoM!L321),\"\",FromEvoM!L321)","v":""},{"$f":"IF(ISBLANK(FromEvoM!M321),\"\",FromEvoM!M321)","v":""},{"$f":"IF(ISBLANK(FromEvoM!P321),\"\",FromEvoM!P321)","v":""},null,{"$f":"IF(ISNUMBER(FromEvoM!X321),FromEvoM!X321,\"\")","v":""},{"$f":"IF(ISNUMBER(FromEvoM!AB321),FromEvoM!AB321,\"\")","v":""},{"$f":"IF(ISNUMBER(FromEvoM!AA321),FromEvoM!AA321,\"\")","v":""},null,"","",null,null,{"$f":"IF(FromEvoM!W321=1,(FromEvoM!AB321*12),IF(FromEvoM!W321=7,(FromEvoM!AR321),\"\"))","v":""},null,null,{"$f":"IF(ISBLANK(FromEvoM!A321),\"\",IF(FromEvoM!AK321=\"y\",\"Y\",\"N\"))","v":""},{"$f":"IF(ISBLANK(FromEvoM!A321),\"\",Category_ID)","v":""},null,null,null,{"$f":"IF(ISBLANK(FromEvoM!AK321),\"\",FromEvoM!AK321)","v":""},{"$f":"IF(ISBLANK(FromEvoM!AM321),\"\",FromEvoM!AM321)","v":""},{"$f":"IF(ISBLANK(FromEvoM!AN321),\"\",FromEvoM!AN321)","v":""},{"$f":"IF(ISBLANK(FromEvoM!AL321),\"\",FromEvoM!AL321)","v":""},{"$f":"IF(ISBLANK(FromEvoM!A321),\"\",IF(AND(AF321=\"y\",AI321=1),\"Y\",\"N\"))","v":""},{"$f":"IF(ISBLANK(FromEvoM!A321),\"\",IF(FromEvoM!AS321=\"Yes\",2,1))","v":""},{"$f":"IF(FromEvoM!W321=1,\"M\",IF(FromEvoM!W321=7,\"W\",\"\"))","v":""},{"$f":"IF(AJ321=\"Y\",0,IF(AJ321=\"N\",FromEvoM!AF321+FromEvoM!AT321,\"\"))","v":""},{"$f":"IF(AJ321=\"Y\",(FromEvoM!AE321+FromEvoM!AF321-FromEvoM!AT321),IF(AJ321=\"N\",FromEvoM!AE321,\"\"))","v":""}]
[{"$f":"IF(ISBLANK(FromEvoM!A322),\"\",Group_Code)","v":""},{"$f":"IF(ISBLANK(FromEvoM!A322),\"\",SUBSTITUTE(FromEvoM!A322,\" \",\"\"))","v":""},{"$f":"IF(ISBLANK(FromEvoM!C322),\"\",SUBSTITUTE(FromEvoM!G322,\" \",\"\"))","v":""},{"$f":"IF(ISBLANK(FromEvoM!D322),\"\",FromEvoM!B322)","v":""},{"$f":"IF(ISBLANK(FromEvoM!D322),\"\",FromEvoM!D322)","v":""},{"$f":"IF(ISBLANK(FromEvoM!C322),\"\",FromEvoM!C322)","v":""},{"$f":"REPLACE(FromEvoM!F322,2,6, )","v":""},{"$f":"IF(ISNUMBER(FromEvoM!E322),FromEvoM!E322,\"\")","v":""},{"$f":"IF(ISBLANK(FromEvoM!I322),\"\",FromEvoM!I322)","v":""},{"$f":"IF(ISBLANK(FromEvoM!J322),\"\",FromEvoM!J322)","v":""},{"$f":"IF(ISBLANK(FromEvoM!K322),\"\",FromEvoM!K322)","v":""},{"$f":"IF(ISBLANK(FromEvoM!L322),\"\",FromEvoM!L322)","v":""},{"$f":"IF(ISBLANK(FromEvoM!M322),\"\",FromEvoM!M322)","v":""},{"$f":"IF(ISBLANK(FromEvoM!P322),\"\",FromEvoM!P322)","v":""},null,{"$f":"IF(ISNUMBER(FromEvoM!X322),FromEvoM!X322,\"\")","v":""},{"$f":"IF(ISNUMBER(FromEvoM!AB322),FromEvoM!AB322,\"\")","v":""},{"$f":"IF(ISNUMBER(FromEvoM!AA322),FromEvoM!AA322,\"\")","v":""},null,"","",null,null,{"$f":"IF(FromEvoM!W322=1,(FromEvoM!AB322*12),IF(FromEvoM!W322=7,(FromEvoM!AR322),\"\"))","v":""},null,null,{"$f":"IF(ISBLANK(FromEvoM!A322),\"\",IF(FromEvoM!AK322=\"y\",\"Y\",\"N\"))","v":""},{"$f":"IF(ISBLANK(FromEvoM!A322),\"\",Category_ID)","v":""},null,null,null,{"$f":"IF(ISBLANK(FromEvoM!AK322),\"\",FromEvoM!AK322)","v":""},{"$f":"IF(ISBLANK(FromEvoM!AM322),\"\",FromEvoM!AM322)","v":""},{"$f":"IF(ISBLANK(FromEvoM!AN322),\"\",FromEvoM!AN322)","v":""},{"$f":"IF(ISBLANK(FromEvoM!AL322),\"\",FromEvoM!AL322)","v":""},{"$f":"IF(ISBLANK(FromEvoM!A322),\"\",IF(AND(AF322=\"y\",AI322=1),\"Y\",\"N\"))","v":""},{"$f":"IF(ISBLANK(FromEvoM!A322),\"\",IF(FromEvoM!AS322=\"Yes\",2,1))","v":""},{"$f":"IF(FromEvoM!W322=1,\"M\",IF(FromEvoM!W322=7,\"W\",\"\"))","v":""},{"$f":"IF(AJ322=\"Y\",0,IF(AJ322=\"N\",FromEvoM!AF322+FromEvoM!AT322,\"\"))","v":""},{"$f":"IF(AJ322=\"Y\",(FromEvoM!AE322+FromEvoM!AF322-FromEvoM!AT322),IF(AJ322=\"N\",FromEvoM!AE322,\"\"))","v":""}]
[{"$f":"IF(ISBLANK(FromEvoM!A323),\"\",Group_Code)","v":""},{"$f":"IF(ISBLANK(FromEvoM!A323),\"\",SUBSTITUTE(FromEvoM!A323,\" \",\"\"))","v":""},{"$f":"IF(ISBLANK(FromEvoM!C323),\"\",SUBSTITUTE(FromEvoM!G323,\" \",\"\"))","v":""},{"$f":"IF(ISBLANK(FromEvoM!D323),\"\",FromEvoM!B323)","v":""},{"$f":"IF(ISBLANK(FromEvoM!D323),\"\",FromEvoM!D323)","v":""},{"$f":"IF(ISBLANK(FromEvoM!C323),\"\",FromEvoM!C323)","v":""},{"$f":"REPLACE(FromEvoM!F323,2,6, )","v":""},{"$f":"IF(ISNUMBER(FromEvoM!E323),FromEvoM!E323,\"\")","v":""},{"$f":"IF(ISBLANK(FromEvoM!I323),\"\",FromEvoM!I323)","v":""},{"$f":"IF(ISBLANK(FromEvoM!J323),\"\",FromEvoM!J323)","v":""},{"$f":"IF(ISBLANK(FromEvoM!K323),\"\",FromEvoM!K323)","v":""},{"$f":"IF(ISBLANK(FromEvoM!L323),\"\",FromEvoM!L323)","v":""},{"$f":"IF(ISBLANK(FromEvoM!M323),\"\",FromEvoM!M323)","v":""},{"$f":"IF(ISBLANK(FromEvoM!P323),\"\",FromEvoM!P323)","v":""},null,{"$f":"IF(ISNUMBER(FromEvoM!X323),FromEvoM!X323,\"\")","v":""},{"$f":"IF(ISNUMBER(FromEvoM!AB323),FromEvoM!AB323,\"\")","v":""},{"$f":"IF(ISNUMBER(FromEvoM!AA323),FromEvoM!AA323,\"\")","v":""},null,{"$f":"AM323","v":""},{"$f":"AN323","v":""},null,null,{"$f":"IF(FromEvoM!W323=1,(FromEvoM!AB323*12),IF(FromEvoM!W323=7,(FromEvoM!AR323),\"\"))","v":""},null,null,{"$f":"IF(ISBLANK(FromEvoM!A323),\"\",IF(FromEvoM!AK323=\"y\",\"Y\",\"N\"))","v":""},{"$f":"IF(ISBLANK(FromEvoM!A323),\"\",Category_ID)","v":""},null,null,null,{"$f":"IF(ISBLANK(FromEvoM!AK323),\"\",FromEvoM!AK323)","v":""},{"$f":"IF(ISBLANK(FromEvoM!AM323),\"\",FromEvoM!AM323)","v":""},{"$f":"IF(ISBLANK(FromEvoM!AN323),\"\",FromEvoM!AN323)","v":""},{"$f":"IF(ISBLANK(FromEvoM!AL323),\"\",FromEvoM!AL323)","v":""},{"$f":"IF(ISBLANK(FromEvoM!A323),\"\",IF(AND(AF323=\"y\",AI323=1),\"Y\",\"N\"))","v":""},{"$f":"IF(ISBLANK(FromEvoM!A323),\"\",IF(FromEvoM!AS323=\"Yes\",2,1))","v":""},{"$f":"IF(FromEvoM!W323=1,\"M\",IF(FromEvoM!W323=7,\"W\",\"\"))","v":""},{"$f":"IF(AJ323=\"Y\",0,IF(AJ323=\"N\",FromEvoM!AF323+FromEvoM!AT323,\"\"))","v":""},{"$f":"IF(AJ323=\"Y\",(FromEvoM!AE323+FromEvoM!AF323-FromEvoM!AT323),IF(AJ323=\"N\",FromEvoM!AE323,\"\"))","v":""}]
[{"$f":"IF(ISBLANK(FromEvoM!A324),\"\",Group_Code)","v":""},{"$f":"IF(ISBLANK(FromEvoM!A324),\"\",SUBSTITUTE(FromEvoM!A324,\" \",\"\"))","v":""},{"$f":"IF(ISBLANK(FromEvoM!C324),\"\",SUBSTITUTE(FromEvoM!G324,\" \",\"\"))","v":""},{"$f":"IF(ISBLANK(FromEvoM!D324),\"\",FromEvoM!B324)","v":""},{"$f":"IF(ISBLANK(FromEvoM!D324),\"\",FromEvoM!D324)","v":""},{"$f":"IF(ISBLANK(FromEvoM!C324),\"\",FromEvoM!C324)","v":""},{"$f":"REPLACE(FromEvoM!F324,2,6, )","v":""},{"$f":"IF(ISNUMBER(FromEvoM!E324),FromEvoM!E324,\"\")","v":""},{"$f":"IF(ISBLANK(FromEvoM!I324),\"\",FromEvoM!I324)","v":""},{"$f":"IF(ISBLANK(FromEvoM!J324),\"\",FromEvoM!J324)","v":""},{"$f":"IF(ISBLANK(FromEvoM!K324),\"\",FromEvoM!K324)","v":""},{"$f":"IF(ISBLANK(FromEvoM!L324),\"\",FromEvoM!L324)","v":""},{"$f":"IF(ISBLANK(FromEvoM!M324),\"\",FromEvoM!M324)","v":""},{"$f":"IF(ISBLANK(FromEvoM!P324),\"\",FromEvoM!P324)","v":""},null,{"$f":"IF(ISNUMBER(FromEvoM!X324),FromEvoM!X324,\"\")","v":""},{"$f":"IF(ISNUMBER(FromEvoM!AB324),FromEvoM!AB324,\"\")","v":""},{"$f":"IF(ISNUMBER(FromEvoM!AA324),FromEvoM!AA324,\"\")","v":""},null,"","",null,null,{"$f":"IF(FromEvoM!W324=1,(FromEvoM!AB324*12),IF(FromEvoM!W324=7,(FromEvoM!AR324),\"\"))","v":""},null,null,{"$f":"IF(ISBLANK(FromEvoM!A324),\"\",IF(FromEvoM!AK324=\"y\",\"Y\",\"N\"))","v":""},{"$f":"IF(ISBLANK(FromEvoM!A324),\"\",Category_ID)","v":""},null,null,null,{"$f":"IF(ISBLANK(FromEvoM!AK324),\"\",FromEvoM!AK324)","v":""},{"$f":"IF(ISBLANK(FromEvoM!AM324),\"\",FromEvoM!AM324)","v":""},{"$f":"IF(ISBLANK(FromEvoM!AN324),\"\",FromEvoM!AN324)","v":""},{"$f":"IF(ISBLANK(FromEvoM!AL324),\"\",FromEvoM!AL324)","v":""},{"$f":"IF(ISBLANK(FromEvoM!A324),\"\",IF(AND(AF324=\"y\",AI324=1),\"Y\",\"N\"))","v":""},{"$f":"IF(ISBLANK(FromEvoM!A324),\"\",IF(FromEvoM!AS324=\"Yes\",2,1))","v":""},{"$f":"IF(FromEvoM!W324=1,\"M\",IF(FromEvoM!W324=7,\"W\",\"\"))","v":""},{"$f":"IF(AJ324=\"Y\",0,IF(AJ324=\"N\",FromEvoM!AF324+FromEvoM!AT324,\"\"))","v":""},{"$f":"IF(AJ324=\"Y\",(FromEvoM!AE324+FromEvoM!AF324-FromEvoM!AT324),IF(AJ324=\"N\",FromEvoM!AE324,\"\"))","v":""}]
[{"$f":"IF(ISBLANK(FromEvoM!A325),\"\",Group_Code)","v":""},{"$f":"IF(ISBLANK(FromEvoM!A325),\"\",SUBSTITUTE(FromEvoM!A325,\" \",\"\"))","v":""},{"$f":"IF(ISBLANK(FromEvoM!C325),\"\",SUBSTITUTE(FromEvoM!G325,\" \",\"\"))","v":""},{"$f":"IF(ISBLANK(FromEvoM!D325),\"\",FromEvoM!B325)","v":""},{"$f":"IF(ISBLANK(FromEvoM!D325),\"\",FromEvoM!D325)","v":""},{"$f":"IF(ISBLANK(FromEvoM!C325),\"\",FromEvoM!C325)","v":""},{"$f":"REPLACE(FromEvoM!F325,2,6, )","v":""},{"$f":"IF(ISNUMBER(FromEvoM!E325),FromEvoM!E325,\"\")","v":""},{"$f":"IF(ISBLANK(FromEvoM!I325),\"\",FromEvoM!I325)","v":""},{"$f":"IF(ISBLANK(FromEvoM!J325),\"\",FromEvoM!J325)","v":""},{"$f":"IF(ISBLANK(FromEvoM!K325),\"\",FromEvoM!K325)","v":""},{"$f":"IF(ISBLANK(FromEvoM!L325),\"\",FromEvoM!L325)","v":""},{"$f":"IF(ISBLANK(FromEvoM!M325),\"\",FromEvoM!M325)","v":""},{"$f":"IF(ISBLANK(FromEvoM!P325),\"\",FromEvoM!P325)","v":""},null,{"$f":"IF(ISNUMBER(FromEvoM!X325),FromEvoM!X325,\"\")","v":""},{"$f":"IF(ISNUMBER(FromEvoM!AB325),FromEvoM!AB325,\"\")","v":""},{"$f":"IF(ISNUMBER(FromEvoM!AA325),FromEvoM!AA325,\"\")","v":""},null,"","",null,null,{"$f":"IF(FromEvoM!W325=1,(FromEvoM!AB325*12),IF(FromEvoM!W325=7,(FromEvoM!AR325),\"\"))","v":""},null,null,{"$f":"IF(ISBLANK(FromEvoM!A325),\"\",IF(FromEvoM!AK325=\"y\",\"Y\",\"N\"))","v":""},{"$f":"IF(ISBLANK(FromEvoM!A325),\"\",Category_ID)","v":""},null,null,null,{"$f":"IF(ISBLANK(FromEvoM!AK325),\"\",FromEvoM!AK325)","v":""},{"$f":"IF(ISBLANK(FromEvoM!AM325),\"\",FromEvoM!AM325)","v":""},{"$f":"IF(ISBLANK(FromEvoM!AN325),\"\",FromEvoM!AN325)","v":""},{"$f":"IF(ISBLANK(FromEvoM!AL325),\"\",FromEvoM!AL325)","v":""},{"$f":"IF(ISBLANK(FromEvoM!A325),\"\",IF(AND(AF325=\"y\",AI325=1),\"Y\",\"N\"))","v":""},{"$f":"IF(ISBLANK(FromEvoM!A325),\"\",IF(FromEvoM!AS325=\"Yes\",2,1))","v":""},{"$f":"IF(FromEvoM!W325=1,\"M\",IF(FromEvoM!W325=7,\"W\",\"\"))","v":""},{"$f":"IF(AJ325=\"Y\",0,IF(AJ325=\"N\",FromEvoM!AF325+FromEvoM!AT325,\"\"))","v":""},{"$f":"IF(AJ325=\"Y\",(FromEvoM!AE325+FromEvoM!AF325-FromEvoM!AT325),IF(AJ325=\"N\",FromEvoM!AE325,\"\"))","v":""}]
[{"$f":"IF(ISBLANK(FromEvoM!A326),\"\",Group_Code)","v":""},{"$f":"IF(ISBLANK(FromEvoM!A326),\"\",SUBSTITUTE(FromEvoM!A326,\" \",\"\"))","v":""},{"$f":"IF(ISBLANK(FromEvoM!C326),\"\",SUBSTITUTE(FromEvoM!G326,\" \",\"\"))","v":""},{"$f":"IF(ISBLANK(FromEvoM!D326),\"\",FromEvoM!B326)","v":""},{"$f":"IF(ISBLANK(FromEvoM!D326),\"\",FromEvoM!D326)","v":""},{"$f":"IF(ISBLANK(FromEvoM!C326),\"\",FromEvoM!C326)","v":""},{"$f":"REPLACE(FromEvoM!F326,2,6, )","v":""},{"$f":"IF(ISNUMBER(FromEvoM!E326),FromEvoM!E326,\"\")","v":""},{"$f":"IF(ISBLANK(FromEvoM!I326),\"\",FromEvoM!I326)","v":""},{"$f":"IF(ISBLANK(FromEvoM!J326),\"\",FromEvoM!J326)","v":""},{"$f":"IF(ISBLANK(FromEvoM!K326),\"\",FromEvoM!K326)","v":""},{"$f":"IF(ISBLANK(FromEvoM!L326),\"\",FromEvoM!L326)","v":""},{"$f":"IF(ISBLANK(FromEvoM!M326),\"\",FromEvoM!M326)","v":""},{"$f":"IF(ISBLANK(FromEvoM!P326),\"\",FromEvoM!P326)","v":""},null,{"$f":"IF(ISNUMBER(FromEvoM!X326),FromEvoM!X326,\"\")","v":""},{"$f":"IF(ISNUMBER(FromEvoM!AB326),FromEvoM!AB326,\"\")","v":""},{"$f":"IF(ISNUMBER(FromEvoM!AA326),FromEvoM!AA326,\"\")","v":""},null,"","",null,null,{"$f":"IF(FromEvoM!W326=1,(FromEvoM!AB326*12),IF(FromEvoM!W326=7,(FromEvoM!AR326),\"\"))","v":""},null,null,{"$f":"IF(ISBLANK(FromEvoM!A326),\"\",IF(FromEvoM!AK326=\"y\",\"Y\",\"N\"))","v":""},{"$f":"IF(ISBLANK(FromEvoM!A326),\"\",Category_ID)","v":""},null,null,null,{"$f":"IF(ISBLANK(FromEvoM!AK326),\"\",FromEvoM!AK326)","v":""},{"$f":"IF(ISBLANK(FromEvoM!AM326),\"\",FromEvoM!AM326)","v":""},{"$f":"IF(ISBLANK(FromEvoM!AN326),\"\",FromEvoM!AN326)","v":""},{"$f":"IF(ISBLANK(FromEvoM!AL326),\"\",FromEvoM!AL326)","v":""},{"$f":"IF(ISBLANK(FromEvoM!A326),\"\",IF(AND(AF326=\"y\",AI326=1),\"Y\",\"N\"))","v":""},{"$f":"IF(ISBLANK(FromEvoM!A326),\"\",IF(FromEvoM!AS326=\"Yes\",2,1))","v":""},{"$f":"IF(FromEvoM!W326=1,\"M\",IF(FromEvoM!W326=7,\"W\",\"\"))","v":""},{"$f":"IF(AJ326=\"Y\",0,IF(AJ326=\"N\",FromEvoM!AF326+FromEvoM!AT326,\"\"))","v":""},{"$f":"IF(AJ326=\"Y\",(FromEvoM!AE326+FromEvoM!AF326-FromEvoM!AT326),IF(AJ326=\"N\",FromEvoM!AE326,\"\"))","v":""}]
[{"$f":"IF(ISBLANK(FromEvoM!A327),\"\",Group_Code)","v":""},{"$f":"IF(ISBLANK(FromEvoM!A327),\"\",SUBSTITUTE(FromEvoM!A327,\" \",\"\"))","v":""},{"$f":"IF(ISBLANK(FromEvoM!C327),\"\",SUBSTITUTE(FromEvoM!G327,\" \",\"\"))","v":""},{"$f":"IF(ISBLANK(FromEvoM!D327),\"\",FromEvoM!B327)","v":""},{"$f":"IF(ISBLANK(FromEvoM!D327),\"\",FromEvoM!D327)","v":""},{"$f":"IF(ISBLANK(FromEvoM!C327),\"\",FromEvoM!C327)","v":""},{"$f":"REPLACE(FromEvoM!F327,2,6, )","v":""},{"$f":"IF(ISNUMBER(FromEvoM!E327),FromEvoM!E327,\"\")","v":""},{"$f":"IF(ISBLANK(FromEvoM!I327),\"\",FromEvoM!I327)","v":""},{"$f":"IF(ISBLANK(FromEvoM!J327),\"\",FromEvoM!J327)","v":""},{"$f":"IF(ISBLANK(FromEvoM!K327),\"\",FromEvoM!K327)","v":""},{"$f":"IF(ISBLANK(FromEvoM!L327),\"\",FromEvoM!L327)","v":""},{"$f":"IF(ISBLANK(FromEvoM!M327),\"\",FromEvoM!M327)","v":""},{"$f":"IF(ISBLANK(FromEvoM!P327),\"\",FromEvoM!P327)","v":""},null,{"$f":"IF(ISNUMBER(FromEvoM!X327),FromEvoM!X327,\"\")","v":""},{"$f":"IF(ISNUMBER(FromEvoM!AB327),FromEvoM!AB327,\"\")","v":""},{"$f":"IF(ISNUMBER(FromEvoM!AA327),FromEvoM!AA327,\"\")","v":""},null,"","",null,null,{"$f":"IF(FromEvoM!W327=1,(FromEvoM!AB327*12),IF(FromEvoM!W327=7,(FromEvoM!AR327),\"\"))","v":""},null,null,{"$f":"IF(ISBLANK(FromEvoM!A327),\"\",IF(FromEvoM!AK327=\"y\",\"Y\",\"N\"))","v":""},{"$f":"IF(ISBLANK(FromEvoM!A327),\"\",Category_ID)","v":""},null,null,null,{"$f":"IF(ISBLANK(FromEvoM!AK327),\"\",FromEvoM!AK327)","v":""},{"$f":"IF(ISBLANK(FromEvoM!AM327),\"\",FromEvoM!AM327)","v":""},{"$f":"IF(ISBLANK(FromEvoM!AN327),\"\",FromEvoM!AN327)","v":""},{"$f":"IF(ISBLANK(FromEvoM!AL327),\"\",FromEvoM!AL327)","v":""},{"$f":"IF(ISBLANK(FromEvoM!A327),\"\",IF(AND(AF327=\"y\",AI327=1),\"Y\",\"N\"))","v":""},{"$f":"IF(ISBLANK(FromEvoM!A327),\"\",IF(FromEvoM!AS327=\"Yes\",2,1))","v":""},{"$f":"IF(FromEvoM!W327=1,\"M\",IF(FromEvoM!W327=7,\"W\",\"\"))","v":""},{"$f":"IF(AJ327=\"Y\",0,IF(AJ327=\"N\",FromEvoM!AF327+FromEvoM!AT327,\"\"))","v":""},{"$f":"IF(AJ327=\"Y\",(FromEvoM!AE327+FromEvoM!AF327-FromEvoM!AT327),IF(AJ327=\"N\",FromEvoM!AE327,\"\"))","v":""}]
[{"$f":"IF(ISBLANK(FromEvoM!A328),\"\",Group_Code)","v":""},{"$f":"IF(ISBLANK(FromEvoM!A328),\"\",SUBSTITUTE(FromEvoM!A328,\" \",\"\"))","v":""},{"$f":"IF(ISBLANK(FromEvoM!C328),\"\",SUBSTITUTE(FromEvoM!G328,\" \",\"\"))","v":""},{"$f":"IF(ISBLANK(FromEvoM!D328),\"\",FromEvoM!B328)","v":""},{"$f":"IF(ISBLANK(FromEvoM!D328),\"\",FromEvoM!D328)","v":""},{"$f":"IF(ISBLANK(FromEvoM!C328),\"\",FromEvoM!C328)","v":""},{"$f":"REPLACE(FromEvoM!F328,2,6, )","v":""},{"$f":"IF(ISNUMBER(FromEvoM!E328),FromEvoM!E328,\"\")","v":""},{"$f":"IF(ISBLANK(FromEvoM!I328),\"\",FromEvoM!I328)","v":""},{"$f":"IF(ISBLANK(FromEvoM!J328),\"\",FromEvoM!J328)","v":""},{"$f":"IF(ISBLANK(FromEvoM!K328),\"\",FromEvoM!K328)","v":""},{"$f":"IF(ISBLANK(FromEvoM!L328),\"\",FromEvoM!L328)","v":""},{"$f":"IF(ISBLANK(FromEvoM!M328),\"\",FromEvoM!M328)","v":""},{"$f":"IF(ISBLANK(FromEvoM!P328),\"\",FromEvoM!P328)","v":""},null,{"$f":"IF(ISNUMBER(FromEvoM!X328),FromEvoM!X328,\"\")","v":""},{"$f":"IF(ISNUMBER(FromEvoM!AB328),FromEvoM!AB328,\"\")","v":""},{"$f":"IF(ISNUMBER(FromEvoM!AA328),FromEvoM!AA328,\"\")","v":""},null,"","",null,null,{"$f":"IF(FromEvoM!W328=1,(FromEvoM!AB328*12),IF(FromEvoM!W328=7,(FromEvoM!AR328),\"\"))","v":""},null,null,{"$f":"IF(ISBLANK(FromEvoM!A328),\"\",IF(FromEvoM!AK328=\"y\",\"Y\",\"N\"))","v":""},{"$f":"IF(ISBLANK(FromEvoM!A328),\"\",Category_ID)","v":""},null,null,null,{"$f":"IF(ISBLANK(FromEvoM!AK328),\"\",FromEvoM!AK328)","v":""},{"$f":"IF(ISBLANK(FromEvoM!AM328),\"\",FromEvoM!AM328)","v":""},{"$f":"IF(ISBLANK(FromEvoM!AN328),\"\",FromEvoM!AN328)","v":""},{"$f":"IF(ISBLANK(FromEvoM!AL328),\"\",FromEvoM!AL328)","v":""},{"$f":"IF(ISBLANK(FromEvoM!A328),\"\",IF(AND(AF328=\"y\",AI328=1),\"Y\",\"N\"))","v":""},{"$f":"IF(ISBLANK(FromEvoM!A328),\"\",IF(FromEvoM!AS328=\"Yes\",2,1))","v":""},{"$f":"IF(FromEvoM!W328=1,\"M\",IF(FromEvoM!W328=7,\"W\",\"\"))","v":""},{"$f":"IF(AJ328=\"Y\",0,IF(AJ328=\"N\",FromEvoM!AF328+FromEvoM!AT328,\"\"))","v":""},{"$f":"IF(AJ328=\"Y\",(FromEvoM!AE328+FromEvoM!AF328-FromEvoM!AT328),IF(AJ328=\"N\",FromEvoM!AE328,\"\"))","v":""}]
[{"$f":"IF(ISBLANK(FromEvoM!A329),\"\",Group_Code)","v":""},{"$f":"IF(ISBLANK(FromEvoM!A329),\"\",SUBSTITUTE(FromEvoM!A329,\" \",\"\"))","v":""},{"$f":"IF(ISBLANK(FromEvoM!C329),\"\",SUBSTITUTE(FromEvoM!G329,\" \",\"\"))","v":""},{"$f":"IF(ISBLANK(FromEvoM!D329),\"\",FromEvoM!B329)","v":""},{"$f":"IF(ISBLANK(FromEvoM!D329),\"\",FromEvoM!D329)","v":""},{"$f":"IF(ISBLANK(FromEvoM!C329),\"\",FromEvoM!C329)","v":""},{"$f":"REPLACE(FromEvoM!F329,2,6, )","v":""},{"$f":"IF(ISNUMBER(FromEvoM!E329),FromEvoM!E329,\"\")","v":""},{"$f":"IF(ISBLANK(FromEvoM!I329),\"\",FromEvoM!I329)","v":""},{"$f":"IF(ISBLANK(FromEvoM!J329),\"\",FromEvoM!J329)","v":""},{"$f":"IF(ISBLANK(FromEvoM!K329),\"\",FromEvoM!K329)","v":""},{"$f":"IF(ISBLANK(FromEvoM!L329),\"\",FromEvoM!L329)","v":""},{"$f":"IF(ISBLANK(FromEvoM!M329),\"\",FromEvoM!M329)","v":""},{"$f":"IF(ISBLANK(FromEvoM!P329),\"\",FromEvoM!P329)","v":""},null,{"$f":"IF(ISNUMBER(FromEvoM!X329),FromEvoM!X329,\"\")","v":""},{"$f":"IF(ISNUMBER(FromEvoM!AB329),FromEvoM!AB329,\"\")","v":""},{"$f":"IF(ISNUMBER(FromEvoM!AA329),FromEvoM!AA329,\"\")","v":""},null,"","",null,null,{"$f":"IF(FromEvoM!W329=1,(FromEvoM!AB329*12),IF(FromEvoM!W329=7,(FromEvoM!AR329),\"\"))","v":""},null,null,{"$f":"IF(ISBLANK(FromEvoM!A329),\"\",IF(FromEvoM!AK329=\"y\",\"Y\",\"N\"))","v":""},{"$f":"IF(ISBLANK(FromEvoM!A329),\"\",Category_ID)","v":""},null,null,null,{"$f":"IF(ISBLANK(FromEvoM!AK329),\"\",FromEvoM!AK329)","v":""},{"$f":"IF(ISBLANK(FromEvoM!AM329),\"\",FromEvoM!AM329)","v":""},{"$f":"IF(ISBLANK(FromEvoM!AN329),\"\",FromEvoM!AN329)","v":""},{"$f":"IF(ISBLANK(FromEvoM!AL329),\"\",FromEvoM!AL329)","v":""},{"$f":"IF(ISBLANK(FromEvoM!A329),\"\",IF(AND(AF329=\"y\",AI329=1),\"Y\",\"N\"))","v":""},{"$f":"IF(ISBLANK(FromEvoM!A329),\"\",IF(FromEvoM!AS329=\"Yes\",2,1))","v":""},{"$f":"IF(FromEvoM!W329=1,\"M\",IF(FromEvoM!W329=7,\"W\",\"\"))","v":""},{"$f":"IF(AJ329=\"Y\",0,IF(AJ329=\"N\",FromEvoM!AF329+FromEvoM!AT329,\"\"))","v":""},{"$f":"IF(AJ329=\"Y\",(FromEvoM!AE329+FromEvoM!AF329-FromEvoM!AT329),IF(AJ329=\"N\",FromEvoM!AE329,\"\"))","v":""}]
[{"$f":"IF(ISBLANK(FromEvoM!A330),\"\",Group_Code)","v":""},{"$f":"IF(ISBLANK(FromEvoM!A330),\"\",SUBSTITUTE(FromEvoM!A330,\" \",\"\"))","v":""},{"$f":"IF(ISBLANK(FromEvoM!C330),\"\",SUBSTITUTE(FromEvoM!G330,\" \",\"\"))","v":""},{"$f":"IF(ISBLANK(FromEvoM!D330),\"\",FromEvoM!B330)","v":""},{"$f":"IF(ISBLANK(FromEvoM!D330),\"\",FromEvoM!D330)","v":""},{"$f":"IF(ISBLANK(FromEvoM!C330),\"\",FromEvoM!C330)","v":""},{"$f":"REPLACE(FromEvoM!F330,2,6, )","v":""},{"$f":"IF(ISNUMBER(FromEvoM!E330),FromEvoM!E330,\"\")","v":""},{"$f":"IF(ISBLANK(FromEvoM!I330),\"\",FromEvoM!I330)","v":""},{"$f":"IF(ISBLANK(FromEvoM!J330),\"\",FromEvoM!J330)","v":""},{"$f":"IF(ISBLANK(FromEvoM!K330),\"\",FromEvoM!K330)","v":""},{"$f":"IF(ISBLANK(FromEvoM!L330),\"\",FromEvoM!L330)","v":""},{"$f":"IF(ISBLANK(FromEvoM!M330),\"\",FromEvoM!M330)","v":""},{"$f":"IF(ISBLANK(FromEvoM!P330),\"\",FromEvoM!P330)","v":""},null,{"$f":"IF(ISNUMBER(FromEvoM!X330),FromEvoM!X330,\"\")","v":""},{"$f":"IF(ISNUMBER(FromEvoM!AB330),FromEvoM!AB330,\"\")","v":""},{"$f":"IF(ISNUMBER(FromEvoM!AA330),FromEvoM!AA330,\"\")","v":""},null,"","",null,null,{"$f":"IF(FromEvoM!W330=1,(FromEvoM!AB330*12),IF(FromEvoM!W330=7,(FromEvoM!AR330),\"\"))","v":""},null,null,{"$f":"IF(ISBLANK(FromEvoM!A330),\"\",IF(FromEvoM!AK330=\"y\",\"Y\",\"N\"))","v":""},{"$f":"IF(ISBLANK(FromEvoM!A330),\"\",Category_ID)","v":""},null,null,null,{"$f":"IF(ISBLANK(FromEvoM!AK330),\"\",FromEvoM!AK330)","v":""},{"$f":"IF(ISBLANK(FromEvoM!AM330),\"\",FromEvoM!AM330)","v":""},{"$f":"IF(ISBLANK(FromEvoM!AN330),\"\",FromEvoM!AN330)","v":""},{"$f":"IF(ISBLANK(FromEvoM!AL330),\"\",FromEvoM!AL330)","v":""},{"$f":"IF(ISBLANK(FromEvoM!A330),\"\",IF(AND(AF330=\"y\",AI330=1),\"Y\",\"N\"))","v":""},{"$f":"IF(ISBLANK(FromEvoM!A330),\"\",IF(FromEvoM!AS330=\"Yes\",2,1))","v":""},{"$f":"IF(FromEvoM!W330=1,\"M\",IF(FromEvoM!W330=7,\"W\",\"\"))","v":""},{"$f":"IF(AJ330=\"Y\",0,IF(AJ330=\"N\",FromEvoM!AF330+FromEvoM!AT330,\"\"))","v":""},{"$f":"IF(AJ330=\"Y\",(FromEvoM!AE330+FromEvoM!AF330-FromEvoM!AT330),IF(AJ330=\"N\",FromEvoM!AE330,\"\"))","v":""}]
[{"$f":"IF(ISBLANK(FromEvoM!A331),\"\",Group_Code)","v":""},{"$f":"IF(ISBLANK(FromEvoM!A331),\"\",SUBSTITUTE(FromEvoM!A331,\" \",\"\"))","v":""},{"$f":"IF(ISBLANK(FromEvoM!C331),\"\",SUBSTITUTE(FromEvoM!G331,\" \",\"\"))","v":""},{"$f":"IF(ISBLANK(FromEvoM!D331),\"\",FromEvoM!B331)","v":""},{"$f":"IF(ISBLANK(FromEvoM!D331),\"\",FromEvoM!D331)","v":""},{"$f":"IF(ISBLANK(FromEvoM!C331),\"\",FromEvoM!C331)","v":""},{"$f":"REPLACE(FromEvoM!F331,2,6, )","v":""},{"$f":"IF(ISNUMBER(FromEvoM!E331),FromEvoM!E331,\"\")","v":""},{"$f":"IF(ISBLANK(FromEvoM!I331),\"\",FromEvoM!I331)","v":""},{"$f":"IF(ISBLANK(FromEvoM!J331),\"\",FromEvoM!J331)","v":""},{"$f":"IF(ISBLANK(FromEvoM!K331),\"\",FromEvoM!K331)","v":""},{"$f":"IF(ISBLANK(FromEvoM!L331),\"\",FromEvoM!L331)","v":""},{"$f":"IF(ISBLANK(FromEvoM!M331),\"\",FromEvoM!M331)","v":""},{"$f":"IF(ISBLANK(FromEvoM!P331),\"\",FromEvoM!P331)","v":""},null,{"$f":"IF(ISNUMBER(FromEvoM!X331),FromEvoM!X331,\"\")","v":""},{"$f":"IF(ISNUMBER(FromEvoM!AB331),FromEvoM!AB331,\"\")","v":""},{"$f":"IF(ISNUMBER(FromEvoM!AA331),FromEvoM!AA331,\"\")","v":""},null,"","",null,null,{"$f":"IF(FromEvoM!W331=1,(FromEvoM!AB331*12),IF(FromEvoM!W331=7,(FromEvoM!AR331),\"\"))","v":""},null,null,{"$f":"IF(ISBLANK(FromEvoM!A331),\"\",IF(FromEvoM!AK331=\"y\",\"Y\",\"N\"))","v":""},{"$f":"IF(ISBLANK(FromEvoM!A331),\"\",Category_ID)","v":""},null,null,null,{"$f":"IF(ISBLANK(FromEvoM!AK331),\"\",FromEvoM!AK331)","v":""},{"$f":"IF(ISBLANK(FromEvoM!AM331),\"\",FromEvoM!AM331)","v":""},{"$f":"IF(ISBLANK(FromEvoM!AN331),\"\",FromEvoM!AN331)","v":""},{"$f":"IF(ISBLANK(FromEvoM!AL331),\"\",FromEvoM!AL331)","v":""},{"$f":"IF(ISBLANK(FromEvoM!A331),\"\",IF(AND(AF331=\"y\",AI331=1),\"Y\",\"N\"))","v":""},{"$f":"IF(ISBLANK(FromEvoM!A331),\"\",IF(FromEvoM!AS331=\"Yes\",2,1))","v":""},{"$f":"IF(FromEvoM!W331=1,\"M\",IF(FromEvoM!W331=7,\"W\",\"\"))","v":""},{"$f":"IF(AJ331=\"Y\",0,IF(AJ331=\"N\",FromEvoM!AF331+FromEvoM!AT331,\"\"))","v":""},{"$f":"IF(AJ331=\"Y\",(FromEvoM!AE331+FromEvoM!AF331-FromEvoM!AT331),IF(AJ331=\"N\",FromEvoM!AE331,\"\"))","v":""}]
[{"$f":"IF(ISBLANK(FromEvoM!A332),\"\",Group_Code)","v":""},{"$f":"IF(ISBLANK(FromEvoM!A332),\"\",SUBSTITUTE(FromEvoM!A332,\" \",\"\"))","v":""},{"$f":"IF(ISBLANK(FromEvoM!C332),\"\",SUBSTITUTE(FromEvoM!G332,\" \",\"\"))","v":""},{"$f":"IF(ISBLANK(FromEvoM!D332),\"\",FromEvoM!B332)","v":""},{"$f":"IF(ISBLANK(FromEvoM!D332),\"\",FromEvoM!D332)","v":""},{"$f":"IF(ISBLANK(FromEvoM!C332),\"\",FromEvoM!C332)","v":""},{"$f":"REPLACE(FromEvoM!F332,2,6, )","v":""},{"$f":"IF(ISNUMBER(FromEvoM!E332),FromEvoM!E332,\"\")","v":""},{"$f":"IF(ISBLANK(FromEvoM!I332),\"\",FromEvoM!I332)","v":""},{"$f":"IF(ISBLANK(FromEvoM!J332),\"\",FromEvoM!J332)","v":""},{"$f":"IF(ISBLANK(FromEvoM!K332),\"\",FromEvoM!K332)","v":""},{"$f":"IF(ISBLANK(FromEvoM!L332),\"\",FromEvoM!L332)","v":""},{"$f":"IF(ISBLANK(FromEvoM!M332),\"\",FromEvoM!M332)","v":""},{"$f":"IF(ISBLANK(FromEvoM!P332),\"\",FromEvoM!P332)","v":""},null,{"$f":"IF(ISNUMBER(FromEvoM!X332),FromEvoM!X332,\"\")","v":""},{"$f":"IF(ISNUMBER(FromEvoM!AB332),FromEvoM!AB332,\"\")","v":""},{"$f":"IF(ISNUMBER(FromEvoM!AA332),FromEvoM!AA332,\"\")","v":""},null,"","",null,null,{"$f":"IF(FromEvoM!W332=1,(FromEvoM!AB332*12),IF(FromEvoM!W332=7,(FromEvoM!AR332),\"\"))","v":""},null,null,{"$f":"IF(ISBLANK(FromEvoM!A332),\"\",IF(FromEvoM!AK332=\"y\",\"Y\",\"N\"))","v":""},{"$f":"IF(ISBLANK(FromEvoM!A332),\"\",Category_ID)","v":""},null,null,null,{"$f":"IF(ISBLANK(FromEvoM!AK332),\"\",FromEvoM!AK332)","v":""},{"$f":"IF(ISBLANK(FromEvoM!AM332),\"\",FromEvoM!AM332)","v":""},{"$f":"IF(ISBLANK(FromEvoM!AN332),\"\",FromEvoM!AN332)","v":""},{"$f":"IF(ISBLANK(FromEvoM!AL332),\"\",FromEvoM!AL332)","v":""},{"$f":"IF(ISBLANK(FromEvoM!A332),\"\",IF(AND(AF332=\"y\",AI332=1),\"Y\",\"N\"))","v":""},{"$f":"IF(ISBLANK(FromEvoM!A332),\"\",IF(FromEvoM!AS332=\"Yes\",2,1))","v":""},{"$f":"IF(FromEvoM!W332=1,\"M\",IF(FromEvoM!W332=7,\"W\",\"\"))","v":""},{"$f":"IF(AJ332=\"Y\",0,IF(AJ332=\"N\",FromEvoM!AF332+FromEvoM!AT332,\"\"))","v":""},{"$f":"IF(AJ332=\"Y\",(FromEvoM!AE332+FromEvoM!AF332-FromEvoM!AT332),IF(AJ332=\"N\",FromEvoM!AE332,\"\"))","v":""}]
[{"$f":"IF(ISBLANK(FromEvoM!A333),\"\",Group_Code)","v":""},{"$f":"IF(ISBLANK(FromEvoM!A333),\"\",SUBSTITUTE(FromEvoM!A333,\" \",\"\"))","v":""},{"$f":"IF(ISBLANK(FromEvoM!C333),\"\",SUBSTITUTE(FromEvoM!G333,\" \",\"\"))","v":""},{"$f":"IF(ISBLANK(FromEvoM!D333),\"\",FromEvoM!B333)","v":""},{"$f":"IF(ISBLANK(FromEvoM!D333),\"\",FromEvoM!D333)","v":""},{"$f":"IF(ISBLANK(FromEvoM!C333),\"\",FromEvoM!C333)","v":""},{"$f":"REPLACE(FromEvoM!F333,2,6, )","v":""},{"$f":"IF(ISNUMBER(FromEvoM!E333),FromEvoM!E333,\"\")","v":""},{"$f":"IF(ISBLANK(FromEvoM!I333),\"\",FromEvoM!I333)","v":""},{"$f":"IF(ISBLANK(FromEvoM!J333),\"\",FromEvoM!J333)","v":""},{"$f":"IF(ISBLANK(FromEvoM!K333),\"\",FromEvoM!K333)","v":""},{"$f":"IF(ISBLANK(FromEvoM!L333),\"\",FromEvoM!L333)","v":""},{"$f":"IF(ISBLANK(FromEvoM!M333),\"\",FromEvoM!M333)","v":""},{"$f":"IF(ISBLANK(FromEvoM!P333),\"\",FromEvoM!P333)","v":""},null,{"$f":"IF(ISNUMBER(FromEvoM!X333),FromEvoM!X333,\"\")","v":""},{"$f":"IF(ISNUMBER(FromEvoM!AB333),FromEvoM!AB333,\"\")","v":""},{"$f":"IF(ISNUMBER(FromEvoM!AA333),FromEvoM!AA333,\"\")","v":""},null,"","",null,null,{"$f":"IF(FromEvoM!W333=1,(FromEvoM!AB333*12),IF(FromEvoM!W333=7,(FromEvoM!AR333),\"\"))","v":""},null,null,{"$f":"IF(ISBLANK(FromEvoM!A333),\"\",IF(FromEvoM!AK333=\"y\",\"Y\",\"N\"))","v":""},{"$f":"IF(ISBLANK(FromEvoM!A333),\"\",Category_ID)","v":""},null,null,null,{"$f":"IF(ISBLANK(FromEvoM!AK333),\"\",FromEvoM!AK333)","v":""},{"$f":"IF(ISBLANK(FromEvoM!AM333),\"\",FromEvoM!AM333)","v":""},{"$f":"IF(ISBLANK(FromEvoM!AN333),\"\",FromEvoM!AN333)","v":""},{"$f":"IF(ISBLANK(FromEvoM!AL333),\"\",FromEvoM!AL333)","v":""},{"$f":"IF(ISBLANK(FromEvoM!A333),\"\",IF(AND(AF333=\"y\",AI333=1),\"Y\",\"N\"))","v":""},{"$f":"IF(ISBLANK(FromEvoM!A333),\"\",IF(FromEvoM!AS333=\"Yes\",2,1))","v":""},{"$f":"IF(FromEvoM!W333=1,\"M\",IF(FromEvoM!W333=7,\"W\",\"\"))","v":""},{"$f":"IF(AJ333=\"Y\",0,IF(AJ333=\"N\",FromEvoM!AF333+FromEvoM!AT333,\"\"))","v":""},{"$f":"IF(AJ333=\"Y\",(FromEvoM!AE333+FromEvoM!AF333-FromEvoM!AT333),IF(AJ333=\"N\",FromEvoM!AE333,\"\"))","v":""}]
[{"$f":"IF(ISBLANK(FromEvoM!A334),\"\",Group_Code)","v":""},{"$f":"IF(ISBLANK(FromEvoM!A334),\"\",SUBSTITUTE(FromEvoM!A334,\" \",\"\"))","v":""},{"$f":"IF(ISBLANK(FromEvoM!C334),\"\",SUBSTITUTE(FromEvoM!G334,\" \",\"\"))","v":""},{"$f":"IF(ISBLANK(FromEvoM!D334),\"\",FromEvoM!B334)","v":""},{"$f":"IF(ISBLANK(FromEvoM!D334),\"\",FromEvoM!D334)","v":""},{"$f":"IF(ISBLANK(FromEvoM!C334),\"\",FromEvoM!C334)","v":""},{"$f":"REPLACE(FromEvoM!F334,2,6, )","v":""},{"$f":"IF(ISNUMBER(FromEvoM!E334),FromEvoM!E334,\"\")","v":""},{"$f":"IF(ISBLANK(FromEvoM!I334),\"\",FromEvoM!I334)","v":""},{"$f":"IF(ISBLANK(FromEvoM!J334),\"\",FromEvoM!J334)","v":""},{"$f":"IF(ISBLANK(FromEvoM!K334),\"\",FromEvoM!K334)","v":""},{"$f":"IF(ISBLANK(FromEvoM!L334),\"\",FromEvoM!L334)","v":""},{"$f":"IF(ISBLANK(FromEvoM!M334),\"\",FromEvoM!M334)","v":""},{"$f":"IF(ISBLANK(FromEvoM!P334),\"\",FromEvoM!P334)","v":""},null,{"$f":"IF(ISNUMBER(FromEvoM!X334),FromEvoM!X334,\"\")","v":""},{"$f":"IF(ISNUMBER(FromEvoM!AB334),FromEvoM!AB334,\"\")","v":""},{"$f":"IF(ISNUMBER(FromEvoM!AA334),FromEvoM!AA334,\"\")","v":""},null,"","",null,null,{"$f":"IF(FromEvoM!W334=1,(FromEvoM!AB334*12),IF(FromEvoM!W334=7,(FromEvoM!AR334),\"\"))","v":""},null,null,{"$f":"IF(ISBLANK(FromEvoM!A334),\"\",IF(FromEvoM!AK334=\"y\",\"Y\",\"N\"))","v":""},{"$f":"IF(ISBLANK(FromEvoM!A334),\"\",Category_ID)","v":""},null,null,null,{"$f":"IF(ISBLANK(FromEvoM!AK334),\"\",FromEvoM!AK334)","v":""},{"$f":"IF(ISBLANK(FromEvoM!AM334),\"\",FromEvoM!AM334)","v":""},{"$f":"IF(ISBLANK(FromEvoM!AN334),\"\",FromEvoM!AN334)","v":""},{"$f":"IF(ISBLANK(FromEvoM!AL334),\"\",FromEvoM!AL334)","v":""},{"$f":"IF(ISBLANK(FromEvoM!A334),\"\",IF(AND(AF334=\"y\",AI334=1),\"Y\",\"N\"))","v":""},{"$f":"IF(ISBLANK(FromEvoM!A334),\"\",IF(FromEvoM!AS334=\"Yes\",2,1))","v":""},{"$f":"IF(FromEvoM!W334=1,\"M\",IF(FromEvoM!W334=7,\"W\",\"\"))","v":""},{"$f":"IF(AJ334=\"Y\",0,IF(AJ334=\"N\",FromEvoM!AF334+FromEvoM!AT334,\"\"))","v":""},{"$f":"IF(AJ334=\"Y\",(FromEvoM!AE334+FromEvoM!AF334-FromEvoM!AT334),IF(AJ334=\"N\",FromEvoM!AE334,\"\"))","v":""}]
[{"$f":"IF(ISBLANK(FromEvoM!A335),\"\",Group_Code)","v":""},{"$f":"IF(ISBLANK(FromEvoM!A335),\"\",SUBSTITUTE(FromEvoM!A335,\" \",\"\"))","v":""},{"$f":"IF(ISBLANK(FromEvoM!C335),\"\",SUBSTITUTE(FromEvoM!G335,\" \",\"\"))","v":""},{"$f":"IF(ISBLANK(FromEvoM!D335),\"\",FromEvoM!B335)","v":""},{"$f":"IF(ISBLANK(FromEvoM!D335),\"\",FromEvoM!D335)","v":""},{"$f":"IF(ISBLANK(FromEvoM!C335),\"\",FromEvoM!C335)","v":""},{"$f":"REPLACE(FromEvoM!F335,2,6, )","v":""},{"$f":"IF(ISNUMBER(FromEvoM!E335),FromEvoM!E335,\"\")","v":""},{"$f":"IF(ISBLANK(FromEvoM!I335),\"\",FromEvoM!I335)","v":""},{"$f":"IF(ISBLANK(FromEvoM!J335),\"\",FromEvoM!J335)","v":""},{"$f":"IF(ISBLANK(FromEvoM!K335),\"\",FromEvoM!K335)","v":""},{"$f":"IF(ISBLANK(FromEvoM!L335),\"\",FromEvoM!L335)","v":""},{"$f":"IF(ISBLANK(FromEvoM!M335),\"\",FromEvoM!M335)","v":""},{"$f":"IF(ISBLANK(FromEvoM!P335),\"\",FromEvoM!P335)","v":""},null,{"$f":"IF(ISNUMBER(FromEvoM!X335),FromEvoM!X335,\"\")","v":""},{"$f":"IF(ISNUMBER(FromEvoM!AB335),FromEvoM!AB335,\"\")","v":""},{"$f":"IF(ISNUMBER(FromEvoM!AA335),FromEvoM!AA335,\"\")","v":""},null,"","",null,null,{"$f":"IF(FromEvoM!W335=1,(FromEvoM!AB335*12),IF(FromEvoM!W335=7,(FromEvoM!AR335),\"\"))","v":""},null,null,{"$f":"IF(ISBLANK(FromEvoM!A335),\"\",IF(FromEvoM!AK335=\"y\",\"Y\",\"N\"))","v":""},{"$f":"IF(ISBLANK(FromEvoM!A335),\"\",Category_ID)","v":""},null,null,null,{"$f":"IF(ISBLANK(FromEvoM!AK335),\"\",FromEvoM!AK335)","v":""},{"$f":"IF(ISBLANK(FromEvoM!AM335),\"\",FromEvoM!AM335)","v":""},{"$f":"IF(ISBLANK(FromEvoM!AN335),\"\",FromEvoM!AN335)","v":""},{"$f":"IF(ISBLANK(FromEvoM!AL335),\"\",FromEvoM!AL335)","v":""},{"$f":"IF(ISBLANK(FromEvoM!A335),\"\",IF(AND(AF335=\"y\",AI335=1),\"Y\",\"N\"))","v":""},{"$f":"IF(ISBLANK(FromEvoM!A335),\"\",IF(FromEvoM!AS335=\"Yes\",2,1))","v":""},{"$f":"IF(FromEvoM!W335=1,\"M\",IF(FromEvoM!W335=7,\"W\",\"\"))","v":""},{"$f":"IF(AJ335=\"Y\",0,IF(AJ335=\"N\",FromEvoM!AF335+FromEvoM!AT335,\"\"))","v":""},{"$f":"IF(AJ335=\"Y\",(FromEvoM!AE335+FromEvoM!AF335-FromEvoM!AT335),IF(AJ335=\"N\",FromEvoM!AE335,\"\"))","v":""}]
[{"$f":"IF(ISBLANK(FromEvoM!A336),\"\",Group_Code)","v":""},{"$f":"IF(ISBLANK(FromEvoM!A336),\"\",SUBSTITUTE(FromEvoM!A336,\" \",\"\"))","v":""},{"$f":"IF(ISBLANK(FromEvoM!C336),\"\",SUBSTITUTE(FromEvoM!G336,\" \",\"\"))","v":""},{"$f":"IF(ISBLANK(FromEvoM!D336),\"\",FromEvoM!B336)","v":""},{"$f":"IF(ISBLANK(FromEvoM!D336),\"\",FromEvoM!D336)","v":""},{"$f":"IF(ISBLANK(FromEvoM!C336),\"\",FromEvoM!C336)","v":""},{"$f":"REPLACE(FromEvoM!F336,2,6, )","v":""},{"$f":"IF(ISNUMBER(FromEvoM!E336),FromEvoM!E336,\"\")","v":""},{"$f":"IF(ISBLANK(FromEvoM!I336),\"\",FromEvoM!I336)","v":""},{"$f":"IF(ISBLANK(FromEvoM!J336),\"\",FromEvoM!J336)","v":""},{"$f":"IF(ISBLANK(FromEvoM!K336),\"\",FromEvoM!K336)","v":""},{"$f":"IF(ISBLANK(FromEvoM!L336),\"\",FromEvoM!L336)","v":""},{"$f":"IF(ISBLANK(FromEvoM!M336),\"\",FromEvoM!M336)","v":""},{"$f":"IF(ISBLANK(FromEvoM!P336),\"\",FromEvoM!P336)","v":""},null,{"$f":"IF(ISNUMBER(FromEvoM!X336),FromEvoM!X336,\"\")","v":""},{"$f":"IF(ISNUMBER(FromEvoM!AB336),FromEvoM!AB336,\"\")","v":""},{"$f":"IF(ISNUMBER(FromEvoM!AA336),FromEvoM!AA336,\"\")","v":""},null,"","",null,null,{"$f":"IF(FromEvoM!W336=1,(FromEvoM!AB336*12),IF(FromEvoM!W336=7,(FromEvoM!AR336),\"\"))","v":""},null,null,{"$f":"IF(ISBLANK(FromEvoM!A336),\"\",IF(FromEvoM!AK336=\"y\",\"Y\",\"N\"))","v":""},{"$f":"IF(ISBLANK(FromEvoM!A336),\"\",Category_ID)","v":""},null,null,null,{"$f":"IF(ISBLANK(FromEvoM!AK336),\"\",FromEvoM!AK336)","v":""},{"$f":"IF(ISBLANK(FromEvoM!AM336),\"\",FromEvoM!AM336)","v":""},{"$f":"IF(ISBLANK(FromEvoM!AN336),\"\",FromEvoM!AN336)","v":""},{"$f":"IF(ISBLANK(FromEvoM!AL336),\"\",FromEvoM!AL336)","v":""},{"$f":"IF(ISBLANK(FromEvoM!A336),\"\",IF(AND(AF336=\"y\",AI336=1),\"Y\",\"N\"))","v":""},{"$f":"IF(ISBLANK(FromEvoM!A336),\"\",IF(FromEvoM!AS336=\"Yes\",2,1))","v":""},{"$f":"IF(FromEvoM!W336=1,\"M\",IF(FromEvoM!W336=7,\"W\",\"\"))","v":""},{"$f":"IF(AJ336=\"Y\",0,IF(AJ336=\"N\",FromEvoM!AF336+FromEvoM!AT336,\"\"))","v":""},{"$f":"IF(AJ336=\"Y\",(FromEvoM!AE336+FromEvoM!AF336-FromEvoM!AT336),IF(AJ336=\"N\",FromEvoM!AE336,\"\"))","v":""}]
[{"$f":"IF(ISBLANK(FromEvoM!A337),\"\",Group_Code)","v":""},{"$f":"IF(ISBLANK(FromEvoM!A337),\"\",SUBSTITUTE(FromEvoM!A337,\" \",\"\"))","v":""},{"$f":"IF(ISBLANK(FromEvoM!C337),\"\",SUBSTITUTE(FromEvoM!G337,\" \",\"\"))","v":""},{"$f":"IF(ISBLANK(FromEvoM!D337),\"\",FromEvoM!B337)","v":""},{"$f":"IF(ISBLANK(FromEvoM!D337),\"\",FromEvoM!D337)","v":""},{"$f":"IF(ISBLANK(FromEvoM!C337),\"\",FromEvoM!C337)","v":""},{"$f":"REPLACE(FromEvoM!F337,2,6, )","v":""},{"$f":"IF(ISNUMBER(FromEvoM!E337),FromEvoM!E337,\"\")","v":""},{"$f":"IF(ISBLANK(FromEvoM!I337),\"\",FromEvoM!I337)","v":""},{"$f":"IF(ISBLANK(FromEvoM!J337),\"\",FromEvoM!J337)","v":""},{"$f":"IF(ISBLANK(FromEvoM!K337),\"\",FromEvoM!K337)","v":""},{"$f":"IF(ISBLANK(FromEvoM!L337),\"\",FromEvoM!L337)","v":""},{"$f":"IF(ISBLANK(FromEvoM!M337),\"\",FromEvoM!M337)","v":""},{"$f":"IF(ISBLANK(FromEvoM!P337),\"\",FromEvoM!P337)","v":""},null,{"$f":"IF(ISNUMBER(FromEvoM!X337),FromEvoM!X337,\"\")","v":""},{"$f":"IF(ISNUMBER(FromEvoM!AB337),FromEvoM!AB337,\"\")","v":""},{"$f":"IF(ISNUMBER(FromEvoM!AA337),FromEvoM!AA337,\"\")","v":""},null,"","",null,null,{"$f":"IF(FromEvoM!W337=1,(FromEvoM!AB337*12),IF(FromEvoM!W337=7,(FromEvoM!AR337),\"\"))","v":""},null,null,{"$f":"IF(ISBLANK(FromEvoM!A337),\"\",IF(FromEvoM!AK337=\"y\",\"Y\",\"N\"))","v":""},{"$f":"IF(ISBLANK(FromEvoM!A337),\"\",Category_ID)","v":""},null,null,null,{"$f":"IF(ISBLANK(FromEvoM!AK337),\"\",FromEvoM!AK337)","v":""},{"$f":"IF(ISBLANK(FromEvoM!AM337),\"\",FromEvoM!AM337)","v":""},{"$f":"IF(ISBLANK(FromEvoM!AN337),\"\",FromEvoM!AN337)","v":""},{"$f":"IF(ISBLANK(FromEvoM!AL337),\"\",FromEvoM!AL337)","v":""},{"$f":"IF(ISBLANK(FromEvoM!A337),\"\",IF(AND(AF337=\"y\",AI337=1),\"Y\",\"N\"))","v":""},{"$f":"IF(ISBLANK(FromEvoM!A337),\"\",IF(FromEvoM!AS337=\"Yes\",2,1))","v":""},{"$f":"IF(FromEvoM!W337=1,\"M\",IF(FromEvoM!W337=7,\"W\",\"\"))","v":""},{"$f":"IF(AJ337=\"Y\",0,IF(AJ337=\"N\",FromEvoM!AF337+FromEvoM!AT337,\"\"))","v":""},{"$f":"IF(AJ337=\"Y\",(FromEvoM!AE337+FromEvoM!AF337-FromEvoM!AT337),IF(AJ337=\"N\",FromEvoM!AE337,\"\"))","v":""}]
[{"$f":"IF(ISBLANK(FromEvoM!A338),\"\",Group_Code)","v":""},{"$f":"IF(ISBLANK(FromEvoM!A338),\"\",SUBSTITUTE(FromEvoM!A338,\" \",\"\"))","v":""},{"$f":"IF(ISBLANK(FromEvoM!C338),\"\",SUBSTITUTE(FromEvoM!G338,\" \",\"\"))","v":""},{"$f":"IF(ISBLANK(FromEvoM!D338),\"\",FromEvoM!B338)","v":""},{"$f":"IF(ISBLANK(FromEvoM!D338),\"\",FromEvoM!D338)","v":""},{"$f":"IF(ISBLANK(FromEvoM!C338),\"\",FromEvoM!C338)","v":""},{"$f":"REPLACE(FromEvoM!F338,2,6, )","v":""},{"$f":"IF(ISNUMBER(FromEvoM!E338),FromEvoM!E338,\"\")","v":""},{"$f":"IF(ISBLANK(FromEvoM!I338),\"\",FromEvoM!I338)","v":""},{"$f":"IF(ISBLANK(FromEvoM!J338),\"\",FromEvoM!J338)","v":""},{"$f":"IF(ISBLANK(FromEvoM!K338),\"\",FromEvoM!K338)","v":""},{"$f":"IF(ISBLANK(FromEvoM!L338),\"\",FromEvoM!L338)","v":""},{"$f":"IF(ISBLANK(FromEvoM!M338),\"\",FromEvoM!M338)","v":""},{"$f":"IF(ISBLANK(FromEvoM!P338),\"\",FromEvoM!P338)","v":""},null,{"$f":"IF(ISNUMBER(FromEvoM!X338),FromEvoM!X338,\"\")","v":""},{"$f":"IF(ISNUMBER(FromEvoM!AB338),FromEvoM!AB338,\"\")","v":""},{"$f":"IF(ISNUMBER(FromEvoM!AA338),FromEvoM!AA338,\"\")","v":""},null,"","",null,null,{"$f":"IF(FromEvoM!W338=1,(FromEvoM!AB338*12),IF(FromEvoM!W338=7,(FromEvoM!AR338),\"\"))","v":""},null,null,{"$f":"IF(ISBLANK(FromEvoM!A338),\"\",IF(FromEvoM!AK338=\"y\",\"Y\",\"N\"))","v":""},{"$f":"IF(ISBLANK(FromEvoM!A338),\"\",Category_ID)","v":""},null,null,null,{"$f":"IF(ISBLANK(FromEvoM!AK338),\"\",FromEvoM!AK338)","v":""},{"$f":"IF(ISBLANK(FromEvoM!AM338),\"\",FromEvoM!AM338)","v":""},{"$f":"IF(ISBLANK(FromEvoM!AN338),\"\",FromEvoM!AN338)","v":""},{"$f":"IF(ISBLANK(FromEvoM!AL338),\"\",FromEvoM!AL338)","v":""},{"$f":"IF(ISBLANK(FromEvoM!A338),\"\",IF(AND(AF338=\"y\",AI338=1),\"Y\",\"N\"))","v":""},{"$f":"IF(ISBLANK(FromEvoM!A338),\"\",IF(FromEvoM!AS338=\"Yes\",2,1))","v":""},{"$f":"IF(FromEvoM!W338=1,\"M\",IF(FromEvoM!W338=7,\"W\",\"\"))","v":""},{"$f":"IF(AJ338=\"Y\",0,IF(AJ338=\"N\",FromEvoM!AF338+FromEvoM!AT338,\"\"))","v":""},{"$f":"IF(AJ338=\"Y\",(FromEvoM!AE338+FromEvoM!AF338-FromEvoM!AT338),IF(AJ338=\"N\",FromEvoM!AE338,\"\"))","v":""}]
[{"$f":"IF(ISBLANK(FromEvoM!A339),\"\",Group_Code)","v":""},{"$f":"IF(ISBLANK(FromEvoM!A339),\"\",SUBSTITUTE(FromEvoM!A339,\" \",\"\"))","v":""},{"$f":"IF(ISBLANK(FromEvoM!C339),\"\",SUBSTITUTE(FromEvoM!G339,\" \",\"\"))","v":""},{"$f":"IF(ISBLANK(FromEvoM!D339),\"\",FromEvoM!B339)","v":""},{"$f":"IF(ISBLANK(FromEvoM!D339),\"\",FromEvoM!D339)","v":""},{"$f":"IF(ISBLANK(FromEvoM!C339),\"\",FromEvoM!C339)","v":""},{"$f":"REPLACE(FromEvoM!F339,2,6, )","v":""},{"$f":"IF(ISNUMBER(FromEvoM!E339),FromEvoM!E339,\"\")","v":""},{"$f":"IF(ISBLANK(FromEvoM!I339),\"\",FromEvoM!I339)","v":""},{"$f":"IF(ISBLANK(FromEvoM!J339),\"\",FromEvoM!J339)","v":""},{"$f":"IF(ISBLANK(FromEvoM!K339),\"\",FromEvoM!K339)","v":""},{"$f":"IF(ISBLANK(FromEvoM!L339),\"\",FromEvoM!L339)","v":""},{"$f":"IF(ISBLANK(FromEvoM!M339),\"\",FromEvoM!M339)","v":""},{"$f":"IF(ISBLANK(FromEvoM!P339),\"\",FromEvoM!P339)","v":""},null,{"$f":"IF(ISNUMBER(FromEvoM!X339),FromEvoM!X339,\"\")","v":""},{"$f":"IF(ISNUMBER(FromEvoM!AB339),FromEvoM!AB339,\"\")","v":""},{"$f":"IF(ISNUMBER(FromEvoM!AA339),FromEvoM!AA339,\"\")","v":""},null,"","",null,null,{"$f":"IF(FromEvoM!W339=1,(FromEvoM!AB339*12),IF(FromEvoM!W339=7,(FromEvoM!AR339),\"\"))","v":""},null,null,{"$f":"IF(ISBLANK(FromEvoM!A339),\"\",IF(FromEvoM!AK339=\"y\",\"Y\",\"N\"))","v":""},{"$f":"IF(ISBLANK(FromEvoM!A339),\"\",Category_ID)","v":""},null,null,null,{"$f":"IF(ISBLANK(FromEvoM!AK339),\"\",FromEvoM!AK339)","v":""},{"$f":"IF(ISBLANK(FromEvoM!AM339),\"\",FromEvoM!AM339)","v":""},{"$f":"IF(ISBLANK(FromEvoM!AN339),\"\",FromEvoM!AN339)","v":""},{"$f":"IF(ISBLANK(FromEvoM!AL339),\"\",FromEvoM!AL339)","v":""},{"$f":"IF(ISBLANK(FromEvoM!A339),\"\",IF(AND(AF339=\"y\",AI339=1),\"Y\",\"N\"))","v":""},{"$f":"IF(ISBLANK(FromEvoM!A339),\"\",IF(FromEvoM!AS339=\"Yes\",2,1))","v":""},{"$f":"IF(FromEvoM!W339=1,\"M\",IF(FromEvoM!W339=7,\"W\",\"\"))","v":""},{"$f":"IF(AJ339=\"Y\",0,IF(AJ339=\"N\",FromEvoM!AF339+FromEvoM!AT339,\"\"))","v":""},{"$f":"IF(AJ339=\"Y\",(FromEvoM!AE339+FromEvoM!AF339-FromEvoM!AT339),IF(AJ339=\"N\",FromEvoM!AE339,\"\"))","v":""}]
[{"$f":"IF(ISBLANK(FromEvoM!A340),\"\",Group_Code)","v":""},{"$f":"IF(ISBLANK(FromEvoM!A340),\"\",SUBSTITUTE(FromEvoM!A340,\" \",\"\"))","v":""},{"$f":"IF(ISBLANK(FromEvoM!C340),\"\",SUBSTITUTE(FromEvoM!G340,\" \",\"\"))","v":""},{"$f":"IF(ISBLANK(FromEvoM!D340),\"\",FromEvoM!B340)","v":""},{"$f":"IF(ISBLANK(FromEvoM!D340),\"\",FromEvoM!D340)","v":""},{"$f":"IF(ISBLANK(FromEvoM!C340),\"\",FromEvoM!C340)","v":""},{"$f":"REPLACE(FromEvoM!F340,2,6, )","v":""},{"$f":"IF(ISNUMBER(FromEvoM!E340),FromEvoM!E340,\"\")","v":""},{"$f":"IF(ISBLANK(FromEvoM!I340),\"\",FromEvoM!I340)","v":""},{"$f":"IF(ISBLANK(FromEvoM!J340),\"\",FromEvoM!J340)","v":""},{"$f":"IF(ISBLANK(FromEvoM!K340),\"\",FromEvoM!K340)","v":""},{"$f":"IF(ISBLANK(FromEvoM!L340),\"\",FromEvoM!L340)","v":""},{"$f":"IF(ISBLANK(FromEvoM!M340),\"\",FromEvoM!M340)","v":""},{"$f":"IF(ISBLANK(FromEvoM!P340),\"\",FromEvoM!P340)","v":""},null,{"$f":"IF(ISNUMBER(FromEvoM!X340),FromEvoM!X340,\"\")","v":""},{"$f":"IF(ISNUMBER(FromEvoM!AB340),FromEvoM!AB340,\"\")","v":""},{"$f":"IF(ISNUMBER(FromEvoM!AA340),FromEvoM!AA340,\"\")","v":""},null,"","",null,null,{"$f":"IF(FromEvoM!W340=1,(FromEvoM!AB340*12),IF(FromEvoM!W340=7,(FromEvoM!AR340),\"\"))","v":""},null,null,{"$f":"IF(ISBLANK(FromEvoM!A340),\"\",IF(FromEvoM!AK340=\"y\",\"Y\",\"N\"))","v":""},{"$f":"IF(ISBLANK(FromEvoM!A340),\"\",Category_ID)","v":""},null,null,null,{"$f":"IF(ISBLANK(FromEvoM!AK340),\"\",FromEvoM!AK340)","v":""},{"$f":"IF(ISBLANK(FromEvoM!AM340),\"\",FromEvoM!AM340)","v":""},{"$f":"IF(ISBLANK(FromEvoM!AN340),\"\",FromEvoM!AN340)","v":""},{"$f":"IF(ISBLANK(FromEvoM!AL340),\"\",FromEvoM!AL340)","v":""},{"$f":"IF(ISBLANK(FromEvoM!A340),\"\",IF(AND(AF340=\"y\",AI340=1),\"Y\",\"N\"))","v":""},{"$f":"IF(ISBLANK(FromEvoM!A340),\"\",IF(FromEvoM!AS340=\"Yes\",2,1))","v":""},{"$f":"IF(FromEvoM!W340=1,\"M\",IF(FromEvoM!W340=7,\"W\",\"\"))","v":""},{"$f":"IF(AJ340=\"Y\",0,IF(AJ340=\"N\",FromEvoM!AF340+FromEvoM!AT340,\"\"))","v":""},{"$f":"IF(AJ340=\"Y\",(FromEvoM!AE340+FromEvoM!AF340-FromEvoM!AT340),IF(AJ340=\"N\",FromEvoM!AE340,\"\"))","v":""}]
[{"$f":"IF(ISBLANK(FromEvoM!A341),\"\",Group_Code)","v":""},{"$f":"IF(ISBLANK(FromEvoM!A341),\"\",SUBSTITUTE(FromEvoM!A341,\" \",\"\"))","v":""},{"$f":"IF(ISBLANK(FromEvoM!C341),\"\",SUBSTITUTE(FromEvoM!G341,\" \",\"\"))","v":""},{"$f":"IF(ISBLANK(FromEvoM!D341),\"\",FromEvoM!B341)","v":""},{"$f":"IF(ISBLANK(FromEvoM!D341),\"\",FromEvoM!D341)","v":""},{"$f":"IF(ISBLANK(FromEvoM!C341),\"\",FromEvoM!C341)","v":""},{"$f":"REPLACE(FromEvoM!F341,2,6, )","v":""},{"$f":"IF(ISNUMBER(FromEvoM!E341),FromEvoM!E341,\"\")","v":""},{"$f":"IF(ISBLANK(FromEvoM!I341),\"\",FromEvoM!I341)","v":""},{"$f":"IF(ISBLANK(FromEvoM!J341),\"\",FromEvoM!J341)","v":""},{"$f":"IF(ISBLANK(FromEvoM!K341),\"\",FromEvoM!K341)","v":""},{"$f":"IF(ISBLANK(FromEvoM!L341),\"\",FromEvoM!L341)","v":""},{"$f":"IF(ISBLANK(FromEvoM!M341),\"\",FromEvoM!M341)","v":""},{"$f":"IF(ISBLANK(FromEvoM!P341),\"\",FromEvoM!P341)","v":""},null,{"$f":"IF(ISNUMBER(FromEvoM!X341),FromEvoM!X341,\"\")","v":""},{"$f":"IF(ISNUMBER(FromEvoM!AB341),FromEvoM!AB341,\"\")","v":""},{"$f":"IF(ISNUMBER(FromEvoM!AA341),FromEvoM!AA341,\"\")","v":""},null,"","",null,null,{"$f":"IF(FromEvoM!W341=1,(FromEvoM!AB341*12),IF(FromEvoM!W341=7,(FromEvoM!AR341),\"\"))","v":""},null,null,{"$f":"IF(ISBLANK(FromEvoM!A341),\"\",IF(FromEvoM!AK341=\"y\",\"Y\",\"N\"))","v":""},{"$f":"IF(ISBLANK(FromEvoM!A341),\"\",Category_ID)","v":""},null,null,null,{"$f":"IF(ISBLANK(FromEvoM!AK341),\"\",FromEvoM!AK341)","v":""},{"$f":"IF(ISBLANK(FromEvoM!AM341),\"\",FromEvoM!AM341)","v":""},{"$f":"IF(ISBLANK(FromEvoM!AN341),\"\",FromEvoM!AN341)","v":""},{"$f":"IF(ISBLANK(FromEvoM!AL341),\"\",FromEvoM!AL341)","v":""},{"$f":"IF(ISBLANK(FromEvoM!A341),\"\",IF(AND(AF341=\"y\",AI341=1),\"Y\",\"N\"))","v":""},{"$f":"IF(ISBLANK(FromEvoM!A341),\"\",IF(FromEvoM!AS341=\"Yes\",2,1))","v":""},{"$f":"IF(FromEvoM!W341=1,\"M\",IF(FromEvoM!W341=7,\"W\",\"\"))","v":""},{"$f":"IF(AJ341=\"Y\",0,IF(AJ341=\"N\",FromEvoM!AF341+FromEvoM!AT341,\"\"))","v":""},{"$f":"IF(AJ341=\"Y\",(FromEvoM!AE341+FromEvoM!AF341-FromEvoM!AT341),IF(AJ341=\"N\",FromEvoM!AE341,\"\"))","v":""}]
[{"$f":"IF(ISBLANK(FromEvoM!A342),\"\",Group_Code)","v":""},{"$f":"IF(ISBLANK(FromEvoM!A342),\"\",SUBSTITUTE(FromEvoM!A342,\" \",\"\"))","v":""},{"$f":"IF(ISBLANK(FromEvoM!C342),\"\",SUBSTITUTE(FromEvoM!G342,\" \",\"\"))","v":""},{"$f":"IF(ISBLANK(FromEvoM!D342),\"\",FromEvoM!B342)","v":""},{"$f":"IF(ISBLANK(FromEvoM!D342),\"\",FromEvoM!D342)","v":""},{"$f":"IF(ISBLANK(FromEvoM!C342),\"\",FromEvoM!C342)","v":""},{"$f":"REPLACE(FromEvoM!F342,2,6, )","v":""},{"$f":"IF(ISNUMBER(FromEvoM!E342),FromEvoM!E342,\"\")","v":""},{"$f":"IF(ISBLANK(FromEvoM!I342),\"\",FromEvoM!I342)","v":""},{"$f":"IF(ISBLANK(FromEvoM!J342),\"\",FromEvoM!J342)","v":""},{"$f":"IF(ISBLANK(FromEvoM!K342),\"\",FromEvoM!K342)","v":""},{"$f":"IF(ISBLANK(FromEvoM!L342),\"\",FromEvoM!L342)","v":""},{"$f":"IF(ISBLANK(FromEvoM!M342),\"\",FromEvoM!M342)","v":""},{"$f":"IF(ISBLANK(FromEvoM!P342),\"\",FromEvoM!P342)","v":""},null,{"$f":"IF(ISNUMBER(FromEvoM!X342),FromEvoM!X342,\"\")","v":""},{"$f":"IF(ISNUMBER(FromEvoM!AB342),FromEvoM!AB342,\"\")","v":""},{"$f":"IF(ISNUMBER(FromEvoM!AA342),FromEvoM!AA342,\"\")","v":""},null,"","",null,null,{"$f":"IF(FromEvoM!W342=1,(FromEvoM!AB342*12),IF(FromEvoM!W342=7,(FromEvoM!AR342),\"\"))","v":""},null,null,{"$f":"IF(ISBLANK(FromEvoM!A342),\"\",IF(FromEvoM!AK342=\"y\",\"Y\",\"N\"))","v":""},{"$f":"IF(ISBLANK(FromEvoM!A342),\"\",Category_ID)","v":""},null,null,null,{"$f":"IF(ISBLANK(FromEvoM!AK342),\"\",FromEvoM!AK342)","v":""},{"$f":"IF(ISBLANK(FromEvoM!AM342),\"\",FromEvoM!AM342)","v":""},{"$f":"IF(ISBLANK(FromEvoM!AN342),\"\",FromEvoM!AN342)","v":""},{"$f":"IF(ISBLANK(FromEvoM!AL342),\"\",FromEvoM!AL342)","v":""},{"$f":"IF(ISBLANK(FromEvoM!A342),\"\",IF(AND(AF342=\"y\",AI342=1),\"Y\",\"N\"))","v":""},{"$f":"IF(ISBLANK(FromEvoM!A342),\"\",IF(FromEvoM!AS342=\"Yes\",2,1))","v":""},{"$f":"IF(FromEvoM!W342=1,\"M\",IF(FromEvoM!W342=7,\"W\",\"\"))","v":""},{"$f":"IF(AJ342=\"Y\",0,IF(AJ342=\"N\",FromEvoM!AF342+FromEvoM!AT342,\"\"))","v":""},{"$f":"IF(AJ342=\"Y\",(FromEvoM!AE342+FromEvoM!AF342-FromEvoM!AT342),IF(AJ342=\"N\",FromEvoM!AE342,\"\"))","v":""}]
[{"$f":"IF(ISBLANK(FromEvoM!A343),\"\",Group_Code)","v":""},{"$f":"IF(ISBLANK(FromEvoM!A343),\"\",SUBSTITUTE(FromEvoM!A343,\" \",\"\"))","v":""},{"$f":"IF(ISBLANK(FromEvoM!C343),\"\",SUBSTITUTE(FromEvoM!G343,\" \",\"\"))","v":""},{"$f":"IF(ISBLANK(FromEvoM!D343),\"\",FromEvoM!B343)","v":""},{"$f":"IF(ISBLANK(FromEvoM!D343),\"\",FromEvoM!D343)","v":""},{"$f":"IF(ISBLANK(FromEvoM!C343),\"\",FromEvoM!C343)","v":""},{"$f":"REPLACE(FromEvoM!F343,2,6, )","v":""},{"$f":"IF(ISNUMBER(FromEvoM!E343),FromEvoM!E343,\"\")","v":""},{"$f":"IF(ISBLANK(FromEvoM!I343),\"\",FromEvoM!I343)","v":""},{"$f":"IF(ISBLANK(FromEvoM!J343),\"\",FromEvoM!J343)","v":""},{"$f":"IF(ISBLANK(FromEvoM!K343),\"\",FromEvoM!K343)","v":""},{"$f":"IF(ISBLANK(FromEvoM!L343),\"\",FromEvoM!L343)","v":""},{"$f":"IF(ISBLANK(FromEvoM!M343),\"\",FromEvoM!M343)","v":""},{"$f":"IF(ISBLANK(FromEvoM!P343),\"\",FromEvoM!P343)","v":""},null,{"$f":"IF(ISNUMBER(FromEvoM!X343),FromEvoM!X343,\"\")","v":""},{"$f":"IF(ISNUMBER(FromEvoM!AB343),FromEvoM!AB343,\"\")","v":""},{"$f":"IF(ISNUMBER(FromEvoM!AA343),FromEvoM!AA343,\"\")","v":""},null,"","",null,null,{"$f":"IF(FromEvoM!W343=1,(FromEvoM!AB343*12),IF(FromEvoM!W343=7,(FromEvoM!AR343),\"\"))","v":""},null,null,{"$f":"IF(ISBLANK(FromEvoM!A343),\"\",IF(FromEvoM!AK343=\"y\",\"Y\",\"N\"))","v":""},{"$f":"IF(ISBLANK(FromEvoM!A343),\"\",Category_ID)","v":""},null,null,null,{"$f":"IF(ISBLANK(FromEvoM!AK343),\"\",FromEvoM!AK343)","v":""},{"$f":"IF(ISBLANK(FromEvoM!AM343),\"\",FromEvoM!AM343)","v":""},{"$f":"IF(ISBLANK(FromEvoM!AN343),\"\",FromEvoM!AN343)","v":""},{"$f":"IF(ISBLANK(FromEvoM!AL343),\"\",FromEvoM!AL343)","v":""},{"$f":"IF(ISBLANK(FromEvoM!A343),\"\",IF(AND(AF343=\"y\",AI343=1),\"Y\",\"N\"))","v":""},{"$f":"IF(ISBLANK(FromEvoM!A343),\"\",IF(FromEvoM!AS343=\"Yes\",2,1))","v":""},{"$f":"IF(FromEvoM!W343=1,\"M\",IF(FromEvoM!W343=7,\"W\",\"\"))","v":""},{"$f":"IF(AJ343=\"Y\",0,IF(AJ343=\"N\",FromEvoM!AF343+FromEvoM!AT343,\"\"))","v":""},{"$f":"IF(AJ343=\"Y\",(FromEvoM!AE343+FromEvoM!AF343-FromEvoM!AT343),IF(AJ343=\"N\",FromEvoM!AE343,\"\"))","v":""}]
[{"$f":"IF(ISBLANK(FromEvoM!A344),\"\",Group_Code)","v":""},{"$f":"IF(ISBLANK(FromEvoM!A344),\"\",SUBSTITUTE(FromEvoM!A344,\" \",\"\"))","v":""},{"$f":"IF(ISBLANK(FromEvoM!C344),\"\",SUBSTITUTE(FromEvoM!G344,\" \",\"\"))","v":""},{"$f":"IF(ISBLANK(FromEvoM!D344),\"\",FromEvoM!B344)","v":""},{"$f":"IF(ISBLANK(FromEvoM!D344),\"\",FromEvoM!D344)","v":""},{"$f":"IF(ISBLANK(FromEvoM!C344),\"\",FromEvoM!C344)","v":""},{"$f":"REPLACE(FromEvoM!F344,2,6, )","v":""},{"$f":"IF(ISNUMBER(FromEvoM!E344),FromEvoM!E344,\"\")","v":""},{"$f":"IF(ISBLANK(FromEvoM!I344),\"\",FromEvoM!I344)","v":""},{"$f":"IF(ISBLANK(FromEvoM!J344),\"\",FromEvoM!J344)","v":""},{"$f":"IF(ISBLANK(FromEvoM!K344),\"\",FromEvoM!K344)","v":""},{"$f":"IF(ISBLANK(FromEvoM!L344),\"\",FromEvoM!L344)","v":""},{"$f":"IF(ISBLANK(FromEvoM!M344),\"\",FromEvoM!M344)","v":""},{"$f":"IF(ISBLANK(FromEvoM!P344),\"\",FromEvoM!P344)","v":""},null,{"$f":"IF(ISNUMBER(FromEvoM!X344),FromEvoM!X344,\"\")","v":""},{"$f":"IF(ISNUMBER(FromEvoM!AB344),FromEvoM!AB344,\"\")","v":""},{"$f":"IF(ISNUMBER(FromEvoM!AA344),FromEvoM!AA344,\"\")","v":""},null,"","",null,null,{"$f":"IF(FromEvoM!W344=1,(FromEvoM!AB344*12),IF(FromEvoM!W344=7,(FromEvoM!AR344),\"\"))","v":""},null,null,{"$f":"IF(ISBLANK(FromEvoM!A344),\"\",IF(FromEvoM!AK344=\"y\",\"Y\",\"N\"))","v":""},{"$f":"IF(ISBLANK(FromEvoM!A344),\"\",Category_ID)","v":""},null,null,null,{"$f":"IF(ISBLANK(FromEvoM!AK344),\"\",FromEvoM!AK344)","v":""},{"$f":"IF(ISBLANK(FromEvoM!AM344),\"\",FromEvoM!AM344)","v":""},{"$f":"IF(ISBLANK(FromEvoM!AN344),\"\",FromEvoM!AN344)","v":""},{"$f":"IF(ISBLANK(FromEvoM!AL344),\"\",FromEvoM!AL344)","v":""},{"$f":"IF(ISBLANK(FromEvoM!A344),\"\",IF(AND(AF344=\"y\",AI344=1),\"Y\",\"N\"))","v":""},{"$f":"IF(ISBLANK(FromEvoM!A344),\"\",IF(FromEvoM!AS344=\"Yes\",2,1))","v":""},{"$f":"IF(FromEvoM!W344=1,\"M\",IF(FromEvoM!W344=7,\"W\",\"\"))","v":""},{"$f":"IF(AJ344=\"Y\",0,IF(AJ344=\"N\",FromEvoM!AF344+FromEvoM!AT344,\"\"))","v":""},{"$f":"IF(AJ344=\"Y\",(FromEvoM!AE344+FromEvoM!AF344-FromEvoM!AT344),IF(AJ344=\"N\",FromEvoM!AE344,\"\"))","v":""}]
[{"$f":"IF(ISBLANK(FromEvoM!A345),\"\",Group_Code)","v":""},{"$f":"IF(ISBLANK(FromEvoM!A345),\"\",SUBSTITUTE(FromEvoM!A345,\" \",\"\"))","v":""},{"$f":"IF(ISBLANK(FromEvoM!C345),\"\",SUBSTITUTE(FromEvoM!G345,\" \",\"\"))","v":""},{"$f":"IF(ISBLANK(FromEvoM!D345),\"\",FromEvoM!B345)","v":""},{"$f":"IF(ISBLANK(FromEvoM!D345),\"\",FromEvoM!D345)","v":""},{"$f":"IF(ISBLANK(FromEvoM!C345),\"\",FromEvoM!C345)","v":""},{"$f":"REPLACE(FromEvoM!F345,2,6, )","v":""},{"$f":"IF(ISNUMBER(FromEvoM!E345),FromEvoM!E345,\"\")","v":""},{"$f":"IF(ISBLANK(FromEvoM!I345),\"\",FromEvoM!I345)","v":""},{"$f":"IF(ISBLANK(FromEvoM!J345),\"\",FromEvoM!J345)","v":""},{"$f":"IF(ISBLANK(FromEvoM!K345),\"\",FromEvoM!K345)","v":""},{"$f":"IF(ISBLANK(FromEvoM!L345),\"\",FromEvoM!L345)","v":""},{"$f":"IF(ISBLANK(FromEvoM!M345),\"\",FromEvoM!M345)","v":""},{"$f":"IF(ISBLANK(FromEvoM!P345),\"\",FromEvoM!P345)","v":""},null,{"$f":"IF(ISNUMBER(FromEvoM!X345),FromEvoM!X345,\"\")","v":""},{"$f":"IF(ISNUMBER(FromEvoM!AB345),FromEvoM!AB345,\"\")","v":""},{"$f":"IF(ISNUMBER(FromEvoM!AA345),FromEvoM!AA345,\"\")","v":""},null,"","",null,null,{"$f":"IF(FromEvoM!W345=1,(FromEvoM!AB345*12),IF(FromEvoM!W345=7,(FromEvoM!AR345),\"\"))","v":""},null,null,{"$f":"IF(ISBLANK(FromEvoM!A345),\"\",IF(FromEvoM!AK345=\"y\",\"Y\",\"N\"))","v":""},{"$f":"IF(ISBLANK(FromEvoM!A345),\"\",Category_ID)","v":""},null,null,null,{"$f":"IF(ISBLANK(FromEvoM!AK345),\"\",FromEvoM!AK345)","v":""},{"$f":"IF(ISBLANK(FromEvoM!AM345),\"\",FromEvoM!AM345)","v":""},{"$f":"IF(ISBLANK(FromEvoM!AN345),\"\",FromEvoM!AN345)","v":""},{"$f":"IF(ISBLANK(FromEvoM!AL345),\"\",FromEvoM!AL345)","v":""},{"$f":"IF(ISBLANK(FromEvoM!A345),\"\",IF(AND(AF345=\"y\",AI345=1),\"Y\",\"N\"))","v":""},{"$f":"IF(ISBLANK(FromEvoM!A345),\"\",IF(FromEvoM!AS345=\"Yes\",2,1))","v":""},{"$f":"IF(FromEvoM!W345=1,\"M\",IF(FromEvoM!W345=7,\"W\",\"\"))","v":""},{"$f":"IF(AJ345=\"Y\",0,IF(AJ345=\"N\",FromEvoM!AF345+FromEvoM!AT345,\"\"))","v":""},{"$f":"IF(AJ345=\"Y\",(FromEvoM!AE345+FromEvoM!AF345-FromEvoM!AT345),IF(AJ345=\"N\",FromEvoM!AE345,\"\"))","v":""}]
[{"$f":"IF(ISBLANK(FromEvoM!A346),\"\",Group_Code)","v":""},{"$f":"IF(ISBLANK(FromEvoM!A346),\"\",SUBSTITUTE(FromEvoM!A346,\" \",\"\"))","v":""},{"$f":"IF(ISBLANK(FromEvoM!C346),\"\",SUBSTITUTE(FromEvoM!G346,\" \",\"\"))","v":""},{"$f":"IF(ISBLANK(FromEvoM!D346),\"\",FromEvoM!B346)","v":""},{"$f":"IF(ISBLANK(FromEvoM!D346),\"\",FromEvoM!D346)","v":""},{"$f":"IF(ISBLANK(FromEvoM!C346),\"\",FromEvoM!C346)","v":""},{"$f":"REPLACE(FromEvoM!F346,2,6, )","v":""},{"$f":"IF(ISNUMBER(FromEvoM!E346),FromEvoM!E346,\"\")","v":""},{"$f":"IF(ISBLANK(FromEvoM!I346),\"\",FromEvoM!I346)","v":""},{"$f":"IF(ISBLANK(FromEvoM!J346),\"\",FromEvoM!J346)","v":""},{"$f":"IF(ISBLANK(FromEvoM!K346),\"\",FromEvoM!K346)","v":""},{"$f":"IF(ISBLANK(FromEvoM!L346),\"\",FromEvoM!L346)","v":""},{"$f":"IF(ISBLANK(FromEvoM!M346),\"\",FromEvoM!M346)","v":""},{"$f":"IF(ISBLANK(FromEvoM!P346),\"\",FromEvoM!P346)","v":""},null,{"$f":"IF(ISNUMBER(FromEvoM!X346),FromEvoM!X346,\"\")","v":""},{"$f":"IF(ISNUMBER(FromEvoM!AB346),FromEvoM!AB346,\"\")","v":""},{"$f":"IF(ISNUMBER(FromEvoM!AA346),FromEvoM!AA346,\"\")","v":""},null,"","",null,null,{"$f":"IF(FromEvoM!W346=1,(FromEvoM!AB346*12),IF(FromEvoM!W346=7,(FromEvoM!AR346),\"\"))","v":""},null,null,{"$f":"IF(ISBLANK(FromEvoM!A346),\"\",IF(FromEvoM!AK346=\"y\",\"Y\",\"N\"))","v":""},{"$f":"IF(ISBLANK(FromEvoM!A346),\"\",Category_ID)","v":""},null,null,null,{"$f":"IF(ISBLANK(FromEvoM!AK346),\"\",FromEvoM!AK346)","v":""},{"$f":"IF(ISBLANK(FromEvoM!AM346),\"\",FromEvoM!AM346)","v":""},{"$f":"IF(ISBLANK(FromEvoM!AN346),\"\",FromEvoM!AN346)","v":""},{"$f":"IF(ISBLANK(FromEvoM!AL346),\"\",FromEvoM!AL346)","v":""},{"$f":"IF(ISBLANK(FromEvoM!A346),\"\",IF(AND(AF346=\"y\",AI346=1),\"Y\",\"N\"))","v":""},{"$f":"IF(ISBLANK(FromEvoM!A346),\"\",IF(FromEvoM!AS346=\"Yes\",2,1))","v":""},{"$f":"IF(FromEvoM!W346=1,\"M\",IF(FromEvoM!W346=7,\"W\",\"\"))","v":""},{"$f":"IF(AJ346=\"Y\",0,IF(AJ346=\"N\",FromEvoM!AF346+FromEvoM!AT346,\"\"))","v":""},{"$f":"IF(AJ346=\"Y\",(FromEvoM!AE346+FromEvoM!AF346-FromEvoM!AT346),IF(AJ346=\"N\",FromEvoM!AE346,\"\"))","v":""}]
[{"$f":"IF(ISBLANK(FromEvoM!A347),\"\",Group_Code)","v":""},{"$f":"IF(ISBLANK(FromEvoM!A347),\"\",SUBSTITUTE(FromEvoM!A347,\" \",\"\"))","v":""},{"$f":"IF(ISBLANK(FromEvoM!C347),\"\",SUBSTITUTE(FromEvoM!G347,\" \",\"\"))","v":""},{"$f":"IF(ISBLANK(FromEvoM!D347),\"\",FromEvoM!B347)","v":""},{"$f":"IF(ISBLANK(FromEvoM!D347),\"\",FromEvoM!D347)","v":""},{"$f":"IF(ISBLANK(FromEvoM!C347),\"\",FromEvoM!C347)","v":""},{"$f":"REPLACE(FromEvoM!F347,2,6, )","v":""},{"$f":"IF(ISNUMBER(FromEvoM!E347),FromEvoM!E347,\"\")","v":""},{"$f":"IF(ISBLANK(FromEvoM!I347),\"\",FromEvoM!I347)","v":""},{"$f":"IF(ISBLANK(FromEvoM!J347),\"\",FromEvoM!J347)","v":""},{"$f":"IF(ISBLANK(FromEvoM!K347),\"\",FromEvoM!K347)","v":""},{"$f":"IF(ISBLANK(FromEvoM!L347),\"\",FromEvoM!L347)","v":""},{"$f":"IF(ISBLANK(FromEvoM!M347),\"\",FromEvoM!M347)","v":""},{"$f":"IF(ISBLANK(FromEvoM!P347),\"\",FromEvoM!P347)","v":""},null,{"$f":"IF(ISNUMBER(FromEvoM!X347),FromEvoM!X347,\"\")","v":""},{"$f":"IF(ISNUMBER(FromEvoM!AB347),FromEvoM!AB347,\"\")","v":""},{"$f":"IF(ISNUMBER(FromEvoM!AA347),FromEvoM!AA347,\"\")","v":""},null,"","",null,null,{"$f":"IF(FromEvoM!W347=1,(FromEvoM!AB347*12),IF(FromEvoM!W347=7,(FromEvoM!AR347),\"\"))","v":""},null,null,{"$f":"IF(ISBLANK(FromEvoM!A347),\"\",IF(FromEvoM!AK347=\"y\",\"Y\",\"N\"))","v":""},{"$f":"IF(ISBLANK(FromEvoM!A347),\"\",Category_ID)","v":""},null,null,null,{"$f":"IF(ISBLANK(FromEvoM!AK347),\"\",FromEvoM!AK347)","v":""},{"$f":"IF(ISBLANK(FromEvoM!AM347),\"\",FromEvoM!AM347)","v":""},{"$f":"IF(ISBLANK(FromEvoM!AN347),\"\",FromEvoM!AN347)","v":""},{"$f":"IF(ISBLANK(FromEvoM!AL347),\"\",FromEvoM!AL347)","v":""},{"$f":"IF(ISBLANK(FromEvoM!A347),\"\",IF(AND(AF347=\"y\",AI347=1),\"Y\",\"N\"))","v":""},{"$f":"IF(ISBLANK(FromEvoM!A347),\"\",IF(FromEvoM!AS347=\"Yes\",2,1))","v":""},{"$f":"IF(FromEvoM!W347=1,\"M\",IF(FromEvoM!W347=7,\"W\",\"\"))","v":""},{"$f":"IF(AJ347=\"Y\",0,IF(AJ347=\"N\",FromEvoM!AF347+FromEvoM!AT347,\"\"))","v":""},{"$f":"IF(AJ347=\"Y\",(FromEvoM!AE347+FromEvoM!AF347-FromEvoM!AT347),IF(AJ347=\"N\",FromEvoM!AE347,\"\"))","v":""}]
[{"$f":"IF(ISBLANK(FromEvoM!A348),\"\",Group_Code)","v":""},{"$f":"IF(ISBLANK(FromEvoM!A348),\"\",SUBSTITUTE(FromEvoM!A348,\" \",\"\"))","v":""},{"$f":"IF(ISBLANK(FromEvoM!C348),\"\",SUBSTITUTE(FromEvoM!G348,\" \",\"\"))","v":""},{"$f":"IF(ISBLANK(FromEvoM!D348),\"\",FromEvoM!B348)","v":""},{"$f":"IF(ISBLANK(FromEvoM!D348),\"\",FromEvoM!D348)","v":""},{"$f":"IF(ISBLANK(FromEvoM!C348),\"\",FromEvoM!C348)","v":""},{"$f":"REPLACE(FromEvoM!F348,2,6, )","v":""},{"$f":"IF(ISNUMBER(FromEvoM!E348),FromEvoM!E348,\"\")","v":""},{"$f":"IF(ISBLANK(FromEvoM!I348),\"\",FromEvoM!I348)","v":""},{"$f":"IF(ISBLANK(FromEvoM!J348),\"\",FromEvoM!J348)","v":""},{"$f":"IF(ISBLANK(FromEvoM!K348),\"\",FromEvoM!K348)","v":""},{"$f":"IF(ISBLANK(FromEvoM!L348),\"\",FromEvoM!L348)","v":""},{"$f":"IF(ISBLANK(FromEvoM!M348),\"\",FromEvoM!M348)","v":""},{"$f":"IF(ISBLANK(FromEvoM!P348),\"\",FromEvoM!P348)","v":""},null,{"$f":"IF(ISNUMBER(FromEvoM!X348),FromEvoM!X348,\"\")","v":""},{"$f":"IF(ISNUMBER(FromEvoM!AB348),FromEvoM!AB348,\"\")","v":""},{"$f":"IF(ISNUMBER(FromEvoM!AA348),FromEvoM!AA348,\"\")","v":""},null,"","",null,null,{"$f":"IF(FromEvoM!W348=1,(FromEvoM!AB348*12),IF(FromEvoM!W348=7,(FromEvoM!AR348),\"\"))","v":""},null,null,{"$f":"IF(ISBLANK(FromEvoM!A348),\"\",IF(FromEvoM!AK348=\"y\",\"Y\",\"N\"))","v":""},{"$f":"IF(ISBLANK(FromEvoM!A348),\"\",Category_ID)","v":""},null,null,null,{"$f":"IF(ISBLANK(FromEvoM!AK348),\"\",FromEvoM!AK348)","v":""},{"$f":"IF(ISBLANK(FromEvoM!AM348),\"\",FromEvoM!AM348)","v":""},{"$f":"IF(ISBLANK(FromEvoM!AN348),\"\",FromEvoM!AN348)","v":""},{"$f":"IF(ISBLANK(FromEvoM!AL348),\"\",FromEvoM!AL348)","v":""},{"$f":"IF(ISBLANK(FromEvoM!A348),\"\",IF(AND(AF348=\"y\",AI348=1),\"Y\",\"N\"))","v":""},{"$f":"IF(ISBLANK(FromEvoM!A348),\"\",IF(FromEvoM!AS348=\"Yes\",2,1))","v":""},{"$f":"IF(FromEvoM!W348=1,\"M\",IF(FromEvoM!W348=7,\"W\",\"\"))","v":""},{"$f":"IF(AJ348=\"Y\",0,IF(AJ348=\"N\",FromEvoM!AF348+FromEvoM!AT348,\"\"))","v":""},{"$f":"IF(AJ348=\"Y\",(FromEvoM!AE348+FromEvoM!AF348-FromEvoM!AT348),IF(AJ348=\"N\",FromEvoM!AE348,\"\"))","v":""}]
[{"$f":"IF(ISBLANK(FromEvoM!A349),\"\",Group_Code)","v":""},{"$f":"IF(ISBLANK(FromEvoM!A349),\"\",SUBSTITUTE(FromEvoM!A349,\" \",\"\"))","v":""},{"$f":"IF(ISBLANK(FromEvoM!C349),\"\",SUBSTITUTE(FromEvoM!G349,\" \",\"\"))","v":""},{"$f":"IF(ISBLANK(FromEvoM!D349),\"\",FromEvoM!B349)","v":""},{"$f":"IF(ISBLANK(FromEvoM!D349),\"\",FromEvoM!D349)","v":""},{"$f":"IF(ISBLANK(FromEvoM!C349),\"\",FromEvoM!C349)","v":""},{"$f":"REPLACE(FromEvoM!F349,2,6, )","v":""},{"$f":"IF(ISNUMBER(FromEvoM!E349),FromEvoM!E349,\"\")","v":""},{"$f":"IF(ISBLANK(FromEvoM!I349),\"\",FromEvoM!I349)","v":""},{"$f":"IF(ISBLANK(FromEvoM!J349),\"\",FromEvoM!J349)","v":""},{"$f":"IF(ISBLANK(FromEvoM!K349),\"\",FromEvoM!K349)","v":""},{"$f":"IF(ISBLANK(FromEvoM!L349),\"\",FromEvoM!L349)","v":""},{"$f":"IF(ISBLANK(FromEvoM!M349),\"\",FromEvoM!M349)","v":""},{"$f":"IF(ISBLANK(FromEvoM!P349),\"\",FromEvoM!P349)","v":""},null,{"$f":"IF(ISNUMBER(FromEvoM!X349),FromEvoM!X349,\"\")","v":""},{"$f":"IF(ISNUMBER(FromEvoM!AB349),FromEvoM!AB349,\"\")","v":""},{"$f":"IF(ISNUMBER(FromEvoM!AA349),FromEvoM!AA349,\"\")","v":""},null,"","",null,null,{"$f":"IF(FromEvoM!W349=1,(FromEvoM!AB349*12),IF(FromEvoM!W349=7,(FromEvoM!AR349),\"\"))","v":""},null,null,{"$f":"IF(ISBLANK(FromEvoM!A349),\"\",IF(FromEvoM!AK349=\"y\",\"Y\",\"N\"))","v":""},{"$f":"IF(ISBLANK(FromEvoM!A349),\"\",Category_ID)","v":""},null,null,null,{"$f":"IF(ISBLANK(FromEvoM!AK349),\"\",FromEvoM!AK349)","v":""},{"$f":"IF(ISBLANK(FromEvoM!AM349),\"\",FromEvoM!AM349)","v":""},{"$f":"IF(ISBLANK(FromEvoM!AN349),\"\",FromEvoM!AN349)","v":""},{"$f":"IF(ISBLANK(FromEvoM!AL349),\"\",FromEvoM!AL349)","v":""},{"$f":"IF(ISBLANK(FromEvoM!A349),\"\",IF(AND(AF349=\"y\",AI349=1),\"Y\",\"N\"))","v":""},{"$f":"IF(ISBLANK(FromEvoM!A349),\"\",IF(FromEvoM!AS349=\"Yes\",2,1))","v":""},{"$f":"IF(FromEvoM!W349=1,\"M\",IF(FromEvoM!W349=7,\"W\",\"\"))","v":""},{"$f":"IF(AJ349=\"Y\",0,IF(AJ349=\"N\",FromEvoM!AF349+FromEvoM!AT349,\"\"))","v":""},{"$f":"IF(AJ349=\"Y\",(FromEvoM!AE349+FromEvoM!AF349-FromEvoM!AT349),IF(AJ349=\"N\",FromEvoM!AE349,\"\"))","v":""}]
[{"$f":"IF(ISBLANK(FromEvoM!A350),\"\",Group_Code)","v":""},{"$f":"IF(ISBLANK(FromEvoM!A350),\"\",SUBSTITUTE(FromEvoM!A350,\" \",\"\"))","v":""},{"$f":"IF(ISBLANK(FromEvoM!C350),\"\",SUBSTITUTE(FromEvoM!G350,\" \",\"\"))","v":""},{"$f":"IF(ISBLANK(FromEvoM!D350),\"\",FromEvoM!B350)","v":""},{"$f":"IF(ISBLANK(FromEvoM!D350),\"\",FromEvoM!D350)","v":""},{"$f":"IF(ISBLANK(FromEvoM!C350),\"\",FromEvoM!C350)","v":""},{"$f":"REPLACE(FromEvoM!F350,2,6, )","v":""},{"$f":"IF(ISNUMBER(FromEvoM!E350),FromEvoM!E350,\"\")","v":""},{"$f":"IF(ISBLANK(FromEvoM!I350),\"\",FromEvoM!I350)","v":""},{"$f":"IF(ISBLANK(FromEvoM!J350),\"\",FromEvoM!J350)","v":""},{"$f":"IF(ISBLANK(FromEvoM!K350),\"\",FromEvoM!K350)","v":""},{"$f":"IF(ISBLANK(FromEvoM!L350),\"\",FromEvoM!L350)","v":""},{"$f":"IF(ISBLANK(FromEvoM!M350),\"\",FromEvoM!M350)","v":""},{"$f":"IF(ISBLANK(FromEvoM!P350),\"\",FromEvoM!P350)","v":""},null,{"$f":"IF(ISNUMBER(FromEvoM!X350),FromEvoM!X350,\"\")","v":""},{"$f":"IF(ISNUMBER(FromEvoM!AB350),FromEvoM!AB350,\"\")","v":""},{"$f":"IF(ISNUMBER(FromEvoM!AA350),FromEvoM!AA350,\"\")","v":""},null,"","",null,null,{"$f":"IF(FromEvoM!W350=1,(FromEvoM!AB350*12),IF(FromEvoM!W350=7,(FromEvoM!AR350),\"\"))","v":""},null,null,{"$f":"IF(ISBLANK(FromEvoM!A350),\"\",IF(FromEvoM!AK350=\"y\",\"Y\",\"N\"))","v":""},{"$f":"IF(ISBLANK(FromEvoM!A350),\"\",Category_ID)","v":""},null,null,null,{"$f":"IF(ISBLANK(FromEvoM!AK350),\"\",FromEvoM!AK350)","v":""},{"$f":"IF(ISBLANK(FromEvoM!AM350),\"\",FromEvoM!AM350)","v":""},{"$f":"IF(ISBLANK(FromEvoM!AN350),\"\",FromEvoM!AN350)","v":""},{"$f":"IF(ISBLANK(FromEvoM!AL350),\"\",FromEvoM!AL350)","v":""},{"$f":"IF(ISBLANK(FromEvoM!A350),\"\",IF(AND(AF350=\"y\",AI350=1),\"Y\",\"N\"))","v":""},{"$f":"IF(ISBLANK(FromEvoM!A350),\"\",IF(FromEvoM!AS350=\"Yes\",2,1))","v":""},{"$f":"IF(FromEvoM!W350=1,\"M\",IF(FromEvoM!W350=7,\"W\",\"\"))","v":""},{"$f":"IF(AJ350=\"Y\",0,IF(AJ350=\"N\",FromEvoM!AF350+FromEvoM!AT350,\"\"))","v":""},{"$f":"IF(AJ350=\"Y\",(FromEvoM!AE350+FromEvoM!AF350-FromEvoM!AT350),IF(AJ350=\"N\",FromEvoM!AE350,\"\"))","v":""}]
[{"$f":"IF(ISBLANK(FromEvoM!A351),\"\",Group_Code)","v":""},{"$f":"IF(ISBLANK(FromEvoM!A351),\"\",SUBSTITUTE(FromEvoM!A351,\" \",\"\"))","v":""},{"$f":"IF(ISBLANK(FromEvoM!C351),\"\",SUBSTITUTE(FromEvoM!G351,\" \",\"\"))","v":""},{"$f":"IF(ISBLANK(FromEvoM!D351),\"\",FromEvoM!B351)","v":""},{"$f":"IF(ISBLANK(FromEvoM!D351),\"\",FromEvoM!D351)","v":""},{"$f":"IF(ISBLANK(FromEvoM!C351),\"\",FromEvoM!C351)","v":""},{"$f":"REPLACE(FromEvoM!F351,2,6, )","v":""},{"$f":"IF(ISNUMBER(FromEvoM!E351),FromEvoM!E351,\"\")","v":""},{"$f":"IF(ISBLANK(FromEvoM!I351),\"\",FromEvoM!I351)","v":""},{"$f":"IF(ISBLANK(FromEvoM!J351),\"\",FromEvoM!J351)","v":""},{"$f":"IF(ISBLANK(FromEvoM!K351),\"\",FromEvoM!K351)","v":""},{"$f":"IF(ISBLANK(FromEvoM!L351),\"\",FromEvoM!L351)","v":""},{"$f":"IF(ISBLANK(FromEvoM!M351),\"\",FromEvoM!M351)","v":""},{"$f":"IF(ISBLANK(FromEvoM!P351),\"\",FromEvoM!P351)","v":""},null,{"$f":"IF(ISNUMBER(FromEvoM!X351),FromEvoM!X351,\"\")","v":""},{"$f":"IF(ISNUMBER(FromEvoM!AB351),FromEvoM!AB351,\"\")","v":""},{"$f":"IF(ISNUMBER(FromEvoM!AA351),FromEvoM!AA351,\"\")","v":""},null,"","",null,null,{"$f":"IF(FromEvoM!W351=1,(FromEvoM!AB351*12),IF(FromEvoM!W351=7,(FromEvoM!AR351),\"\"))","v":""},null,null,{"$f":"IF(ISBLANK(FromEvoM!A351),\"\",IF(FromEvoM!AK351=\"y\",\"Y\",\"N\"))","v":""},{"$f":"IF(ISBLANK(FromEvoM!A351),\"\",Category_ID)","v":""},null,null,null,{"$f":"IF(ISBLANK(FromEvoM!AK351),\"\",FromEvoM!AK351)","v":""},{"$f":"IF(ISBLANK(FromEvoM!AM351),\"\",FromEvoM!AM351)","v":""},{"$f":"IF(ISBLANK(FromEvoM!AN351),\"\",FromEvoM!AN351)","v":""},{"$f":"IF(ISBLANK(FromEvoM!AL351),\"\",FromEvoM!AL351)","v":""},{"$f":"IF(ISBLANK(FromEvoM!A351),\"\",IF(AND(AF351=\"y\",AI351=1),\"Y\",\"N\"))","v":""},{"$f":"IF(ISBLANK(FromEvoM!A351),\"\",IF(FromEvoM!AS351=\"Yes\",2,1))","v":""},{"$f":"IF(FromEvoM!W351=1,\"M\",IF(FromEvoM!W351=7,\"W\",\"\"))","v":""},{"$f":"IF(AJ351=\"Y\",0,IF(AJ351=\"N\",FromEvoM!AF351+FromEvoM!AT351,\"\"))","v":""},{"$f":"IF(AJ351=\"Y\",(FromEvoM!AE351+FromEvoM!AF351-FromEvoM!AT351),IF(AJ351=\"N\",FromEvoM!AE351,\"\"))","v":""}]
[{"$f":"IF(ISBLANK(FromEvoM!A352),\"\",Group_Code)","v":""},{"$f":"IF(ISBLANK(FromEvoM!A352),\"\",SUBSTITUTE(FromEvoM!A352,\" \",\"\"))","v":""},{"$f":"IF(ISBLANK(FromEvoM!C352),\"\",SUBSTITUTE(FromEvoM!G352,\" \",\"\"))","v":""},{"$f":"IF(ISBLANK(FromEvoM!D352),\"\",FromEvoM!B352)","v":""},{"$f":"IF(ISBLANK(FromEvoM!D352),\"\",FromEvoM!D352)","v":""},{"$f":"IF(ISBLANK(FromEvoM!C352),\"\",FromEvoM!C352)","v":""},{"$f":"REPLACE(FromEvoM!F352,2,6, )","v":""},{"$f":"IF(ISNUMBER(FromEvoM!E352),FromEvoM!E352,\"\")","v":""},{"$f":"IF(ISBLANK(FromEvoM!I352),\"\",FromEvoM!I352)","v":""},{"$f":"IF(ISBLANK(FromEvoM!J352),\"\",FromEvoM!J352)","v":""},{"$f":"IF(ISBLANK(FromEvoM!K352),\"\",FromEvoM!K352)","v":""},{"$f":"IF(ISBLANK(FromEvoM!L352),\"\",FromEvoM!L352)","v":""},{"$f":"IF(ISBLANK(FromEvoM!M352),\"\",FromEvoM!M352)","v":""},{"$f":"IF(ISBLANK(FromEvoM!P352),\"\",FromEvoM!P352)","v":""},null,{"$f":"IF(ISNUMBER(FromEvoM!X352),FromEvoM!X352,\"\")","v":""},{"$f":"IF(ISNUMBER(FromEvoM!AB352),FromEvoM!AB352,\"\")","v":""},{"$f":"IF(ISNUMBER(FromEvoM!AA352),FromEvoM!AA352,\"\")","v":""},null,"","",null,null,{"$f":"IF(FromEvoM!W352=1,(FromEvoM!AB352*12),IF(FromEvoM!W352=7,(FromEvoM!AR352),\"\"))","v":""},null,null,{"$f":"IF(ISBLANK(FromEvoM!A352),\"\",IF(FromEvoM!AK352=\"y\",\"Y\",\"N\"))","v":""},{"$f":"IF(ISBLANK(FromEvoM!A352),\"\",Category_ID)","v":""},null,null,null,{"$f":"IF(ISBLANK(FromEvoM!AK352),\"\",FromEvoM!AK352)","v":""},{"$f":"IF(ISBLANK(FromEvoM!AM352),\"\",FromEvoM!AM352)","v":""},{"$f":"IF(ISBLANK(FromEvoM!AN352),\"\",FromEvoM!AN352)","v":""},{"$f":"IF(ISBLANK(FromEvoM!AL352),\"\",FromEvoM!AL352)","v":""},{"$f":"IF(ISBLANK(FromEvoM!A352),\"\",IF(AND(AF352=\"y\",AI352=1),\"Y\",\"N\"))","v":""},{"$f":"IF(ISBLANK(FromEvoM!A352),\"\",IF(FromEvoM!AS352=\"Yes\",2,1))","v":""},{"$f":"IF(FromEvoM!W352=1,\"M\",IF(FromEvoM!W352=7,\"W\",\"\"))","v":""},{"$f":"IF(AJ352=\"Y\",0,IF(AJ352=\"N\",FromEvoM!AF352+FromEvoM!AT352,\"\"))","v":""},{"$f":"IF(AJ352=\"Y\",(FromEvoM!AE352+FromEvoM!AF352-FromEvoM!AT352),IF(AJ352=\"N\",FromEvoM!AE352,\"\"))","v":""}]
[{"$f":"IF(ISBLANK(FromEvoM!A353),\"\",Group_Code)","v":""},{"$f":"IF(ISBLANK(FromEvoM!A353),\"\",SUBSTITUTE(FromEvoM!A353,\" \",\"\"))","v":""},{"$f":"IF(ISBLANK(FromEvoM!C353),\"\",SUBSTITUTE(FromEvoM!G353,\" \",\"\"))","v":""},{"$f":"IF(ISBLANK(FromEvoM!D353),\"\",FromEvoM!B353)","v":""},{"$f":"IF(ISBLANK(FromEvoM!D353),\"\",FromEvoM!D353)","v":""},{"$f":"IF(ISBLANK(FromEvoM!C353),\"\",FromEvoM!C353)","v":""},{"$f":"REPLACE(FromEvoM!F353,2,6, )","v":""},{"$f":"IF(ISNUMBER(FromEvoM!E353),FromEvoM!E353,\"\")","v":""},{"$f":"IF(ISBLANK(FromEvoM!I353),\"\",FromEvoM!I353)","v":""},{"$f":"IF(ISBLANK(FromEvoM!J353),\"\",FromEvoM!J353)","v":""},{"$f":"IF(ISBLANK(FromEvoM!K353),\"\",FromEvoM!K353)","v":""},{"$f":"IF(ISBLANK(FromEvoM!L353),\"\",FromEvoM!L353)","v":""},{"$f":"IF(ISBLANK(FromEvoM!M353),\"\",FromEvoM!M353)","v":""},{"$f":"IF(ISBLANK(FromEvoM!P353),\"\",FromEvoM!P353)","v":""},null,{"$f":"IF(ISNUMBER(FromEvoM!X353),FromEvoM!X353,\"\")","v":""},{"$f":"IF(ISNUMBER(FromEvoM!AB353),FromEvoM!AB353,\"\")","v":""},{"$f":"IF(ISNUMBER(FromEvoM!AA353),FromEvoM!AA353,\"\")","v":""},null,"","",null,null,{"$f":"IF(FromEvoM!W353=1,(FromEvoM!AB353*12),IF(FromEvoM!W353=7,(FromEvoM!AR353),\"\"))","v":""},null,null,{"$f":"IF(ISBLANK(FromEvoM!A353),\"\",IF(FromEvoM!AK353=\"y\",\"Y\",\"N\"))","v":""},{"$f":"IF(ISBLANK(FromEvoM!A353),\"\",Category_ID)","v":""},null,null,null,{"$f":"IF(ISBLANK(FromEvoM!AK353),\"\",FromEvoM!AK353)","v":""},{"$f":"IF(ISBLANK(FromEvoM!AM353),\"\",FromEvoM!AM353)","v":""},{"$f":"IF(ISBLANK(FromEvoM!AN353),\"\",FromEvoM!AN353)","v":""},{"$f":"IF(ISBLANK(FromEvoM!AL353),\"\",FromEvoM!AL353)","v":""},{"$f":"IF(ISBLANK(FromEvoM!A353),\"\",IF(AND(AF353=\"y\",AI353=1),\"Y\",\"N\"))","v":""},{"$f":"IF(ISBLANK(FromEvoM!A353),\"\",IF(FromEvoM!AS353=\"Yes\",2,1))","v":""},{"$f":"IF(FromEvoM!W353=1,\"M\",IF(FromEvoM!W353=7,\"W\",\"\"))","v":""},{"$f":"IF(AJ353=\"Y\",0,IF(AJ353=\"N\",FromEvoM!AF353+FromEvoM!AT353,\"\"))","v":""},{"$f":"IF(AJ353=\"Y\",(FromEvoM!AE353+FromEvoM!AF353-FromEvoM!AT353),IF(AJ353=\"N\",FromEvoM!AE353,\"\"))","v":""}]
[{"$f":"IF(ISBLANK(FromEvoM!A354),\"\",Group_Code)","v":""},{"$f":"IF(ISBLANK(FromEvoM!A354),\"\",SUBSTITUTE(FromEvoM!A354,\" \",\"\"))","v":""},{"$f":"IF(ISBLANK(FromEvoM!C354),\"\",SUBSTITUTE(FromEvoM!G354,\" \",\"\"))","v":""},{"$f":"IF(ISBLANK(FromEvoM!D354),\"\",FromEvoM!B354)","v":""},{"$f":"IF(ISBLANK(FromEvoM!D354),\"\",FromEvoM!D354)","v":""},{"$f":"IF(ISBLANK(FromEvoM!C354),\"\",FromEvoM!C354)","v":""},{"$f":"REPLACE(FromEvoM!F354,2,6, )","v":""},{"$f":"IF(ISNUMBER(FromEvoM!E354),FromEvoM!E354,\"\")","v":""},{"$f":"IF(ISBLANK(FromEvoM!I354),\"\",FromEvoM!I354)","v":""},{"$f":"IF(ISBLANK(FromEvoM!J354),\"\",FromEvoM!J354)","v":""},{"$f":"IF(ISBLANK(FromEvoM!K354),\"\",FromEvoM!K354)","v":""},{"$f":"IF(ISBLANK(FromEvoM!L354),\"\",FromEvoM!L354)","v":""},{"$f":"IF(ISBLANK(FromEvoM!M354),\"\",FromEvoM!M354)","v":""},{"$f":"IF(ISBLANK(FromEvoM!P354),\"\",FromEvoM!P354)","v":""},null,{"$f":"IF(ISNUMBER(FromEvoM!X354),FromEvoM!X354,\"\")","v":""},{"$f":"IF(ISNUMBER(FromEvoM!AB354),FromEvoM!AB354,\"\")","v":""},{"$f":"IF(ISNUMBER(FromEvoM!AA354),FromEvoM!AA354,\"\")","v":""},null,"","",null,null,{"$f":"IF(FromEvoM!W354=1,(FromEvoM!AB354*12),IF(FromEvoM!W354=7,(FromEvoM!AR354),\"\"))","v":""},null,null,{"$f":"IF(ISBLANK(FromEvoM!A354),\"\",IF(FromEvoM!AK354=\"y\",\"Y\",\"N\"))","v":""},{"$f":"IF(ISBLANK(FromEvoM!A354),\"\",Category_ID)","v":""},null,null,null,{"$f":"IF(ISBLANK(FromEvoM!AK354),\"\",FromEvoM!AK354)","v":""},{"$f":"IF(ISBLANK(FromEvoM!AM354),\"\",FromEvoM!AM354)","v":""},{"$f":"IF(ISBLANK(FromEvoM!AN354),\"\",FromEvoM!AN354)","v":""},{"$f":"IF(ISBLANK(FromEvoM!AL354),\"\",FromEvoM!AL354)","v":""},{"$f":"IF(ISBLANK(FromEvoM!A354),\"\",IF(AND(AF354=\"y\",AI354=1),\"Y\",\"N\"))","v":""},{"$f":"IF(ISBLANK(FromEvoM!A354),\"\",IF(FromEvoM!AS354=\"Yes\",2,1))","v":""},{"$f":"IF(FromEvoM!W354=1,\"M\",IF(FromEvoM!W354=7,\"W\",\"\"))","v":""},{"$f":"IF(AJ354=\"Y\",0,IF(AJ354=\"N\",FromEvoM!AF354+FromEvoM!AT354,\"\"))","v":""},{"$f":"IF(AJ354=\"Y\",(FromEvoM!AE354+FromEvoM!AF354-FromEvoM!AT354),IF(AJ354=\"N\",FromEvoM!AE354,\"\"))","v":""}]
[{"$f":"IF(ISBLANK(FromEvoM!A355),\"\",Group_Code)","v":""},{"$f":"IF(ISBLANK(FromEvoM!A355),\"\",SUBSTITUTE(FromEvoM!A355,\" \",\"\"))","v":""},{"$f":"IF(ISBLANK(FromEvoM!C355),\"\",SUBSTITUTE(FromEvoM!G355,\" \",\"\"))","v":""},{"$f":"IF(ISBLANK(FromEvoM!D355),\"\",FromEvoM!B355)","v":""},{"$f":"IF(ISBLANK(FromEvoM!D355),\"\",FromEvoM!D355)","v":""},{"$f":"IF(ISBLANK(FromEvoM!C355),\"\",FromEvoM!C355)","v":""},{"$f":"REPLACE(FromEvoM!F355,2,6, )","v":""},{"$f":"IF(ISNUMBER(FromEvoM!E355),FromEvoM!E355,\"\")","v":""},{"$f":"IF(ISBLANK(FromEvoM!I355),\"\",FromEvoM!I355)","v":""},{"$f":"IF(ISBLANK(FromEvoM!J355),\"\",FromEvoM!J355)","v":""},{"$f":"IF(ISBLANK(FromEvoM!K355),\"\",FromEvoM!K355)","v":""},{"$f":"IF(ISBLANK(FromEvoM!L355),\"\",FromEvoM!L355)","v":""},{"$f":"IF(ISBLANK(FromEvoM!M355),\"\",FromEvoM!M355)","v":""},{"$f":"IF(ISBLANK(FromEvoM!P355),\"\",FromEvoM!P355)","v":""},null,{"$f":"IF(ISNUMBER(FromEvoM!X355),FromEvoM!X355,\"\")","v":""},{"$f":"IF(ISNUMBER(FromEvoM!AB355),FromEvoM!AB355,\"\")","v":""},{"$f":"IF(ISNUMBER(FromEvoM!AA355),FromEvoM!AA355,\"\")","v":""},null,"","",null,null,{"$f":"IF(FromEvoM!W355=1,(FromEvoM!AB355*12),IF(FromEvoM!W355=7,(FromEvoM!AR355),\"\"))","v":""},null,null,{"$f":"IF(ISBLANK(FromEvoM!A355),\"\",IF(FromEvoM!AK355=\"y\",\"Y\",\"N\"))","v":""},{"$f":"IF(ISBLANK(FromEvoM!A355),\"\",Category_ID)","v":""},null,null,null,{"$f":"IF(ISBLANK(FromEvoM!AK355),\"\",FromEvoM!AK355)","v":""},{"$f":"IF(ISBLANK(FromEvoM!AM355),\"\",FromEvoM!AM355)","v":""},{"$f":"IF(ISBLANK(FromEvoM!AN355),\"\",FromEvoM!AN355)","v":""},{"$f":"IF(ISBLANK(FromEvoM!AL355),\"\",FromEvoM!AL355)","v":""},{"$f":"IF(ISBLANK(FromEvoM!A355),\"\",IF(AND(AF355=\"y\",AI355=1),\"Y\",\"N\"))","v":""},{"$f":"IF(ISBLANK(FromEvoM!A355),\"\",IF(FromEvoM!AS355=\"Yes\",2,1))","v":""},{"$f":"IF(FromEvoM!W355=1,\"M\",IF(FromEvoM!W355=7,\"W\",\"\"))","v":""},{"$f":"IF(AJ355=\"Y\",0,IF(AJ355=\"N\",FromEvoM!AF355+FromEvoM!AT355,\"\"))","v":""},{"$f":"IF(AJ355=\"Y\",(FromEvoM!AE355+FromEvoM!AF355-FromEvoM!AT355),IF(AJ355=\"N\",FromEvoM!AE355,\"\"))","v":""}]
[{"$f":"IF(ISBLANK(FromEvoM!A356),\"\",Group_Code)","v":""},{"$f":"IF(ISBLANK(FromEvoM!A356),\"\",SUBSTITUTE(FromEvoM!A356,\" \",\"\"))","v":""},{"$f":"IF(ISBLANK(FromEvoM!C356),\"\",SUBSTITUTE(FromEvoM!G356,\" \",\"\"))","v":""},{"$f":"IF(ISBLANK(FromEvoM!D356),\"\",FromEvoM!B356)","v":""},{"$f":"IF(ISBLANK(FromEvoM!D356),\"\",FromEvoM!D356)","v":""},{"$f":"IF(ISBLANK(FromEvoM!C356),\"\",FromEvoM!C356)","v":""},{"$f":"REPLACE(FromEvoM!F356,2,6, )","v":""},{"$f":"IF(ISNUMBER(FromEvoM!E356),FromEvoM!E356,\"\")","v":""},{"$f":"IF(ISBLANK(FromEvoM!I356),\"\",FromEvoM!I356)","v":""},{"$f":"IF(ISBLANK(FromEvoM!J356),\"\",FromEvoM!J356)","v":""},{"$f":"IF(ISBLANK(FromEvoM!K356),\"\",FromEvoM!K356)","v":""},{"$f":"IF(ISBLANK(FromEvoM!L356),\"\",FromEvoM!L356)","v":""},{"$f":"IF(ISBLANK(FromEvoM!M356),\"\",FromEvoM!M356)","v":""},{"$f":"IF(ISBLANK(FromEvoM!P356),\"\",FromEvoM!P356)","v":""},null,{"$f":"IF(ISNUMBER(FromEvoM!X356),FromEvoM!X356,\"\")","v":""},{"$f":"IF(ISNUMBER(FromEvoM!AB356),FromEvoM!AB356,\"\")","v":""},{"$f":"IF(ISNUMBER(FromEvoM!AA356),FromEvoM!AA356,\"\")","v":""},null,"","",null,null,{"$f":"IF(FromEvoM!W356=1,(FromEvoM!AB356*12),IF(FromEvoM!W356=7,(FromEvoM!AR356),\"\"))","v":""},null,null,{"$f":"IF(ISBLANK(FromEvoM!A356),\"\",IF(FromEvoM!AK356=\"y\",\"Y\",\"N\"))","v":""},{"$f":"IF(ISBLANK(FromEvoM!A356),\"\",Category_ID)","v":""},null,null,null,{"$f":"IF(ISBLANK(FromEvoM!AK356),\"\",FromEvoM!AK356)","v":""},{"$f":"IF(ISBLANK(FromEvoM!AM356),\"\",FromEvoM!AM356)","v":""},{"$f":"IF(ISBLANK(FromEvoM!AN356),\"\",FromEvoM!AN356)","v":""},{"$f":"IF(ISBLANK(FromEvoM!AL356),\"\",FromEvoM!AL356)","v":""},{"$f":"IF(ISBLANK(FromEvoM!A356),\"\",IF(AND(AF356=\"y\",AI356=1),\"Y\",\"N\"))","v":""},{"$f":"IF(ISBLANK(FromEvoM!A356),\"\",IF(FromEvoM!AS356=\"Yes\",2,1))","v":""},{"$f":"IF(FromEvoM!W356=1,\"M\",IF(FromEvoM!W356=7,\"W\",\"\"))","v":""},{"$f":"IF(AJ356=\"Y\",0,IF(AJ356=\"N\",FromEvoM!AF356+FromEvoM!AT356,\"\"))","v":""},{"$f":"IF(AJ356=\"Y\",(FromEvoM!AE356+FromEvoM!AF356-FromEvoM!AT356),IF(AJ356=\"N\",FromEvoM!AE356,\"\"))","v":""}]
[{"$f":"IF(ISBLANK(FromEvoM!A357),\"\",Group_Code)","v":""},{"$f":"IF(ISBLANK(FromEvoM!A357),\"\",SUBSTITUTE(FromEvoM!A357,\" \",\"\"))","v":""},{"$f":"IF(ISBLANK(FromEvoM!C357),\"\",SUBSTITUTE(FromEvoM!G357,\" \",\"\"))","v":""},{"$f":"IF(ISBLANK(FromEvoM!D357),\"\",FromEvoM!B357)","v":""},{"$f":"IF(ISBLANK(FromEvoM!D357),\"\",FromEvoM!D357)","v":""},{"$f":"IF(ISBLANK(FromEvoM!C357),\"\",FromEvoM!C357)","v":""},{"$f":"REPLACE(FromEvoM!F357,2,6, )","v":""},{"$f":"IF(ISNUMBER(FromEvoM!E357),FromEvoM!E357,\"\")","v":""},{"$f":"IF(ISBLANK(FromEvoM!I357),\"\",FromEvoM!I357)","v":""},{"$f":"IF(ISBLANK(FromEvoM!J357),\"\",FromEvoM!J357)","v":""},{"$f":"IF(ISBLANK(FromEvoM!K357),\"\",FromEvoM!K357)","v":""},{"$f":"IF(ISBLANK(FromEvoM!L357),\"\",FromEvoM!L357)","v":""},{"$f":"IF(ISBLANK(FromEvoM!M357),\"\",FromEvoM!M357)","v":""},{"$f":"IF(ISBLANK(FromEvoM!P357),\"\",FromEvoM!P357)","v":""},null,{"$f":"IF(ISNUMBER(FromEvoM!X357),FromEvoM!X357,\"\")","v":""},{"$f":"IF(ISNUMBER(FromEvoM!AB357),FromEvoM!AB357,\"\")","v":""},{"$f":"IF(ISNUMBER(FromEvoM!AA357),FromEvoM!AA357,\"\")","v":""},null,"","",null,null,{"$f":"IF(FromEvoM!W357=1,(FromEvoM!AB357*12),IF(FromEvoM!W357=7,(FromEvoM!AR357),\"\"))","v":""},null,null,{"$f":"IF(ISBLANK(FromEvoM!A357),\"\",IF(FromEvoM!AK357=\"y\",\"Y\",\"N\"))","v":""},{"$f":"IF(ISBLANK(FromEvoM!A357),\"\",Category_ID)","v":""},null,null,null,{"$f":"IF(ISBLANK(FromEvoM!AK357),\"\",FromEvoM!AK357)","v":""},{"$f":"IF(ISBLANK(FromEvoM!AM357),\"\",FromEvoM!AM357)","v":""},{"$f":"IF(ISBLANK(FromEvoM!AN357),\"\",FromEvoM!AN357)","v":""},{"$f":"IF(ISBLANK(FromEvoM!AL357),\"\",FromEvoM!AL357)","v":""},{"$f":"IF(ISBLANK(FromEvoM!A357),\"\",IF(AND(AF357=\"y\",AI357=1),\"Y\",\"N\"))","v":""},{"$f":"IF(ISBLANK(FromEvoM!A357),\"\",IF(FromEvoM!AS357=\"Yes\",2,1))","v":""},{"$f":"IF(FromEvoM!W357=1,\"M\",IF(FromEvoM!W357=7,\"W\",\"\"))","v":""},{"$f":"IF(AJ357=\"Y\",0,IF(AJ357=\"N\",FromEvoM!AF357+FromEvoM!AT357,\"\"))","v":""},{"$f":"IF(AJ357=\"Y\",(FromEvoM!AE357+FromEvoM!AF357-FromEvoM!AT357),IF(AJ357=\"N\",FromEvoM!AE357,\"\"))","v":""}]
[{"$f":"IF(ISBLANK(FromEvoM!A358),\"\",Group_Code)","v":""},{"$f":"IF(ISBLANK(FromEvoM!A358),\"\",SUBSTITUTE(FromEvoM!A358,\" \",\"\"))","v":""},{"$f":"IF(ISBLANK(FromEvoM!C358),\"\",SUBSTITUTE(FromEvoM!G358,\" \",\"\"))","v":""},{"$f":"IF(ISBLANK(FromEvoM!D358),\"\",FromEvoM!B358)","v":""},{"$f":"IF(ISBLANK(FromEvoM!D358),\"\",FromEvoM!D358)","v":""},{"$f":"IF(ISBLANK(FromEvoM!C358),\"\",FromEvoM!C358)","v":""},{"$f":"REPLACE(FromEvoM!F358,2,6, )","v":""},{"$f":"IF(ISNUMBER(FromEvoM!E358),FromEvoM!E358,\"\")","v":""},{"$f":"IF(ISBLANK(FromEvoM!I358),\"\",FromEvoM!I358)","v":""},{"$f":"IF(ISBLANK(FromEvoM!J358),\"\",FromEvoM!J358)","v":""},{"$f":"IF(ISBLANK(FromEvoM!K358),\"\",FromEvoM!K358)","v":""},{"$f":"IF(ISBLANK(FromEvoM!L358),\"\",FromEvoM!L358)","v":""},{"$f":"IF(ISBLANK(FromEvoM!M358),\"\",FromEvoM!M358)","v":""},{"$f":"IF(ISBLANK(FromEvoM!P358),\"\",FromEvoM!P358)","v":""},null,{"$f":"IF(ISNUMBER(FromEvoM!X358),FromEvoM!X358,\"\")","v":""},{"$f":"IF(ISNUMBER(FromEvoM!AB358),FromEvoM!AB358,\"\")","v":""},{"$f":"IF(ISNUMBER(FromEvoM!AA358),FromEvoM!AA358,\"\")","v":""},null,"","",null,null,{"$f":"IF(FromEvoM!W358=1,(FromEvoM!AB358*12),IF(FromEvoM!W358=7,(FromEvoM!AR358),\"\"))","v":""},null,null,{"$f":"IF(ISBLANK(FromEvoM!A358),\"\",IF(FromEvoM!AK358=\"y\",\"Y\",\"N\"))","v":""},{"$f":"IF(ISBLANK(FromEvoM!A358),\"\",Category_ID)","v":""},null,null,null,{"$f":"IF(ISBLANK(FromEvoM!AK358),\"\",FromEvoM!AK358)","v":""},{"$f":"IF(ISBLANK(FromEvoM!AM358),\"\",FromEvoM!AM358)","v":""},{"$f":"IF(ISBLANK(FromEvoM!AN358),\"\",FromEvoM!AN358)","v":""},{"$f":"IF(ISBLANK(FromEvoM!AL358),\"\",FromEvoM!AL358)","v":""},{"$f":"IF(ISBLANK(FromEvoM!A358),\"\",IF(AND(AF358=\"y\",AI358=1),\"Y\",\"N\"))","v":""},{"$f":"IF(ISBLANK(FromEvoM!A358),\"\",IF(FromEvoM!AS358=\"Yes\",2,1))","v":""},{"$f":"IF(FromEvoM!W358=1,\"M\",IF(FromEvoM!W358=7,\"W\",\"\"))","v":""},{"$f":"IF(AJ358=\"Y\",0,IF(AJ358=\"N\",FromEvoM!AF358+FromEvoM!AT358,\"\"))","v":""},{"$f":"IF(AJ358=\"Y\",(FromEvoM!AE358+FromEvoM!AF358-FromEvoM!AT358),IF(AJ358=\"N\",FromEvoM!AE358,\"\"))","v":""}]
[{"$f":"IF(ISBLANK(FromEvoM!A359),\"\",Group_Code)","v":""},{"$f":"IF(ISBLANK(FromEvoM!A359),\"\",SUBSTITUTE(FromEvoM!A359,\" \",\"\"))","v":""},{"$f":"IF(ISBLANK(FromEvoM!C359),\"\",SUBSTITUTE(FromEvoM!G359,\" \",\"\"))","v":""},{"$f":"IF(ISBLANK(FromEvoM!D359),\"\",FromEvoM!B359)","v":""},{"$f":"IF(ISBLANK(FromEvoM!D359),\"\",FromEvoM!D359)","v":""},{"$f":"IF(ISBLANK(FromEvoM!C359),\"\",FromEvoM!C359)","v":""},{"$f":"REPLACE(FromEvoM!F359,2,6, )","v":""},{"$f":"IF(ISNUMBER(FromEvoM!E359),FromEvoM!E359,\"\")","v":""},{"$f":"IF(ISBLANK(FromEvoM!I359),\"\",FromEvoM!I359)","v":""},{"$f":"IF(ISBLANK(FromEvoM!J359),\"\",FromEvoM!J359)","v":""},{"$f":"IF(ISBLANK(FromEvoM!K359),\"\",FromEvoM!K359)","v":""},{"$f":"IF(ISBLANK(FromEvoM!L359),\"\",FromEvoM!L359)","v":""},{"$f":"IF(ISBLANK(FromEvoM!M359),\"\",FromEvoM!M359)","v":""},{"$f":"IF(ISBLANK(FromEvoM!P359),\"\",FromEvoM!P359)","v":""},null,{"$f":"IF(ISNUMBER(FromEvoM!X359),FromEvoM!X359,\"\")","v":""},{"$f":"IF(ISNUMBER(FromEvoM!AB359),FromEvoM!AB359,\"\")","v":""},{"$f":"IF(ISNUMBER(FromEvoM!AA359),FromEvoM!AA359,\"\")","v":""},null,"","",null,null,{"$f":"IF(FromEvoM!W359=1,(FromEvoM!AB359*12),IF(FromEvoM!W359=7,(FromEvoM!AR359),\"\"))","v":""},null,null,{"$f":"IF(ISBLANK(FromEvoM!A359),\"\",IF(FromEvoM!AK359=\"y\",\"Y\",\"N\"))","v":""},{"$f":"IF(ISBLANK(FromEvoM!A359),\"\",Category_ID)","v":""},null,null,null,{"$f":"IF(ISBLANK(FromEvoM!AK359),\"\",FromEvoM!AK359)","v":""},{"$f":"IF(ISBLANK(FromEvoM!AM359),\"\",FromEvoM!AM359)","v":""},{"$f":"IF(ISBLANK(FromEvoM!AN359),\"\",FromEvoM!AN359)","v":""},{"$f":"IF(ISBLANK(FromEvoM!AL359),\"\",FromEvoM!AL359)","v":""},{"$f":"IF(ISBLANK(FromEvoM!A359),\"\",IF(AND(AF359=\"y\",AI359=1),\"Y\",\"N\"))","v":""},{"$f":"IF(ISBLANK(FromEvoM!A359),\"\",IF(FromEvoM!AS359=\"Yes\",2,1))","v":""},{"$f":"IF(FromEvoM!W359=1,\"M\",IF(FromEvoM!W359=7,\"W\",\"\"))","v":""},{"$f":"IF(AJ359=\"Y\",0,IF(AJ359=\"N\",FromEvoM!AF359+FromEvoM!AT359,\"\"))","v":""},{"$f":"IF(AJ359=\"Y\",(FromEvoM!AE359+FromEvoM!AF359-FromEvoM!AT359),IF(AJ359=\"N\",FromEvoM!AE359,\"\"))","v":""}]
[{"$f":"IF(ISBLANK(FromEvoM!A360),\"\",Group_Code)","v":""},{"$f":"IF(ISBLANK(FromEvoM!A360),\"\",SUBSTITUTE(FromEvoM!A360,\" \",\"\"))","v":""},{"$f":"IF(ISBLANK(FromEvoM!C360),\"\",SUBSTITUTE(FromEvoM!G360,\" \",\"\"))","v":""},{"$f":"IF(ISBLANK(FromEvoM!D360),\"\",FromEvoM!B360)","v":""},{"$f":"IF(ISBLANK(FromEvoM!D360),\"\",FromEvoM!D360)","v":""},{"$f":"IF(ISBLANK(FromEvoM!C360),\"\",FromEvoM!C360)","v":""},{"$f":"REPLACE(FromEvoM!F360,2,6, )","v":""},{"$f":"IF(ISNUMBER(FromEvoM!E360),FromEvoM!E360,\"\")","v":""},{"$f":"IF(ISBLANK(FromEvoM!I360),\"\",FromEvoM!I360)","v":""},{"$f":"IF(ISBLANK(FromEvoM!J360),\"\",FromEvoM!J360)","v":""},{"$f":"IF(ISBLANK(FromEvoM!K360),\"\",FromEvoM!K360)","v":""},{"$f":"IF(ISBLANK(FromEvoM!L360),\"\",FromEvoM!L360)","v":""},{"$f":"IF(ISBLANK(FromEvoM!M360),\"\",FromEvoM!M360)","v":""},{"$f":"IF(ISBLANK(FromEvoM!P360),\"\",FromEvoM!P360)","v":""},null,{"$f":"IF(ISNUMBER(FromEvoM!X360),FromEvoM!X360,\"\")","v":""},{"$f":"IF(ISNUMBER(FromEvoM!AB360),FromEvoM!AB360,\"\")","v":""},{"$f":"IF(ISNUMBER(FromEvoM!AA360),FromEvoM!AA360,\"\")","v":""},null,"","",null,null,{"$f":"IF(FromEvoM!W360=1,(FromEvoM!AB360*12),IF(FromEvoM!W360=7,(FromEvoM!AR360),\"\"))","v":""},null,null,{"$f":"IF(ISBLANK(FromEvoM!A360),\"\",IF(FromEvoM!AK360=\"y\",\"Y\",\"N\"))","v":""},{"$f":"IF(ISBLANK(FromEvoM!A360),\"\",Category_ID)","v":""},null,null,null,{"$f":"IF(ISBLANK(FromEvoM!AK360),\"\",FromEvoM!AK360)","v":""},{"$f":"IF(ISBLANK(FromEvoM!AM360),\"\",FromEvoM!AM360)","v":""},{"$f":"IF(ISBLANK(FromEvoM!AN360),\"\",FromEvoM!AN360)","v":""},{"$f":"IF(ISBLANK(FromEvoM!AL360),\"\",FromEvoM!AL360)","v":""},{"$f":"IF(ISBLANK(FromEvoM!A360),\"\",IF(AND(AF360=\"y\",AI360=1),\"Y\",\"N\"))","v":""},{"$f":"IF(ISBLANK(FromEvoM!A360),\"\",IF(FromEvoM!AS360=\"Yes\",2,1))","v":""},{"$f":"IF(FromEvoM!W360=1,\"M\",IF(FromEvoM!W360=7,\"W\",\"\"))","v":""},{"$f":"IF(AJ360=\"Y\",0,IF(AJ360=\"N\",FromEvoM!AF360+FromEvoM!AT360,\"\"))","v":""},{"$f":"IF(AJ360=\"Y\",(FromEvoM!AE360+FromEvoM!AF360-FromEvoM!AT360),IF(AJ360=\"N\",FromEvoM!AE360,\"\"))","v":""}]
[{"$f":"IF(ISBLANK(FromEvoM!A361),\"\",Group_Code)","v":""},{"$f":"IF(ISBLANK(FromEvoM!A361),\"\",SUBSTITUTE(FromEvoM!A361,\" \",\"\"))","v":""},{"$f":"IF(ISBLANK(FromEvoM!C361),\"\",SUBSTITUTE(FromEvoM!G361,\" \",\"\"))","v":""},{"$f":"IF(ISBLANK(FromEvoM!D361),\"\",FromEvoM!B361)","v":""},{"$f":"IF(ISBLANK(FromEvoM!D361),\"\",FromEvoM!D361)","v":""},{"$f":"IF(ISBLANK(FromEvoM!C361),\"\",FromEvoM!C361)","v":""},{"$f":"REPLACE(FromEvoM!F361,2,6, )","v":""},{"$f":"IF(ISNUMBER(FromEvoM!E361),FromEvoM!E361,\"\")","v":""},{"$f":"IF(ISBLANK(FromEvoM!I361),\"\",FromEvoM!I361)","v":""},{"$f":"IF(ISBLANK(FromEvoM!J361),\"\",FromEvoM!J361)","v":""},{"$f":"IF(ISBLANK(FromEvoM!K361),\"\",FromEvoM!K361)","v":""},{"$f":"IF(ISBLANK(FromEvoM!L361),\"\",FromEvoM!L361)","v":""},{"$f":"IF(ISBLANK(FromEvoM!M361),\"\",FromEvoM!M361)","v":""},{"$f":"IF(ISBLANK(FromEvoM!P361),\"\",FromEvoM!P361)","v":""},null,{"$f":"IF(ISNUMBER(FromEvoM!X361),FromEvoM!X361,\"\")","v":""},{"$f":"IF(ISNUMBER(FromEvoM!AB361),FromEvoM!AB361,\"\")","v":""},{"$f":"IF(ISNUMBER(FromEvoM!AA361),FromEvoM!AA361,\"\")","v":""},null,"","",null,null,{"$f":"IF(FromEvoM!W361=1,(FromEvoM!AB361*12),IF(FromEvoM!W361=7,(FromEvoM!AR361),\"\"))","v":""},null,null,{"$f":"IF(ISBLANK(FromEvoM!A361),\"\",IF(FromEvoM!AK361=\"y\",\"Y\",\"N\"))","v":""},{"$f":"IF(ISBLANK(FromEvoM!A361),\"\",Category_ID)","v":""},null,null,null,{"$f":"IF(ISBLANK(FromEvoM!AK361),\"\",FromEvoM!AK361)","v":""},{"$f":"IF(ISBLANK(FromEvoM!AM361),\"\",FromEvoM!AM361)","v":""},{"$f":"IF(ISBLANK(FromEvoM!AN361),\"\",FromEvoM!AN361)","v":""},{"$f":"IF(ISBLANK(FromEvoM!AL361),\"\",FromEvoM!AL361)","v":""},{"$f":"IF(ISBLANK(FromEvoM!A361),\"\",IF(AND(AF361=\"y\",AI361=1),\"Y\",\"N\"))","v":""},{"$f":"IF(ISBLANK(FromEvoM!A361),\"\",IF(FromEvoM!AS361=\"Yes\",2,1))","v":""},{"$f":"IF(FromEvoM!W361=1,\"M\",IF(FromEvoM!W361=7,\"W\",\"\"))","v":""},{"$f":"IF(AJ361=\"Y\",0,IF(AJ361=\"N\",FromEvoM!AF361+FromEvoM!AT361,\"\"))","v":""},{"$f":"IF(AJ361=\"Y\",(FromEvoM!AE361+FromEvoM!AF361-FromEvoM!AT361),IF(AJ361=\"N\",FromEvoM!AE361,\"\"))","v":""}]
[{"$f":"IF(ISBLANK(FromEvoM!A362),\"\",Group_Code)","v":""},{"$f":"IF(ISBLANK(FromEvoM!A362),\"\",SUBSTITUTE(FromEvoM!A362,\" \",\"\"))","v":""},{"$f":"IF(ISBLANK(FromEvoM!C362),\"\",SUBSTITUTE(FromEvoM!G362,\" \",\"\"))","v":""},{"$f":"IF(ISBLANK(FromEvoM!D362),\"\",FromEvoM!B362)","v":""},{"$f":"IF(ISBLANK(FromEvoM!D362),\"\",FromEvoM!D362)","v":""},{"$f":"IF(ISBLANK(FromEvoM!C362),\"\",FromEvoM!C362)","v":""},{"$f":"REPLACE(FromEvoM!F362,2,6, )","v":""},{"$f":"IF(ISNUMBER(FromEvoM!E362),FromEvoM!E362,\"\")","v":""},{"$f":"IF(ISBLANK(FromEvoM!I362),\"\",FromEvoM!I362)","v":""},{"$f":"IF(ISBLANK(FromEvoM!J362),\"\",FromEvoM!J362)","v":""},{"$f":"IF(ISBLANK(FromEvoM!K362),\"\",FromEvoM!K362)","v":""},{"$f":"IF(ISBLANK(FromEvoM!L362),\"\",FromEvoM!L362)","v":""},{"$f":"IF(ISBLANK(FromEvoM!M362),\"\",FromEvoM!M362)","v":""},{"$f":"IF(ISBLANK(FromEvoM!P362),\"\",FromEvoM!P362)","v":""},null,{"$f":"IF(ISNUMBER(FromEvoM!X362),FromEvoM!X362,\"\")","v":""},{"$f":"IF(ISNUMBER(FromEvoM!AB362),FromEvoM!AB362,\"\")","v":""},{"$f":"IF(ISNUMBER(FromEvoM!AA362),FromEvoM!AA362,\"\")","v":""},null,"","",null,null,{"$f":"IF(FromEvoM!W362=1,(FromEvoM!AB362*12),IF(FromEvoM!W362=7,(FromEvoM!AR362),\"\"))","v":""},null,null,{"$f":"IF(ISBLANK(FromEvoM!A362),\"\",IF(FromEvoM!AK362=\"y\",\"Y\",\"N\"))","v":""},{"$f":"IF(ISBLANK(FromEvoM!A362),\"\",Category_ID)","v":""},null,null,null,{"$f":"IF(ISBLANK(FromEvoM!AK362),\"\",FromEvoM!AK362)","v":""},{"$f":"IF(ISBLANK(FromEvoM!AM362),\"\",FromEvoM!AM362)","v":""},{"$f":"IF(ISBLANK(FromEvoM!AN362),\"\",FromEvoM!AN362)","v":""},{"$f":"IF(ISBLANK(FromEvoM!AL362),\"\",FromEvoM!AL362)","v":""},{"$f":"IF(ISBLANK(FromEvoM!A362),\"\",IF(AND(AF362=\"y\",AI362=1),\"Y\",\"N\"))","v":""},{"$f":"IF(ISBLANK(FromEvoM!A362),\"\",IF(FromEvoM!AS362=\"Yes\",2,1))","v":""},{"$f":"IF(FromEvoM!W362=1,\"M\",IF(FromEvoM!W362=7,\"W\",\"\"))","v":""},{"$f":"IF(AJ362=\"Y\",0,IF(AJ362=\"N\",FromEvoM!AF362+FromEvoM!AT362,\"\"))","v":""},{"$f":"IF(AJ362=\"Y\",(FromEvoM!AE362+FromEvoM!AF362-FromEvoM!AT362),IF(AJ362=\"N\",FromEvoM!AE362,\"\"))","v":""}]
[{"$f":"IF(ISBLANK(FromEvoM!A363),\"\",Group_Code)","v":""},{"$f":"IF(ISBLANK(FromEvoM!A363),\"\",SUBSTITUTE(FromEvoM!A363,\" \",\"\"))","v":""},{"$f":"IF(ISBLANK(FromEvoM!C363),\"\",SUBSTITUTE(FromEvoM!G363,\" \",\"\"))","v":""},{"$f":"IF(ISBLANK(FromEvoM!D363),\"\",FromEvoM!B363)","v":""},{"$f":"IF(ISBLANK(FromEvoM!D363),\"\",FromEvoM!D363)","v":""},{"$f":"IF(ISBLANK(FromEvoM!C363),\"\",FromEvoM!C363)","v":""},{"$f":"REPLACE(FromEvoM!F363,2,6, )","v":""},{"$f":"IF(ISNUMBER(FromEvoM!E363),FromEvoM!E363,\"\")","v":""},{"$f":"IF(ISBLANK(FromEvoM!I363),\"\",FromEvoM!I363)","v":""},{"$f":"IF(ISBLANK(FromEvoM!J363),\"\",FromEvoM!J363)","v":""},{"$f":"IF(ISBLANK(FromEvoM!K363),\"\",FromEvoM!K363)","v":""},{"$f":"IF(ISBLANK(FromEvoM!L363),\"\",FromEvoM!L363)","v":""},{"$f":"IF(ISBLANK(FromEvoM!M363),\"\",FromEvoM!M363)","v":""},{"$f":"IF(ISBLANK(FromEvoM!P363),\"\",FromEvoM!P363)","v":""},null,{"$f":"IF(ISNUMBER(FromEvoM!X363),FromEvoM!X363,\"\")","v":""},{"$f":"IF(ISNUMBER(FromEvoM!AB363),FromEvoM!AB363,\"\")","v":""},{"$f":"IF(ISNUMBER(FromEvoM!AA363),FromEvoM!AA363,\"\")","v":""},null,"","",null,null,{"$f":"IF(FromEvoM!W363=1,(FromEvoM!AB363*12),IF(FromEvoM!W363=7,(FromEvoM!AR363),\"\"))","v":""},null,null,{"$f":"IF(ISBLANK(FromEvoM!A363),\"\",IF(FromEvoM!AK363=\"y\",\"Y\",\"N\"))","v":""},{"$f":"IF(ISBLANK(FromEvoM!A363),\"\",Category_ID)","v":""},null,null,null,{"$f":"IF(ISBLANK(FromEvoM!AK363),\"\",FromEvoM!AK363)","v":""},{"$f":"IF(ISBLANK(FromEvoM!AM363),\"\",FromEvoM!AM363)","v":""},{"$f":"IF(ISBLANK(FromEvoM!AN363),\"\",FromEvoM!AN363)","v":""},{"$f":"IF(ISBLANK(FromEvoM!AL363),\"\",FromEvoM!AL363)","v":""},{"$f":"IF(ISBLANK(FromEvoM!A363),\"\",IF(AND(AF363=\"y\",AI363=1),\"Y\",\"N\"))","v":""},{"$f":"IF(ISBLANK(FromEvoM!A363),\"\",IF(FromEvoM!AS363=\"Yes\",2,1))","v":""},{"$f":"IF(FromEvoM!W363=1,\"M\",IF(FromEvoM!W363=7,\"W\",\"\"))","v":""},{"$f":"IF(AJ363=\"Y\",0,IF(AJ363=\"N\",FromEvoM!AF363+FromEvoM!AT363,\"\"))","v":""},{"$f":"IF(AJ363=\"Y\",(FromEvoM!AE363+FromEvoM!AF363-FromEvoM!AT363),IF(AJ363=\"N\",FromEvoM!AE363,\"\"))","v":""}]
[{"$f":"IF(ISBLANK(FromEvoM!A364),\"\",Group_Code)","v":""},{"$f":"IF(ISBLANK(FromEvoM!A364),\"\",SUBSTITUTE(FromEvoM!A364,\" \",\"\"))","v":""},{"$f":"IF(ISBLANK(FromEvoM!C364),\"\",SUBSTITUTE(FromEvoM!G364,\" \",\"\"))","v":""},{"$f":"IF(ISBLANK(FromEvoM!D364),\"\",FromEvoM!B364)","v":""},{"$f":"IF(ISBLANK(FromEvoM!D364),\"\",FromEvoM!D364)","v":""},{"$f":"IF(ISBLANK(FromEvoM!C364),\"\",FromEvoM!C364)","v":""},{"$f":"REPLACE(FromEvoM!F364,2,6, )","v":""},{"$f":"IF(ISNUMBER(FromEvoM!E364),FromEvoM!E364,\"\")","v":""},{"$f":"IF(ISBLANK(FromEvoM!I364),\"\",FromEvoM!I364)","v":""},{"$f":"IF(ISBLANK(FromEvoM!J364),\"\",FromEvoM!J364)","v":""},{"$f":"IF(ISBLANK(FromEvoM!K364),\"\",FromEvoM!K364)","v":""},{"$f":"IF(ISBLANK(FromEvoM!L364),\"\",FromEvoM!L364)","v":""},{"$f":"IF(ISBLANK(FromEvoM!M364),\"\",FromEvoM!M364)","v":""},{"$f":"IF(ISBLANK(FromEvoM!P364),\"\",FromEvoM!P364)","v":""},null,{"$f":"IF(ISNUMBER(FromEvoM!X364),FromEvoM!X364,\"\")","v":""},{"$f":"IF(ISNUMBER(FromEvoM!AB364),FromEvoM!AB364,\"\")","v":""},{"$f":"IF(ISNUMBER(FromEvoM!AA364),FromEvoM!AA364,\"\")","v":""},null,"","",null,null,{"$f":"IF(FromEvoM!W364=1,(FromEvoM!AB364*12),IF(FromEvoM!W364=7,(FromEvoM!AR364),\"\"))","v":""},null,null,{"$f":"IF(ISBLANK(FromEvoM!A364),\"\",IF(FromEvoM!AK364=\"y\",\"Y\",\"N\"))","v":""},{"$f":"IF(ISBLANK(FromEvoM!A364),\"\",Category_ID)","v":""},null,null,null,{"$f":"IF(ISBLANK(FromEvoM!AK364),\"\",FromEvoM!AK364)","v":""},{"$f":"IF(ISBLANK(FromEvoM!AM364),\"\",FromEvoM!AM364)","v":""},{"$f":"IF(ISBLANK(FromEvoM!AN364),\"\",FromEvoM!AN364)","v":""},{"$f":"IF(ISBLANK(FromEvoM!AL364),\"\",FromEvoM!AL364)","v":""},{"$f":"IF(ISBLANK(FromEvoM!A364),\"\",IF(AND(AF364=\"y\",AI364=1),\"Y\",\"N\"))","v":""},{"$f":"IF(ISBLANK(FromEvoM!A364),\"\",IF(FromEvoM!AS364=\"Yes\",2,1))","v":""},{"$f":"IF(FromEvoM!W364=1,\"M\",IF(FromEvoM!W364=7,\"W\",\"\"))","v":""},{"$f":"IF(AJ364=\"Y\",0,IF(AJ364=\"N\",FromEvoM!AF364+FromEvoM!AT364,\"\"))","v":""},{"$f":"IF(AJ364=\"Y\",(FromEvoM!AE364+FromEvoM!AF364-FromEvoM!AT364),IF(AJ364=\"N\",FromEvoM!AE364,\"\"))","v":""}]
[{"$f":"IF(ISBLANK(FromEvoM!A365),\"\",Group_Code)","v":""},{"$f":"IF(ISBLANK(FromEvoM!A365),\"\",SUBSTITUTE(FromEvoM!A365,\" \",\"\"))","v":""},{"$f":"IF(ISBLANK(FromEvoM!C365),\"\",SUBSTITUTE(FromEvoM!G365,\" \",\"\"))","v":""},{"$f":"IF(ISBLANK(FromEvoM!D365),\"\",FromEvoM!B365)","v":""},{"$f":"IF(ISBLANK(FromEvoM!D365),\"\",FromEvoM!D365)","v":""},{"$f":"IF(ISBLANK(FromEvoM!C365),\"\",FromEvoM!C365)","v":""},{"$f":"REPLACE(FromEvoM!F365,2,6, )","v":""},{"$f":"IF(ISNUMBER(FromEvoM!E365),FromEvoM!E365,\"\")","v":""},{"$f":"IF(ISBLANK(FromEvoM!I365),\"\",FromEvoM!I365)","v":""},{"$f":"IF(ISBLANK(FromEvoM!J365),\"\",FromEvoM!J365)","v":""},{"$f":"IF(ISBLANK(FromEvoM!K365),\"\",FromEvoM!K365)","v":""},{"$f":"IF(ISBLANK(FromEvoM!L365),\"\",FromEvoM!L365)","v":""},{"$f":"IF(ISBLANK(FromEvoM!M365),\"\",FromEvoM!M365)","v":""},{"$f":"IF(ISBLANK(FromEvoM!P365),\"\",FromEvoM!P365)","v":""},null,{"$f":"IF(ISNUMBER(FromEvoM!X365),FromEvoM!X365,\"\")","v":""},{"$f":"IF(ISNUMBER(FromEvoM!AB365),FromEvoM!AB365,\"\")","v":""},{"$f":"IF(ISNUMBER(FromEvoM!AA365),FromEvoM!AA365,\"\")","v":""},null,"","",null,null,{"$f":"IF(FromEvoM!W365=1,(FromEvoM!AB365*12),IF(FromEvoM!W365=7,(FromEvoM!AR365),\"\"))","v":""},null,null,{"$f":"IF(ISBLANK(FromEvoM!A365),\"\",IF(FromEvoM!AK365=\"y\",\"Y\",\"N\"))","v":""},{"$f":"IF(ISBLANK(FromEvoM!A365),\"\",Category_ID)","v":""},null,null,null,{"$f":"IF(ISBLANK(FromEvoM!AK365),\"\",FromEvoM!AK365)","v":""},{"$f":"IF(ISBLANK(FromEvoM!AM365),\"\",FromEvoM!AM365)","v":""},{"$f":"IF(ISBLANK(FromEvoM!AN365),\"\",FromEvoM!AN365)","v":""},{"$f":"IF(ISBLANK(FromEvoM!AL365),\"\",FromEvoM!AL365)","v":""},{"$f":"IF(ISBLANK(FromEvoM!A365),\"\",IF(AND(AF365=\"y\",AI365=1),\"Y\",\"N\"))","v":""},{"$f":"IF(ISBLANK(FromEvoM!A365),\"\",IF(FromEvoM!AS365=\"Yes\",2,1))","v":""},{"$f":"IF(FromEvoM!W365=1,\"M\",IF(FromEvoM!W365=7,\"W\",\"\"))","v":""},{"$f":"IF(AJ365=\"Y\",0,IF(AJ365=\"N\",FromEvoM!AF365+FromEvoM!AT365,\"\"))","v":""},{"$f":"IF(AJ365=\"Y\",(FromEvoM!AE365+FromEvoM!AF365-FromEvoM!AT365),IF(AJ365=\"N\",FromEvoM!AE365,\"\"))","v":""}]
[{"$f":"IF(ISBLANK(FromEvoM!A366),\"\",Group_Code)","v":""},{"$f":"IF(ISBLANK(FromEvoM!A366),\"\",SUBSTITUTE(FromEvoM!A366,\" \",\"\"))","v":""},{"$f":"IF(ISBLANK(FromEvoM!C366),\"\",SUBSTITUTE(FromEvoM!G366,\" \",\"\"))","v":""},{"$f":"IF(ISBLANK(FromEvoM!D366),\"\",FromEvoM!B366)","v":""},{"$f":"IF(ISBLANK(FromEvoM!D366),\"\",FromEvoM!D366)","v":""},{"$f":"IF(ISBLANK(FromEvoM!C366),\"\",FromEvoM!C366)","v":""},{"$f":"REPLACE(FromEvoM!F366,2,6, )","v":""},{"$f":"IF(ISNUMBER(FromEvoM!E366),FromEvoM!E366,\"\")","v":""},{"$f":"IF(ISBLANK(FromEvoM!I366),\"\",FromEvoM!I366)","v":""},{"$f":"IF(ISBLANK(FromEvoM!J366),\"\",FromEvoM!J366)","v":""},{"$f":"IF(ISBLANK(FromEvoM!K366),\"\",FromEvoM!K366)","v":""},{"$f":"IF(ISBLANK(FromEvoM!L366),\"\",FromEvoM!L366)","v":""},{"$f":"IF(ISBLANK(FromEvoM!M366),\"\",FromEvoM!M366)","v":""},{"$f":"IF(ISBLANK(FromEvoM!P366),\"\",FromEvoM!P366)","v":""},null,{"$f":"IF(ISNUMBER(FromEvoM!X366),FromEvoM!X366,\"\")","v":""},{"$f":"IF(ISNUMBER(FromEvoM!AB366),FromEvoM!AB366,\"\")","v":""},{"$f":"IF(ISNUMBER(FromEvoM!AA366),FromEvoM!AA366,\"\")","v":""},null,"","",null,null,{"$f":"IF(FromEvoM!W366=1,(FromEvoM!AB366*12),IF(FromEvoM!W366=7,(FromEvoM!AR366),\"\"))","v":""},null,null,{"$f":"IF(ISBLANK(FromEvoM!A366),\"\",IF(FromEvoM!AK366=\"y\",\"Y\",\"N\"))","v":""},{"$f":"IF(ISBLANK(FromEvoM!A366),\"\",Category_ID)","v":""},null,null,null,{"$f":"IF(ISBLANK(FromEvoM!AK366),\"\",FromEvoM!AK366)","v":""},{"$f":"IF(ISBLANK(FromEvoM!AM366),\"\",FromEvoM!AM366)","v":""},{"$f":"IF(ISBLANK(FromEvoM!AN366),\"\",FromEvoM!AN366)","v":""},{"$f":"IF(ISBLANK(FromEvoM!AL366),\"\",FromEvoM!AL366)","v":""},{"$f":"IF(ISBLANK(FromEvoM!A366),\"\",IF(AND(AF366=\"y\",AI366=1),\"Y\",\"N\"))","v":""},{"$f":"IF(ISBLANK(FromEvoM!A366),\"\",IF(FromEvoM!AS366=\"Yes\",2,1))","v":""},{"$f":"IF(FromEvoM!W366=1,\"M\",IF(FromEvoM!W366=7,\"W\",\"\"))","v":""},{"$f":"IF(AJ366=\"Y\",0,IF(AJ366=\"N\",FromEvoM!AF366+FromEvoM!AT366,\"\"))","v":""},{"$f":"IF(AJ366=\"Y\",(FromEvoM!AE366+FromEvoM!AF366-FromEvoM!AT366),IF(AJ366=\"N\",FromEvoM!AE366,\"\"))","v":""}]
[{"$f":"IF(ISBLANK(FromEvoM!A367),\"\",Group_Code)","v":""},{"$f":"IF(ISBLANK(FromEvoM!A367),\"\",SUBSTITUTE(FromEvoM!A367,\" \",\"\"))","v":""},{"$f":"IF(ISBLANK(FromEvoM!C367),\"\",SUBSTITUTE(FromEvoM!G367,\" \",\"\"))","v":""},{"$f":"IF(ISBLANK(FromEvoM!D367),\"\",FromEvoM!B367)","v":""},{"$f":"IF(ISBLANK(FromEvoM!D367),\"\",FromEvoM!D367)","v":""},{"$f":"IF(ISBLANK(FromEvoM!C367),\"\",FromEvoM!C367)","v":""},{"$f":"REPLACE(FromEvoM!F367,2,6, )","v":""},{"$f":"IF(ISNUMBER(FromEvoM!E367),FromEvoM!E367,\"\")","v":""},{"$f":"IF(ISBLANK(FromEvoM!I367),\"\",FromEvoM!I367)","v":""},{"$f":"IF(ISBLANK(FromEvoM!J367),\"\",FromEvoM!J367)","v":""},{"$f":"IF(ISBLANK(FromEvoM!K367),\"\",FromEvoM!K367)","v":""},{"$f":"IF(ISBLANK(FromEvoM!L367),\"\",FromEvoM!L367)","v":""},{"$f":"IF(ISBLANK(FromEvoM!M367),\"\",FromEvoM!M367)","v":""},{"$f":"IF(ISBLANK(FromEvoM!P367),\"\",FromEvoM!P367)","v":""},null,{"$f":"IF(ISNUMBER(FromEvoM!X367),FromEvoM!X367,\"\")","v":""},{"$f":"IF(ISNUMBER(FromEvoM!AB367),FromEvoM!AB367,\"\")","v":""},{"$f":"IF(ISNUMBER(FromEvoM!AA367),FromEvoM!AA367,\"\")","v":""},null,"","",null,null,{"$f":"IF(FromEvoM!W367=1,(FromEvoM!AB367*12),IF(FromEvoM!W367=7,(FromEvoM!AR367),\"\"))","v":""},null,null,{"$f":"IF(ISBLANK(FromEvoM!A367),\"\",IF(FromEvoM!AK367=\"y\",\"Y\",\"N\"))","v":""},{"$f":"IF(ISBLANK(FromEvoM!A367),\"\",Category_ID)","v":""},null,null,null,{"$f":"IF(ISBLANK(FromEvoM!AK367),\"\",FromEvoM!AK367)","v":""},{"$f":"IF(ISBLANK(FromEvoM!AM367),\"\",FromEvoM!AM367)","v":""},{"$f":"IF(ISBLANK(FromEvoM!AN367),\"\",FromEvoM!AN367)","v":""},{"$f":"IF(ISBLANK(FromEvoM!AL367),\"\",FromEvoM!AL367)","v":""},{"$f":"IF(ISBLANK(FromEvoM!A367),\"\",IF(AND(AF367=\"y\",AI367=1),\"Y\",\"N\"))","v":""},{"$f":"IF(ISBLANK(FromEvoM!A367),\"\",IF(FromEvoM!AS367=\"Yes\",2,1))","v":""},{"$f":"IF(FromEvoM!W367=1,\"M\",IF(FromEvoM!W367=7,\"W\",\"\"))","v":""},{"$f":"IF(AJ367=\"Y\",0,IF(AJ367=\"N\",FromEvoM!AF367+FromEvoM!AT367,\"\"))","v":""},{"$f":"IF(AJ367=\"Y\",(FromEvoM!AE367+FromEvoM!AF367-FromEvoM!AT367),IF(AJ367=\"N\",FromEvoM!AE367,\"\"))","v":""}]
[{"$f":"IF(ISBLANK(FromEvoM!A368),\"\",Group_Code)","v":""},{"$f":"IF(ISBLANK(FromEvoM!A368),\"\",SUBSTITUTE(FromEvoM!A368,\" \",\"\"))","v":""},{"$f":"IF(ISBLANK(FromEvoM!C368),\"\",SUBSTITUTE(FromEvoM!G368,\" \",\"\"))","v":""},{"$f":"IF(ISBLANK(FromEvoM!D368),\"\",FromEvoM!B368)","v":""},{"$f":"IF(ISBLANK(FromEvoM!D368),\"\",FromEvoM!D368)","v":""},{"$f":"IF(ISBLANK(FromEvoM!C368),\"\",FromEvoM!C368)","v":""},{"$f":"REPLACE(FromEvoM!F368,2,6, )","v":""},{"$f":"IF(ISNUMBER(FromEvoM!E368),FromEvoM!E368,\"\")","v":""},{"$f":"IF(ISBLANK(FromEvoM!I368),\"\",FromEvoM!I368)","v":""},{"$f":"IF(ISBLANK(FromEvoM!J368),\"\",FromEvoM!J368)","v":""},{"$f":"IF(ISBLANK(FromEvoM!K368),\"\",FromEvoM!K368)","v":""},{"$f":"IF(ISBLANK(FromEvoM!L368),\"\",FromEvoM!L368)","v":""},{"$f":"IF(ISBLANK(FromEvoM!M368),\"\",FromEvoM!M368)","v":""},{"$f":"IF(ISBLANK(FromEvoM!P368),\"\",FromEvoM!P368)","v":""},null,{"$f":"IF(ISNUMBER(FromEvoM!X368),FromEvoM!X368,\"\")","v":""},{"$f":"IF(ISNUMBER(FromEvoM!AB368),FromEvoM!AB368,\"\")","v":""},{"$f":"IF(ISNUMBER(FromEvoM!AA368),FromEvoM!AA368,\"\")","v":""},null,"","",null,null,{"$f":"IF(FromEvoM!W368=1,(FromEvoM!AB368*12),IF(FromEvoM!W368=7,(FromEvoM!AR368),\"\"))","v":""},null,null,{"$f":"IF(ISBLANK(FromEvoM!A368),\"\",IF(FromEvoM!AK368=\"y\",\"Y\",\"N\"))","v":""},{"$f":"IF(ISBLANK(FromEvoM!A368),\"\",Category_ID)","v":""},null,null,null,{"$f":"IF(ISBLANK(FromEvoM!AK368),\"\",FromEvoM!AK368)","v":""},{"$f":"IF(ISBLANK(FromEvoM!AM368),\"\",FromEvoM!AM368)","v":""},{"$f":"IF(ISBLANK(FromEvoM!AN368),\"\",FromEvoM!AN368)","v":""},{"$f":"IF(ISBLANK(FromEvoM!AL368),\"\",FromEvoM!AL368)","v":""},{"$f":"IF(ISBLANK(FromEvoM!A368),\"\",IF(AND(AF368=\"y\",AI368=1),\"Y\",\"N\"))","v":""},{"$f":"IF(ISBLANK(FromEvoM!A368),\"\",IF(FromEvoM!AS368=\"Yes\",2,1))","v":""},{"$f":"IF(FromEvoM!W368=1,\"M\",IF(FromEvoM!W368=7,\"W\",\"\"))","v":""},{"$f":"IF(AJ368=\"Y\",0,IF(AJ368=\"N\",FromEvoM!AF368+FromEvoM!AT368,\"\"))","v":""},{"$f":"IF(AJ368=\"Y\",(FromEvoM!AE368+FromEvoM!AF368-FromEvoM!AT368),IF(AJ368=\"N\",FromEvoM!AE368,\"\"))","v":""}]
[{"$f":"IF(ISBLANK(FromEvoM!A369),\"\",Group_Code)","v":""},{"$f":"IF(ISBLANK(FromEvoM!A369),\"\",SUBSTITUTE(FromEvoM!A369,\" \",\"\"))","v":""},{"$f":"IF(ISBLANK(FromEvoM!C369),\"\",SUBSTITUTE(FromEvoM!G369,\" \",\"\"))","v":""},{"$f":"IF(ISBLANK(FromEvoM!D369),\"\",FromEvoM!B369)","v":""},{"$f":"IF(ISBLANK(FromEvoM!D369),\"\",FromEvoM!D369)","v":""},{"$f":"IF(ISBLANK(FromEvoM!C369),\"\",FromEvoM!C369)","v":""},{"$f":"REPLACE(FromEvoM!F369,2,6, )","v":""},{"$f":"IF(ISNUMBER(FromEvoM!E369),FromEvoM!E369,\"\")","v":""},{"$f":"IF(ISBLANK(FromEvoM!I369),\"\",FromEvoM!I369)","v":""},{"$f":"IF(ISBLANK(FromEvoM!J369),\"\",FromEvoM!J369)","v":""},{"$f":"IF(ISBLANK(FromEvoM!K369),\"\",FromEvoM!K369)","v":""},{"$f":"IF(ISBLANK(FromEvoM!L369),\"\",FromEvoM!L369)","v":""},{"$f":"IF(ISBLANK(FromEvoM!M369),\"\",FromEvoM!M369)","v":""},{"$f":"IF(ISBLANK(FromEvoM!P369),\"\",FromEvoM!P369)","v":""},null,{"$f":"IF(ISNUMBER(FromEvoM!X369),FromEvoM!X369,\"\")","v":""},{"$f":"IF(ISNUMBER(FromEvoM!AB369),FromEvoM!AB369,\"\")","v":""},{"$f":"IF(ISNUMBER(FromEvoM!AA369),FromEvoM!AA369,\"\")","v":""},null,"","",null,null,{"$f":"IF(FromEvoM!W369=1,(FromEvoM!AB369*12),IF(FromEvoM!W369=7,(FromEvoM!AR369),\"\"))","v":""},null,null,{"$f":"IF(ISBLANK(FromEvoM!A369),\"\",IF(FromEvoM!AK369=\"y\",\"Y\",\"N\"))","v":""},{"$f":"IF(ISBLANK(FromEvoM!A369),\"\",Category_ID)","v":""},null,null,null,{"$f":"IF(ISBLANK(FromEvoM!AK369),\"\",FromEvoM!AK369)","v":""},{"$f":"IF(ISBLANK(FromEvoM!AM369),\"\",FromEvoM!AM369)","v":""},{"$f":"IF(ISBLANK(FromEvoM!AN369),\"\",FromEvoM!AN369)","v":""},{"$f":"IF(ISBLANK(FromEvoM!AL369),\"\",FromEvoM!AL369)","v":""},{"$f":"IF(ISBLANK(FromEvoM!A369),\"\",IF(AND(AF369=\"y\",AI369=1),\"Y\",\"N\"))","v":""},{"$f":"IF(ISBLANK(FromEvoM!A369),\"\",IF(FromEvoM!AS369=\"Yes\",2,1))","v":""},{"$f":"IF(FromEvoM!W369=1,\"M\",IF(FromEvoM!W369=7,\"W\",\"\"))","v":""},{"$f":"IF(AJ369=\"Y\",0,IF(AJ369=\"N\",FromEvoM!AF369+FromEvoM!AT369,\"\"))","v":""},{"$f":"IF(AJ369=\"Y\",(FromEvoM!AE369+FromEvoM!AF369-FromEvoM!AT369),IF(AJ369=\"N\",FromEvoM!AE369,\"\"))","v":""}]
[{"$f":"IF(ISBLANK(FromEvoM!A370),\"\",Group_Code)","v":""},{"$f":"IF(ISBLANK(FromEvoM!A370),\"\",SUBSTITUTE(FromEvoM!A370,\" \",\"\"))","v":""},{"$f":"IF(ISBLANK(FromEvoM!C370),\"\",SUBSTITUTE(FromEvoM!G370,\" \",\"\"))","v":""},{"$f":"IF(ISBLANK(FromEvoM!D370),\"\",FromEvoM!B370)","v":""},{"$f":"IF(ISBLANK(FromEvoM!D370),\"\",FromEvoM!D370)","v":""},{"$f":"IF(ISBLANK(FromEvoM!C370),\"\",FromEvoM!C370)","v":""},{"$f":"REPLACE(FromEvoM!F370,2,6, )","v":""},{"$f":"IF(ISNUMBER(FromEvoM!E370),FromEvoM!E370,\"\")","v":""},{"$f":"IF(ISBLANK(FromEvoM!I370),\"\",FromEvoM!I370)","v":""},{"$f":"IF(ISBLANK(FromEvoM!J370),\"\",FromEvoM!J370)","v":""},{"$f":"IF(ISBLANK(FromEvoM!K370),\"\",FromEvoM!K370)","v":""},{"$f":"IF(ISBLANK(FromEvoM!L370),\"\",FromEvoM!L370)","v":""},{"$f":"IF(ISBLANK(FromEvoM!M370),\"\",FromEvoM!M370)","v":""},{"$f":"IF(ISBLANK(FromEvoM!P370),\"\",FromEvoM!P370)","v":""},null,{"$f":"IF(ISNUMBER(FromEvoM!X370),FromEvoM!X370,\"\")","v":""},{"$f":"IF(ISNUMBER(FromEvoM!AB370),FromEvoM!AB370,\"\")","v":""},{"$f":"IF(ISNUMBER(FromEvoM!AA370),FromEvoM!AA370,\"\")","v":""},null,"","",null,null,{"$f":"IF(FromEvoM!W370=1,(FromEvoM!AB370*12),IF(FromEvoM!W370=7,(FromEvoM!AR370),\"\"))","v":""},null,null,{"$f":"IF(ISBLANK(FromEvoM!A370),\"\",IF(FromEvoM!AK370=\"y\",\"Y\",\"N\"))","v":""},{"$f":"IF(ISBLANK(FromEvoM!A370),\"\",Category_ID)","v":""},null,null,null,{"$f":"IF(ISBLANK(FromEvoM!AK370),\"\",FromEvoM!AK370)","v":""},{"$f":"IF(ISBLANK(FromEvoM!AM370),\"\",FromEvoM!AM370)","v":""},{"$f":"IF(ISBLANK(FromEvoM!AN370),\"\",FromEvoM!AN370)","v":""},{"$f":"IF(ISBLANK(FromEvoM!AL370),\"\",FromEvoM!AL370)","v":""},{"$f":"IF(ISBLANK(FromEvoM!A370),\"\",IF(AND(AF370=\"y\",AI370=1),\"Y\",\"N\"))","v":""},{"$f":"IF(ISBLANK(FromEvoM!A370),\"\",IF(FromEvoM!AS370=\"Yes\",2,1))","v":""},{"$f":"IF(FromEvoM!W370=1,\"M\",IF(FromEvoM!W370=7,\"W\",\"\"))","v":""},{"$f":"IF(AJ370=\"Y\",0,IF(AJ370=\"N\",FromEvoM!AF370+FromEvoM!AT370,\"\"))","v":""},{"$f":"IF(AJ370=\"Y\",(FromEvoM!AE370+FromEvoM!AF370-FromEvoM!AT370),IF(AJ370=\"N\",FromEvoM!AE370,\"\"))","v":""}]
[{"$f":"IF(ISBLANK(FromEvoM!A371),\"\",Group_Code)","v":""},{"$f":"IF(ISBLANK(FromEvoM!A371),\"\",SUBSTITUTE(FromEvoM!A371,\" \",\"\"))","v":""},{"$f":"IF(ISBLANK(FromEvoM!C371),\"\",SUBSTITUTE(FromEvoM!G371,\" \",\"\"))","v":""},{"$f":"IF(ISBLANK(FromEvoM!D371),\"\",FromEvoM!B371)","v":""},{"$f":"IF(ISBLANK(FromEvoM!D371),\"\",FromEvoM!D371)","v":""},{"$f":"IF(ISBLANK(FromEvoM!C371),\"\",FromEvoM!C371)","v":""},{"$f":"REPLACE(FromEvoM!F371,2,6, )","v":""},{"$f":"IF(ISNUMBER(FromEvoM!E371),FromEvoM!E371,\"\")","v":""},{"$f":"IF(ISBLANK(FromEvoM!I371),\"\",FromEvoM!I371)","v":""},{"$f":"IF(ISBLANK(FromEvoM!J371),\"\",FromEvoM!J371)","v":""},{"$f":"IF(ISBLANK(FromEvoM!K371),\"\",FromEvoM!K371)","v":""},{"$f":"IF(ISBLANK(FromEvoM!L371),\"\",FromEvoM!L371)","v":""},{"$f":"IF(ISBLANK(FromEvoM!M371),\"\",FromEvoM!M371)","v":""},{"$f":"IF(ISBLANK(FromEvoM!P371),\"\",FromEvoM!P371)","v":""},null,{"$f":"IF(ISNUMBER(FromEvoM!X371),FromEvoM!X371,\"\")","v":""},{"$f":"IF(ISNUMBER(FromEvoM!AB371),FromEvoM!AB371,\"\")","v":""},{"$f":"IF(ISNUMBER(FromEvoM!AA371),FromEvoM!AA371,\"\")","v":""},null,"","",null,null,{"$f":"IF(FromEvoM!W371=1,(FromEvoM!AB371*12),IF(FromEvoM!W371=7,(FromEvoM!AR371),\"\"))","v":""},null,null,{"$f":"IF(ISBLANK(FromEvoM!A371),\"\",IF(FromEvoM!AK371=\"y\",\"Y\",\"N\"))","v":""},{"$f":"IF(ISBLANK(FromEvoM!A371),\"\",Category_ID)","v":""},null,null,null,{"$f":"IF(ISBLANK(FromEvoM!AK371),\"\",FromEvoM!AK371)","v":""},{"$f":"IF(ISBLANK(FromEvoM!AM371),\"\",FromEvoM!AM371)","v":""},{"$f":"IF(ISBLANK(FromEvoM!AN371),\"\",FromEvoM!AN371)","v":""},{"$f":"IF(ISBLANK(FromEvoM!AL371),\"\",FromEvoM!AL371)","v":""},{"$f":"IF(ISBLANK(FromEvoM!A371),\"\",IF(AND(AF371=\"y\",AI371=1),\"Y\",\"N\"))","v":""},{"$f":"IF(ISBLANK(FromEvoM!A371),\"\",IF(FromEvoM!AS371=\"Yes\",2,1))","v":""},{"$f":"IF(FromEvoM!W371=1,\"M\",IF(FromEvoM!W371=7,\"W\",\"\"))","v":""},{"$f":"IF(AJ371=\"Y\",0,IF(AJ371=\"N\",FromEvoM!AF371+FromEvoM!AT371,\"\"))","v":""},{"$f":"IF(AJ371=\"Y\",(FromEvoM!AE371+FromEvoM!AF371-FromEvoM!AT371),IF(AJ371=\"N\",FromEvoM!AE371,\"\"))","v":""}]
[{"$f":"IF(ISBLANK(FromEvoM!A372),\"\",Group_Code)","v":""},{"$f":"IF(ISBLANK(FromEvoM!A372),\"\",SUBSTITUTE(FromEvoM!A372,\" \",\"\"))","v":""},{"$f":"IF(ISBLANK(FromEvoM!C372),\"\",SUBSTITUTE(FromEvoM!G372,\" \",\"\"))","v":""},{"$f":"IF(ISBLANK(FromEvoM!D372),\"\",FromEvoM!B372)","v":""},{"$f":"IF(ISBLANK(FromEvoM!D372),\"\",FromEvoM!D372)","v":""},{"$f":"IF(ISBLANK(FromEvoM!C372),\"\",FromEvoM!C372)","v":""},{"$f":"REPLACE(FromEvoM!F372,2,6, )","v":""},{"$f":"IF(ISNUMBER(FromEvoM!E372),FromEvoM!E372,\"\")","v":""},{"$f":"IF(ISBLANK(FromEvoM!I372),\"\",FromEvoM!I372)","v":""},{"$f":"IF(ISBLANK(FromEvoM!J372),\"\",FromEvoM!J372)","v":""},{"$f":"IF(ISBLANK(FromEvoM!K372),\"\",FromEvoM!K372)","v":""},{"$f":"IF(ISBLANK(FromEvoM!L372),\"\",FromEvoM!L372)","v":""},{"$f":"IF(ISBLANK(FromEvoM!M372),\"\",FromEvoM!M372)","v":""},{"$f":"IF(ISBLANK(FromEvoM!P372),\"\",FromEvoM!P372)","v":""},null,{"$f":"IF(ISNUMBER(FromEvoM!X372),FromEvoM!X372,\"\")","v":""},{"$f":"IF(ISNUMBER(FromEvoM!AB372),FromEvoM!AB372,\"\")","v":""},{"$f":"IF(ISNUMBER(FromEvoM!AA372),FromEvoM!AA372,\"\")","v":""},null,"","",null,null,{"$f":"IF(FromEvoM!W372=1,(FromEvoM!AB372*12),IF(FromEvoM!W372=7,(FromEvoM!AR372),\"\"))","v":""},null,null,{"$f":"IF(ISBLANK(FromEvoM!A372),\"\",IF(FromEvoM!AK372=\"y\",\"Y\",\"N\"))","v":""},{"$f":"IF(ISBLANK(FromEvoM!A372),\"\",Category_ID)","v":""},null,null,null,{"$f":"IF(ISBLANK(FromEvoM!AK372),\"\",FromEvoM!AK372)","v":""},{"$f":"IF(ISBLANK(FromEvoM!AM372),\"\",FromEvoM!AM372)","v":""},{"$f":"IF(ISBLANK(FromEvoM!AN372),\"\",FromEvoM!AN372)","v":""},{"$f":"IF(ISBLANK(FromEvoM!AL372),\"\",FromEvoM!AL372)","v":""},{"$f":"IF(ISBLANK(FromEvoM!A372),\"\",IF(AND(AF372=\"y\",AI372=1),\"Y\",\"N\"))","v":""},{"$f":"IF(ISBLANK(FromEvoM!A372),\"\",IF(FromEvoM!AS372=\"Yes\",2,1))","v":""},{"$f":"IF(FromEvoM!W372=1,\"M\",IF(FromEvoM!W372=7,\"W\",\"\"))","v":""},{"$f":"IF(AJ372=\"Y\",0,IF(AJ372=\"N\",FromEvoM!AF372+FromEvoM!AT372,\"\"))","v":""},{"$f":"IF(AJ372=\"Y\",(FromEvoM!AE372+FromEvoM!AF372-FromEvoM!AT372),IF(AJ372=\"N\",FromEvoM!AE372,\"\"))","v":""}]
[{"$f":"IF(ISBLANK(FromEvoM!A373),\"\",Group_Code)","v":""},{"$f":"IF(ISBLANK(FromEvoM!A373),\"\",SUBSTITUTE(FromEvoM!A373,\" \",\"\"))","v":""},{"$f":"IF(ISBLANK(FromEvoM!C373),\"\",SUBSTITUTE(FromEvoM!G373,\" \",\"\"))","v":""},{"$f":"IF(ISBLANK(FromEvoM!D373),\"\",FromEvoM!B373)","v":""},{"$f":"IF(ISBLANK(FromEvoM!D373),\"\",FromEvoM!D373)","v":""},{"$f":"IF(ISBLANK(FromEvoM!C373),\"\",FromEvoM!C373)","v":""},{"$f":"REPLACE(FromEvoM!F373,2,6, )","v":""},{"$f":"IF(ISNUMBER(FromEvoM!E373),FromEvoM!E373,\"\")","v":""},{"$f":"IF(ISBLANK(FromEvoM!I373),\"\",FromEvoM!I373)","v":""},{"$f":"IF(ISBLANK(FromEvoM!J373),\"\",FromEvoM!J373)","v":""},{"$f":"IF(ISBLANK(FromEvoM!K373),\"\",FromEvoM!K373)","v":""},{"$f":"IF(ISBLANK(FromEvoM!L373),\"\",FromEvoM!L373)","v":""},{"$f":"IF(ISBLANK(FromEvoM!M373),\"\",FromEvoM!M373)","v":""},{"$f":"IF(ISBLANK(FromEvoM!P373),\"\",FromEvoM!P373)","v":""},null,{"$f":"IF(ISNUMBER(FromEvoM!X373),FromEvoM!X373,\"\")","v":""},{"$f":"IF(ISNUMBER(FromEvoM!AB373),FromEvoM!AB373,\"\")","v":""},{"$f":"IF(ISNUMBER(FromEvoM!AA373),FromEvoM!AA373,\"\")","v":""},null,"","",null,null,{"$f":"IF(FromEvoM!W373=1,(FromEvoM!AB373*12),IF(FromEvoM!W373=7,(FromEvoM!AR373),\"\"))","v":""},null,null,{"$f":"IF(ISBLANK(FromEvoM!A373),\"\",IF(FromEvoM!AK373=\"y\",\"Y\",\"N\"))","v":""},{"$f":"IF(ISBLANK(FromEvoM!A373),\"\",Category_ID)","v":""},null,null,null,{"$f":"IF(ISBLANK(FromEvoM!AK373),\"\",FromEvoM!AK373)","v":""},{"$f":"IF(ISBLANK(FromEvoM!AM373),\"\",FromEvoM!AM373)","v":""},{"$f":"IF(ISBLANK(FromEvoM!AN373),\"\",FromEvoM!AN373)","v":""},{"$f":"IF(ISBLANK(FromEvoM!AL373),\"\",FromEvoM!AL373)","v":""},{"$f":"IF(ISBLANK(FromEvoM!A373),\"\",IF(AND(AF373=\"y\",AI373=1),\"Y\",\"N\"))","v":""},{"$f":"IF(ISBLANK(FromEvoM!A373),\"\",IF(FromEvoM!AS373=\"Yes\",2,1))","v":""},{"$f":"IF(FromEvoM!W373=1,\"M\",IF(FromEvoM!W373=7,\"W\",\"\"))","v":""},{"$f":"IF(AJ373=\"Y\",0,IF(AJ373=\"N\",FromEvoM!AF373+FromEvoM!AT373,\"\"))","v":""},{"$f":"IF(AJ373=\"Y\",(FromEvoM!AE373+FromEvoM!AF373-FromEvoM!AT373),IF(AJ373=\"N\",FromEvoM!AE373,\"\"))","v":""}]
[{"$f":"IF(ISBLANK(FromEvoM!A374),\"\",Group_Code)","v":""},{"$f":"IF(ISBLANK(FromEvoM!A374),\"\",SUBSTITUTE(FromEvoM!A374,\" \",\"\"))","v":""},{"$f":"IF(ISBLANK(FromEvoM!C374),\"\",SUBSTITUTE(FromEvoM!G374,\" \",\"\"))","v":""},{"$f":"IF(ISBLANK(FromEvoM!D374),\"\",FromEvoM!B374)","v":""},{"$f":"IF(ISBLANK(FromEvoM!D374),\"\",FromEvoM!D374)","v":""},{"$f":"IF(ISBLANK(FromEvoM!C374),\"\",FromEvoM!C374)","v":""},{"$f":"REPLACE(FromEvoM!F374,2,6, )","v":""},{"$f":"IF(ISNUMBER(FromEvoM!E374),FromEvoM!E374,\"\")","v":""},{"$f":"IF(ISBLANK(FromEvoM!I374),\"\",FromEvoM!I374)","v":""},{"$f":"IF(ISBLANK(FromEvoM!J374),\"\",FromEvoM!J374)","v":""},{"$f":"IF(ISBLANK(FromEvoM!K374),\"\",FromEvoM!K374)","v":""},{"$f":"IF(ISBLANK(FromEvoM!L374),\"\",FromEvoM!L374)","v":""},{"$f":"IF(ISBLANK(FromEvoM!M374),\"\",FromEvoM!M374)","v":""},{"$f":"IF(ISBLANK(FromEvoM!P374),\"\",FromEvoM!P374)","v":""},null,{"$f":"IF(ISNUMBER(FromEvoM!X374),FromEvoM!X374,\"\")","v":""},{"$f":"IF(ISNUMBER(FromEvoM!AB374),FromEvoM!AB374,\"\")","v":""},{"$f":"IF(ISNUMBER(FromEvoM!AA374),FromEvoM!AA374,\"\")","v":""},null,"","",null,null,{"$f":"IF(FromEvoM!W374=1,(FromEvoM!AB374*12),IF(FromEvoM!W374=7,(FromEvoM!AR374),\"\"))","v":""},null,null,{"$f":"IF(ISBLANK(FromEvoM!A374),\"\",IF(FromEvoM!AK374=\"y\",\"Y\",\"N\"))","v":""},{"$f":"IF(ISBLANK(FromEvoM!A374),\"\",Category_ID)","v":""},null,null,null,{"$f":"IF(ISBLANK(FromEvoM!AK374),\"\",FromEvoM!AK374)","v":""},{"$f":"IF(ISBLANK(FromEvoM!AM374),\"\",FromEvoM!AM374)","v":""},{"$f":"IF(ISBLANK(FromEvoM!AN374),\"\",FromEvoM!AN374)","v":""},{"$f":"IF(ISBLANK(FromEvoM!AL374),\"\",FromEvoM!AL374)","v":""},{"$f":"IF(ISBLANK(FromEvoM!A374),\"\",IF(AND(AF374=\"y\",AI374=1),\"Y\",\"N\"))","v":""},{"$f":"IF(ISBLANK(FromEvoM!A374),\"\",IF(FromEvoM!AS374=\"Yes\",2,1))","v":""},{"$f":"IF(FromEvoM!W374=1,\"M\",IF(FromEvoM!W374=7,\"W\",\"\"))","v":""},{"$f":"IF(AJ374=\"Y\",0,IF(AJ374=\"N\",FromEvoM!AF374+FromEvoM!AT374,\"\"))","v":""},{"$f":"IF(AJ374=\"Y\",(FromEvoM!AE374+FromEvoM!AF374-FromEvoM!AT374),IF(AJ374=\"N\",FromEvoM!AE374,\"\"))","v":""}]
[{"$f":"IF(ISBLANK(FromEvoM!A375),\"\",Group_Code)","v":""},{"$f":"IF(ISBLANK(FromEvoM!A375),\"\",SUBSTITUTE(FromEvoM!A375,\" \",\"\"))","v":""},{"$f":"IF(ISBLANK(FromEvoM!C375),\"\",SUBSTITUTE(FromEvoM!G375,\" \",\"\"))","v":""},{"$f":"IF(ISBLANK(FromEvoM!D375),\"\",FromEvoM!B375)","v":""},{"$f":"IF(ISBLANK(FromEvoM!D375),\"\",FromEvoM!D375)","v":""},{"$f":"IF(ISBLANK(FromEvoM!C375),\"\",FromEvoM!C375)","v":""},{"$f":"REPLACE(FromEvoM!F375,2,6, )","v":""},{"$f":"IF(ISNUMBER(FromEvoM!E375),FromEvoM!E375,\"\")","v":""},{"$f":"IF(ISBLANK(FromEvoM!I375),\"\",FromEvoM!I375)","v":""},{"$f":"IF(ISBLANK(FromEvoM!J375),\"\",FromEvoM!J375)","v":""},{"$f":"IF(ISBLANK(FromEvoM!K375),\"\",FromEvoM!K375)","v":""},{"$f":"IF(ISBLANK(FromEvoM!L375),\"\",FromEvoM!L375)","v":""},{"$f":"IF(ISBLANK(FromEvoM!M375),\"\",FromEvoM!M375)","v":""},{"$f":"IF(ISBLANK(FromEvoM!P375),\"\",FromEvoM!P375)","v":""},null,{"$f":"IF(ISNUMBER(FromEvoM!X375),FromEvoM!X375,\"\")","v":""},{"$f":"IF(ISNUMBER(FromEvoM!AB375),FromEvoM!AB375,\"\")","v":""},{"$f":"IF(ISNUMBER(FromEvoM!AA375),FromEvoM!AA375,\"\")","v":""},null,"","",null,null,{"$f":"IF(FromEvoM!W375=1,(FromEvoM!AB375*12),IF(FromEvoM!W375=7,(FromEvoM!AR375),\"\"))","v":""},null,null,{"$f":"IF(ISBLANK(FromEvoM!A375),\"\",IF(FromEvoM!AK375=\"y\",\"Y\",\"N\"))","v":""},{"$f":"IF(ISBLANK(FromEvoM!A375),\"\",Category_ID)","v":""},null,null,null,{"$f":"IF(ISBLANK(FromEvoM!AK375),\"\",FromEvoM!AK375)","v":""},{"$f":"IF(ISBLANK(FromEvoM!AM375),\"\",FromEvoM!AM375)","v":""},{"$f":"IF(ISBLANK(FromEvoM!AN375),\"\",FromEvoM!AN375)","v":""},{"$f":"IF(ISBLANK(FromEvoM!AL375),\"\",FromEvoM!AL375)","v":""},{"$f":"IF(ISBLANK(FromEvoM!A375),\"\",IF(AND(AF375=\"y\",AI375=1),\"Y\",\"N\"))","v":""},{"$f":"IF(ISBLANK(FromEvoM!A375),\"\",IF(FromEvoM!AS375=\"Yes\",2,1))","v":""},{"$f":"IF(FromEvoM!W375=1,\"M\",IF(FromEvoM!W375=7,\"W\",\"\"))","v":""},{"$f":"IF(AJ375=\"Y\",0,IF(AJ375=\"N\",FromEvoM!AF375+FromEvoM!AT375,\"\"))","v":""},{"$f":"IF(AJ375=\"Y\",(FromEvoM!AE375+FromEvoM!AF375-FromEvoM!AT375),IF(AJ375=\"N\",FromEvoM!AE375,\"\"))","v":""}]
[{"$f":"IF(ISBLANK(FromEvoM!A376),\"\",Group_Code)","v":""},{"$f":"IF(ISBLANK(FromEvoM!A376),\"\",SUBSTITUTE(FromEvoM!A376,\" \",\"\"))","v":""},{"$f":"IF(ISBLANK(FromEvoM!C376),\"\",SUBSTITUTE(FromEvoM!G376,\" \",\"\"))","v":""},{"$f":"IF(ISBLANK(FromEvoM!D376),\"\",FromEvoM!B376)","v":""},{"$f":"IF(ISBLANK(FromEvoM!D376),\"\",FromEvoM!D376)","v":""},{"$f":"IF(ISBLANK(FromEvoM!C376),\"\",FromEvoM!C376)","v":""},{"$f":"REPLACE(FromEvoM!F376,2,6, )","v":""},{"$f":"IF(ISNUMBER(FromEvoM!E376),FromEvoM!E376,\"\")","v":""},{"$f":"IF(ISBLANK(FromEvoM!I376),\"\",FromEvoM!I376)","v":""},{"$f":"IF(ISBLANK(FromEvoM!J376),\"\",FromEvoM!J376)","v":""},{"$f":"IF(ISBLANK(FromEvoM!K376),\"\",FromEvoM!K376)","v":""},{"$f":"IF(ISBLANK(FromEvoM!L376),\"\",FromEvoM!L376)","v":""},{"$f":"IF(ISBLANK(FromEvoM!M376),\"\",FromEvoM!M376)","v":""},{"$f":"IF(ISBLANK(FromEvoM!P376),\"\",FromEvoM!P376)","v":""},null,{"$f":"IF(ISNUMBER(FromEvoM!X376),FromEvoM!X376,\"\")","v":""},{"$f":"IF(ISNUMBER(FromEvoM!AB376),FromEvoM!AB376,\"\")","v":""},{"$f":"IF(ISNUMBER(FromEvoM!AA376),FromEvoM!AA376,\"\")","v":""},null,"","",null,null,{"$f":"IF(FromEvoM!W376=1,(FromEvoM!AB376*12),IF(FromEvoM!W376=7,(FromEvoM!AR376),\"\"))","v":""},null,null,{"$f":"IF(ISBLANK(FromEvoM!A376),\"\",IF(FromEvoM!AK376=\"y\",\"Y\",\"N\"))","v":""},{"$f":"IF(ISBLANK(FromEvoM!A376),\"\",Category_ID)","v":""},null,null,null,{"$f":"IF(ISBLANK(FromEvoM!AK376),\"\",FromEvoM!AK376)","v":""},{"$f":"IF(ISBLANK(FromEvoM!AM376),\"\",FromEvoM!AM376)","v":""},{"$f":"IF(ISBLANK(FromEvoM!AN376),\"\",FromEvoM!AN376)","v":""},{"$f":"IF(ISBLANK(FromEvoM!AL376),\"\",FromEvoM!AL376)","v":""},{"$f":"IF(ISBLANK(FromEvoM!A376),\"\",IF(AND(AF376=\"y\",AI376=1),\"Y\",\"N\"))","v":""},{"$f":"IF(ISBLANK(FromEvoM!A376),\"\",IF(FromEvoM!AS376=\"Yes\",2,1))","v":""},{"$f":"IF(FromEvoM!W376=1,\"M\",IF(FromEvoM!W376=7,\"W\",\"\"))","v":""},{"$f":"IF(AJ376=\"Y\",0,IF(AJ376=\"N\",FromEvoM!AF376+FromEvoM!AT376,\"\"))","v":""},{"$f":"IF(AJ376=\"Y\",(FromEvoM!AE376+FromEvoM!AF376-FromEvoM!AT376),IF(AJ376=\"N\",FromEvoM!AE376,\"\"))","v":""}]
[{"$f":"IF(ISBLANK(FromEvoM!A377),\"\",Group_Code)","v":""},{"$f":"IF(ISBLANK(FromEvoM!A377),\"\",SUBSTITUTE(FromEvoM!A377,\" \",\"\"))","v":""},{"$f":"IF(ISBLANK(FromEvoM!C377),\"\",SUBSTITUTE(FromEvoM!G377,\" \",\"\"))","v":""},{"$f":"IF(ISBLANK(FromEvoM!D377),\"\",FromEvoM!B377)","v":""},{"$f":"IF(ISBLANK(FromEvoM!D377),\"\",FromEvoM!D377)","v":""},{"$f":"IF(ISBLANK(FromEvoM!C377),\"\",FromEvoM!C377)","v":""},{"$f":"REPLACE(FromEvoM!F377,2,6, )","v":""},{"$f":"IF(ISNUMBER(FromEvoM!E377),FromEvoM!E377,\"\")","v":""},{"$f":"IF(ISBLANK(FromEvoM!I377),\"\",FromEvoM!I377)","v":""},{"$f":"IF(ISBLANK(FromEvoM!J377),\"\",FromEvoM!J377)","v":""},{"$f":"IF(ISBLANK(FromEvoM!K377),\"\",FromEvoM!K377)","v":""},{"$f":"IF(ISBLANK(FromEvoM!L377),\"\",FromEvoM!L377)","v":""},{"$f":"IF(ISBLANK(FromEvoM!M377),\"\",FromEvoM!M377)","v":""},{"$f":"IF(ISBLANK(FromEvoM!P377),\"\",FromEvoM!P377)","v":""},null,{"$f":"IF(ISNUMBER(FromEvoM!X377),FromEvoM!X377,\"\")","v":""},{"$f":"IF(ISNUMBER(FromEvoM!AB377),FromEvoM!AB377,\"\")","v":""},{"$f":"IF(ISNUMBER(FromEvoM!AA377),FromEvoM!AA377,\"\")","v":""},null,"","",null,null,{"$f":"IF(FromEvoM!W377=1,(FromEvoM!AB377*12),IF(FromEvoM!W377=7,(FromEvoM!AR377),\"\"))","v":""},null,null,{"$f":"IF(ISBLANK(FromEvoM!A377),\"\",IF(FromEvoM!AK377=\"y\",\"Y\",\"N\"))","v":""},{"$f":"IF(ISBLANK(FromEvoM!A377),\"\",Category_ID)","v":""},null,null,null,{"$f":"IF(ISBLANK(FromEvoM!AK377),\"\",FromEvoM!AK377)","v":""},{"$f":"IF(ISBLANK(FromEvoM!AM377),\"\",FromEvoM!AM377)","v":""},{"$f":"IF(ISBLANK(FromEvoM!AN377),\"\",FromEvoM!AN377)","v":""},{"$f":"IF(ISBLANK(FromEvoM!AL377),\"\",FromEvoM!AL377)","v":""},{"$f":"IF(ISBLANK(FromEvoM!A377),\"\",IF(AND(AF377=\"y\",AI377=1),\"Y\",\"N\"))","v":""},{"$f":"IF(ISBLANK(FromEvoM!A377),\"\",IF(FromEvoM!AS377=\"Yes\",2,1))","v":""},{"$f":"IF(FromEvoM!W377=1,\"M\",IF(FromEvoM!W377=7,\"W\",\"\"))","v":""},{"$f":"IF(AJ377=\"Y\",0,IF(AJ377=\"N\",FromEvoM!AF377+FromEvoM!AT377,\"\"))","v":""},{"$f":"IF(AJ377=\"Y\",(FromEvoM!AE377+FromEvoM!AF377-FromEvoM!AT377),IF(AJ377=\"N\",FromEvoM!AE377,\"\"))","v":""}]
[{"$f":"IF(ISBLANK(FromEvoM!A378),\"\",Group_Code)","v":""},{"$f":"IF(ISBLANK(FromEvoM!A378),\"\",SUBSTITUTE(FromEvoM!A378,\" \",\"\"))","v":""},{"$f":"IF(ISBLANK(FromEvoM!C378),\"\",SUBSTITUTE(FromEvoM!G378,\" \",\"\"))","v":""},{"$f":"IF(ISBLANK(FromEvoM!D378),\"\",FromEvoM!B378)","v":""},{"$f":"IF(ISBLANK(FromEvoM!D378),\"\",FromEvoM!D378)","v":""},{"$f":"IF(ISBLANK(FromEvoM!C378),\"\",FromEvoM!C378)","v":""},{"$f":"REPLACE(FromEvoM!F378,2,6, )","v":""},{"$f":"IF(ISNUMBER(FromEvoM!E378),FromEvoM!E378,\"\")","v":""},{"$f":"IF(ISBLANK(FromEvoM!I378),\"\",FromEvoM!I378)","v":""},{"$f":"IF(ISBLANK(FromEvoM!J378),\"\",FromEvoM!J378)","v":""},{"$f":"IF(ISBLANK(FromEvoM!K378),\"\",FromEvoM!K378)","v":""},{"$f":"IF(ISBLANK(FromEvoM!L378),\"\",FromEvoM!L378)","v":""},{"$f":"IF(ISBLANK(FromEvoM!M378),\"\",FromEvoM!M378)","v":""},{"$f":"IF(ISBLANK(FromEvoM!P378),\"\",FromEvoM!P378)","v":""},null,{"$f":"IF(ISNUMBER(FromEvoM!X378),FromEvoM!X378,\"\")","v":""},{"$f":"IF(ISNUMBER(FromEvoM!AB378),FromEvoM!AB378,\"\")","v":""},{"$f":"IF(ISNUMBER(FromEvoM!AA378),FromEvoM!AA378,\"\")","v":""},null,"","",null,null,{"$f":"IF(FromEvoM!W378=1,(FromEvoM!AB378*12),IF(FromEvoM!W378=7,(FromEvoM!AR378),\"\"))","v":""},null,null,{"$f":"IF(ISBLANK(FromEvoM!A378),\"\",IF(FromEvoM!AK378=\"y\",\"Y\",\"N\"))","v":""},{"$f":"IF(ISBLANK(FromEvoM!A378),\"\",Category_ID)","v":""},null,null,null,{"$f":"IF(ISBLANK(FromEvoM!AK378),\"\",FromEvoM!AK378)","v":""},{"$f":"IF(ISBLANK(FromEvoM!AM378),\"\",FromEvoM!AM378)","v":""},{"$f":"IF(ISBLANK(FromEvoM!AN378),\"\",FromEvoM!AN378)","v":""},{"$f":"IF(ISBLANK(FromEvoM!AL378),\"\",FromEvoM!AL378)","v":""},{"$f":"IF(ISBLANK(FromEvoM!A378),\"\",IF(AND(AF378=\"y\",AI378=1),\"Y\",\"N\"))","v":""},{"$f":"IF(ISBLANK(FromEvoM!A378),\"\",IF(FromEvoM!AS378=\"Yes\",2,1))","v":""},{"$f":"IF(FromEvoM!W378=1,\"M\",IF(FromEvoM!W378=7,\"W\",\"\"))","v":""},{"$f":"IF(AJ378=\"Y\",0,IF(AJ378=\"N\",FromEvoM!AF378+FromEvoM!AT378,\"\"))","v":""},{"$f":"IF(AJ378=\"Y\",(FromEvoM!AE378+FromEvoM!AF378-FromEvoM!AT378),IF(AJ378=\"N\",FromEvoM!AE378,\"\"))","v":""}]
[{"$f":"IF(ISBLANK(FromEvoM!A379),\"\",Group_Code)","v":""},{"$f":"IF(ISBLANK(FromEvoM!A379),\"\",SUBSTITUTE(FromEvoM!A379,\" \",\"\"))","v":""},{"$f":"IF(ISBLANK(FromEvoM!C379),\"\",SUBSTITUTE(FromEvoM!G379,\" \",\"\"))","v":""},{"$f":"IF(ISBLANK(FromEvoM!D379),\"\",FromEvoM!B379)","v":""},{"$f":"IF(ISBLANK(FromEvoM!D379),\"\",FromEvoM!D379)","v":""},{"$f":"IF(ISBLANK(FromEvoM!C379),\"\",FromEvoM!C379)","v":""},{"$f":"REPLACE(FromEvoM!F379,2,6, )","v":""},{"$f":"IF(ISNUMBER(FromEvoM!E379),FromEvoM!E379,\"\")","v":""},{"$f":"IF(ISBLANK(FromEvoM!I379),\"\",FromEvoM!I379)","v":""},{"$f":"IF(ISBLANK(FromEvoM!J379),\"\",FromEvoM!J379)","v":""},{"$f":"IF(ISBLANK(FromEvoM!K379),\"\",FromEvoM!K379)","v":""},{"$f":"IF(ISBLANK(FromEvoM!L379),\"\",FromEvoM!L379)","v":""},{"$f":"IF(ISBLANK(FromEvoM!M379),\"\",FromEvoM!M379)","v":""},{"$f":"IF(ISBLANK(FromEvoM!P379),\"\",FromEvoM!P379)","v":""},null,{"$f":"IF(ISNUMBER(FromEvoM!X379),FromEvoM!X379,\"\")","v":""},{"$f":"IF(ISNUMBER(FromEvoM!AB379),FromEvoM!AB379,\"\")","v":""},{"$f":"IF(ISNUMBER(FromEvoM!AA379),FromEvoM!AA379,\"\")","v":""},null,"","",null,null,{"$f":"IF(FromEvoM!W379=1,(FromEvoM!AB379*12),IF(FromEvoM!W379=7,(FromEvoM!AR379),\"\"))","v":""},null,null,{"$f":"IF(ISBLANK(FromEvoM!A379),\"\",IF(FromEvoM!AK379=\"y\",\"Y\",\"N\"))","v":""},{"$f":"IF(ISBLANK(FromEvoM!A379),\"\",Category_ID)","v":""},null,null,null,{"$f":"IF(ISBLANK(FromEvoM!AK379),\"\",FromEvoM!AK379)","v":""},{"$f":"IF(ISBLANK(FromEvoM!AM379),\"\",FromEvoM!AM379)","v":""},{"$f":"IF(ISBLANK(FromEvoM!AN379),\"\",FromEvoM!AN379)","v":""},{"$f":"IF(ISBLANK(FromEvoM!AL379),\"\",FromEvoM!AL379)","v":""},{"$f":"IF(ISBLANK(FromEvoM!A379),\"\",IF(AND(AF379=\"y\",AI379=1),\"Y\",\"N\"))","v":""},{"$f":"IF(ISBLANK(FromEvoM!A379),\"\",IF(FromEvoM!AS379=\"Yes\",2,1))","v":""},{"$f":"IF(FromEvoM!W379=1,\"M\",IF(FromEvoM!W379=7,\"W\",\"\"))","v":""},{"$f":"IF(AJ379=\"Y\",0,IF(AJ379=\"N\",FromEvoM!AF379+FromEvoM!AT379,\"\"))","v":""},{"$f":"IF(AJ379=\"Y\",(FromEvoM!AE379+FromEvoM!AF379-FromEvoM!AT379),IF(AJ379=\"N\",FromEvoM!AE379,\"\"))","v":""}]
[{"$f":"IF(ISBLANK(FromEvoM!A380),\"\",Group_Code)","v":""},{"$f":"IF(ISBLANK(FromEvoM!A380),\"\",SUBSTITUTE(FromEvoM!A380,\" \",\"\"))","v":""},{"$f":"IF(ISBLANK(FromEvoM!C380),\"\",SUBSTITUTE(FromEvoM!G380,\" \",\"\"))","v":""},{"$f":"IF(ISBLANK(FromEvoM!D380),\"\",FromEvoM!B380)","v":""},{"$f":"IF(ISBLANK(FromEvoM!D380),\"\",FromEvoM!D380)","v":""},{"$f":"IF(ISBLANK(FromEvoM!C380),\"\",FromEvoM!C380)","v":""},{"$f":"REPLACE(FromEvoM!F380,2,6, )","v":""},{"$f":"IF(ISNUMBER(FromEvoM!E380),FromEvoM!E380,\"\")","v":""},{"$f":"IF(ISBLANK(FromEvoM!I380),\"\",FromEvoM!I380)","v":""},{"$f":"IF(ISBLANK(FromEvoM!J380),\"\",FromEvoM!J380)","v":""},{"$f":"IF(ISBLANK(FromEvoM!K380),\"\",FromEvoM!K380)","v":""},{"$f":"IF(ISBLANK(FromEvoM!L380),\"\",FromEvoM!L380)","v":""},{"$f":"IF(ISBLANK(FromEvoM!M380),\"\",FromEvoM!M380)","v":""},{"$f":"IF(ISBLANK(FromEvoM!P380),\"\",FromEvoM!P380)","v":""},null,{"$f":"IF(ISNUMBER(FromEvoM!X380),FromEvoM!X380,\"\")","v":""},{"$f":"IF(ISNUMBER(FromEvoM!AB380),FromEvoM!AB380,\"\")","v":""},{"$f":"IF(ISNUMBER(FromEvoM!AA380),FromEvoM!AA380,\"\")","v":""},null,"","",null,null,{"$f":"IF(FromEvoM!W380=1,(FromEvoM!AB380*12),IF(FromEvoM!W380=7,(FromEvoM!AR380),\"\"))","v":""},null,null,{"$f":"IF(ISBLANK(FromEvoM!A380),\"\",IF(FromEvoM!AK380=\"y\",\"Y\",\"N\"))","v":""},{"$f":"IF(ISBLANK(FromEvoM!A380),\"\",Category_ID)","v":""},null,null,null,{"$f":"IF(ISBLANK(FromEvoM!AK380),\"\",FromEvoM!AK380)","v":""},{"$f":"IF(ISBLANK(FromEvoM!AM380),\"\",FromEvoM!AM380)","v":""},{"$f":"IF(ISBLANK(FromEvoM!AN380),\"\",FromEvoM!AN380)","v":""},{"$f":"IF(ISBLANK(FromEvoM!AL380),\"\",FromEvoM!AL380)","v":""},{"$f":"IF(ISBLANK(FromEvoM!A380),\"\",IF(AND(AF380=\"y\",AI380=1),\"Y\",\"N\"))","v":""},{"$f":"IF(ISBLANK(FromEvoM!A380),\"\",IF(FromEvoM!AS380=\"Yes\",2,1))","v":""},{"$f":"IF(FromEvoM!W380=1,\"M\",IF(FromEvoM!W380=7,\"W\",\"\"))","v":""},{"$f":"IF(AJ380=\"Y\",0,IF(AJ380=\"N\",FromEvoM!AF380+FromEvoM!AT380,\"\"))","v":""},{"$f":"IF(AJ380=\"Y\",(FromEvoM!AE380+FromEvoM!AF380-FromEvoM!AT380),IF(AJ380=\"N\",FromEvoM!AE380,\"\"))","v":""}]
[{"$f":"IF(ISBLANK(FromEvoM!A381),\"\",Group_Code)","v":""},{"$f":"IF(ISBLANK(FromEvoM!A381),\"\",SUBSTITUTE(FromEvoM!A381,\" \",\"\"))","v":""},{"$f":"IF(ISBLANK(FromEvoM!C381),\"\",SUBSTITUTE(FromEvoM!G381,\" \",\"\"))","v":""},{"$f":"IF(ISBLANK(FromEvoM!D381),\"\",FromEvoM!B381)","v":""},{"$f":"IF(ISBLANK(FromEvoM!D381),\"\",FromEvoM!D381)","v":""},{"$f":"IF(ISBLANK(FromEvoM!C381),\"\",FromEvoM!C381)","v":""},{"$f":"REPLACE(FromEvoM!F381,2,6, )","v":""},{"$f":"IF(ISNUMBER(FromEvoM!E381),FromEvoM!E381,\"\")","v":""},{"$f":"IF(ISBLANK(FromEvoM!I381),\"\",FromEvoM!I381)","v":""},{"$f":"IF(ISBLANK(FromEvoM!J381),\"\",FromEvoM!J381)","v":""},{"$f":"IF(ISBLANK(FromEvoM!K381),\"\",FromEvoM!K381)","v":""},{"$f":"IF(ISBLANK(FromEvoM!L381),\"\",FromEvoM!L381)","v":""},{"$f":"IF(ISBLANK(FromEvoM!M381),\"\",FromEvoM!M381)","v":""},{"$f":"IF(ISBLANK(FromEvoM!P381),\"\",FromEvoM!P381)","v":""},null,{"$f":"IF(ISNUMBER(FromEvoM!X381),FromEvoM!X381,\"\")","v":""},{"$f":"IF(ISNUMBER(FromEvoM!AB381),FromEvoM!AB381,\"\")","v":""},{"$f":"IF(ISNUMBER(FromEvoM!AA381),FromEvoM!AA381,\"\")","v":""},null,"","",null,null,{"$f":"IF(FromEvoM!W381=1,(FromEvoM!AB381*12),IF(FromEvoM!W381=7,(FromEvoM!AR381),\"\"))","v":""},null,null,{"$f":"IF(ISBLANK(FromEvoM!A381),\"\",IF(FromEvoM!AK381=\"y\",\"Y\",\"N\"))","v":""},{"$f":"IF(ISBLANK(FromEvoM!A381),\"\",Category_ID)","v":""},null,null,null,{"$f":"IF(ISBLANK(FromEvoM!AK381),\"\",FromEvoM!AK381)","v":""},{"$f":"IF(ISBLANK(FromEvoM!AM381),\"\",FromEvoM!AM381)","v":""},{"$f":"IF(ISBLANK(FromEvoM!AN381),\"\",FromEvoM!AN381)","v":""},{"$f":"IF(ISBLANK(FromEvoM!AL381),\"\",FromEvoM!AL381)","v":""},{"$f":"IF(ISBLANK(FromEvoM!A381),\"\",IF(AND(AF381=\"y\",AI381=1),\"Y\",\"N\"))","v":""},{"$f":"IF(ISBLANK(FromEvoM!A381),\"\",IF(FromEvoM!AS381=\"Yes\",2,1))","v":""},{"$f":"IF(FromEvoM!W381=1,\"M\",IF(FromEvoM!W381=7,\"W\",\"\"))","v":""},{"$f":"IF(AJ381=\"Y\",0,IF(AJ381=\"N\",FromEvoM!AF381+FromEvoM!AT381,\"\"))","v":""},{"$f":"IF(AJ381=\"Y\",(FromEvoM!AE381+FromEvoM!AF381-FromEvoM!AT381),IF(AJ381=\"N\",FromEvoM!AE381,\"\"))","v":""}]
[{"$f":"IF(ISBLANK(FromEvoM!A382),\"\",Group_Code)","v":""},{"$f":"IF(ISBLANK(FromEvoM!A382),\"\",SUBSTITUTE(FromEvoM!A382,\" \",\"\"))","v":""},{"$f":"IF(ISBLANK(FromEvoM!C382),\"\",SUBSTITUTE(FromEvoM!G382,\" \",\"\"))","v":""},{"$f":"IF(ISBLANK(FromEvoM!D382),\"\",FromEvoM!B382)","v":""},{"$f":"IF(ISBLANK(FromEvoM!D382),\"\",FromEvoM!D382)","v":""},{"$f":"IF(ISBLANK(FromEvoM!C382),\"\",FromEvoM!C382)","v":""},{"$f":"REPLACE(FromEvoM!F382,2,6, )","v":""},{"$f":"IF(ISNUMBER(FromEvoM!E382),FromEvoM!E382,\"\")","v":""},{"$f":"IF(ISBLANK(FromEvoM!I382),\"\",FromEvoM!I382)","v":""},{"$f":"IF(ISBLANK(FromEvoM!J382),\"\",FromEvoM!J382)","v":""},{"$f":"IF(ISBLANK(FromEvoM!K382),\"\",FromEvoM!K382)","v":""},{"$f":"IF(ISBLANK(FromEvoM!L382),\"\",FromEvoM!L382)","v":""},{"$f":"IF(ISBLANK(FromEvoM!M382),\"\",FromEvoM!M382)","v":""},{"$f":"IF(ISBLANK(FromEvoM!P382),\"\",FromEvoM!P382)","v":""},null,{"$f":"IF(ISNUMBER(FromEvoM!X382),FromEvoM!X382,\"\")","v":""},{"$f":"IF(ISNUMBER(FromEvoM!AB382),FromEvoM!AB382,\"\")","v":""},{"$f":"IF(ISNUMBER(FromEvoM!AA382),FromEvoM!AA382,\"\")","v":""},null,"","",null,null,{"$f":"IF(FromEvoM!W382=1,(FromEvoM!AB382*12),IF(FromEvoM!W382=7,(FromEvoM!AR382),\"\"))","v":""},null,null,{"$f":"IF(ISBLANK(FromEvoM!A382),\"\",IF(FromEvoM!AK382=\"y\",\"Y\",\"N\"))","v":""},{"$f":"IF(ISBLANK(FromEvoM!A382),\"\",Category_ID)","v":""},null,null,null,{"$f":"IF(ISBLANK(FromEvoM!AK382),\"\",FromEvoM!AK382)","v":""},{"$f":"IF(ISBLANK(FromEvoM!AM382),\"\",FromEvoM!AM382)","v":""},{"$f":"IF(ISBLANK(FromEvoM!AN382),\"\",FromEvoM!AN382)","v":""},{"$f":"IF(ISBLANK(FromEvoM!AL382),\"\",FromEvoM!AL382)","v":""},{"$f":"IF(ISBLANK(FromEvoM!A382),\"\",IF(AND(AF382=\"y\",AI382=1),\"Y\",\"N\"))","v":""},{"$f":"IF(ISBLANK(FromEvoM!A382),\"\",IF(FromEvoM!AS382=\"Yes\",2,1))","v":""},{"$f":"IF(FromEvoM!W382=1,\"M\",IF(FromEvoM!W382=7,\"W\",\"\"))","v":""},{"$f":"IF(AJ382=\"Y\",0,IF(AJ382=\"N\",FromEvoM!AF382+FromEvoM!AT382,\"\"))","v":""},{"$f":"IF(AJ382=\"Y\",(FromEvoM!AE382+FromEvoM!AF382-FromEvoM!AT382),IF(AJ382=\"N\",FromEvoM!AE382,\"\"))","v":""}]
[{"$f":"IF(ISBLANK(FromEvoM!A383),\"\",Group_Code)","v":""},{"$f":"IF(ISBLANK(FromEvoM!A383),\"\",SUBSTITUTE(FromEvoM!A383,\" \",\"\"))","v":""},{"$f":"IF(ISBLANK(FromEvoM!C383),\"\",SUBSTITUTE(FromEvoM!G383,\" \",\"\"))","v":""},{"$f":"IF(ISBLANK(FromEvoM!D383),\"\",FromEvoM!B383)","v":""},{"$f":"IF(ISBLANK(FromEvoM!D383),\"\",FromEvoM!D383)","v":""},{"$f":"IF(ISBLANK(FromEvoM!C383),\"\",FromEvoM!C383)","v":""},{"$f":"REPLACE(FromEvoM!F383,2,6, )","v":""},{"$f":"IF(ISNUMBER(FromEvoM!E383),FromEvoM!E383,\"\")","v":""},{"$f":"IF(ISBLANK(FromEvoM!I383),\"\",FromEvoM!I383)","v":""},{"$f":"IF(ISBLANK(FromEvoM!J383),\"\",FromEvoM!J383)","v":""},{"$f":"IF(ISBLANK(FromEvoM!K383),\"\",FromEvoM!K383)","v":""},{"$f":"IF(ISBLANK(FromEvoM!L383),\"\",FromEvoM!L383)","v":""},{"$f":"IF(ISBLANK(FromEvoM!M383),\"\",FromEvoM!M383)","v":""},{"$f":"IF(ISBLANK(FromEvoM!P383),\"\",FromEvoM!P383)","v":""},null,{"$f":"IF(ISNUMBER(FromEvoM!X383),FromEvoM!X383,\"\")","v":""},{"$f":"IF(ISNUMBER(FromEvoM!AB383),FromEvoM!AB383,\"\")","v":""},{"$f":"IF(ISNUMBER(FromEvoM!AA383),FromEvoM!AA383,\"\")","v":""},null,"","",null,null,{"$f":"IF(FromEvoM!W383=1,(FromEvoM!AB383*12),IF(FromEvoM!W383=7,(FromEvoM!AR383),\"\"))","v":""},null,null,{"$f":"IF(ISBLANK(FromEvoM!A383),\"\",IF(FromEvoM!AK383=\"y\",\"Y\",\"N\"))","v":""},{"$f":"IF(ISBLANK(FromEvoM!A383),\"\",Category_ID)","v":""},null,null,null,{"$f":"IF(ISBLANK(FromEvoM!AK383),\"\",FromEvoM!AK383)","v":""},{"$f":"IF(ISBLANK(FromEvoM!AM383),\"\",FromEvoM!AM383)","v":""},{"$f":"IF(ISBLANK(FromEvoM!AN383),\"\",FromEvoM!AN383)","v":""},{"$f":"IF(ISBLANK(FromEvoM!AL383),\"\",FromEvoM!AL383)","v":""},{"$f":"IF(ISBLANK(FromEvoM!A383),\"\",IF(AND(AF383=\"y\",AI383=1),\"Y\",\"N\"))","v":""},{"$f":"IF(ISBLANK(FromEvoM!A383),\"\",IF(FromEvoM!AS383=\"Yes\",2,1))","v":""},{"$f":"IF(FromEvoM!W383=1,\"M\",IF(FromEvoM!W383=7,\"W\",\"\"))","v":""},{"$f":"IF(AJ383=\"Y\",0,IF(AJ383=\"N\",FromEvoM!AF383+FromEvoM!AT383,\"\"))","v":""},{"$f":"IF(AJ383=\"Y\",(FromEvoM!AE383+FromEvoM!AF383-FromEvoM!AT383),IF(AJ383=\"N\",FromEvoM!AE383,\"\"))","v":""}]
[{"$f":"IF(ISBLANK(FromEvoM!A384),\"\",Group_Code)","v":""},{"$f":"IF(ISBLANK(FromEvoM!A384),\"\",SUBSTITUTE(FromEvoM!A384,\" \",\"\"))","v":""},{"$f":"IF(ISBLANK(FromEvoM!C384),\"\",SUBSTITUTE(FromEvoM!G384,\" \",\"\"))","v":""},{"$f":"IF(ISBLANK(FromEvoM!D384),\"\",FromEvoM!B384)","v":""},{"$f":"IF(ISBLANK(FromEvoM!D384),\"\",FromEvoM!D384)","v":""},{"$f":"IF(ISBLANK(FromEvoM!C384),\"\",FromEvoM!C384)","v":""},{"$f":"REPLACE(FromEvoM!F384,2,6, )","v":""},{"$f":"IF(ISNUMBER(FromEvoM!E384),FromEvoM!E384,\"\")","v":""},{"$f":"IF(ISBLANK(FromEvoM!I384),\"\",FromEvoM!I384)","v":""},{"$f":"IF(ISBLANK(FromEvoM!J384),\"\",FromEvoM!J384)","v":""},{"$f":"IF(ISBLANK(FromEvoM!K384),\"\",FromEvoM!K384)","v":""},{"$f":"IF(ISBLANK(FromEvoM!L384),\"\",FromEvoM!L384)","v":""},{"$f":"IF(ISBLANK(FromEvoM!M384),\"\",FromEvoM!M384)","v":""},{"$f":"IF(ISBLANK(FromEvoM!P384),\"\",FromEvoM!P384)","v":""},null,{"$f":"IF(ISNUMBER(FromEvoM!X384),FromEvoM!X384,\"\")","v":""},{"$f":"IF(ISNUMBER(FromEvoM!AB384),FromEvoM!AB384,\"\")","v":""},{"$f":"IF(ISNUMBER(FromEvoM!AA384),FromEvoM!AA384,\"\")","v":""},null,"","",null,null,{"$f":"IF(FromEvoM!W384=1,(FromEvoM!AB384*12),IF(FromEvoM!W384=7,(FromEvoM!AR384),\"\"))","v":""},null,null,{"$f":"IF(ISBLANK(FromEvoM!A384),\"\",IF(FromEvoM!AK384=\"y\",\"Y\",\"N\"))","v":""},{"$f":"IF(ISBLANK(FromEvoM!A384),\"\",Category_ID)","v":""},null,null,null,{"$f":"IF(ISBLANK(FromEvoM!AK384),\"\",FromEvoM!AK384)","v":""},{"$f":"IF(ISBLANK(FromEvoM!AM384),\"\",FromEvoM!AM384)","v":""},{"$f":"IF(ISBLANK(FromEvoM!AN384),\"\",FromEvoM!AN384)","v":""},{"$f":"IF(ISBLANK(FromEvoM!AL384),\"\",FromEvoM!AL384)","v":""},{"$f":"IF(ISBLANK(FromEvoM!A384),\"\",IF(AND(AF384=\"y\",AI384=1),\"Y\",\"N\"))","v":""},{"$f":"IF(ISBLANK(FromEvoM!A384),\"\",IF(FromEvoM!AS384=\"Yes\",2,1))","v":""},{"$f":"IF(FromEvoM!W384=1,\"M\",IF(FromEvoM!W384=7,\"W\",\"\"))","v":""},{"$f":"IF(AJ384=\"Y\",0,IF(AJ384=\"N\",FromEvoM!AF384+FromEvoM!AT384,\"\"))","v":""},{"$f":"IF(AJ384=\"Y\",(FromEvoM!AE384+FromEvoM!AF384-FromEvoM!AT384),IF(AJ384=\"N\",FromEvoM!AE384,\"\"))","v":""}]
[{"$f":"IF(ISBLANK(FromEvoM!A385),\"\",Group_Code)","v":""},{"$f":"IF(ISBLANK(FromEvoM!A385),\"\",SUBSTITUTE(FromEvoM!A385,\" \",\"\"))","v":""},{"$f":"IF(ISBLANK(FromEvoM!C385),\"\",SUBSTITUTE(FromEvoM!G385,\" \",\"\"))","v":""},{"$f":"IF(ISBLANK(FromEvoM!D385),\"\",FromEvoM!B385)","v":""},{"$f":"IF(ISBLANK(FromEvoM!D385),\"\",FromEvoM!D385)","v":""},{"$f":"IF(ISBLANK(FromEvoM!C385),\"\",FromEvoM!C385)","v":""},{"$f":"REPLACE(FromEvoM!F385,2,6, )","v":""},{"$f":"IF(ISNUMBER(FromEvoM!E385),FromEvoM!E385,\"\")","v":""},{"$f":"IF(ISBLANK(FromEvoM!I385),\"\",FromEvoM!I385)","v":""},{"$f":"IF(ISBLANK(FromEvoM!J385),\"\",FromEvoM!J385)","v":""},{"$f":"IF(ISBLANK(FromEvoM!K385),\"\",FromEvoM!K385)","v":""},{"$f":"IF(ISBLANK(FromEvoM!L385),\"\",FromEvoM!L385)","v":""},{"$f":"IF(ISBLANK(FromEvoM!M385),\"\",FromEvoM!M385)","v":""},{"$f":"IF(ISBLANK(FromEvoM!P385),\"\",FromEvoM!P385)","v":""},null,{"$f":"IF(ISNUMBER(FromEvoM!X385),FromEvoM!X385,\"\")","v":""},{"$f":"IF(ISNUMBER(FromEvoM!AB385),FromEvoM!AB385,\"\")","v":""},{"$f":"IF(ISNUMBER(FromEvoM!AA385),FromEvoM!AA385,\"\")","v":""},null,"","",null,null,{"$f":"IF(FromEvoM!W385=1,(FromEvoM!AB385*12),IF(FromEvoM!W385=7,(FromEvoM!AR385),\"\"))","v":""},null,null,{"$f":"IF(ISBLANK(FromEvoM!A385),\"\",IF(FromEvoM!AK385=\"y\",\"Y\",\"N\"))","v":""},{"$f":"IF(ISBLANK(FromEvoM!A385),\"\",Category_ID)","v":""},null,null,null,{"$f":"IF(ISBLANK(FromEvoM!AK385),\"\",FromEvoM!AK385)","v":""},{"$f":"IF(ISBLANK(FromEvoM!AM385),\"\",FromEvoM!AM385)","v":""},{"$f":"IF(ISBLANK(FromEvoM!AN385),\"\",FromEvoM!AN385)","v":""},{"$f":"IF(ISBLANK(FromEvoM!AL385),\"\",FromEvoM!AL385)","v":""},{"$f":"IF(ISBLANK(FromEvoM!A385),\"\",IF(AND(AF385=\"y\",AI385=1),\"Y\",\"N\"))","v":""},{"$f":"IF(ISBLANK(FromEvoM!A385),\"\",IF(FromEvoM!AS385=\"Yes\",2,1))","v":""},{"$f":"IF(FromEvoM!W385=1,\"M\",IF(FromEvoM!W385=7,\"W\",\"\"))","v":""},{"$f":"IF(AJ385=\"Y\",0,IF(AJ385=\"N\",FromEvoM!AF385+FromEvoM!AT385,\"\"))","v":""},{"$f":"IF(AJ385=\"Y\",(FromEvoM!AE385+FromEvoM!AF385-FromEvoM!AT385),IF(AJ385=\"N\",FromEvoM!AE385,\"\"))","v":""}]
[{"$f":"IF(ISBLANK(FromEvoM!A386),\"\",Group_Code)","v":""},{"$f":"IF(ISBLANK(FromEvoM!A386),\"\",SUBSTITUTE(FromEvoM!A386,\" \",\"\"))","v":""},{"$f":"IF(ISBLANK(FromEvoM!C386),\"\",SUBSTITUTE(FromEvoM!G386,\" \",\"\"))","v":""},{"$f":"IF(ISBLANK(FromEvoM!D386),\"\",FromEvoM!B386)","v":""},{"$f":"IF(ISBLANK(FromEvoM!D386),\"\",FromEvoM!D386)","v":""},{"$f":"IF(ISBLANK(FromEvoM!C386),\"\",FromEvoM!C386)","v":""},{"$f":"REPLACE(FromEvoM!F386,2,6, )","v":""},{"$f":"IF(ISNUMBER(FromEvoM!E386),FromEvoM!E386,\"\")","v":""},{"$f":"IF(ISBLANK(FromEvoM!I386),\"\",FromEvoM!I386)","v":""},{"$f":"IF(ISBLANK(FromEvoM!J386),\"\",FromEvoM!J386)","v":""},{"$f":"IF(ISBLANK(FromEvoM!K386),\"\",FromEvoM!K386)","v":""},{"$f":"IF(ISBLANK(FromEvoM!L386),\"\",FromEvoM!L386)","v":""},{"$f":"IF(ISBLANK(FromEvoM!M386),\"\",FromEvoM!M386)","v":""},{"$f":"IF(ISBLANK(FromEvoM!P386),\"\",FromEvoM!P386)","v":""},null,{"$f":"IF(ISNUMBER(FromEvoM!X386),FromEvoM!X386,\"\")","v":""},{"$f":"IF(ISNUMBER(FromEvoM!AB386),FromEvoM!AB386,\"\")","v":""},{"$f":"IF(ISNUMBER(FromEvoM!AA386),FromEvoM!AA386,\"\")","v":""},null,"","",null,null,{"$f":"IF(FromEvoM!W386=1,(FromEvoM!AB386*12),IF(FromEvoM!W386=7,(FromEvoM!AR386),\"\"))","v":""},null,null,{"$f":"IF(ISBLANK(FromEvoM!A386),\"\",IF(FromEvoM!AK386=\"y\",\"Y\",\"N\"))","v":""},{"$f":"IF(ISBLANK(FromEvoM!A386),\"\",Category_ID)","v":""},null,null,null,{"$f":"IF(ISBLANK(FromEvoM!AK386),\"\",FromEvoM!AK386)","v":""},{"$f":"IF(ISBLANK(FromEvoM!AM386),\"\",FromEvoM!AM386)","v":""},{"$f":"IF(ISBLANK(FromEvoM!AN386),\"\",FromEvoM!AN386)","v":""},{"$f":"IF(ISBLANK(FromEvoM!AL386),\"\",FromEvoM!AL386)","v":""},{"$f":"IF(ISBLANK(FromEvoM!A386),\"\",IF(AND(AF386=\"y\",AI386=1),\"Y\",\"N\"))","v":""},{"$f":"IF(ISBLANK(FromEvoM!A386),\"\",IF(FromEvoM!AS386=\"Yes\",2,1))","v":""},{"$f":"IF(FromEvoM!W386=1,\"M\",IF(FromEvoM!W386=7,\"W\",\"\"))","v":""},{"$f":"IF(AJ386=\"Y\",0,IF(AJ386=\"N\",FromEvoM!AF386+FromEvoM!AT386,\"\"))","v":""},{"$f":"IF(AJ386=\"Y\",(FromEvoM!AE386+FromEvoM!AF386-FromEvoM!AT386),IF(AJ386=\"N\",FromEvoM!AE386,\"\"))","v":""}]
[{"$f":"IF(ISBLANK(FromEvoM!A387),\"\",Group_Code)","v":""},{"$f":"IF(ISBLANK(FromEvoM!A387),\"\",SUBSTITUTE(FromEvoM!A387,\" \",\"\"))","v":""},{"$f":"IF(ISBLANK(FromEvoM!C387),\"\",SUBSTITUTE(FromEvoM!G387,\" \",\"\"))","v":""},{"$f":"IF(ISBLANK(FromEvoM!D387),\"\",FromEvoM!B387)","v":""},{"$f":"IF(ISBLANK(FromEvoM!D387),\"\",FromEvoM!D387)","v":""},{"$f":"IF(ISBLANK(FromEvoM!C387),\"\",FromEvoM!C387)","v":""},{"$f":"REPLACE(FromEvoM!F387,2,6, )","v":""},{"$f":"IF(ISNUMBER(FromEvoM!E387),FromEvoM!E387,\"\")","v":""},{"$f":"IF(ISBLANK(FromEvoM!I387),\"\",FromEvoM!I387)","v":""},{"$f":"IF(ISBLANK(FromEvoM!J387),\"\",FromEvoM!J387)","v":""},{"$f":"IF(ISBLANK(FromEvoM!K387),\"\",FromEvoM!K387)","v":""},{"$f":"IF(ISBLANK(FromEvoM!L387),\"\",FromEvoM!L387)","v":""},{"$f":"IF(ISBLANK(FromEvoM!M387),\"\",FromEvoM!M387)","v":""},{"$f":"IF(ISBLANK(FromEvoM!P387),\"\",FromEvoM!P387)","v":""},null,{"$f":"IF(ISNUMBER(FromEvoM!X387),FromEvoM!X387,\"\")","v":""},{"$f":"IF(ISNUMBER(FromEvoM!AB387),FromEvoM!AB387,\"\")","v":""},{"$f":"IF(ISNUMBER(FromEvoM!AA387),FromEvoM!AA387,\"\")","v":""},null,{"$f":"AM387","v":""},{"$f":"AN387","v":""},null,null,{"$f":"IF(FromEvoM!W387=1,(FromEvoM!AB387*12),IF(FromEvoM!W387=7,(FromEvoM!AR387),\"\"))","v":""},null,null,{"$f":"IF(ISBLANK(FromEvoM!A387),\"\",IF(FromEvoM!AK387=\"y\",\"Y\",\"N\"))","v":""},{"$f":"IF(ISBLANK(FromEvoM!A387),\"\",Category_ID)","v":""},null,null,null,{"$f":"IF(ISBLANK(FromEvoM!AK387),\"\",FromEvoM!AK387)","v":""},{"$f":"IF(ISBLANK(FromEvoM!AM387),\"\",FromEvoM!AM387)","v":""},{"$f":"IF(ISBLANK(FromEvoM!AN387),\"\",FromEvoM!AN387)","v":""},{"$f":"IF(ISBLANK(FromEvoM!AL387),\"\",FromEvoM!AL387)","v":""},{"$f":"IF(ISBLANK(FromEvoM!A387),\"\",IF(AND(AF387=\"y\",AI387=1),\"Y\",\"N\"))","v":""},{"$f":"IF(ISBLANK(FromEvoM!A387),\"\",IF(FromEvoM!AS387=\"Yes\",2,1))","v":""},{"$f":"IF(FromEvoM!W387=1,\"M\",IF(FromEvoM!W387=7,\"W\",\"\"))","v":""},{"$f":"IF(AJ387=\"Y\",0,IF(AJ387=\"N\",FromEvoM!AF387+FromEvoM!AT387,\"\"))","v":""},{"$f":"IF(AJ387=\"Y\",(FromEvoM!AE387+FromEvoM!AF387-FromEvoM!AT387),IF(AJ387=\"N\",FromEvoM!AE387,\"\"))","v":""}]
[{"$f":"IF(ISBLANK(FromEvoM!A388),\"\",Group_Code)","v":""},{"$f":"IF(ISBLANK(FromEvoM!A388),\"\",SUBSTITUTE(FromEvoM!A388,\" \",\"\"))","v":""},{"$f":"IF(ISBLANK(FromEvoM!C388),\"\",SUBSTITUTE(FromEvoM!G388,\" \",\"\"))","v":""},{"$f":"IF(ISBLANK(FromEvoM!D388),\"\",FromEvoM!B388)","v":""},{"$f":"IF(ISBLANK(FromEvoM!D388),\"\",FromEvoM!D388)","v":""},{"$f":"IF(ISBLANK(FromEvoM!C388),\"\",FromEvoM!C388)","v":""},{"$f":"REPLACE(FromEvoM!F388,2,6, )","v":""},{"$f":"IF(ISNUMBER(FromEvoM!E388),FromEvoM!E388,\"\")","v":""},{"$f":"IF(ISBLANK(FromEvoM!I388),\"\",FromEvoM!I388)","v":""},{"$f":"IF(ISBLANK(FromEvoM!J388),\"\",FromEvoM!J388)","v":""},{"$f":"IF(ISBLANK(FromEvoM!K388),\"\",FromEvoM!K388)","v":""},{"$f":"IF(ISBLANK(FromEvoM!L388),\"\",FromEvoM!L388)","v":""},{"$f":"IF(ISBLANK(FromEvoM!M388),\"\",FromEvoM!M388)","v":""},{"$f":"IF(ISBLANK(FromEvoM!P388),\"\",FromEvoM!P388)","v":""},null,{"$f":"IF(ISNUMBER(FromEvoM!X388),FromEvoM!X388,\"\")","v":""},{"$f":"IF(ISNUMBER(FromEvoM!AB388),FromEvoM!AB388,\"\")","v":""},{"$f":"IF(ISNUMBER(FromEvoM!AA388),FromEvoM!AA388,\"\")","v":""},null,"","",null,null,{"$f":"IF(FromEvoM!W388=1,(FromEvoM!AB388*12),IF(FromEvoM!W388=7,(FromEvoM!AR388),\"\"))","v":""},null,null,{"$f":"IF(ISBLANK(FromEvoM!A388),\"\",IF(FromEvoM!AK388=\"y\",\"Y\",\"N\"))","v":""},{"$f":"IF(ISBLANK(FromEvoM!A388),\"\",Category_ID)","v":""},null,null,null,{"$f":"IF(ISBLANK(FromEvoM!AK388),\"\",FromEvoM!AK388)","v":""},{"$f":"IF(ISBLANK(FromEvoM!AM388),\"\",FromEvoM!AM388)","v":""},{"$f":"IF(ISBLANK(FromEvoM!AN388),\"\",FromEvoM!AN388)","v":""},{"$f":"IF(ISBLANK(FromEvoM!AL388),\"\",FromEvoM!AL388)","v":""},{"$f":"IF(ISBLANK(FromEvoM!A388),\"\",IF(AND(AF388=\"y\",AI388=1),\"Y\",\"N\"))","v":""},{"$f":"IF(ISBLANK(FromEvoM!A388),\"\",IF(FromEvoM!AS388=\"Yes\",2,1))","v":""},{"$f":"IF(FromEvoM!W388=1,\"M\",IF(FromEvoM!W388=7,\"W\",\"\"))","v":""},{"$f":"IF(AJ388=\"Y\",0,IF(AJ388=\"N\",FromEvoM!AF388+FromEvoM!AT388,\"\"))","v":""},{"$f":"IF(AJ388=\"Y\",(FromEvoM!AE388+FromEvoM!AF388-FromEvoM!AT388),IF(AJ388=\"N\",FromEvoM!AE388,\"\"))","v":""}]
[{"$f":"IF(ISBLANK(FromEvoM!A389),\"\",Group_Code)","v":""},{"$f":"IF(ISBLANK(FromEvoM!A389),\"\",SUBSTITUTE(FromEvoM!A389,\" \",\"\"))","v":""},{"$f":"IF(ISBLANK(FromEvoM!C389),\"\",SUBSTITUTE(FromEvoM!G389,\" \",\"\"))","v":""},{"$f":"IF(ISBLANK(FromEvoM!D389),\"\",FromEvoM!B389)","v":""},{"$f":"IF(ISBLANK(FromEvoM!D389),\"\",FromEvoM!D389)","v":""},{"$f":"IF(ISBLANK(FromEvoM!C389),\"\",FromEvoM!C389)","v":""},{"$f":"REPLACE(FromEvoM!F389,2,6, )","v":""},{"$f":"IF(ISNUMBER(FromEvoM!E389),FromEvoM!E389,\"\")","v":""},{"$f":"IF(ISBLANK(FromEvoM!I389),\"\",FromEvoM!I389)","v":""},{"$f":"IF(ISBLANK(FromEvoM!J389),\"\",FromEvoM!J389)","v":""},{"$f":"IF(ISBLANK(FromEvoM!K389),\"\",FromEvoM!K389)","v":""},{"$f":"IF(ISBLANK(FromEvoM!L389),\"\",FromEvoM!L389)","v":""},{"$f":"IF(ISBLANK(FromEvoM!M389),\"\",FromEvoM!M389)","v":""},{"$f":"IF(ISBLANK(FromEvoM!P389),\"\",FromEvoM!P389)","v":""},null,{"$f":"IF(ISNUMBER(FromEvoM!X389),FromEvoM!X389,\"\")","v":""},{"$f":"IF(ISNUMBER(FromEvoM!AB389),FromEvoM!AB389,\"\")","v":""},{"$f":"IF(ISNUMBER(FromEvoM!AA389),FromEvoM!AA389,\"\")","v":""},null,"","",null,null,{"$f":"IF(FromEvoM!W389=1,(FromEvoM!AB389*12),IF(FromEvoM!W389=7,(FromEvoM!AR389),\"\"))","v":""},null,null,{"$f":"IF(ISBLANK(FromEvoM!A389),\"\",IF(FromEvoM!AK389=\"y\",\"Y\",\"N\"))","v":""},{"$f":"IF(ISBLANK(FromEvoM!A389),\"\",Category_ID)","v":""},null,null,null,{"$f":"IF(ISBLANK(FromEvoM!AK389),\"\",FromEvoM!AK389)","v":""},{"$f":"IF(ISBLANK(FromEvoM!AM389),\"\",FromEvoM!AM389)","v":""},{"$f":"IF(ISBLANK(FromEvoM!AN389),\"\",FromEvoM!AN389)","v":""},{"$f":"IF(ISBLANK(FromEvoM!AL389),\"\",FromEvoM!AL389)","v":""},{"$f":"IF(ISBLANK(FromEvoM!A389),\"\",IF(AND(AF389=\"y\",AI389=1),\"Y\",\"N\"))","v":""},{"$f":"IF(ISBLANK(FromEvoM!A389),\"\",IF(FromEvoM!AS389=\"Yes\",2,1))","v":""},{"$f":"IF(FromEvoM!W389=1,\"M\",IF(FromEvoM!W389=7,\"W\",\"\"))","v":""},{"$f":"IF(AJ389=\"Y\",0,IF(AJ389=\"N\",FromEvoM!AF389+FromEvoM!AT389,\"\"))","v":""},{"$f":"IF(AJ389=\"Y\",(FromEvoM!AE389+FromEvoM!AF389-FromEvoM!AT389),IF(AJ389=\"N\",FromEvoM!AE389,\"\"))","v":""}]
[{"$f":"IF(ISBLANK(FromEvoM!A390),\"\",Group_Code)","v":""},{"$f":"IF(ISBLANK(FromEvoM!A390),\"\",SUBSTITUTE(FromEvoM!A390,\" \",\"\"))","v":""},{"$f":"IF(ISBLANK(FromEvoM!C390),\"\",SUBSTITUTE(FromEvoM!G390,\" \",\"\"))","v":""},{"$f":"IF(ISBLANK(FromEvoM!D390),\"\",FromEvoM!B390)","v":""},{"$f":"IF(ISBLANK(FromEvoM!D390),\"\",FromEvoM!D390)","v":""},{"$f":"IF(ISBLANK(FromEvoM!C390),\"\",FromEvoM!C390)","v":""},{"$f":"REPLACE(FromEvoM!F390,2,6, )","v":""},{"$f":"IF(ISNUMBER(FromEvoM!E390),FromEvoM!E390,\"\")","v":""},{"$f":"IF(ISBLANK(FromEvoM!I390),\"\",FromEvoM!I390)","v":""},{"$f":"IF(ISBLANK(FromEvoM!J390),\"\",FromEvoM!J390)","v":""},{"$f":"IF(ISBLANK(FromEvoM!K390),\"\",FromEvoM!K390)","v":""},{"$f":"IF(ISBLANK(FromEvoM!L390),\"\",FromEvoM!L390)","v":""},{"$f":"IF(ISBLANK(FromEvoM!M390),\"\",FromEvoM!M390)","v":""},{"$f":"IF(ISBLANK(FromEvoM!P390),\"\",FromEvoM!P390)","v":""},null,{"$f":"IF(ISNUMBER(FromEvoM!X390),FromEvoM!X390,\"\")","v":""},{"$f":"IF(ISNUMBER(FromEvoM!AB390),FromEvoM!AB390,\"\")","v":""},{"$f":"IF(ISNUMBER(FromEvoM!AA390),FromEvoM!AA390,\"\")","v":""},null,"","",null,null,{"$f":"IF(FromEvoM!W390=1,(FromEvoM!AB390*12),IF(FromEvoM!W390=7,(FromEvoM!AR390),\"\"))","v":""},null,null,{"$f":"IF(ISBLANK(FromEvoM!A390),\"\",IF(FromEvoM!AK390=\"y\",\"Y\",\"N\"))","v":""},{"$f":"IF(ISBLANK(FromEvoM!A390),\"\",Category_ID)","v":""},null,null,null,{"$f":"IF(ISBLANK(FromEvoM!AK390),\"\",FromEvoM!AK390)","v":""},{"$f":"IF(ISBLANK(FromEvoM!AM390),\"\",FromEvoM!AM390)","v":""},{"$f":"IF(ISBLANK(FromEvoM!AN390),\"\",FromEvoM!AN390)","v":""},{"$f":"IF(ISBLANK(FromEvoM!AL390),\"\",FromEvoM!AL390)","v":""},{"$f":"IF(ISBLANK(FromEvoM!A390),\"\",IF(AND(AF390=\"y\",AI390=1),\"Y\",\"N\"))","v":""},{"$f":"IF(ISBLANK(FromEvoM!A390),\"\",IF(FromEvoM!AS390=\"Yes\",2,1))","v":""},{"$f":"IF(FromEvoM!W390=1,\"M\",IF(FromEvoM!W390=7,\"W\",\"\"))","v":""},{"$f":"IF(AJ390=\"Y\",0,IF(AJ390=\"N\",FromEvoM!AF390+FromEvoM!AT390,\"\"))","v":""},{"$f":"IF(AJ390=\"Y\",(FromEvoM!AE390+FromEvoM!AF390-FromEvoM!AT390),IF(AJ390=\"N\",FromEvoM!AE390,\"\"))","v":""}]
[{"$f":"IF(ISBLANK(FromEvoM!A391),\"\",Group_Code)","v":""},{"$f":"IF(ISBLANK(FromEvoM!A391),\"\",SUBSTITUTE(FromEvoM!A391,\" \",\"\"))","v":""},{"$f":"IF(ISBLANK(FromEvoM!C391),\"\",SUBSTITUTE(FromEvoM!G391,\" \",\"\"))","v":""},{"$f":"IF(ISBLANK(FromEvoM!D391),\"\",FromEvoM!B391)","v":""},{"$f":"IF(ISBLANK(FromEvoM!D391),\"\",FromEvoM!D391)","v":""},{"$f":"IF(ISBLANK(FromEvoM!C391),\"\",FromEvoM!C391)","v":""},{"$f":"REPLACE(FromEvoM!F391,2,6, )","v":""},{"$f":"IF(ISNUMBER(FromEvoM!E391),FromEvoM!E391,\"\")","v":""},{"$f":"IF(ISBLANK(FromEvoM!I391),\"\",FromEvoM!I391)","v":""},{"$f":"IF(ISBLANK(FromEvoM!J391),\"\",FromEvoM!J391)","v":""},{"$f":"IF(ISBLANK(FromEvoM!K391),\"\",FromEvoM!K391)","v":""},{"$f":"IF(ISBLANK(FromEvoM!L391),\"\",FromEvoM!L391)","v":""},{"$f":"IF(ISBLANK(FromEvoM!M391),\"\",FromEvoM!M391)","v":""},{"$f":"IF(ISBLANK(FromEvoM!P391),\"\",FromEvoM!P391)","v":""},null,{"$f":"IF(ISNUMBER(FromEvoM!X391),FromEvoM!X391,\"\")","v":""},{"$f":"IF(ISNUMBER(FromEvoM!AB391),FromEvoM!AB391,\"\")","v":""},{"$f":"IF(ISNUMBER(FromEvoM!AA391),FromEvoM!AA391,\"\")","v":""},null,"","",null,null,{"$f":"IF(FromEvoM!W391=1,(FromEvoM!AB391*12),IF(FromEvoM!W391=7,(FromEvoM!AR391),\"\"))","v":""},null,null,{"$f":"IF(ISBLANK(FromEvoM!A391),\"\",IF(FromEvoM!AK391=\"y\",\"Y\",\"N\"))","v":""},{"$f":"IF(ISBLANK(FromEvoM!A391),\"\",Category_ID)","v":""},null,null,null,{"$f":"IF(ISBLANK(FromEvoM!AK391),\"\",FromEvoM!AK391)","v":""},{"$f":"IF(ISBLANK(FromEvoM!AM391),\"\",FromEvoM!AM391)","v":""},{"$f":"IF(ISBLANK(FromEvoM!AN391),\"\",FromEvoM!AN391)","v":""},{"$f":"IF(ISBLANK(FromEvoM!AL391),\"\",FromEvoM!AL391)","v":""},{"$f":"IF(ISBLANK(FromEvoM!A391),\"\",IF(AND(AF391=\"y\",AI391=1),\"Y\",\"N\"))","v":""},{"$f":"IF(ISBLANK(FromEvoM!A391),\"\",IF(FromEvoM!AS391=\"Yes\",2,1))","v":""},{"$f":"IF(FromEvoM!W391=1,\"M\",IF(FromEvoM!W391=7,\"W\",\"\"))","v":""},{"$f":"IF(AJ391=\"Y\",0,IF(AJ391=\"N\",FromEvoM!AF391+FromEvoM!AT391,\"\"))","v":""},{"$f":"IF(AJ391=\"Y\",(FromEvoM!AE391+FromEvoM!AF391-FromEvoM!AT391),IF(AJ391=\"N\",FromEvoM!AE391,\"\"))","v":""}]
[{"$f":"IF(ISBLANK(FromEvoM!A392),\"\",Group_Code)","v":""},{"$f":"IF(ISBLANK(FromEvoM!A392),\"\",SUBSTITUTE(FromEvoM!A392,\" \",\"\"))","v":""},{"$f":"IF(ISBLANK(FromEvoM!C392),\"\",SUBSTITUTE(FromEvoM!G392,\" \",\"\"))","v":""},{"$f":"IF(ISBLANK(FromEvoM!D392),\"\",FromEvoM!B392)","v":""},{"$f":"IF(ISBLANK(FromEvoM!D392),\"\",FromEvoM!D392)","v":""},{"$f":"IF(ISBLANK(FromEvoM!C392),\"\",FromEvoM!C392)","v":""},{"$f":"REPLACE(FromEvoM!F392,2,6, )","v":""},{"$f":"IF(ISNUMBER(FromEvoM!E392),FromEvoM!E392,\"\")","v":""},{"$f":"IF(ISBLANK(FromEvoM!I392),\"\",FromEvoM!I392)","v":""},{"$f":"IF(ISBLANK(FromEvoM!J392),\"\",FromEvoM!J392)","v":""},{"$f":"IF(ISBLANK(FromEvoM!K392),\"\",FromEvoM!K392)","v":""},{"$f":"IF(ISBLANK(FromEvoM!L392),\"\",FromEvoM!L392)","v":""},{"$f":"IF(ISBLANK(FromEvoM!M392),\"\",FromEvoM!M392)","v":""},{"$f":"IF(ISBLANK(FromEvoM!P392),\"\",FromEvoM!P392)","v":""},null,{"$f":"IF(ISNUMBER(FromEvoM!X392),FromEvoM!X392,\"\")","v":""},{"$f":"IF(ISNUMBER(FromEvoM!AB392),FromEvoM!AB392,\"\")","v":""},{"$f":"IF(ISNUMBER(FromEvoM!AA392),FromEvoM!AA392,\"\")","v":""},null,"","",null,null,{"$f":"IF(FromEvoM!W392=1,(FromEvoM!AB392*12),IF(FromEvoM!W392=7,(FromEvoM!AR392),\"\"))","v":""},null,null,{"$f":"IF(ISBLANK(FromEvoM!A392),\"\",IF(FromEvoM!AK392=\"y\",\"Y\",\"N\"))","v":""},{"$f":"IF(ISBLANK(FromEvoM!A392),\"\",Category_ID)","v":""},null,null,null,{"$f":"IF(ISBLANK(FromEvoM!AK392),\"\",FromEvoM!AK392)","v":""},{"$f":"IF(ISBLANK(FromEvoM!AM392),\"\",FromEvoM!AM392)","v":""},{"$f":"IF(ISBLANK(FromEvoM!AN392),\"\",FromEvoM!AN392)","v":""},{"$f":"IF(ISBLANK(FromEvoM!AL392),\"\",FromEvoM!AL392)","v":""},{"$f":"IF(ISBLANK(FromEvoM!A392),\"\",IF(AND(AF392=\"y\",AI392=1),\"Y\",\"N\"))","v":""},{"$f":"IF(ISBLANK(FromEvoM!A392),\"\",IF(FromEvoM!AS392=\"Yes\",2,1))","v":""},{"$f":"IF(FromEvoM!W392=1,\"M\",IF(FromEvoM!W392=7,\"W\",\"\"))","v":""},{"$f":"IF(AJ392=\"Y\",0,IF(AJ392=\"N\",FromEvoM!AF392+FromEvoM!AT392,\"\"))","v":""},{"$f":"IF(AJ392=\"Y\",(FromEvoM!AE392+FromEvoM!AF392-FromEvoM!AT392),IF(AJ392=\"N\",FromEvoM!AE392,\"\"))","v":""}]
[{"$f":"IF(ISBLANK(FromEvoM!A393),\"\",Group_Code)","v":""},{"$f":"IF(ISBLANK(FromEvoM!A393),\"\",SUBSTITUTE(FromEvoM!A393,\" \",\"\"))","v":""},{"$f":"IF(ISBLANK(FromEvoM!C393),\"\",SUBSTITUTE(FromEvoM!G393,\" \",\"\"))","v":""},{"$f":"IF(ISBLANK(FromEvoM!D393),\"\",FromEvoM!B393)","v":""},{"$f":"IF(ISBLANK(FromEvoM!D393),\"\",FromEvoM!D393)","v":""},{"$f":"IF(ISBLANK(FromEvoM!C393),\"\",FromEvoM!C393)","v":""},{"$f":"REPLACE(FromEvoM!F393,2,6, )","v":""},{"$f":"IF(ISNUMBER(FromEvoM!E393),FromEvoM!E393,\"\")","v":""},{"$f":"IF(ISBLANK(FromEvoM!I393),\"\",FromEvoM!I393)","v":""},{"$f":"IF(ISBLANK(FromEvoM!J393),\"\",FromEvoM!J393)","v":""},{"$f":"IF(ISBLANK(FromEvoM!K393),\"\",FromEvoM!K393)","v":""},{"$f":"IF(ISBLANK(FromEvoM!L393),\"\",FromEvoM!L393)","v":""},{"$f":"IF(ISBLANK(FromEvoM!M393),\"\",FromEvoM!M393)","v":""},{"$f":"IF(ISBLANK(FromEvoM!P393),\"\",FromEvoM!P393)","v":""},null,{"$f":"IF(ISNUMBER(FromEvoM!X393),FromEvoM!X393,\"\")","v":""},{"$f":"IF(ISNUMBER(FromEvoM!AB393),FromEvoM!AB393,\"\")","v":""},{"$f":"IF(ISNUMBER(FromEvoM!AA393),FromEvoM!AA393,\"\")","v":""},null,"","",null,null,{"$f":"IF(FromEvoM!W393=1,(FromEvoM!AB393*12),IF(FromEvoM!W393=7,(FromEvoM!AR393),\"\"))","v":""},null,null,{"$f":"IF(ISBLANK(FromEvoM!A393),\"\",IF(FromEvoM!AK393=\"y\",\"Y\",\"N\"))","v":""},{"$f":"IF(ISBLANK(FromEvoM!A393),\"\",Category_ID)","v":""},null,null,null,{"$f":"IF(ISBLANK(FromEvoM!AK393),\"\",FromEvoM!AK393)","v":""},{"$f":"IF(ISBLANK(FromEvoM!AM393),\"\",FromEvoM!AM393)","v":""},{"$f":"IF(ISBLANK(FromEvoM!AN393),\"\",FromEvoM!AN393)","v":""},{"$f":"IF(ISBLANK(FromEvoM!AL393),\"\",FromEvoM!AL393)","v":""},{"$f":"IF(ISBLANK(FromEvoM!A393),\"\",IF(AND(AF393=\"y\",AI393=1),\"Y\",\"N\"))","v":""},{"$f":"IF(ISBLANK(FromEvoM!A393),\"\",IF(FromEvoM!AS393=\"Yes\",2,1))","v":""},{"$f":"IF(FromEvoM!W393=1,\"M\",IF(FromEvoM!W393=7,\"W\",\"\"))","v":""},{"$f":"IF(AJ393=\"Y\",0,IF(AJ393=\"N\",FromEvoM!AF393+FromEvoM!AT393,\"\"))","v":""},{"$f":"IF(AJ393=\"Y\",(FromEvoM!AE393+FromEvoM!AF393-FromEvoM!AT393),IF(AJ393=\"N\",FromEvoM!AE393,\"\"))","v":""}]
[{"$f":"IF(ISBLANK(FromEvoM!A394),\"\",Group_Code)","v":""},{"$f":"IF(ISBLANK(FromEvoM!A394),\"\",SUBSTITUTE(FromEvoM!A394,\" \",\"\"))","v":""},{"$f":"IF(ISBLANK(FromEvoM!C394),\"\",SUBSTITUTE(FromEvoM!G394,\" \",\"\"))","v":""},{"$f":"IF(ISBLANK(FromEvoM!D394),\"\",FromEvoM!B394)","v":""},{"$f":"IF(ISBLANK(FromEvoM!D394),\"\",FromEvoM!D394)","v":""},{"$f":"IF(ISBLANK(FromEvoM!C394),\"\",FromEvoM!C394)","v":""},{"$f":"REPLACE(FromEvoM!F394,2,6, )","v":""},{"$f":"IF(ISNUMBER(FromEvoM!E394),FromEvoM!E394,\"\")","v":""},{"$f":"IF(ISBLANK(FromEvoM!I394),\"\",FromEvoM!I394)","v":""},{"$f":"IF(ISBLANK(FromEvoM!J394),\"\",FromEvoM!J394)","v":""},{"$f":"IF(ISBLANK(FromEvoM!K394),\"\",FromEvoM!K394)","v":""},{"$f":"IF(ISBLANK(FromEvoM!L394),\"\",FromEvoM!L394)","v":""},{"$f":"IF(ISBLANK(FromEvoM!M394),\"\",FromEvoM!M394)","v":""},{"$f":"IF(ISBLANK(FromEvoM!P394),\"\",FromEvoM!P394)","v":""},null,{"$f":"IF(ISNUMBER(FromEvoM!X394),FromEvoM!X394,\"\")","v":""},{"$f":"IF(ISNUMBER(FromEvoM!AB394),FromEvoM!AB394,\"\")","v":""},{"$f":"IF(ISNUMBER(FromEvoM!AA394),FromEvoM!AA394,\"\")","v":""},null,"","",null,null,{"$f":"IF(FromEvoM!W394=1,(FromEvoM!AB394*12),IF(FromEvoM!W394=7,(FromEvoM!AR394),\"\"))","v":""},null,null,{"$f":"IF(ISBLANK(FromEvoM!A394),\"\",IF(FromEvoM!AK394=\"y\",\"Y\",\"N\"))","v":""},{"$f":"IF(ISBLANK(FromEvoM!A394),\"\",Category_ID)","v":""},null,null,null,{"$f":"IF(ISBLANK(FromEvoM!AK394),\"\",FromEvoM!AK394)","v":""},{"$f":"IF(ISBLANK(FromEvoM!AM394),\"\",FromEvoM!AM394)","v":""},{"$f":"IF(ISBLANK(FromEvoM!AN394),\"\",FromEvoM!AN394)","v":""},{"$f":"IF(ISBLANK(FromEvoM!AL394),\"\",FromEvoM!AL394)","v":""},{"$f":"IF(ISBLANK(FromEvoM!A394),\"\",IF(AND(AF394=\"y\",AI394=1),\"Y\",\"N\"))","v":""},{"$f":"IF(ISBLANK(FromEvoM!A394),\"\",IF(FromEvoM!AS394=\"Yes\",2,1))","v":""},{"$f":"IF(FromEvoM!W394=1,\"M\",IF(FromEvoM!W394=7,\"W\",\"\"))","v":""},{"$f":"IF(AJ394=\"Y\",0,IF(AJ394=\"N\",FromEvoM!AF394+FromEvoM!AT394,\"\"))","v":""},{"$f":"IF(AJ394=\"Y\",(FromEvoM!AE394+FromEvoM!AF394-FromEvoM!AT394),IF(AJ394=\"N\",FromEvoM!AE394,\"\"))","v":""}]
[{"$f":"IF(ISBLANK(FromEvoM!A395),\"\",Group_Code)","v":""},{"$f":"IF(ISBLANK(FromEvoM!A395),\"\",SUBSTITUTE(FromEvoM!A395,\" \",\"\"))","v":""},{"$f":"IF(ISBLANK(FromEvoM!C395),\"\",SUBSTITUTE(FromEvoM!G395,\" \",\"\"))","v":""},{"$f":"IF(ISBLANK(FromEvoM!D395),\"\",FromEvoM!B395)","v":""},{"$f":"IF(ISBLANK(FromEvoM!D395),\"\",FromEvoM!D395)","v":""},{"$f":"IF(ISBLANK(FromEvoM!C395),\"\",FromEvoM!C395)","v":""},{"$f":"REPLACE(FromEvoM!F395,2,6, )","v":""},{"$f":"IF(ISNUMBER(FromEvoM!E395),FromEvoM!E395,\"\")","v":""},{"$f":"IF(ISBLANK(FromEvoM!I395),\"\",FromEvoM!I395)","v":""},{"$f":"IF(ISBLANK(FromEvoM!J395),\"\",FromEvoM!J395)","v":""},{"$f":"IF(ISBLANK(FromEvoM!K395),\"\",FromEvoM!K395)","v":""},{"$f":"IF(ISBLANK(FromEvoM!L395),\"\",FromEvoM!L395)","v":""},{"$f":"IF(ISBLANK(FromEvoM!M395),\"\",FromEvoM!M395)","v":""},{"$f":"IF(ISBLANK(FromEvoM!P395),\"\",FromEvoM!P395)","v":""},null,{"$f":"IF(ISNUMBER(FromEvoM!X395),FromEvoM!X395,\"\")","v":""},{"$f":"IF(ISNUMBER(FromEvoM!AB395),FromEvoM!AB395,\"\")","v":""},{"$f":"IF(ISNUMBER(FromEvoM!AA395),FromEvoM!AA395,\"\")","v":""},null,"","",null,null,{"$f":"IF(FromEvoM!W395=1,(FromEvoM!AB395*12),IF(FromEvoM!W395=7,(FromEvoM!AR395),\"\"))","v":""},null,null,{"$f":"IF(ISBLANK(FromEvoM!A395),\"\",IF(FromEvoM!AK395=\"y\",\"Y\",\"N\"))","v":""},{"$f":"IF(ISBLANK(FromEvoM!A395),\"\",Category_ID)","v":""},null,null,null,{"$f":"IF(ISBLANK(FromEvoM!AK395),\"\",FromEvoM!AK395)","v":""},{"$f":"IF(ISBLANK(FromEvoM!AM395),\"\",FromEvoM!AM395)","v":""},{"$f":"IF(ISBLANK(FromEvoM!AN395),\"\",FromEvoM!AN395)","v":""},{"$f":"IF(ISBLANK(FromEvoM!AL395),\"\",FromEvoM!AL395)","v":""},{"$f":"IF(ISBLANK(FromEvoM!A395),\"\",IF(AND(AF395=\"y\",AI395=1),\"Y\",\"N\"))","v":""},{"$f":"IF(ISBLANK(FromEvoM!A395),\"\",IF(FromEvoM!AS395=\"Yes\",2,1))","v":""},{"$f":"IF(FromEvoM!W395=1,\"M\",IF(FromEvoM!W395=7,\"W\",\"\"))","v":""},{"$f":"IF(AJ395=\"Y\",0,IF(AJ395=\"N\",FromEvoM!AF395+FromEvoM!AT395,\"\"))","v":""},{"$f":"IF(AJ395=\"Y\",(FromEvoM!AE395+FromEvoM!AF395-FromEvoM!AT395),IF(AJ395=\"N\",FromEvoM!AE395,\"\"))","v":""}]
[{"$f":"IF(ISBLANK(FromEvoM!A396),\"\",Group_Code)","v":""},{"$f":"IF(ISBLANK(FromEvoM!A396),\"\",SUBSTITUTE(FromEvoM!A396,\" \",\"\"))","v":""},{"$f":"IF(ISBLANK(FromEvoM!C396),\"\",SUBSTITUTE(FromEvoM!G396,\" \",\"\"))","v":""},{"$f":"IF(ISBLANK(FromEvoM!D396),\"\",FromEvoM!B396)","v":""},{"$f":"IF(ISBLANK(FromEvoM!D396),\"\",FromEvoM!D396)","v":""},{"$f":"IF(ISBLANK(FromEvoM!C396),\"\",FromEvoM!C396)","v":""},{"$f":"REPLACE(FromEvoM!F396,2,6, )","v":""},{"$f":"IF(ISNUMBER(FromEvoM!E396),FromEvoM!E396,\"\")","v":""},{"$f":"IF(ISBLANK(FromEvoM!I396),\"\",FromEvoM!I396)","v":""},{"$f":"IF(ISBLANK(FromEvoM!J396),\"\",FromEvoM!J396)","v":""},{"$f":"IF(ISBLANK(FromEvoM!K396),\"\",FromEvoM!K396)","v":""},{"$f":"IF(ISBLANK(FromEvoM!L396),\"\",FromEvoM!L396)","v":""},{"$f":"IF(ISBLANK(FromEvoM!M396),\"\",FromEvoM!M396)","v":""},{"$f":"IF(ISBLANK(FromEvoM!P396),\"\",FromEvoM!P396)","v":""},null,{"$f":"IF(ISNUMBER(FromEvoM!X396),FromEvoM!X396,\"\")","v":""},{"$f":"IF(ISNUMBER(FromEvoM!AB396),FromEvoM!AB396,\"\")","v":""},{"$f":"IF(ISNUMBER(FromEvoM!AA396),FromEvoM!AA396,\"\")","v":""},null,"","",null,null,{"$f":"IF(FromEvoM!W396=1,(FromEvoM!AB396*12),IF(FromEvoM!W396=7,(FromEvoM!AR396),\"\"))","v":""},null,null,{"$f":"IF(ISBLANK(FromEvoM!A396),\"\",IF(FromEvoM!AK396=\"y\",\"Y\",\"N\"))","v":""},{"$f":"IF(ISBLANK(FromEvoM!A396),\"\",Category_ID)","v":""},null,null,null,{"$f":"IF(ISBLANK(FromEvoM!AK396),\"\",FromEvoM!AK396)","v":""},{"$f":"IF(ISBLANK(FromEvoM!AM396),\"\",FromEvoM!AM396)","v":""},{"$f":"IF(ISBLANK(FromEvoM!AN396),\"\",FromEvoM!AN396)","v":""},{"$f":"IF(ISBLANK(FromEvoM!AL396),\"\",FromEvoM!AL396)","v":""},{"$f":"IF(ISBLANK(FromEvoM!A396),\"\",IF(AND(AF396=\"y\",AI396=1),\"Y\",\"N\"))","v":""},{"$f":"IF(ISBLANK(FromEvoM!A396),\"\",IF(FromEvoM!AS396=\"Yes\",2,1))","v":""},{"$f":"IF(FromEvoM!W396=1,\"M\",IF(FromEvoM!W396=7,\"W\",\"\"))","v":""},{"$f":"IF(AJ396=\"Y\",0,IF(AJ396=\"N\",FromEvoM!AF396+FromEvoM!AT396,\"\"))","v":""},{"$f":"IF(AJ396=\"Y\",(FromEvoM!AE396+FromEvoM!AF396-FromEvoM!AT396),IF(AJ396=\"N\",FromEvoM!AE396,\"\"))","v":""}]
[{"$f":"IF(ISBLANK(FromEvoM!A397),\"\",Group_Code)","v":""},{"$f":"IF(ISBLANK(FromEvoM!A397),\"\",SUBSTITUTE(FromEvoM!A397,\" \",\"\"))","v":""},{"$f":"IF(ISBLANK(FromEvoM!C397),\"\",SUBSTITUTE(FromEvoM!G397,\" \",\"\"))","v":""},{"$f":"IF(ISBLANK(FromEvoM!D397),\"\",FromEvoM!B397)","v":""},{"$f":"IF(ISBLANK(FromEvoM!D397),\"\",FromEvoM!D397)","v":""},{"$f":"IF(ISBLANK(FromEvoM!C397),\"\",FromEvoM!C397)","v":""},{"$f":"REPLACE(FromEvoM!F397,2,6, )","v":""},{"$f":"IF(ISNUMBER(FromEvoM!E397),FromEvoM!E397,\"\")","v":""},{"$f":"IF(ISBLANK(FromEvoM!I397),\"\",FromEvoM!I397)","v":""},{"$f":"IF(ISBLANK(FromEvoM!J397),\"\",FromEvoM!J397)","v":""},{"$f":"IF(ISBLANK(FromEvoM!K397),\"\",FromEvoM!K397)","v":""},{"$f":"IF(ISBLANK(FromEvoM!L397),\"\",FromEvoM!L397)","v":""},{"$f":"IF(ISBLANK(FromEvoM!M397),\"\",FromEvoM!M397)","v":""},{"$f":"IF(ISBLANK(FromEvoM!P397),\"\",FromEvoM!P397)","v":""},null,{"$f":"IF(ISNUMBER(FromEvoM!X397),FromEvoM!X397,\"\")","v":""},{"$f":"IF(ISNUMBER(FromEvoM!AB397),FromEvoM!AB397,\"\")","v":""},{"$f":"IF(ISNUMBER(FromEvoM!AA397),FromEvoM!AA397,\"\")","v":""},null,"","",null,null,{"$f":"IF(FromEvoM!W397=1,(FromEvoM!AB397*12),IF(FromEvoM!W397=7,(FromEvoM!AR397),\"\"))","v":""},null,null,{"$f":"IF(ISBLANK(FromEvoM!A397),\"\",IF(FromEvoM!AK397=\"y\",\"Y\",\"N\"))","v":""},{"$f":"IF(ISBLANK(FromEvoM!A397),\"\",Category_ID)","v":""},null,null,null,{"$f":"IF(ISBLANK(FromEvoM!AK397),\"\",FromEvoM!AK397)","v":""},{"$f":"IF(ISBLANK(FromEvoM!AM397),\"\",FromEvoM!AM397)","v":""},{"$f":"IF(ISBLANK(FromEvoM!AN397),\"\",FromEvoM!AN397)","v":""},{"$f":"IF(ISBLANK(FromEvoM!AL397),\"\",FromEvoM!AL397)","v":""},{"$f":"IF(ISBLANK(FromEvoM!A397),\"\",IF(AND(AF397=\"y\",AI397=1),\"Y\",\"N\"))","v":""},{"$f":"IF(ISBLANK(FromEvoM!A397),\"\",IF(FromEvoM!AS397=\"Yes\",2,1))","v":""},{"$f":"IF(FromEvoM!W397=1,\"M\",IF(FromEvoM!W397=7,\"W\",\"\"))","v":""},{"$f":"IF(AJ397=\"Y\",0,IF(AJ397=\"N\",FromEvoM!AF397+FromEvoM!AT397,\"\"))","v":""},{"$f":"IF(AJ397=\"Y\",(FromEvoM!AE397+FromEvoM!AF397-FromEvoM!AT397),IF(AJ397=\"N\",FromEvoM!AE397,\"\"))","v":""}]
[{"$f":"IF(ISBLANK(FromEvoM!A398),\"\",Group_Code)","v":""},{"$f":"IF(ISBLANK(FromEvoM!A398),\"\",SUBSTITUTE(FromEvoM!A398,\" \",\"\"))","v":""},{"$f":"IF(ISBLANK(FromEvoM!C398),\"\",SUBSTITUTE(FromEvoM!G398,\" \",\"\"))","v":""},{"$f":"IF(ISBLANK(FromEvoM!D398),\"\",FromEvoM!B398)","v":""},{"$f":"IF(ISBLANK(FromEvoM!D398),\"\",FromEvoM!D398)","v":""},{"$f":"IF(ISBLANK(FromEvoM!C398),\"\",FromEvoM!C398)","v":""},{"$f":"REPLACE(FromEvoM!F398,2,6, )","v":""},{"$f":"IF(ISNUMBER(FromEvoM!E398),FromEvoM!E398,\"\")","v":""},{"$f":"IF(ISBLANK(FromEvoM!I398),\"\",FromEvoM!I398)","v":""},{"$f":"IF(ISBLANK(FromEvoM!J398),\"\",FromEvoM!J398)","v":""},{"$f":"IF(ISBLANK(FromEvoM!K398),\"\",FromEvoM!K398)","v":""},{"$f":"IF(ISBLANK(FromEvoM!L398),\"\",FromEvoM!L398)","v":""},{"$f":"IF(ISBLANK(FromEvoM!M398),\"\",FromEvoM!M398)","v":""},{"$f":"IF(ISBLANK(FromEvoM!P398),\"\",FromEvoM!P398)","v":""},null,{"$f":"IF(ISNUMBER(FromEvoM!X398),FromEvoM!X398,\"\")","v":""},{"$f":"IF(ISNUMBER(FromEvoM!AB398),FromEvoM!AB398,\"\")","v":""},{"$f":"IF(ISNUMBER(FromEvoM!AA398),FromEvoM!AA398,\"\")","v":""},null,"","",null,null,{"$f":"IF(FromEvoM!W398=1,(FromEvoM!AB398*12),IF(FromEvoM!W398=7,(FromEvoM!AR398),\"\"))","v":""},null,null,{"$f":"IF(ISBLANK(FromEvoM!A398),\"\",IF(FromEvoM!AK398=\"y\",\"Y\",\"N\"))","v":""},{"$f":"IF(ISBLANK(FromEvoM!A398),\"\",Category_ID)","v":""},null,null,null,{"$f":"IF(ISBLANK(FromEvoM!AK398),\"\",FromEvoM!AK398)","v":""},{"$f":"IF(ISBLANK(FromEvoM!AM398),\"\",FromEvoM!AM398)","v":""},{"$f":"IF(ISBLANK(FromEvoM!AN398),\"\",FromEvoM!AN398)","v":""},{"$f":"IF(ISBLANK(FromEvoM!AL398),\"\",FromEvoM!AL398)","v":""},{"$f":"IF(ISBLANK(FromEvoM!A398),\"\",IF(AND(AF398=\"y\",AI398=1),\"Y\",\"N\"))","v":""},{"$f":"IF(ISBLANK(FromEvoM!A398),\"\",IF(FromEvoM!AS398=\"Yes\",2,1))","v":""},{"$f":"IF(FromEvoM!W398=1,\"M\",IF(FromEvoM!W398=7,\"W\",\"\"))","v":""},{"$f":"IF(AJ398=\"Y\",0,IF(AJ398=\"N\",FromEvoM!AF398+FromEvoM!AT398,\"\"))","v":""},{"$f":"IF(AJ398=\"Y\",(FromEvoM!AE398+FromEvoM!AF398-FromEvoM!AT398),IF(AJ398=\"N\",FromEvoM!AE398,\"\"))","v":""}]
[{"$f":"IF(ISBLANK(FromEvoM!A399),\"\",Group_Code)","v":""},{"$f":"IF(ISBLANK(FromEvoM!A399),\"\",SUBSTITUTE(FromEvoM!A399,\" \",\"\"))","v":""},{"$f":"IF(ISBLANK(FromEvoM!C399),\"\",SUBSTITUTE(FromEvoM!G399,\" \",\"\"))","v":""},{"$f":"IF(ISBLANK(FromEvoM!D399),\"\",FromEvoM!B399)","v":""},{"$f":"IF(ISBLANK(FromEvoM!D399),\"\",FromEvoM!D399)","v":""},{"$f":"IF(ISBLANK(FromEvoM!C399),\"\",FromEvoM!C399)","v":""},{"$f":"REPLACE(FromEvoM!F399,2,6, )","v":""},{"$f":"IF(ISNUMBER(FromEvoM!E399),FromEvoM!E399,\"\")","v":""},{"$f":"IF(ISBLANK(FromEvoM!I399),\"\",FromEvoM!I399)","v":""},{"$f":"IF(ISBLANK(FromEvoM!J399),\"\",FromEvoM!J399)","v":""},{"$f":"IF(ISBLANK(FromEvoM!K399),\"\",FromEvoM!K399)","v":""},{"$f":"IF(ISBLANK(FromEvoM!L399),\"\",FromEvoM!L399)","v":""},{"$f":"IF(ISBLANK(FromEvoM!M399),\"\",FromEvoM!M399)","v":""},{"$f":"IF(ISBLANK(FromEvoM!P399),\"\",FromEvoM!P399)","v":""},null,{"$f":"IF(ISNUMBER(FromEvoM!X399),FromEvoM!X399,\"\")","v":""},{"$f":"IF(ISNUMBER(FromEvoM!AB399),FromEvoM!AB399,\"\")","v":""},{"$f":"IF(ISNUMBER(FromEvoM!AA399),FromEvoM!AA399,\"\")","v":""},null,"","",null,null,{"$f":"IF(FromEvoM!W399=1,(FromEvoM!AB399*12),IF(FromEvoM!W399=7,(FromEvoM!AR399),\"\"))","v":""},null,null,{"$f":"IF(ISBLANK(FromEvoM!A399),\"\",IF(FromEvoM!AK399=\"y\",\"Y\",\"N\"))","v":""},{"$f":"IF(ISBLANK(FromEvoM!A399),\"\",Category_ID)","v":""},null,null,null,{"$f":"IF(ISBLANK(FromEvoM!AK399),\"\",FromEvoM!AK399)","v":""},{"$f":"IF(ISBLANK(FromEvoM!AM399),\"\",FromEvoM!AM399)","v":""},{"$f":"IF(ISBLANK(FromEvoM!AN399),\"\",FromEvoM!AN399)","v":""},{"$f":"IF(ISBLANK(FromEvoM!AL399),\"\",FromEvoM!AL399)","v":""},{"$f":"IF(ISBLANK(FromEvoM!A399),\"\",IF(AND(AF399=\"y\",AI399=1),\"Y\",\"N\"))","v":""},{"$f":"IF(ISBLANK(FromEvoM!A399),\"\",IF(FromEvoM!AS399=\"Yes\",2,1))","v":""},{"$f":"IF(FromEvoM!W399=1,\"M\",IF(FromEvoM!W399=7,\"W\",\"\"))","v":""},{"$f":"IF(AJ399=\"Y\",0,IF(AJ399=\"N\",FromEvoM!AF399+FromEvoM!AT399,\"\"))","v":""},{"$f":"IF(AJ399=\"Y\",(FromEvoM!AE399+FromEvoM!AF399-FromEvoM!AT399),IF(AJ399=\"N\",FromEvoM!AE399,\"\"))","v":""}]
[{"$f":"IF(ISBLANK(FromEvoM!A400),\"\",Group_Code)","v":""},{"$f":"IF(ISBLANK(FromEvoM!A400),\"\",SUBSTITUTE(FromEvoM!A400,\" \",\"\"))","v":""},{"$f":"IF(ISBLANK(FromEvoM!C400),\"\",SUBSTITUTE(FromEvoM!G400,\" \",\"\"))","v":""},{"$f":"IF(ISBLANK(FromEvoM!D400),\"\",FromEvoM!B400)","v":""},{"$f":"IF(ISBLANK(FromEvoM!D400),\"\",FromEvoM!D400)","v":""},{"$f":"IF(ISBLANK(FromEvoM!C400),\"\",FromEvoM!C400)","v":""},{"$f":"REPLACE(FromEvoM!F400,2,6, )","v":""},{"$f":"IF(ISNUMBER(FromEvoM!E400),FromEvoM!E400,\"\")","v":""},{"$f":"IF(ISBLANK(FromEvoM!I400),\"\",FromEvoM!I400)","v":""},{"$f":"IF(ISBLANK(FromEvoM!J400),\"\",FromEvoM!J400)","v":""},{"$f":"IF(ISBLANK(FromEvoM!K400),\"\",FromEvoM!K400)","v":""},{"$f":"IF(ISBLANK(FromEvoM!L400),\"\",FromEvoM!L400)","v":""},{"$f":"IF(ISBLANK(FromEvoM!M400),\"\",FromEvoM!M400)","v":""},{"$f":"IF(ISBLANK(FromEvoM!P400),\"\",FromEvoM!P400)","v":""},null,{"$f":"IF(ISNUMBER(FromEvoM!X400),FromEvoM!X400,\"\")","v":""},{"$f":"IF(ISNUMBER(FromEvoM!AB400),FromEvoM!AB400,\"\")","v":""},{"$f":"IF(ISNUMBER(FromEvoM!AA400),FromEvoM!AA400,\"\")","v":""},null,"","",null,null,{"$f":"IF(FromEvoM!W400=1,(FromEvoM!AB400*12),IF(FromEvoM!W400=7,(FromEvoM!AR400),\"\"))","v":""},null,null,{"$f":"IF(ISBLANK(FromEvoM!A400),\"\",IF(FromEvoM!AK400=\"y\",\"Y\",\"N\"))","v":""},{"$f":"IF(ISBLANK(FromEvoM!A400),\"\",Category_ID)","v":""},null,null,null,{"$f":"IF(ISBLANK(FromEvoM!AK400),\"\",FromEvoM!AK400)","v":""},{"$f":"IF(ISBLANK(FromEvoM!AM400),\"\",FromEvoM!AM400)","v":""},{"$f":"IF(ISBLANK(FromEvoM!AN400),\"\",FromEvoM!AN400)","v":""},{"$f":"IF(ISBLANK(FromEvoM!AL400),\"\",FromEvoM!AL400)","v":""},{"$f":"IF(ISBLANK(FromEvoM!A400),\"\",IF(AND(AF400=\"y\",AI400=1),\"Y\",\"N\"))","v":""},{"$f":"IF(ISBLANK(FromEvoM!A400),\"\",IF(FromEvoM!AS400=\"Yes\",2,1))","v":""},{"$f":"IF(FromEvoM!W400=1,\"M\",IF(FromEvoM!W400=7,\"W\",\"\"))","v":""},{"$f":"IF(AJ400=\"Y\",0,IF(AJ400=\"N\",FromEvoM!AF400+FromEvoM!AT400,\"\"))","v":""},{"$f":"IF(AJ400=\"Y\",(FromEvoM!AE400+FromEvoM!AF400-FromEvoM!AT400),IF(AJ400=\"N\",FromEvoM!AE400,\"\"))","v":""}]
[{"$f":"IF(ISBLANK(FromEvoM!A401),\"\",Group_Code)","v":""},{"$f":"IF(ISBLANK(FromEvoM!A401),\"\",SUBSTITUTE(FromEvoM!A401,\" \",\"\"))","v":""},{"$f":"IF(ISBLANK(FromEvoM!C401),\"\",SUBSTITUTE(FromEvoM!G401,\" \",\"\"))","v":""},{"$f":"IF(ISBLANK(FromEvoM!D401),\"\",FromEvoM!B401)","v":""},{"$f":"IF(ISBLANK(FromEvoM!D401),\"\",FromEvoM!D401)","v":""},{"$f":"IF(ISBLANK(FromEvoM!C401),\"\",FromEvoM!C401)","v":""},{"$f":"REPLACE(FromEvoM!F401,2,6, )","v":""},{"$f":"IF(ISNUMBER(FromEvoM!E401),FromEvoM!E401,\"\")","v":""},{"$f":"IF(ISBLANK(FromEvoM!I401),\"\",FromEvoM!I401)","v":""},{"$f":"IF(ISBLANK(FromEvoM!J401),\"\",FromEvoM!J401)","v":""},{"$f":"IF(ISBLANK(FromEvoM!K401),\"\",FromEvoM!K401)","v":""},{"$f":"IF(ISBLANK(FromEvoM!L401),\"\",FromEvoM!L401)","v":""},{"$f":"IF(ISBLANK(FromEvoM!M401),\"\",FromEvoM!M401)","v":""},{"$f":"IF(ISBLANK(FromEvoM!P401),\"\",FromEvoM!P401)","v":""},null,{"$f":"IF(ISNUMBER(FromEvoM!X401),FromEvoM!X401,\"\")","v":""},{"$f":"IF(ISNUMBER(FromEvoM!AB401),FromEvoM!AB401,\"\")","v":""},{"$f":"IF(ISNUMBER(FromEvoM!AA401),FromEvoM!AA401,\"\")","v":""},null,"","",null,null,{"$f":"IF(FromEvoM!W401=1,(FromEvoM!AB401*12),IF(FromEvoM!W401=7,(FromEvoM!AR401),\"\"))","v":""},null,null,{"$f":"IF(ISBLANK(FromEvoM!A401),\"\",IF(FromEvoM!AK401=\"y\",\"Y\",\"N\"))","v":""},{"$f":"IF(ISBLANK(FromEvoM!A401),\"\",Category_ID)","v":""},null,null,null,{"$f":"IF(ISBLANK(FromEvoM!AK401),\"\",FromEvoM!AK401)","v":""},{"$f":"IF(ISBLANK(FromEvoM!AM401),\"\",FromEvoM!AM401)","v":""},{"$f":"IF(ISBLANK(FromEvoM!AN401),\"\",FromEvoM!AN401)","v":""},{"$f":"IF(ISBLANK(FromEvoM!AL401),\"\",FromEvoM!AL401)","v":""},{"$f":"IF(ISBLANK(FromEvoM!A401),\"\",IF(AND(AF401=\"y\",AI401=1),\"Y\",\"N\"))","v":""},{"$f":"IF(ISBLANK(FromEvoM!A401),\"\",IF(FromEvoM!AS401=\"Yes\",2,1))","v":""},{"$f":"IF(FromEvoM!W401=1,\"M\",IF(FromEvoM!W401=7,\"W\",\"\"))","v":""},{"$f":"IF(AJ401=\"Y\",0,IF(AJ401=\"N\",FromEvoM!AF401+FromEvoM!AT401,\"\"))","v":""},{"$f":"IF(AJ401=\"Y\",(FromEvoM!AE401+FromEvoM!AF401-FromEvoM!AT401),IF(AJ401=\"N\",FromEvoM!AE401,\"\"))","v":""}]
[{"$f":"IF(ISBLANK(FromEvoM!A402),\"\",Group_Code)","v":""},{"$f":"IF(ISBLANK(FromEvoM!A402),\"\",SUBSTITUTE(FromEvoM!A402,\" \",\"\"))","v":""},{"$f":"IF(ISBLANK(FromEvoM!C402),\"\",SUBSTITUTE(FromEvoM!G402,\" \",\"\"))","v":""},{"$f":"IF(ISBLANK(FromEvoM!D402),\"\",FromEvoM!B402)","v":""},{"$f":"IF(ISBLANK(FromEvoM!D402),\"\",FromEvoM!D402)","v":""},{"$f":"IF(ISBLANK(FromEvoM!C402),\"\",FromEvoM!C402)","v":""},{"$f":"REPLACE(FromEvoM!F402,2,6, )","v":""},{"$f":"IF(ISNUMBER(FromEvoM!E402),FromEvoM!E402,\"\")","v":""},{"$f":"IF(ISBLANK(FromEvoM!I402),\"\",FromEvoM!I402)","v":""},{"$f":"IF(ISBLANK(FromEvoM!J402),\"\",FromEvoM!J402)","v":""},{"$f":"IF(ISBLANK(FromEvoM!K402),\"\",FromEvoM!K402)","v":""},{"$f":"IF(ISBLANK(FromEvoM!L402),\"\",FromEvoM!L402)","v":""},{"$f":"IF(ISBLANK(FromEvoM!M402),\"\",FromEvoM!M402)","v":""},{"$f":"IF(ISBLANK(FromEvoM!P402),\"\",FromEvoM!P402)","v":""},null,{"$f":"IF(ISNUMBER(FromEvoM!X402),FromEvoM!X402,\"\")","v":""},{"$f":"IF(ISNUMBER(FromEvoM!AB402),FromEvoM!AB402,\"\")","v":""},{"$f":"IF(ISNUMBER(FromEvoM!AA402),FromEvoM!AA402,\"\")","v":""},null,"","",null,null,{"$f":"IF(FromEvoM!W402=1,(FromEvoM!AB402*12),IF(FromEvoM!W402=7,(FromEvoM!AR402),\"\"))","v":""},null,null,{"$f":"IF(ISBLANK(FromEvoM!A402),\"\",IF(FromEvoM!AK402=\"y\",\"Y\",\"N\"))","v":""},{"$f":"IF(ISBLANK(FromEvoM!A402),\"\",Category_ID)","v":""},null,null,null,{"$f":"IF(ISBLANK(FromEvoM!AK402),\"\",FromEvoM!AK402)","v":""},{"$f":"IF(ISBLANK(FromEvoM!AM402),\"\",FromEvoM!AM402)","v":""},{"$f":"IF(ISBLANK(FromEvoM!AN402),\"\",FromEvoM!AN402)","v":""},{"$f":"IF(ISBLANK(FromEvoM!AL402),\"\",FromEvoM!AL402)","v":""},{"$f":"IF(ISBLANK(FromEvoM!A402),\"\",IF(AND(AF402=\"y\",AI402=1),\"Y\",\"N\"))","v":""},{"$f":"IF(ISBLANK(FromEvoM!A402),\"\",IF(FromEvoM!AS402=\"Yes\",2,1))","v":""},{"$f":"IF(FromEvoM!W402=1,\"M\",IF(FromEvoM!W402=7,\"W\",\"\"))","v":""},{"$f":"IF(AJ402=\"Y\",0,IF(AJ402=\"N\",FromEvoM!AF402+FromEvoM!AT402,\"\"))","v":""},{"$f":"IF(AJ402=\"Y\",(FromEvoM!AE402+FromEvoM!AF402-FromEvoM!AT402),IF(AJ402=\"N\",FromEvoM!AE402,\"\"))","v":""}]
[{"$f":"IF(ISBLANK(FromEvoM!A403),\"\",Group_Code)","v":""},{"$f":"IF(ISBLANK(FromEvoM!A403),\"\",SUBSTITUTE(FromEvoM!A403,\" \",\"\"))","v":""},{"$f":"IF(ISBLANK(FromEvoM!C403),\"\",SUBSTITUTE(FromEvoM!G403,\" \",\"\"))","v":""},{"$f":"IF(ISBLANK(FromEvoM!D403),\"\",FromEvoM!B403)","v":""},{"$f":"IF(ISBLANK(FromEvoM!D403),\"\",FromEvoM!D403)","v":""},{"$f":"IF(ISBLANK(FromEvoM!C403),\"\",FromEvoM!C403)","v":""},{"$f":"REPLACE(FromEvoM!F403,2,6, )","v":""},{"$f":"IF(ISNUMBER(FromEvoM!E403),FromEvoM!E403,\"\")","v":""},{"$f":"IF(ISBLANK(FromEvoM!I403),\"\",FromEvoM!I403)","v":""},{"$f":"IF(ISBLANK(FromEvoM!J403),\"\",FromEvoM!J403)","v":""},{"$f":"IF(ISBLANK(FromEvoM!K403),\"\",FromEvoM!K403)","v":""},{"$f":"IF(ISBLANK(FromEvoM!L403),\"\",FromEvoM!L403)","v":""},{"$f":"IF(ISBLANK(FromEvoM!M403),\"\",FromEvoM!M403)","v":""},{"$f":"IF(ISBLANK(FromEvoM!P403),\"\",FromEvoM!P403)","v":""},null,{"$f":"IF(ISNUMBER(FromEvoM!X403),FromEvoM!X403,\"\")","v":""},{"$f":"IF(ISNUMBER(FromEvoM!AB403),FromEvoM!AB403,\"\")","v":""},{"$f":"IF(ISNUMBER(FromEvoM!AA403),FromEvoM!AA403,\"\")","v":""},null,"","",null,null,{"$f":"IF(FromEvoM!W403=1,(FromEvoM!AB403*12),IF(FromEvoM!W403=7,(FromEvoM!AR403),\"\"))","v":""},null,null,{"$f":"IF(ISBLANK(FromEvoM!A403),\"\",IF(FromEvoM!AK403=\"y\",\"Y\",\"N\"))","v":""},{"$f":"IF(ISBLANK(FromEvoM!A403),\"\",Category_ID)","v":""},null,null,null,{"$f":"IF(ISBLANK(FromEvoM!AK403),\"\",FromEvoM!AK403)","v":""},{"$f":"IF(ISBLANK(FromEvoM!AM403),\"\",FromEvoM!AM403)","v":""},{"$f":"IF(ISBLANK(FromEvoM!AN403),\"\",FromEvoM!AN403)","v":""},{"$f":"IF(ISBLANK(FromEvoM!AL403),\"\",FromEvoM!AL403)","v":""},{"$f":"IF(ISBLANK(FromEvoM!A403),\"\",IF(AND(AF403=\"y\",AI403=1),\"Y\",\"N\"))","v":""},{"$f":"IF(ISBLANK(FromEvoM!A403),\"\",IF(FromEvoM!AS403=\"Yes\",2,1))","v":""},{"$f":"IF(FromEvoM!W403=1,\"M\",IF(FromEvoM!W403=7,\"W\",\"\"))","v":""},{"$f":"IF(AJ403=\"Y\",0,IF(AJ403=\"N\",FromEvoM!AF403+FromEvoM!AT403,\"\"))","v":""},{"$f":"IF(AJ403=\"Y\",(FromEvoM!AE403+FromEvoM!AF403-FromEvoM!AT403),IF(AJ403=\"N\",FromEvoM!AE403,\"\"))","v":""}]
[{"$f":"IF(ISBLANK(FromEvoM!A404),\"\",Group_Code)","v":""},{"$f":"IF(ISBLANK(FromEvoM!A404),\"\",SUBSTITUTE(FromEvoM!A404,\" \",\"\"))","v":""},{"$f":"IF(ISBLANK(FromEvoM!C404),\"\",SUBSTITUTE(FromEvoM!G404,\" \",\"\"))","v":""},{"$f":"IF(ISBLANK(FromEvoM!D404),\"\",FromEvoM!B404)","v":""},{"$f":"IF(ISBLANK(FromEvoM!D404),\"\",FromEvoM!D404)","v":""},{"$f":"IF(ISBLANK(FromEvoM!C404),\"\",FromEvoM!C404)","v":""},{"$f":"REPLACE(FromEvoM!F404,2,6, )","v":""},{"$f":"IF(ISNUMBER(FromEvoM!E404),FromEvoM!E404,\"\")","v":""},{"$f":"IF(ISBLANK(FromEvoM!I404),\"\",FromEvoM!I404)","v":""},{"$f":"IF(ISBLANK(FromEvoM!J404),\"\",FromEvoM!J404)","v":""},{"$f":"IF(ISBLANK(FromEvoM!K404),\"\",FromEvoM!K404)","v":""},{"$f":"IF(ISBLANK(FromEvoM!L404),\"\",FromEvoM!L404)","v":""},{"$f":"IF(ISBLANK(FromEvoM!M404),\"\",FromEvoM!M404)","v":""},{"$f":"IF(ISBLANK(FromEvoM!P404),\"\",FromEvoM!P404)","v":""},null,{"$f":"IF(ISNUMBER(FromEvoM!X404),FromEvoM!X404,\"\")","v":""},{"$f":"IF(ISNUMBER(FromEvoM!AB404),FromEvoM!AB404,\"\")","v":""},{"$f":"IF(ISNUMBER(FromEvoM!AA404),FromEvoM!AA404,\"\")","v":""},null,"","",null,null,{"$f":"IF(FromEvoM!W404=1,(FromEvoM!AB404*12),IF(FromEvoM!W404=7,(FromEvoM!AR404),\"\"))","v":""},null,null,{"$f":"IF(ISBLANK(FromEvoM!A404),\"\",IF(FromEvoM!AK404=\"y\",\"Y\",\"N\"))","v":""},{"$f":"IF(ISBLANK(FromEvoM!A404),\"\",Category_ID)","v":""},null,null,null,{"$f":"IF(ISBLANK(FromEvoM!AK404),\"\",FromEvoM!AK404)","v":""},{"$f":"IF(ISBLANK(FromEvoM!AM404),\"\",FromEvoM!AM404)","v":""},{"$f":"IF(ISBLANK(FromEvoM!AN404),\"\",FromEvoM!AN404)","v":""},{"$f":"IF(ISBLANK(FromEvoM!AL404),\"\",FromEvoM!AL404)","v":""},{"$f":"IF(ISBLANK(FromEvoM!A404),\"\",IF(AND(AF404=\"y\",AI404=1),\"Y\",\"N\"))","v":""},{"$f":"IF(ISBLANK(FromEvoM!A404),\"\",IF(FromEvoM!AS404=\"Yes\",2,1))","v":""},{"$f":"IF(FromEvoM!W404=1,\"M\",IF(FromEvoM!W404=7,\"W\",\"\"))","v":""},{"$f":"IF(AJ404=\"Y\",0,IF(AJ404=\"N\",FromEvoM!AF404+FromEvoM!AT404,\"\"))","v":""},{"$f":"IF(AJ404=\"Y\",(FromEvoM!AE404+FromEvoM!AF404-FromEvoM!AT404),IF(AJ404=\"N\",FromEvoM!AE404,\"\"))","v":""}]
[{"$f":"IF(ISBLANK(FromEvoM!A405),\"\",Group_Code)","v":""},{"$f":"IF(ISBLANK(FromEvoM!A405),\"\",SUBSTITUTE(FromEvoM!A405,\" \",\"\"))","v":""},{"$f":"IF(ISBLANK(FromEvoM!C405),\"\",SUBSTITUTE(FromEvoM!G405,\" \",\"\"))","v":""},{"$f":"IF(ISBLANK(FromEvoM!D405),\"\",FromEvoM!B405)","v":""},{"$f":"IF(ISBLANK(FromEvoM!D405),\"\",FromEvoM!D405)","v":""},{"$f":"IF(ISBLANK(FromEvoM!C405),\"\",FromEvoM!C405)","v":""},{"$f":"REPLACE(FromEvoM!F405,2,6, )","v":""},{"$f":"IF(ISNUMBER(FromEvoM!E405),FromEvoM!E405,\"\")","v":""},{"$f":"IF(ISBLANK(FromEvoM!I405),\"\",FromEvoM!I405)","v":""},{"$f":"IF(ISBLANK(FromEvoM!J405),\"\",FromEvoM!J405)","v":""},{"$f":"IF(ISBLANK(FromEvoM!K405),\"\",FromEvoM!K405)","v":""},{"$f":"IF(ISBLANK(FromEvoM!L405),\"\",FromEvoM!L405)","v":""},{"$f":"IF(ISBLANK(FromEvoM!M405),\"\",FromEvoM!M405)","v":""},{"$f":"IF(ISBLANK(FromEvoM!P405),\"\",FromEvoM!P405)","v":""},null,{"$f":"IF(ISNUMBER(FromEvoM!X405),FromEvoM!X405,\"\")","v":""},{"$f":"IF(ISNUMBER(FromEvoM!AB405),FromEvoM!AB405,\"\")","v":""},{"$f":"IF(ISNUMBER(FromEvoM!AA405),FromEvoM!AA405,\"\")","v":""},null,"","",null,null,{"$f":"IF(FromEvoM!W405=1,(FromEvoM!AB405*12),IF(FromEvoM!W405=7,(FromEvoM!AR405),\"\"))","v":""},null,null,{"$f":"IF(ISBLANK(FromEvoM!A405),\"\",IF(FromEvoM!AK405=\"y\",\"Y\",\"N\"))","v":""},{"$f":"IF(ISBLANK(FromEvoM!A405),\"\",Category_ID)","v":""},null,null,null,{"$f":"IF(ISBLANK(FromEvoM!AK405),\"\",FromEvoM!AK405)","v":""},{"$f":"IF(ISBLANK(FromEvoM!AM405),\"\",FromEvoM!AM405)","v":""},{"$f":"IF(ISBLANK(FromEvoM!AN405),\"\",FromEvoM!AN405)","v":""},{"$f":"IF(ISBLANK(FromEvoM!AL405),\"\",FromEvoM!AL405)","v":""},{"$f":"IF(ISBLANK(FromEvoM!A405),\"\",IF(AND(AF405=\"y\",AI405=1),\"Y\",\"N\"))","v":""},{"$f":"IF(ISBLANK(FromEvoM!A405),\"\",IF(FromEvoM!AS405=\"Yes\",2,1))","v":""},{"$f":"IF(FromEvoM!W405=1,\"M\",IF(FromEvoM!W405=7,\"W\",\"\"))","v":""},{"$f":"IF(AJ405=\"Y\",0,IF(AJ405=\"N\",FromEvoM!AF405+FromEvoM!AT405,\"\"))","v":""},{"$f":"IF(AJ405=\"Y\",(FromEvoM!AE405+FromEvoM!AF405-FromEvoM!AT405),IF(AJ405=\"N\",FromEvoM!AE405,\"\"))","v":""}]
[{"$f":"IF(ISBLANK(FromEvoM!A406),\"\",Group_Code)","v":""},{"$f":"IF(ISBLANK(FromEvoM!A406),\"\",SUBSTITUTE(FromEvoM!A406,\" \",\"\"))","v":""},{"$f":"IF(ISBLANK(FromEvoM!C406),\"\",SUBSTITUTE(FromEvoM!G406,\" \",\"\"))","v":""},{"$f":"IF(ISBLANK(FromEvoM!D406),\"\",FromEvoM!B406)","v":""},{"$f":"IF(ISBLANK(FromEvoM!D406),\"\",FromEvoM!D406)","v":""},{"$f":"IF(ISBLANK(FromEvoM!C406),\"\",FromEvoM!C406)","v":""},{"$f":"REPLACE(FromEvoM!F406,2,6, )","v":""},{"$f":"IF(ISNUMBER(FromEvoM!E406),FromEvoM!E406,\"\")","v":""},{"$f":"IF(ISBLANK(FromEvoM!I406),\"\",FromEvoM!I406)","v":""},{"$f":"IF(ISBLANK(FromEvoM!J406),\"\",FromEvoM!J406)","v":""},{"$f":"IF(ISBLANK(FromEvoM!K406),\"\",FromEvoM!K406)","v":""},{"$f":"IF(ISBLANK(FromEvoM!L406),\"\",FromEvoM!L406)","v":""},{"$f":"IF(ISBLANK(FromEvoM!M406),\"\",FromEvoM!M406)","v":""},{"$f":"IF(ISBLANK(FromEvoM!P406),\"\",FromEvoM!P406)","v":""},null,{"$f":"IF(ISNUMBER(FromEvoM!X406),FromEvoM!X406,\"\")","v":""},{"$f":"IF(ISNUMBER(FromEvoM!AB406),FromEvoM!AB406,\"\")","v":""},{"$f":"IF(ISNUMBER(FromEvoM!AA406),FromEvoM!AA406,\"\")","v":""},null,"","",null,null,{"$f":"IF(FromEvoM!W406=1,(FromEvoM!AB406*12),IF(FromEvoM!W406=7,(FromEvoM!AR406),\"\"))","v":""},null,null,{"$f":"IF(ISBLANK(FromEvoM!A406),\"\",IF(FromEvoM!AK406=\"y\",\"Y\",\"N\"))","v":""},{"$f":"IF(ISBLANK(FromEvoM!A406),\"\",Category_ID)","v":""},null,null,null,{"$f":"IF(ISBLANK(FromEvoM!AK406),\"\",FromEvoM!AK406)","v":""},{"$f":"IF(ISBLANK(FromEvoM!AM406),\"\",FromEvoM!AM406)","v":""},{"$f":"IF(ISBLANK(FromEvoM!AN406),\"\",FromEvoM!AN406)","v":""},{"$f":"IF(ISBLANK(FromEvoM!AL406),\"\",FromEvoM!AL406)","v":""},{"$f":"IF(ISBLANK(FromEvoM!A406),\"\",IF(AND(AF406=\"y\",AI406=1),\"Y\",\"N\"))","v":""},{"$f":"IF(ISBLANK(FromEvoM!A406),\"\",IF(FromEvoM!AS406=\"Yes\",2,1))","v":""},{"$f":"IF(FromEvoM!W406=1,\"M\",IF(FromEvoM!W406=7,\"W\",\"\"))","v":""},{"$f":"IF(AJ406=\"Y\",0,IF(AJ406=\"N\",FromEvoM!AF406+FromEvoM!AT406,\"\"))","v":""},{"$f":"IF(AJ406=\"Y\",(FromEvoM!AE406+FromEvoM!AF406-FromEvoM!AT406),IF(AJ406=\"N\",FromEvoM!AE406,\"\"))","v":""}]
[{"$f":"IF(ISBLANK(FromEvoM!A407),\"\",Group_Code)","v":""},{"$f":"IF(ISBLANK(FromEvoM!A407),\"\",SUBSTITUTE(FromEvoM!A407,\" \",\"\"))","v":""},{"$f":"IF(ISBLANK(FromEvoM!C407),\"\",SUBSTITUTE(FromEvoM!G407,\" \",\"\"))","v":""},{"$f":"IF(ISBLANK(FromEvoM!D407),\"\",FromEvoM!B407)","v":""},{"$f":"IF(ISBLANK(FromEvoM!D407),\"\",FromEvoM!D407)","v":""},{"$f":"IF(ISBLANK(FromEvoM!C407),\"\",FromEvoM!C407)","v":""},{"$f":"REPLACE(FromEvoM!F407,2,6, )","v":""},{"$f":"IF(ISNUMBER(FromEvoM!E407),FromEvoM!E407,\"\")","v":""},{"$f":"IF(ISBLANK(FromEvoM!I407),\"\",FromEvoM!I407)","v":""},{"$f":"IF(ISBLANK(FromEvoM!J407),\"\",FromEvoM!J407)","v":""},{"$f":"IF(ISBLANK(FromEvoM!K407),\"\",FromEvoM!K407)","v":""},{"$f":"IF(ISBLANK(FromEvoM!L407),\"\",FromEvoM!L407)","v":""},{"$f":"IF(ISBLANK(FromEvoM!M407),\"\",FromEvoM!M407)","v":""},{"$f":"IF(ISBLANK(FromEvoM!P407),\"\",FromEvoM!P407)","v":""},null,{"$f":"IF(ISNUMBER(FromEvoM!X407),FromEvoM!X407,\"\")","v":""},{"$f":"IF(ISNUMBER(FromEvoM!AB407),FromEvoM!AB407,\"\")","v":""},{"$f":"IF(ISNUMBER(FromEvoM!AA407),FromEvoM!AA407,\"\")","v":""},null,"","",null,null,{"$f":"IF(FromEvoM!W407=1,(FromEvoM!AB407*12),IF(FromEvoM!W407=7,(FromEvoM!AR407),\"\"))","v":""},null,null,{"$f":"IF(ISBLANK(FromEvoM!A407),\"\",IF(FromEvoM!AK407=\"y\",\"Y\",\"N\"))","v":""},{"$f":"IF(ISBLANK(FromEvoM!A407),\"\",Category_ID)","v":""},null,null,null,{"$f":"IF(ISBLANK(FromEvoM!AK407),\"\",FromEvoM!AK407)","v":""},{"$f":"IF(ISBLANK(FromEvoM!AM407),\"\",FromEvoM!AM407)","v":""},{"$f":"IF(ISBLANK(FromEvoM!AN407),\"\",FromEvoM!AN407)","v":""},{"$f":"IF(ISBLANK(FromEvoM!AL407),\"\",FromEvoM!AL407)","v":""},{"$f":"IF(ISBLANK(FromEvoM!A407),\"\",IF(AND(AF407=\"y\",AI407=1),\"Y\",\"N\"))","v":""},{"$f":"IF(ISBLANK(FromEvoM!A407),\"\",IF(FromEvoM!AS407=\"Yes\",2,1))","v":""},{"$f":"IF(FromEvoM!W407=1,\"M\",IF(FromEvoM!W407=7,\"W\",\"\"))","v":""},{"$f":"IF(AJ407=\"Y\",0,IF(AJ407=\"N\",FromEvoM!AF407+FromEvoM!AT407,\"\"))","v":""},{"$f":"IF(AJ407=\"Y\",(FromEvoM!AE407+FromEvoM!AF407-FromEvoM!AT407),IF(AJ407=\"N\",FromEvoM!AE407,\"\"))","v":""}]
[{"$f":"IF(ISBLANK(FromEvoM!A408),\"\",Group_Code)","v":""},{"$f":"IF(ISBLANK(FromEvoM!A408),\"\",SUBSTITUTE(FromEvoM!A408,\" \",\"\"))","v":""},{"$f":"IF(ISBLANK(FromEvoM!C408),\"\",SUBSTITUTE(FromEvoM!G408,\" \",\"\"))","v":""},{"$f":"IF(ISBLANK(FromEvoM!D408),\"\",FromEvoM!B408)","v":""},{"$f":"IF(ISBLANK(FromEvoM!D408),\"\",FromEvoM!D408)","v":""},{"$f":"IF(ISBLANK(FromEvoM!C408),\"\",FromEvoM!C408)","v":""},{"$f":"REPLACE(FromEvoM!F408,2,6, )","v":""},{"$f":"IF(ISNUMBER(FromEvoM!E408),FromEvoM!E408,\"\")","v":""},{"$f":"IF(ISBLANK(FromEvoM!I408),\"\",FromEvoM!I408)","v":""},{"$f":"IF(ISBLANK(FromEvoM!J408),\"\",FromEvoM!J408)","v":""},{"$f":"IF(ISBLANK(FromEvoM!K408),\"\",FromEvoM!K408)","v":""},{"$f":"IF(ISBLANK(FromEvoM!L408),\"\",FromEvoM!L408)","v":""},{"$f":"IF(ISBLANK(FromEvoM!M408),\"\",FromEvoM!M408)","v":""},{"$f":"IF(ISBLANK(FromEvoM!P408),\"\",FromEvoM!P408)","v":""},null,{"$f":"IF(ISNUMBER(FromEvoM!X408),FromEvoM!X408,\"\")","v":""},{"$f":"IF(ISNUMBER(FromEvoM!AB408),FromEvoM!AB408,\"\")","v":""},{"$f":"IF(ISNUMBER(FromEvoM!AA408),FromEvoM!AA408,\"\")","v":""},null,"","",null,null,{"$f":"IF(FromEvoM!W408=1,(FromEvoM!AB408*12),IF(FromEvoM!W408=7,(FromEvoM!AR408),\"\"))","v":""},null,null,{"$f":"IF(ISBLANK(FromEvoM!A408),\"\",IF(FromEvoM!AK408=\"y\",\"Y\",\"N\"))","v":""},{"$f":"IF(ISBLANK(FromEvoM!A408),\"\",Category_ID)","v":""},null,null,null,{"$f":"IF(ISBLANK(FromEvoM!AK408),\"\",FromEvoM!AK408)","v":""},{"$f":"IF(ISBLANK(FromEvoM!AM408),\"\",FromEvoM!AM408)","v":""},{"$f":"IF(ISBLANK(FromEvoM!AN408),\"\",FromEvoM!AN408)","v":""},{"$f":"IF(ISBLANK(FromEvoM!AL408),\"\",FromEvoM!AL408)","v":""},{"$f":"IF(ISBLANK(FromEvoM!A408),\"\",IF(AND(AF408=\"y\",AI408=1),\"Y\",\"N\"))","v":""},{"$f":"IF(ISBLANK(FromEvoM!A408),\"\",IF(FromEvoM!AS408=\"Yes\",2,1))","v":""},{"$f":"IF(FromEvoM!W408=1,\"M\",IF(FromEvoM!W408=7,\"W\",\"\"))","v":""},{"$f":"IF(AJ408=\"Y\",0,IF(AJ408=\"N\",FromEvoM!AF408+FromEvoM!AT408,\"\"))","v":""},{"$f":"IF(AJ408=\"Y\",(FromEvoM!AE408+FromEvoM!AF408-FromEvoM!AT408),IF(AJ408=\"N\",FromEvoM!AE408,\"\"))","v":""}]
[{"$f":"IF(ISBLANK(FromEvoM!A409),\"\",Group_Code)","v":""},{"$f":"IF(ISBLANK(FromEvoM!A409),\"\",SUBSTITUTE(FromEvoM!A409,\" \",\"\"))","v":""},{"$f":"IF(ISBLANK(FromEvoM!C409),\"\",SUBSTITUTE(FromEvoM!G409,\" \",\"\"))","v":""},{"$f":"IF(ISBLANK(FromEvoM!D409),\"\",FromEvoM!B409)","v":""},{"$f":"IF(ISBLANK(FromEvoM!D409),\"\",FromEvoM!D409)","v":""},{"$f":"IF(ISBLANK(FromEvoM!C409),\"\",FromEvoM!C409)","v":""},{"$f":"REPLACE(FromEvoM!F409,2,6, )","v":""},{"$f":"IF(ISNUMBER(FromEvoM!E409),FromEvoM!E409,\"\")","v":""},{"$f":"IF(ISBLANK(FromEvoM!I409),\"\",FromEvoM!I409)","v":""},{"$f":"IF(ISBLANK(FromEvoM!J409),\"\",FromEvoM!J409)","v":""},{"$f":"IF(ISBLANK(FromEvoM!K409),\"\",FromEvoM!K409)","v":""},{"$f":"IF(ISBLANK(FromEvoM!L409),\"\",FromEvoM!L409)","v":""},{"$f":"IF(ISBLANK(FromEvoM!M409),\"\",FromEvoM!M409)","v":""},{"$f":"IF(ISBLANK(FromEvoM!P409),\"\",FromEvoM!P409)","v":""},null,{"$f":"IF(ISNUMBER(FromEvoM!X409),FromEvoM!X409,\"\")","v":""},{"$f":"IF(ISNUMBER(FromEvoM!AB409),FromEvoM!AB409,\"\")","v":""},{"$f":"IF(ISNUMBER(FromEvoM!AA409),FromEvoM!AA409,\"\")","v":""},null,"","",null,null,{"$f":"IF(FromEvoM!W409=1,(FromEvoM!AB409*12),IF(FromEvoM!W409=7,(FromEvoM!AR409),\"\"))","v":""},null,null,{"$f":"IF(ISBLANK(FromEvoM!A409),\"\",IF(FromEvoM!AK409=\"y\",\"Y\",\"N\"))","v":""},{"$f":"IF(ISBLANK(FromEvoM!A409),\"\",Category_ID)","v":""},null,null,null,{"$f":"IF(ISBLANK(FromEvoM!AK409),\"\",FromEvoM!AK409)","v":""},{"$f":"IF(ISBLANK(FromEvoM!AM409),\"\",FromEvoM!AM409)","v":""},{"$f":"IF(ISBLANK(FromEvoM!AN409),\"\",FromEvoM!AN409)","v":""},{"$f":"IF(ISBLANK(FromEvoM!AL409),\"\",FromEvoM!AL409)","v":""},{"$f":"IF(ISBLANK(FromEvoM!A409),\"\",IF(AND(AF409=\"y\",AI409=1),\"Y\",\"N\"))","v":""},{"$f":"IF(ISBLANK(FromEvoM!A409),\"\",IF(FromEvoM!AS409=\"Yes\",2,1))","v":""},{"$f":"IF(FromEvoM!W409=1,\"M\",IF(FromEvoM!W409=7,\"W\",\"\"))","v":""},{"$f":"IF(AJ409=\"Y\",0,IF(AJ409=\"N\",FromEvoM!AF409+FromEvoM!AT409,\"\"))","v":""},{"$f":"IF(AJ409=\"Y\",(FromEvoM!AE409+FromEvoM!AF409-FromEvoM!AT409),IF(AJ409=\"N\",FromEvoM!AE409,\"\"))","v":""}]
[{"$f":"IF(ISBLANK(FromEvoM!A410),\"\",Group_Code)","v":""},{"$f":"IF(ISBLANK(FromEvoM!A410),\"\",SUBSTITUTE(FromEvoM!A410,\" \",\"\"))","v":""},{"$f":"IF(ISBLANK(FromEvoM!C410),\"\",SUBSTITUTE(FromEvoM!G410,\" \",\"\"))","v":""},{"$f":"IF(ISBLANK(FromEvoM!D410),\"\",FromEvoM!B410)","v":""},{"$f":"IF(ISBLANK(FromEvoM!D410),\"\",FromEvoM!D410)","v":""},{"$f":"IF(ISBLANK(FromEvoM!C410),\"\",FromEvoM!C410)","v":""},{"$f":"REPLACE(FromEvoM!F410,2,6, )","v":""},{"$f":"IF(ISNUMBER(FromEvoM!E410),FromEvoM!E410,\"\")","v":""},{"$f":"IF(ISBLANK(FromEvoM!I410),\"\",FromEvoM!I410)","v":""},{"$f":"IF(ISBLANK(FromEvoM!J410),\"\",FromEvoM!J410)","v":""},{"$f":"IF(ISBLANK(FromEvoM!K410),\"\",FromEvoM!K410)","v":""},{"$f":"IF(ISBLANK(FromEvoM!L410),\"\",FromEvoM!L410)","v":""},{"$f":"IF(ISBLANK(FromEvoM!M410),\"\",FromEvoM!M410)","v":""},{"$f":"IF(ISBLANK(FromEvoM!P410),\"\",FromEvoM!P410)","v":""},null,{"$f":"IF(ISNUMBER(FromEvoM!X410),FromEvoM!X410,\"\")","v":""},{"$f":"IF(ISNUMBER(FromEvoM!AB410),FromEvoM!AB410,\"\")","v":""},{"$f":"IF(ISNUMBER(FromEvoM!AA410),FromEvoM!AA410,\"\")","v":""},null,"","",null,null,{"$f":"IF(FromEvoM!W410=1,(FromEvoM!AB410*12),IF(FromEvoM!W410=7,(FromEvoM!AR410),\"\"))","v":""},null,null,{"$f":"IF(ISBLANK(FromEvoM!A410),\"\",IF(FromEvoM!AK410=\"y\",\"Y\",\"N\"))","v":""},{"$f":"IF(ISBLANK(FromEvoM!A410),\"\",Category_ID)","v":""},null,null,null,{"$f":"IF(ISBLANK(FromEvoM!AK410),\"\",FromEvoM!AK410)","v":""},{"$f":"IF(ISBLANK(FromEvoM!AM410),\"\",FromEvoM!AM410)","v":""},{"$f":"IF(ISBLANK(FromEvoM!AN410),\"\",FromEvoM!AN410)","v":""},{"$f":"IF(ISBLANK(FromEvoM!AL410),\"\",FromEvoM!AL410)","v":""},{"$f":"IF(ISBLANK(FromEvoM!A410),\"\",IF(AND(AF410=\"y\",AI410=1),\"Y\",\"N\"))","v":""},{"$f":"IF(ISBLANK(FromEvoM!A410),\"\",IF(FromEvoM!AS410=\"Yes\",2,1))","v":""},{"$f":"IF(FromEvoM!W410=1,\"M\",IF(FromEvoM!W410=7,\"W\",\"\"))","v":""},{"$f":"IF(AJ410=\"Y\",0,IF(AJ410=\"N\",FromEvoM!AF410+FromEvoM!AT410,\"\"))","v":""},{"$f":"IF(AJ410=\"Y\",(FromEvoM!AE410+FromEvoM!AF410-FromEvoM!AT410),IF(AJ410=\"N\",FromEvoM!AE410,\"\"))","v":""}]
[{"$f":"IF(ISBLANK(FromEvoM!A411),\"\",Group_Code)","v":""},{"$f":"IF(ISBLANK(FromEvoM!A411),\"\",SUBSTITUTE(FromEvoM!A411,\" \",\"\"))","v":""},{"$f":"IF(ISBLANK(FromEvoM!C411),\"\",SUBSTITUTE(FromEvoM!G411,\" \",\"\"))","v":""},{"$f":"IF(ISBLANK(FromEvoM!D411),\"\",FromEvoM!B411)","v":""},{"$f":"IF(ISBLANK(FromEvoM!D411),\"\",FromEvoM!D411)","v":""},{"$f":"IF(ISBLANK(FromEvoM!C411),\"\",FromEvoM!C411)","v":""},{"$f":"REPLACE(FromEvoM!F411,2,6, )","v":""},{"$f":"IF(ISNUMBER(FromEvoM!E411),FromEvoM!E411,\"\")","v":""},{"$f":"IF(ISBLANK(FromEvoM!I411),\"\",FromEvoM!I411)","v":""},{"$f":"IF(ISBLANK(FromEvoM!J411),\"\",FromEvoM!J411)","v":""},{"$f":"IF(ISBLANK(FromEvoM!K411),\"\",FromEvoM!K411)","v":""},{"$f":"IF(ISBLANK(FromEvoM!L411),\"\",FromEvoM!L411)","v":""},{"$f":"IF(ISBLANK(FromEvoM!M411),\"\",FromEvoM!M411)","v":""},{"$f":"IF(ISBLANK(FromEvoM!P411),\"\",FromEvoM!P411)","v":""},null,{"$f":"IF(ISNUMBER(FromEvoM!X411),FromEvoM!X411,\"\")","v":""},{"$f":"IF(ISNUMBER(FromEvoM!AB411),FromEvoM!AB411,\"\")","v":""},{"$f":"IF(ISNUMBER(FromEvoM!AA411),FromEvoM!AA411,\"\")","v":""},null,"","",null,null,{"$f":"IF(FromEvoM!W411=1,(FromEvoM!AB411*12),IF(FromEvoM!W411=7,(FromEvoM!AR411),\"\"))","v":""},null,null,{"$f":"IF(ISBLANK(FromEvoM!A411),\"\",IF(FromEvoM!AK411=\"y\",\"Y\",\"N\"))","v":""},{"$f":"IF(ISBLANK(FromEvoM!A411),\"\",Category_ID)","v":""},null,null,null,{"$f":"IF(ISBLANK(FromEvoM!AK411),\"\",FromEvoM!AK411)","v":""},{"$f":"IF(ISBLANK(FromEvoM!AM411),\"\",FromEvoM!AM411)","v":""},{"$f":"IF(ISBLANK(FromEvoM!AN411),\"\",FromEvoM!AN411)","v":""},{"$f":"IF(ISBLANK(FromEvoM!AL411),\"\",FromEvoM!AL411)","v":""},{"$f":"IF(ISBLANK(FromEvoM!A411),\"\",IF(AND(AF411=\"y\",AI411=1),\"Y\",\"N\"))","v":""},{"$f":"IF(ISBLANK(FromEvoM!A411),\"\",IF(FromEvoM!AS411=\"Yes\",2,1))","v":""},{"$f":"IF(FromEvoM!W411=1,\"M\",IF(FromEvoM!W411=7,\"W\",\"\"))","v":""},{"$f":"IF(AJ411=\"Y\",0,IF(AJ411=\"N\",FromEvoM!AF411+FromEvoM!AT411,\"\"))","v":""},{"$f":"IF(AJ411=\"Y\",(FromEvoM!AE411+FromEvoM!AF411-FromEvoM!AT411),IF(AJ411=\"N\",FromEvoM!AE411,\"\"))","v":""}]
[{"$f":"IF(ISBLANK(FromEvoM!A412),\"\",Group_Code)","v":""},{"$f":"IF(ISBLANK(FromEvoM!A412),\"\",SUBSTITUTE(FromEvoM!A412,\" \",\"\"))","v":""},{"$f":"IF(ISBLANK(FromEvoM!C412),\"\",SUBSTITUTE(FromEvoM!G412,\" \",\"\"))","v":""},{"$f":"IF(ISBLANK(FromEvoM!D412),\"\",FromEvoM!B412)","v":""},{"$f":"IF(ISBLANK(FromEvoM!D412),\"\",FromEvoM!D412)","v":""},{"$f":"IF(ISBLANK(FromEvoM!C412),\"\",FromEvoM!C412)","v":""},{"$f":"REPLACE(FromEvoM!F412,2,6, )","v":""},{"$f":"IF(ISNUMBER(FromEvoM!E412),FromEvoM!E412,\"\")","v":""},{"$f":"IF(ISBLANK(FromEvoM!I412),\"\",FromEvoM!I412)","v":""},{"$f":"IF(ISBLANK(FromEvoM!J412),\"\",FromEvoM!J412)","v":""},{"$f":"IF(ISBLANK(FromEvoM!K412),\"\",FromEvoM!K412)","v":""},{"$f":"IF(ISBLANK(FromEvoM!L412),\"\",FromEvoM!L412)","v":""},{"$f":"IF(ISBLANK(FromEvoM!M412),\"\",FromEvoM!M412)","v":""},{"$f":"IF(ISBLANK(FromEvoM!P412),\"\",FromEvoM!P412)","v":""},null,{"$f":"IF(ISNUMBER(FromEvoM!X412),FromEvoM!X412,\"\")","v":""},{"$f":"IF(ISNUMBER(FromEvoM!AB412),FromEvoM!AB412,\"\")","v":""},{"$f":"IF(ISNUMBER(FromEvoM!AA412),FromEvoM!AA412,\"\")","v":""},null,"","",null,null,{"$f":"IF(FromEvoM!W412=1,(FromEvoM!AB412*12),IF(FromEvoM!W412=7,(FromEvoM!AR412),\"\"))","v":""},null,null,{"$f":"IF(ISBLANK(FromEvoM!A412),\"\",IF(FromEvoM!AK412=\"y\",\"Y\",\"N\"))","v":""},{"$f":"IF(ISBLANK(FromEvoM!A412),\"\",Category_ID)","v":""},null,null,null,{"$f":"IF(ISBLANK(FromEvoM!AK412),\"\",FromEvoM!AK412)","v":""},{"$f":"IF(ISBLANK(FromEvoM!AM412),\"\",FromEvoM!AM412)","v":""},{"$f":"IF(ISBLANK(FromEvoM!AN412),\"\",FromEvoM!AN412)","v":""},{"$f":"IF(ISBLANK(FromEvoM!AL412),\"\",FromEvoM!AL412)","v":""},{"$f":"IF(ISBLANK(FromEvoM!A412),\"\",IF(AND(AF412=\"y\",AI412=1),\"Y\",\"N\"))","v":""},{"$f":"IF(ISBLANK(FromEvoM!A412),\"\",IF(FromEvoM!AS412=\"Yes\",2,1))","v":""},{"$f":"IF(FromEvoM!W412=1,\"M\",IF(FromEvoM!W412=7,\"W\",\"\"))","v":""},{"$f":"IF(AJ412=\"Y\",0,IF(AJ412=\"N\",FromEvoM!AF412+FromEvoM!AT412,\"\"))","v":""},{"$f":"IF(AJ412=\"Y\",(FromEvoM!AE412+FromEvoM!AF412-FromEvoM!AT412),IF(AJ412=\"N\",FromEvoM!AE412,\"\"))","v":""}]
[{"$f":"IF(ISBLANK(FromEvoM!A413),\"\",Group_Code)","v":""},{"$f":"IF(ISBLANK(FromEvoM!A413),\"\",SUBSTITUTE(FromEvoM!A413,\" \",\"\"))","v":""},{"$f":"IF(ISBLANK(FromEvoM!C413),\"\",SUBSTITUTE(FromEvoM!G413,\" \",\"\"))","v":""},{"$f":"IF(ISBLANK(FromEvoM!D413),\"\",FromEvoM!B413)","v":""},{"$f":"IF(ISBLANK(FromEvoM!D413),\"\",FromEvoM!D413)","v":""},{"$f":"IF(ISBLANK(FromEvoM!C413),\"\",FromEvoM!C413)","v":""},{"$f":"REPLACE(FromEvoM!F413,2,6, )","v":""},{"$f":"IF(ISNUMBER(FromEvoM!E413),FromEvoM!E413,\"\")","v":""},{"$f":"IF(ISBLANK(FromEvoM!I413),\"\",FromEvoM!I413)","v":""},{"$f":"IF(ISBLANK(FromEvoM!J413),\"\",FromEvoM!J413)","v":""},{"$f":"IF(ISBLANK(FromEvoM!K413),\"\",FromEvoM!K413)","v":""},{"$f":"IF(ISBLANK(FromEvoM!L413),\"\",FromEvoM!L413)","v":""},{"$f":"IF(ISBLANK(FromEvoM!M413),\"\",FromEvoM!M413)","v":""},{"$f":"IF(ISBLANK(FromEvoM!P413),\"\",FromEvoM!P413)","v":""},null,{"$f":"IF(ISNUMBER(FromEvoM!X413),FromEvoM!X413,\"\")","v":""},{"$f":"IF(ISNUMBER(FromEvoM!AB413),FromEvoM!AB413,\"\")","v":""},{"$f":"IF(ISNUMBER(FromEvoM!AA413),FromEvoM!AA413,\"\")","v":""},null,"","",null,null,{"$f":"IF(FromEvoM!W413=1,(FromEvoM!AB413*12),IF(FromEvoM!W413=7,(FromEvoM!AR413),\"\"))","v":""},null,null,{"$f":"IF(ISBLANK(FromEvoM!A413),\"\",IF(FromEvoM!AK413=\"y\",\"Y\",\"N\"))","v":""},{"$f":"IF(ISBLANK(FromEvoM!A413),\"\",Category_ID)","v":""},null,null,null,{"$f":"IF(ISBLANK(FromEvoM!AK413),\"\",FromEvoM!AK413)","v":""},{"$f":"IF(ISBLANK(FromEvoM!AM413),\"\",FromEvoM!AM413)","v":""},{"$f":"IF(ISBLANK(FromEvoM!AN413),\"\",FromEvoM!AN413)","v":""},{"$f":"IF(ISBLANK(FromEvoM!AL413),\"\",FromEvoM!AL413)","v":""},{"$f":"IF(ISBLANK(FromEvoM!A413),\"\",IF(AND(AF413=\"y\",AI413=1),\"Y\",\"N\"))","v":""},{"$f":"IF(ISBLANK(FromEvoM!A413),\"\",IF(FromEvoM!AS413=\"Yes\",2,1))","v":""},{"$f":"IF(FromEvoM!W413=1,\"M\",IF(FromEvoM!W413=7,\"W\",\"\"))","v":""},{"$f":"IF(AJ413=\"Y\",0,IF(AJ413=\"N\",FromEvoM!AF413+FromEvoM!AT413,\"\"))","v":""},{"$f":"IF(AJ413=\"Y\",(FromEvoM!AE413+FromEvoM!AF413-FromEvoM!AT413),IF(AJ413=\"N\",FromEvoM!AE413,\"\"))","v":""}]
[{"$f":"IF(ISBLANK(FromEvoM!A414),\"\",Group_Code)","v":""},{"$f":"IF(ISBLANK(FromEvoM!A414),\"\",SUBSTITUTE(FromEvoM!A414,\" \",\"\"))","v":""},{"$f":"IF(ISBLANK(FromEvoM!C414),\"\",SUBSTITUTE(FromEvoM!G414,\" \",\"\"))","v":""},{"$f":"IF(ISBLANK(FromEvoM!D414),\"\",FromEvoM!B414)","v":""},{"$f":"IF(ISBLANK(FromEvoM!D414),\"\",FromEvoM!D414)","v":""},{"$f":"IF(ISBLANK(FromEvoM!C414),\"\",FromEvoM!C414)","v":""},{"$f":"REPLACE(FromEvoM!F414,2,6, )","v":""},{"$f":"IF(ISNUMBER(FromEvoM!E414),FromEvoM!E414,\"\")","v":""},{"$f":"IF(ISBLANK(FromEvoM!I414),\"\",FromEvoM!I414)","v":""},{"$f":"IF(ISBLANK(FromEvoM!J414),\"\",FromEvoM!J414)","v":""},{"$f":"IF(ISBLANK(FromEvoM!K414),\"\",FromEvoM!K414)","v":""},{"$f":"IF(ISBLANK(FromEvoM!L414),\"\",FromEvoM!L414)","v":""},{"$f":"IF(ISBLANK(FromEvoM!M414),\"\",FromEvoM!M414)","v":""},{"$f":"IF(ISBLANK(FromEvoM!P414),\"\",FromEvoM!P414)","v":""},null,{"$f":"IF(ISNUMBER(FromEvoM!X414),FromEvoM!X414,\"\")","v":""},{"$f":"IF(ISNUMBER(FromEvoM!AB414),FromEvoM!AB414,\"\")","v":""},{"$f":"IF(ISNUMBER(FromEvoM!AA414),FromEvoM!AA414,\"\")","v":""},null,"","",null,null,{"$f":"IF(FromEvoM!W414=1,(FromEvoM!AB414*12),IF(FromEvoM!W414=7,(FromEvoM!AR414),\"\"))","v":""},null,null,{"$f":"IF(ISBLANK(FromEvoM!A414),\"\",IF(FromEvoM!AK414=\"y\",\"Y\",\"N\"))","v":""},{"$f":"IF(ISBLANK(FromEvoM!A414),\"\",Category_ID)","v":""},null,null,null,{"$f":"IF(ISBLANK(FromEvoM!AK414),\"\",FromEvoM!AK414)","v":""},{"$f":"IF(ISBLANK(FromEvoM!AM414),\"\",FromEvoM!AM414)","v":""},{"$f":"IF(ISBLANK(FromEvoM!AN414),\"\",FromEvoM!AN414)","v":""},{"$f":"IF(ISBLANK(FromEvoM!AL414),\"\",FromEvoM!AL414)","v":""},{"$f":"IF(ISBLANK(FromEvoM!A414),\"\",IF(AND(AF414=\"y\",AI414=1),\"Y\",\"N\"))","v":""},{"$f":"IF(ISBLANK(FromEvoM!A414),\"\",IF(FromEvoM!AS414=\"Yes\",2,1))","v":""},{"$f":"IF(FromEvoM!W414=1,\"M\",IF(FromEvoM!W414=7,\"W\",\"\"))","v":""},{"$f":"IF(AJ414=\"Y\",0,IF(AJ414=\"N\",FromEvoM!AF414+FromEvoM!AT414,\"\"))","v":""},{"$f":"IF(AJ414=\"Y\",(FromEvoM!AE414+FromEvoM!AF414-FromEvoM!AT414),IF(AJ414=\"N\",FromEvoM!AE414,\"\"))","v":""}]
[{"$f":"IF(ISBLANK(FromEvoM!A415),\"\",Group_Code)","v":""},{"$f":"IF(ISBLANK(FromEvoM!A415),\"\",SUBSTITUTE(FromEvoM!A415,\" \",\"\"))","v":""},{"$f":"IF(ISBLANK(FromEvoM!C415),\"\",SUBSTITUTE(FromEvoM!G415,\" \",\"\"))","v":""},{"$f":"IF(ISBLANK(FromEvoM!D415),\"\",FromEvoM!B415)","v":""},{"$f":"IF(ISBLANK(FromEvoM!D415),\"\",FromEvoM!D415)","v":""},{"$f":"IF(ISBLANK(FromEvoM!C415),\"\",FromEvoM!C415)","v":""},{"$f":"REPLACE(FromEvoM!F415,2,6, )","v":""},{"$f":"IF(ISNUMBER(FromEvoM!E415),FromEvoM!E415,\"\")","v":""},{"$f":"IF(ISBLANK(FromEvoM!I415),\"\",FromEvoM!I415)","v":""},{"$f":"IF(ISBLANK(FromEvoM!J415),\"\",FromEvoM!J415)","v":""},{"$f":"IF(ISBLANK(FromEvoM!K415),\"\",FromEvoM!K415)","v":""},{"$f":"IF(ISBLANK(FromEvoM!L415),\"\",FromEvoM!L415)","v":""},{"$f":"IF(ISBLANK(FromEvoM!M415),\"\",FromEvoM!M415)","v":""},{"$f":"IF(ISBLANK(FromEvoM!P415),\"\",FromEvoM!P415)","v":""},null,{"$f":"IF(ISNUMBER(FromEvoM!X415),FromEvoM!X415,\"\")","v":""},{"$f":"IF(ISNUMBER(FromEvoM!AB415),FromEvoM!AB415,\"\")","v":""},{"$f":"IF(ISNUMBER(FromEvoM!AA415),FromEvoM!AA415,\"\")","v":""},null,"","",null,null,{"$f":"IF(FromEvoM!W415=1,(FromEvoM!AB415*12),IF(FromEvoM!W415=7,(FromEvoM!AR415),\"\"))","v":""},null,null,{"$f":"IF(ISBLANK(FromEvoM!A415),\"\",IF(FromEvoM!AK415=\"y\",\"Y\",\"N\"))","v":""},{"$f":"IF(ISBLANK(FromEvoM!A415),\"\",Category_ID)","v":""},null,null,null,{"$f":"IF(ISBLANK(FromEvoM!AK415),\"\",FromEvoM!AK415)","v":""},{"$f":"IF(ISBLANK(FromEvoM!AM415),\"\",FromEvoM!AM415)","v":""},{"$f":"IF(ISBLANK(FromEvoM!AN415),\"\",FromEvoM!AN415)","v":""},{"$f":"IF(ISBLANK(FromEvoM!AL415),\"\",FromEvoM!AL415)","v":""},{"$f":"IF(ISBLANK(FromEvoM!A415),\"\",IF(AND(AF415=\"y\",AI415=1),\"Y\",\"N\"))","v":""},{"$f":"IF(ISBLANK(FromEvoM!A415),\"\",IF(FromEvoM!AS415=\"Yes\",2,1))","v":""},{"$f":"IF(FromEvoM!W415=1,\"M\",IF(FromEvoM!W415=7,\"W\",\"\"))","v":""},{"$f":"IF(AJ415=\"Y\",0,IF(AJ415=\"N\",FromEvoM!AF415+FromEvoM!AT415,\"\"))","v":""},{"$f":"IF(AJ415=\"Y\",(FromEvoM!AE415+FromEvoM!AF415-FromEvoM!AT415),IF(AJ415=\"N\",FromEvoM!AE415,\"\"))","v":""}]
[{"$f":"IF(ISBLANK(FromEvoM!A416),\"\",Group_Code)","v":""},{"$f":"IF(ISBLANK(FromEvoM!A416),\"\",SUBSTITUTE(FromEvoM!A416,\" \",\"\"))","v":""},{"$f":"IF(ISBLANK(FromEvoM!C416),\"\",SUBSTITUTE(FromEvoM!G416,\" \",\"\"))","v":""},{"$f":"IF(ISBLANK(FromEvoM!D416),\"\",FromEvoM!B416)","v":""},{"$f":"IF(ISBLANK(FromEvoM!D416),\"\",FromEvoM!D416)","v":""},{"$f":"IF(ISBLANK(FromEvoM!C416),\"\",FromEvoM!C416)","v":""},{"$f":"REPLACE(FromEvoM!F416,2,6, )","v":""},{"$f":"IF(ISNUMBER(FromEvoM!E416),FromEvoM!E416,\"\")","v":""},{"$f":"IF(ISBLANK(FromEvoM!I416),\"\",FromEvoM!I416)","v":""},{"$f":"IF(ISBLANK(FromEvoM!J416),\"\",FromEvoM!J416)","v":""},{"$f":"IF(ISBLANK(FromEvoM!K416),\"\",FromEvoM!K416)","v":""},{"$f":"IF(ISBLANK(FromEvoM!L416),\"\",FromEvoM!L416)","v":""},{"$f":"IF(ISBLANK(FromEvoM!M416),\"\",FromEvoM!M416)","v":""},{"$f":"IF(ISBLANK(FromEvoM!P416),\"\",FromEvoM!P416)","v":""},null,{"$f":"IF(ISNUMBER(FromEvoM!X416),FromEvoM!X416,\"\")","v":""},{"$f":"IF(ISNUMBER(FromEvoM!AB416),FromEvoM!AB416,\"\")","v":""},{"$f":"IF(ISNUMBER(FromEvoM!AA416),FromEvoM!AA416,\"\")","v":""},null,"","",null,null,{"$f":"IF(FromEvoM!W416=1,(FromEvoM!AB416*12),IF(FromEvoM!W416=7,(FromEvoM!AR416),\"\"))","v":""},null,null,{"$f":"IF(ISBLANK(FromEvoM!A416),\"\",IF(FromEvoM!AK416=\"y\",\"Y\",\"N\"))","v":""},{"$f":"IF(ISBLANK(FromEvoM!A416),\"\",Category_ID)","v":""},null,null,null,{"$f":"IF(ISBLANK(FromEvoM!AK416),\"\",FromEvoM!AK416)","v":""},{"$f":"IF(ISBLANK(FromEvoM!AM416),\"\",FromEvoM!AM416)","v":""},{"$f":"IF(ISBLANK(FromEvoM!AN416),\"\",FromEvoM!AN416)","v":""},{"$f":"IF(ISBLANK(FromEvoM!AL416),\"\",FromEvoM!AL416)","v":""},{"$f":"IF(ISBLANK(FromEvoM!A416),\"\",IF(AND(AF416=\"y\",AI416=1),\"Y\",\"N\"))","v":""},{"$f":"IF(ISBLANK(FromEvoM!A416),\"\",IF(FromEvoM!AS416=\"Yes\",2,1))","v":""},{"$f":"IF(FromEvoM!W416=1,\"M\",IF(FromEvoM!W416=7,\"W\",\"\"))","v":""},{"$f":"IF(AJ416=\"Y\",0,IF(AJ416=\"N\",FromEvoM!AF416+FromEvoM!AT416,\"\"))","v":""},{"$f":"IF(AJ416=\"Y\",(FromEvoM!AE416+FromEvoM!AF416-FromEvoM!AT416),IF(AJ416=\"N\",FromEvoM!AE416,\"\"))","v":""}]
[{"$f":"IF(ISBLANK(FromEvoM!A417),\"\",Group_Code)","v":""},{"$f":"IF(ISBLANK(FromEvoM!A417),\"\",SUBSTITUTE(FromEvoM!A417,\" \",\"\"))","v":""},{"$f":"IF(ISBLANK(FromEvoM!C417),\"\",SUBSTITUTE(FromEvoM!G417,\" \",\"\"))","v":""},{"$f":"IF(ISBLANK(FromEvoM!D417),\"\",FromEvoM!B417)","v":""},{"$f":"IF(ISBLANK(FromEvoM!D417),\"\",FromEvoM!D417)","v":""},{"$f":"IF(ISBLANK(FromEvoM!C417),\"\",FromEvoM!C417)","v":""},{"$f":"REPLACE(FromEvoM!F417,2,6, )","v":""},{"$f":"IF(ISNUMBER(FromEvoM!E417),FromEvoM!E417,\"\")","v":""},{"$f":"IF(ISBLANK(FromEvoM!I417),\"\",FromEvoM!I417)","v":""},{"$f":"IF(ISBLANK(FromEvoM!J417),\"\",FromEvoM!J417)","v":""},{"$f":"IF(ISBLANK(FromEvoM!K417),\"\",FromEvoM!K417)","v":""},{"$f":"IF(ISBLANK(FromEvoM!L417),\"\",FromEvoM!L417)","v":""},{"$f":"IF(ISBLANK(FromEvoM!M417),\"\",FromEvoM!M417)","v":""},{"$f":"IF(ISBLANK(FromEvoM!P417),\"\",FromEvoM!P417)","v":""},null,{"$f":"IF(ISNUMBER(FromEvoM!X417),FromEvoM!X417,\"\")","v":""},{"$f":"IF(ISNUMBER(FromEvoM!AB417),FromEvoM!AB417,\"\")","v":""},{"$f":"IF(ISNUMBER(FromEvoM!AA417),FromEvoM!AA417,\"\")","v":""},null,"","",null,null,{"$f":"IF(FromEvoM!W417=1,(FromEvoM!AB417*12),IF(FromEvoM!W417=7,(FromEvoM!AR417),\"\"))","v":""},null,null,{"$f":"IF(ISBLANK(FromEvoM!A417),\"\",IF(FromEvoM!AK417=\"y\",\"Y\",\"N\"))","v":""},{"$f":"IF(ISBLANK(FromEvoM!A417),\"\",Category_ID)","v":""},null,null,null,{"$f":"IF(ISBLANK(FromEvoM!AK417),\"\",FromEvoM!AK417)","v":""},{"$f":"IF(ISBLANK(FromEvoM!AM417),\"\",FromEvoM!AM417)","v":""},{"$f":"IF(ISBLANK(FromEvoM!AN417),\"\",FromEvoM!AN417)","v":""},{"$f":"IF(ISBLANK(FromEvoM!AL417),\"\",FromEvoM!AL417)","v":""},{"$f":"IF(ISBLANK(FromEvoM!A417),\"\",IF(AND(AF417=\"y\",AI417=1),\"Y\",\"N\"))","v":""},{"$f":"IF(ISBLANK(FromEvoM!A417),\"\",IF(FromEvoM!AS417=\"Yes\",2,1))","v":""},{"$f":"IF(FromEvoM!W417=1,\"M\",IF(FromEvoM!W417=7,\"W\",\"\"))","v":""},{"$f":"IF(AJ417=\"Y\",0,IF(AJ417=\"N\",FromEvoM!AF417+FromEvoM!AT417,\"\"))","v":""},{"$f":"IF(AJ417=\"Y\",(FromEvoM!AE417+FromEvoM!AF417-FromEvoM!AT417),IF(AJ417=\"N\",FromEvoM!AE417,\"\"))","v":""}]
[{"$f":"IF(ISBLANK(FromEvoM!A418),\"\",Group_Code)","v":""},{"$f":"IF(ISBLANK(FromEvoM!A418),\"\",SUBSTITUTE(FromEvoM!A418,\" \",\"\"))","v":""},{"$f":"IF(ISBLANK(FromEvoM!C418),\"\",SUBSTITUTE(FromEvoM!G418,\" \",\"\"))","v":""},{"$f":"IF(ISBLANK(FromEvoM!D418),\"\",FromEvoM!B418)","v":""},{"$f":"IF(ISBLANK(FromEvoM!D418),\"\",FromEvoM!D418)","v":""},{"$f":"IF(ISBLANK(FromEvoM!C418),\"\",FromEvoM!C418)","v":""},{"$f":"REPLACE(FromEvoM!F418,2,6, )","v":""},{"$f":"IF(ISNUMBER(FromEvoM!E418),FromEvoM!E418,\"\")","v":""},{"$f":"IF(ISBLANK(FromEvoM!I418),\"\",FromEvoM!I418)","v":""},{"$f":"IF(ISBLANK(FromEvoM!J418),\"\",FromEvoM!J418)","v":""},{"$f":"IF(ISBLANK(FromEvoM!K418),\"\",FromEvoM!K418)","v":""},{"$f":"IF(ISBLANK(FromEvoM!L418),\"\",FromEvoM!L418)","v":""},{"$f":"IF(ISBLANK(FromEvoM!M418),\"\",FromEvoM!M418)","v":""},{"$f":"IF(ISBLANK(FromEvoM!P418),\"\",FromEvoM!P418)","v":""},null,{"$f":"IF(ISNUMBER(FromEvoM!X418),FromEvoM!X418,\"\")","v":""},{"$f":"IF(ISNUMBER(FromEvoM!AB418),FromEvoM!AB418,\"\")","v":""},{"$f":"IF(ISNUMBER(FromEvoM!AA418),FromEvoM!AA418,\"\")","v":""},null,"","",null,null,{"$f":"IF(FromEvoM!W418=1,(FromEvoM!AB418*12),IF(FromEvoM!W418=7,(FromEvoM!AR418),\"\"))","v":""},null,null,{"$f":"IF(ISBLANK(FromEvoM!A418),\"\",IF(FromEvoM!AK418=\"y\",\"Y\",\"N\"))","v":""},{"$f":"IF(ISBLANK(FromEvoM!A418),\"\",Category_ID)","v":""},null,null,null,{"$f":"IF(ISBLANK(FromEvoM!AK418),\"\",FromEvoM!AK418)","v":""},{"$f":"IF(ISBLANK(FromEvoM!AM418),\"\",FromEvoM!AM418)","v":""},{"$f":"IF(ISBLANK(FromEvoM!AN418),\"\",FromEvoM!AN418)","v":""},{"$f":"IF(ISBLANK(FromEvoM!AL418),\"\",FromEvoM!AL418)","v":""},{"$f":"IF(ISBLANK(FromEvoM!A418),\"\",IF(AND(AF418=\"y\",AI418=1),\"Y\",\"N\"))","v":""},{"$f":"IF(ISBLANK(FromEvoM!A418),\"\",IF(FromEvoM!AS418=\"Yes\",2,1))","v":""},{"$f":"IF(FromEvoM!W418=1,\"M\",IF(FromEvoM!W418=7,\"W\",\"\"))","v":""},{"$f":"IF(AJ418=\"Y\",0,IF(AJ418=\"N\",FromEvoM!AF418+FromEvoM!AT418,\"\"))","v":""},{"$f":"IF(AJ418=\"Y\",(FromEvoM!AE418+FromEvoM!AF418-FromEvoM!AT418),IF(AJ418=\"N\",FromEvoM!AE418,\"\"))","v":""}]
[{"$f":"IF(ISBLANK(FromEvoM!A419),\"\",Group_Code)","v":""},{"$f":"IF(ISBLANK(FromEvoM!A419),\"\",SUBSTITUTE(FromEvoM!A419,\" \",\"\"))","v":""},{"$f":"IF(ISBLANK(FromEvoM!C419),\"\",SUBSTITUTE(FromEvoM!G419,\" \",\"\"))","v":""},{"$f":"IF(ISBLANK(FromEvoM!D419),\"\",FromEvoM!B419)","v":""},{"$f":"IF(ISBLANK(FromEvoM!D419),\"\",FromEvoM!D419)","v":""},{"$f":"IF(ISBLANK(FromEvoM!C419),\"\",FromEvoM!C419)","v":""},{"$f":"REPLACE(FromEvoM!F419,2,6, )","v":""},{"$f":"IF(ISNUMBER(FromEvoM!E419),FromEvoM!E419,\"\")","v":""},{"$f":"IF(ISBLANK(FromEvoM!I419),\"\",FromEvoM!I419)","v":""},{"$f":"IF(ISBLANK(FromEvoM!J419),\"\",FromEvoM!J419)","v":""},{"$f":"IF(ISBLANK(FromEvoM!K419),\"\",FromEvoM!K419)","v":""},{"$f":"IF(ISBLANK(FromEvoM!L419),\"\",FromEvoM!L419)","v":""},{"$f":"IF(ISBLANK(FromEvoM!M419),\"\",FromEvoM!M419)","v":""},{"$f":"IF(ISBLANK(FromEvoM!P419),\"\",FromEvoM!P419)","v":""},null,{"$f":"IF(ISNUMBER(FromEvoM!X419),FromEvoM!X419,\"\")","v":""},{"$f":"IF(ISNUMBER(FromEvoM!AB419),FromEvoM!AB419,\"\")","v":""},{"$f":"IF(ISNUMBER(FromEvoM!AA419),FromEvoM!AA419,\"\")","v":""},null,"","",null,null,{"$f":"IF(FromEvoM!W419=1,(FromEvoM!AB419*12),IF(FromEvoM!W419=7,(FromEvoM!AR419),\"\"))","v":""},null,null,{"$f":"IF(ISBLANK(FromEvoM!A419),\"\",IF(FromEvoM!AK419=\"y\",\"Y\",\"N\"))","v":""},{"$f":"IF(ISBLANK(FromEvoM!A419),\"\",Category_ID)","v":""},null,null,null,{"$f":"IF(ISBLANK(FromEvoM!AK419),\"\",FromEvoM!AK419)","v":""},{"$f":"IF(ISBLANK(FromEvoM!AM419),\"\",FromEvoM!AM419)","v":""},{"$f":"IF(ISBLANK(FromEvoM!AN419),\"\",FromEvoM!AN419)","v":""},{"$f":"IF(ISBLANK(FromEvoM!AL419),\"\",FromEvoM!AL419)","v":""},{"$f":"IF(ISBLANK(FromEvoM!A419),\"\",IF(AND(AF419=\"y\",AI419=1),\"Y\",\"N\"))","v":""},{"$f":"IF(ISBLANK(FromEvoM!A419),\"\",IF(FromEvoM!AS419=\"Yes\",2,1))","v":""},{"$f":"IF(FromEvoM!W419=1,\"M\",IF(FromEvoM!W419=7,\"W\",\"\"))","v":""},{"$f":"IF(AJ419=\"Y\",0,IF(AJ419=\"N\",FromEvoM!AF419+FromEvoM!AT419,\"\"))","v":""},{"$f":"IF(AJ419=\"Y\",(FromEvoM!AE419+FromEvoM!AF419-FromEvoM!AT419),IF(AJ419=\"N\",FromEvoM!AE419,\"\"))","v":""}]
[{"$f":"IF(ISBLANK(FromEvoM!A420),\"\",Group_Code)","v":""},{"$f":"IF(ISBLANK(FromEvoM!A420),\"\",SUBSTITUTE(FromEvoM!A420,\" \",\"\"))","v":""},{"$f":"IF(ISBLANK(FromEvoM!C420),\"\",SUBSTITUTE(FromEvoM!G420,\" \",\"\"))","v":""},{"$f":"IF(ISBLANK(FromEvoM!D420),\"\",FromEvoM!B420)","v":""},{"$f":"IF(ISBLANK(FromEvoM!D420),\"\",FromEvoM!D420)","v":""},{"$f":"IF(ISBLANK(FromEvoM!C420),\"\",FromEvoM!C420)","v":""},{"$f":"REPLACE(FromEvoM!F420,2,6, )","v":""},{"$f":"IF(ISNUMBER(FromEvoM!E420),FromEvoM!E420,\"\")","v":""},{"$f":"IF(ISBLANK(FromEvoM!I420),\"\",FromEvoM!I420)","v":""},{"$f":"IF(ISBLANK(FromEvoM!J420),\"\",FromEvoM!J420)","v":""},{"$f":"IF(ISBLANK(FromEvoM!K420),\"\",FromEvoM!K420)","v":""},{"$f":"IF(ISBLANK(FromEvoM!L420),\"\",FromEvoM!L420)","v":""},{"$f":"IF(ISBLANK(FromEvoM!M420),\"\",FromEvoM!M420)","v":""},{"$f":"IF(ISBLANK(FromEvoM!P420),\"\",FromEvoM!P420)","v":""},null,{"$f":"IF(ISNUMBER(FromEvoM!X420),FromEvoM!X420,\"\")","v":""},{"$f":"IF(ISNUMBER(FromEvoM!AB420),FromEvoM!AB420,\"\")","v":""},{"$f":"IF(ISNUMBER(FromEvoM!AA420),FromEvoM!AA420,\"\")","v":""},null,"","",null,null,{"$f":"IF(FromEvoM!W420=1,(FromEvoM!AB420*12),IF(FromEvoM!W420=7,(FromEvoM!AR420),\"\"))","v":""},null,null,{"$f":"IF(ISBLANK(FromEvoM!A420),\"\",IF(FromEvoM!AK420=\"y\",\"Y\",\"N\"))","v":""},{"$f":"IF(ISBLANK(FromEvoM!A420),\"\",Category_ID)","v":""},null,null,null,{"$f":"IF(ISBLANK(FromEvoM!AK420),\"\",FromEvoM!AK420)","v":""},{"$f":"IF(ISBLANK(FromEvoM!AM420),\"\",FromEvoM!AM420)","v":""},{"$f":"IF(ISBLANK(FromEvoM!AN420),\"\",FromEvoM!AN420)","v":""},{"$f":"IF(ISBLANK(FromEvoM!AL420),\"\",FromEvoM!AL420)","v":""},{"$f":"IF(ISBLANK(FromEvoM!A420),\"\",IF(AND(AF420=\"y\",AI420=1),\"Y\",\"N\"))","v":""},{"$f":"IF(ISBLANK(FromEvoM!A420),\"\",IF(FromEvoM!AS420=\"Yes\",2,1))","v":""},{"$f":"IF(FromEvoM!W420=1,\"M\",IF(FromEvoM!W420=7,\"W\",\"\"))","v":""},{"$f":"IF(AJ420=\"Y\",0,IF(AJ420=\"N\",FromEvoM!AF420+FromEvoM!AT420,\"\"))","v":""},{"$f":"IF(AJ420=\"Y\",(FromEvoM!AE420+FromEvoM!AF420-FromEvoM!AT420),IF(AJ420=\"N\",FromEvoM!AE420,\"\"))","v":""}]
[{"$f":"IF(ISBLANK(FromEvoM!A421),\"\",Group_Code)","v":""},{"$f":"IF(ISBLANK(FromEvoM!A421),\"\",SUBSTITUTE(FromEvoM!A421,\" \",\"\"))","v":""},{"$f":"IF(ISBLANK(FromEvoM!C421),\"\",SUBSTITUTE(FromEvoM!G421,\" \",\"\"))","v":""},{"$f":"IF(ISBLANK(FromEvoM!D421),\"\",FromEvoM!B421)","v":""},{"$f":"IF(ISBLANK(FromEvoM!D421),\"\",FromEvoM!D421)","v":""},{"$f":"IF(ISBLANK(FromEvoM!C421),\"\",FromEvoM!C421)","v":""},{"$f":"REPLACE(FromEvoM!F421,2,6, )","v":""},{"$f":"IF(ISNUMBER(FromEvoM!E421),FromEvoM!E421,\"\")","v":""},{"$f":"IF(ISBLANK(FromEvoM!I421),\"\",FromEvoM!I421)","v":""},{"$f":"IF(ISBLANK(FromEvoM!J421),\"\",FromEvoM!J421)","v":""},{"$f":"IF(ISBLANK(FromEvoM!K421),\"\",FromEvoM!K421)","v":""},{"$f":"IF(ISBLANK(FromEvoM!L421),\"\",FromEvoM!L421)","v":""},{"$f":"IF(ISBLANK(FromEvoM!M421),\"\",FromEvoM!M421)","v":""},{"$f":"IF(ISBLANK(FromEvoM!P421),\"\",FromEvoM!P421)","v":""},null,{"$f":"IF(ISNUMBER(FromEvoM!X421),FromEvoM!X421,\"\")","v":""},{"$f":"IF(ISNUMBER(FromEvoM!AB421),FromEvoM!AB421,\"\")","v":""},{"$f":"IF(ISNUMBER(FromEvoM!AA421),FromEvoM!AA421,\"\")","v":""},null,"","",null,null,{"$f":"IF(FromEvoM!W421=1,(FromEvoM!AB421*12),IF(FromEvoM!W421=7,(FromEvoM!AR421),\"\"))","v":""},null,null,{"$f":"IF(ISBLANK(FromEvoM!A421),\"\",IF(FromEvoM!AK421=\"y\",\"Y\",\"N\"))","v":""},{"$f":"IF(ISBLANK(FromEvoM!A421),\"\",Category_ID)","v":""},null,null,null,{"$f":"IF(ISBLANK(FromEvoM!AK421),\"\",FromEvoM!AK421)","v":""},{"$f":"IF(ISBLANK(FromEvoM!AM421),\"\",FromEvoM!AM421)","v":""},{"$f":"IF(ISBLANK(FromEvoM!AN421),\"\",FromEvoM!AN421)","v":""},{"$f":"IF(ISBLANK(FromEvoM!AL421),\"\",FromEvoM!AL421)","v":""},{"$f":"IF(ISBLANK(FromEvoM!A421),\"\",IF(AND(AF421=\"y\",AI421=1),\"Y\",\"N\"))","v":""},{"$f":"IF(ISBLANK(FromEvoM!A421),\"\",IF(FromEvoM!AS421=\"Yes\",2,1))","v":""},{"$f":"IF(FromEvoM!W421=1,\"M\",IF(FromEvoM!W421=7,\"W\",\"\"))","v":""},{"$f":"IF(AJ421=\"Y\",0,IF(AJ421=\"N\",FromEvoM!AF421+FromEvoM!AT421,\"\"))","v":""},{"$f":"IF(AJ421=\"Y\",(FromEvoM!AE421+FromEvoM!AF421-FromEvoM!AT421),IF(AJ421=\"N\",FromEvoM!AE421,\"\"))","v":""}]
[{"$f":"IF(ISBLANK(FromEvoM!A422),\"\",Group_Code)","v":""},{"$f":"IF(ISBLANK(FromEvoM!A422),\"\",SUBSTITUTE(FromEvoM!A422,\" \",\"\"))","v":""},{"$f":"IF(ISBLANK(FromEvoM!C422),\"\",SUBSTITUTE(FromEvoM!G422,\" \",\"\"))","v":""},{"$f":"IF(ISBLANK(FromEvoM!D422),\"\",FromEvoM!B422)","v":""},{"$f":"IF(ISBLANK(FromEvoM!D422),\"\",FromEvoM!D422)","v":""},{"$f":"IF(ISBLANK(FromEvoM!C422),\"\",FromEvoM!C422)","v":""},{"$f":"REPLACE(FromEvoM!F422,2,6, )","v":""},{"$f":"IF(ISNUMBER(FromEvoM!E422),FromEvoM!E422,\"\")","v":""},{"$f":"IF(ISBLANK(FromEvoM!I422),\"\",FromEvoM!I422)","v":""},{"$f":"IF(ISBLANK(FromEvoM!J422),\"\",FromEvoM!J422)","v":""},{"$f":"IF(ISBLANK(FromEvoM!K422),\"\",FromEvoM!K422)","v":""},{"$f":"IF(ISBLANK(FromEvoM!L422),\"\",FromEvoM!L422)","v":""},{"$f":"IF(ISBLANK(FromEvoM!M422),\"\",FromEvoM!M422)","v":""},{"$f":"IF(ISBLANK(FromEvoM!P422),\"\",FromEvoM!P422)","v":""},null,{"$f":"IF(ISNUMBER(FromEvoM!X422),FromEvoM!X422,\"\")","v":""},{"$f":"IF(ISNUMBER(FromEvoM!AB422),FromEvoM!AB422,\"\")","v":""},{"$f":"IF(ISNUMBER(FromEvoM!AA422),FromEvoM!AA422,\"\")","v":""},null,"","",null,null,{"$f":"IF(FromEvoM!W422=1,(FromEvoM!AB422*12),IF(FromEvoM!W422=7,(FromEvoM!AR422),\"\"))","v":""},null,null,{"$f":"IF(ISBLANK(FromEvoM!A422),\"\",IF(FromEvoM!AK422=\"y\",\"Y\",\"N\"))","v":""},{"$f":"IF(ISBLANK(FromEvoM!A422),\"\",Category_ID)","v":""},null,null,null,{"$f":"IF(ISBLANK(FromEvoM!AK422),\"\",FromEvoM!AK422)","v":""},{"$f":"IF(ISBLANK(FromEvoM!AM422),\"\",FromEvoM!AM422)","v":""},{"$f":"IF(ISBLANK(FromEvoM!AN422),\"\",FromEvoM!AN422)","v":""},{"$f":"IF(ISBLANK(FromEvoM!AL422),\"\",FromEvoM!AL422)","v":""},{"$f":"IF(ISBLANK(FromEvoM!A422),\"\",IF(AND(AF422=\"y\",AI422=1),\"Y\",\"N\"))","v":""},{"$f":"IF(ISBLANK(FromEvoM!A422),\"\",IF(FromEvoM!AS422=\"Yes\",2,1))","v":""},{"$f":"IF(FromEvoM!W422=1,\"M\",IF(FromEvoM!W422=7,\"W\",\"\"))","v":""},{"$f":"IF(AJ422=\"Y\",0,IF(AJ422=\"N\",FromEvoM!AF422+FromEvoM!AT422,\"\"))","v":""},{"$f":"IF(AJ422=\"Y\",(FromEvoM!AE422+FromEvoM!AF422-FromEvoM!AT422),IF(AJ422=\"N\",FromEvoM!AE422,\"\"))","v":""}]
[{"$f":"IF(ISBLANK(FromEvoM!A423),\"\",Group_Code)","v":""},{"$f":"IF(ISBLANK(FromEvoM!A423),\"\",SUBSTITUTE(FromEvoM!A423,\" \",\"\"))","v":""},{"$f":"IF(ISBLANK(FromEvoM!C423),\"\",SUBSTITUTE(FromEvoM!G423,\" \",\"\"))","v":""},{"$f":"IF(ISBLANK(FromEvoM!D423),\"\",FromEvoM!B423)","v":""},{"$f":"IF(ISBLANK(FromEvoM!D423),\"\",FromEvoM!D423)","v":""},{"$f":"IF(ISBLANK(FromEvoM!C423),\"\",FromEvoM!C423)","v":""},{"$f":"REPLACE(FromEvoM!F423,2,6, )","v":""},{"$f":"IF(ISNUMBER(FromEvoM!E423),FromEvoM!E423,\"\")","v":""},{"$f":"IF(ISBLANK(FromEvoM!I423),\"\",FromEvoM!I423)","v":""},{"$f":"IF(ISBLANK(FromEvoM!J423),\"\",FromEvoM!J423)","v":""},{"$f":"IF(ISBLANK(FromEvoM!K423),\"\",FromEvoM!K423)","v":""},{"$f":"IF(ISBLANK(FromEvoM!L423),\"\",FromEvoM!L423)","v":""},{"$f":"IF(ISBLANK(FromEvoM!M423),\"\",FromEvoM!M423)","v":""},{"$f":"IF(ISBLANK(FromEvoM!P423),\"\",FromEvoM!P423)","v":""},null,{"$f":"IF(ISNUMBER(FromEvoM!X423),FromEvoM!X423,\"\")","v":""},{"$f":"IF(ISNUMBER(FromEvoM!AB423),FromEvoM!AB423,\"\")","v":""},{"$f":"IF(ISNUMBER(FromEvoM!AA423),FromEvoM!AA423,\"\")","v":""},null,"","",null,null,{"$f":"IF(FromEvoM!W423=1,(FromEvoM!AB423*12),IF(FromEvoM!W423=7,(FromEvoM!AR423),\"\"))","v":""},null,null,{"$f":"IF(ISBLANK(FromEvoM!A423),\"\",IF(FromEvoM!AK423=\"y\",\"Y\",\"N\"))","v":""},{"$f":"IF(ISBLANK(FromEvoM!A423),\"\",Category_ID)","v":""},null,null,null,{"$f":"IF(ISBLANK(FromEvoM!AK423),\"\",FromEvoM!AK423)","v":""},{"$f":"IF(ISBLANK(FromEvoM!AM423),\"\",FromEvoM!AM423)","v":""},{"$f":"IF(ISBLANK(FromEvoM!AN423),\"\",FromEvoM!AN423)","v":""},{"$f":"IF(ISBLANK(FromEvoM!AL423),\"\",FromEvoM!AL423)","v":""},{"$f":"IF(ISBLANK(FromEvoM!A423),\"\",IF(AND(AF423=\"y\",AI423=1),\"Y\",\"N\"))","v":""},{"$f":"IF(ISBLANK(FromEvoM!A423),\"\",IF(FromEvoM!AS423=\"Yes\",2,1))","v":""},{"$f":"IF(FromEvoM!W423=1,\"M\",IF(FromEvoM!W423=7,\"W\",\"\"))","v":""},{"$f":"IF(AJ423=\"Y\",0,IF(AJ423=\"N\",FromEvoM!AF423+FromEvoM!AT423,\"\"))","v":""},{"$f":"IF(AJ423=\"Y\",(FromEvoM!AE423+FromEvoM!AF423-FromEvoM!AT423),IF(AJ423=\"N\",FromEvoM!AE423,\"\"))","v":""}]
[{"$f":"IF(ISBLANK(FromEvoM!A424),\"\",Group_Code)","v":""},{"$f":"IF(ISBLANK(FromEvoM!A424),\"\",SUBSTITUTE(FromEvoM!A424,\" \",\"\"))","v":""},{"$f":"IF(ISBLANK(FromEvoM!C424),\"\",SUBSTITUTE(FromEvoM!G424,\" \",\"\"))","v":""},{"$f":"IF(ISBLANK(FromEvoM!D424),\"\",FromEvoM!B424)","v":""},{"$f":"IF(ISBLANK(FromEvoM!D424),\"\",FromEvoM!D424)","v":""},{"$f":"IF(ISBLANK(FromEvoM!C424),\"\",FromEvoM!C424)","v":""},{"$f":"REPLACE(FromEvoM!F424,2,6, )","v":""},{"$f":"IF(ISNUMBER(FromEvoM!E424),FromEvoM!E424,\"\")","v":""},{"$f":"IF(ISBLANK(FromEvoM!I424),\"\",FromEvoM!I424)","v":""},{"$f":"IF(ISBLANK(FromEvoM!J424),\"\",FromEvoM!J424)","v":""},{"$f":"IF(ISBLANK(FromEvoM!K424),\"\",FromEvoM!K424)","v":""},{"$f":"IF(ISBLANK(FromEvoM!L424),\"\",FromEvoM!L424)","v":""},{"$f":"IF(ISBLANK(FromEvoM!M424),\"\",FromEvoM!M424)","v":""},{"$f":"IF(ISBLANK(FromEvoM!P424),\"\",FromEvoM!P424)","v":""},null,{"$f":"IF(ISNUMBER(FromEvoM!X424),FromEvoM!X424,\"\")","v":""},{"$f":"IF(ISNUMBER(FromEvoM!AB424),FromEvoM!AB424,\"\")","v":""},{"$f":"IF(ISNUMBER(FromEvoM!AA424),FromEvoM!AA424,\"\")","v":""},null,"","",null,null,{"$f":"IF(FromEvoM!W424=1,(FromEvoM!AB424*12),IF(FromEvoM!W424=7,(FromEvoM!AR424),\"\"))","v":""},null,null,{"$f":"IF(ISBLANK(FromEvoM!A424),\"\",IF(FromEvoM!AK424=\"y\",\"Y\",\"N\"))","v":""},{"$f":"IF(ISBLANK(FromEvoM!A424),\"\",Category_ID)","v":""},null,null,null,{"$f":"IF(ISBLANK(FromEvoM!AK424),\"\",FromEvoM!AK424)","v":""},{"$f":"IF(ISBLANK(FromEvoM!AM424),\"\",FromEvoM!AM424)","v":""},{"$f":"IF(ISBLANK(FromEvoM!AN424),\"\",FromEvoM!AN424)","v":""},{"$f":"IF(ISBLANK(FromEvoM!AL424),\"\",FromEvoM!AL424)","v":""},{"$f":"IF(ISBLANK(FromEvoM!A424),\"\",IF(AND(AF424=\"y\",AI424=1),\"Y\",\"N\"))","v":""},{"$f":"IF(ISBLANK(FromEvoM!A424),\"\",IF(FromEvoM!AS424=\"Yes\",2,1))","v":""},{"$f":"IF(FromEvoM!W424=1,\"M\",IF(FromEvoM!W424=7,\"W\",\"\"))","v":""},{"$f":"IF(AJ424=\"Y\",0,IF(AJ424=\"N\",FromEvoM!AF424+FromEvoM!AT424,\"\"))","v":""},{"$f":"IF(AJ424=\"Y\",(FromEvoM!AE424+FromEvoM!AF424-FromEvoM!AT424),IF(AJ424=\"N\",FromEvoM!AE424,\"\"))","v":""}]
[{"$f":"IF(ISBLANK(FromEvoM!A425),\"\",Group_Code)","v":""},{"$f":"IF(ISBLANK(FromEvoM!A425),\"\",SUBSTITUTE(FromEvoM!A425,\" \",\"\"))","v":""},{"$f":"IF(ISBLANK(FromEvoM!C425),\"\",SUBSTITUTE(FromEvoM!G425,\" \",\"\"))","v":""},{"$f":"IF(ISBLANK(FromEvoM!D425),\"\",FromEvoM!B425)","v":""},{"$f":"IF(ISBLANK(FromEvoM!D425),\"\",FromEvoM!D425)","v":""},{"$f":"IF(ISBLANK(FromEvoM!C425),\"\",FromEvoM!C425)","v":""},{"$f":"REPLACE(FromEvoM!F425,2,6, )","v":""},{"$f":"IF(ISNUMBER(FromEvoM!E425),FromEvoM!E425,\"\")","v":""},{"$f":"IF(ISBLANK(FromEvoM!I425),\"\",FromEvoM!I425)","v":""},{"$f":"IF(ISBLANK(FromEvoM!J425),\"\",FromEvoM!J425)","v":""},{"$f":"IF(ISBLANK(FromEvoM!K425),\"\",FromEvoM!K425)","v":""},{"$f":"IF(ISBLANK(FromEvoM!L425),\"\",FromEvoM!L425)","v":""},{"$f":"IF(ISBLANK(FromEvoM!M425),\"\",FromEvoM!M425)","v":""},{"$f":"IF(ISBLANK(FromEvoM!P425),\"\",FromEvoM!P425)","v":""},null,{"$f":"IF(ISNUMBER(FromEvoM!X425),FromEvoM!X425,\"\")","v":""},{"$f":"IF(ISNUMBER(FromEvoM!AB425),FromEvoM!AB425,\"\")","v":""},{"$f":"IF(ISNUMBER(FromEvoM!AA425),FromEvoM!AA425,\"\")","v":""},null,"","",null,null,{"$f":"IF(FromEvoM!W425=1,(FromEvoM!AB425*12),IF(FromEvoM!W425=7,(FromEvoM!AR425),\"\"))","v":""},null,null,{"$f":"IF(ISBLANK(FromEvoM!A425),\"\",IF(FromEvoM!AK425=\"y\",\"Y\",\"N\"))","v":""},{"$f":"IF(ISBLANK(FromEvoM!A425),\"\",Category_ID)","v":""},null,null,null,{"$f":"IF(ISBLANK(FromEvoM!AK425),\"\",FromEvoM!AK425)","v":""},{"$f":"IF(ISBLANK(FromEvoM!AM425),\"\",FromEvoM!AM425)","v":""},{"$f":"IF(ISBLANK(FromEvoM!AN425),\"\",FromEvoM!AN425)","v":""},{"$f":"IF(ISBLANK(FromEvoM!AL425),\"\",FromEvoM!AL425)","v":""},{"$f":"IF(ISBLANK(FromEvoM!A425),\"\",IF(AND(AF425=\"y\",AI425=1),\"Y\",\"N\"))","v":""},{"$f":"IF(ISBLANK(FromEvoM!A425),\"\",IF(FromEvoM!AS425=\"Yes\",2,1))","v":""},{"$f":"IF(FromEvoM!W425=1,\"M\",IF(FromEvoM!W425=7,\"W\",\"\"))","v":""},{"$f":"IF(AJ425=\"Y\",0,IF(AJ425=\"N\",FromEvoM!AF425+FromEvoM!AT425,\"\"))","v":""},{"$f":"IF(AJ425=\"Y\",(FromEvoM!AE425+FromEvoM!AF425-FromEvoM!AT425),IF(AJ425=\"N\",FromEvoM!AE425,\"\"))","v":""}]
[{"$f":"IF(ISBLANK(FromEvoM!A426),\"\",Group_Code)","v":""},{"$f":"IF(ISBLANK(FromEvoM!A426),\"\",SUBSTITUTE(FromEvoM!A426,\" \",\"\"))","v":""},{"$f":"IF(ISBLANK(FromEvoM!C426),\"\",SUBSTITUTE(FromEvoM!G426,\" \",\"\"))","v":""},{"$f":"IF(ISBLANK(FromEvoM!D426),\"\",FromEvoM!B426)","v":""},{"$f":"IF(ISBLANK(FromEvoM!D426),\"\",FromEvoM!D426)","v":""},{"$f":"IF(ISBLANK(FromEvoM!C426),\"\",FromEvoM!C426)","v":""},{"$f":"REPLACE(FromEvoM!F426,2,6, )","v":""},{"$f":"IF(ISNUMBER(FromEvoM!E426),FromEvoM!E426,\"\")","v":""},{"$f":"IF(ISBLANK(FromEvoM!I426),\"\",FromEvoM!I426)","v":""},{"$f":"IF(ISBLANK(FromEvoM!J426),\"\",FromEvoM!J426)","v":""},{"$f":"IF(ISBLANK(FromEvoM!K426),\"\",FromEvoM!K426)","v":""},{"$f":"IF(ISBLANK(FromEvoM!L426),\"\",FromEvoM!L426)","v":""},{"$f":"IF(ISBLANK(FromEvoM!M426),\"\",FromEvoM!M426)","v":""},{"$f":"IF(ISBLANK(FromEvoM!P426),\"\",FromEvoM!P426)","v":""},null,{"$f":"IF(ISNUMBER(FromEvoM!X426),FromEvoM!X426,\"\")","v":""},{"$f":"IF(ISNUMBER(FromEvoM!AB426),FromEvoM!AB426,\"\")","v":""},{"$f":"IF(ISNUMBER(FromEvoM!AA426),FromEvoM!AA426,\"\")","v":""},null,"","",null,null,{"$f":"IF(FromEvoM!W426=1,(FromEvoM!AB426*12),IF(FromEvoM!W426=7,(FromEvoM!AR426),\"\"))","v":""},null,null,{"$f":"IF(ISBLANK(FromEvoM!A426),\"\",IF(FromEvoM!AK426=\"y\",\"Y\",\"N\"))","v":""},{"$f":"IF(ISBLANK(FromEvoM!A426),\"\",Category_ID)","v":""},null,null,null,{"$f":"IF(ISBLANK(FromEvoM!AK426),\"\",FromEvoM!AK426)","v":""},{"$f":"IF(ISBLANK(FromEvoM!AM426),\"\",FromEvoM!AM426)","v":""},{"$f":"IF(ISBLANK(FromEvoM!AN426),\"\",FromEvoM!AN426)","v":""},{"$f":"IF(ISBLANK(FromEvoM!AL426),\"\",FromEvoM!AL426)","v":""},{"$f":"IF(ISBLANK(FromEvoM!A426),\"\",IF(AND(AF426=\"y\",AI426=1),\"Y\",\"N\"))","v":""},{"$f":"IF(ISBLANK(FromEvoM!A426),\"\",IF(FromEvoM!AS426=\"Yes\",2,1))","v":""},{"$f":"IF(FromEvoM!W426=1,\"M\",IF(FromEvoM!W426=7,\"W\",\"\"))","v":""},{"$f":"IF(AJ426=\"Y\",0,IF(AJ426=\"N\",FromEvoM!AF426+FromEvoM!AT426,\"\"))","v":""},{"$f":"IF(AJ426=\"Y\",(FromEvoM!AE426+FromEvoM!AF426-FromEvoM!AT426),IF(AJ426=\"N\",FromEvoM!AE426,\"\"))","v":""}]
[{"$f":"IF(ISBLANK(FromEvoM!A427),\"\",Group_Code)","v":""},{"$f":"IF(ISBLANK(FromEvoM!A427),\"\",SUBSTITUTE(FromEvoM!A427,\" \",\"\"))","v":""},{"$f":"IF(ISBLANK(FromEvoM!C427),\"\",SUBSTITUTE(FromEvoM!G427,\" \",\"\"))","v":""},{"$f":"IF(ISBLANK(FromEvoM!D427),\"\",FromEvoM!B427)","v":""},{"$f":"IF(ISBLANK(FromEvoM!D427),\"\",FromEvoM!D427)","v":""},{"$f":"IF(ISBLANK(FromEvoM!C427),\"\",FromEvoM!C427)","v":""},{"$f":"REPLACE(FromEvoM!F427,2,6, )","v":""},{"$f":"IF(ISNUMBER(FromEvoM!E427),FromEvoM!E427,\"\")","v":""},{"$f":"IF(ISBLANK(FromEvoM!I427),\"\",FromEvoM!I427)","v":""},{"$f":"IF(ISBLANK(FromEvoM!J427),\"\",FromEvoM!J427)","v":""},{"$f":"IF(ISBLANK(FromEvoM!K427),\"\",FromEvoM!K427)","v":""},{"$f":"IF(ISBLANK(FromEvoM!L427),\"\",FromEvoM!L427)","v":""},{"$f":"IF(ISBLANK(FromEvoM!M427),\"\",FromEvoM!M427)","v":""},{"$f":"IF(ISBLANK(FromEvoM!P427),\"\",FromEvoM!P427)","v":""},null,{"$f":"IF(ISNUMBER(FromEvoM!X427),FromEvoM!X427,\"\")","v":""},{"$f":"IF(ISNUMBER(FromEvoM!AB427),FromEvoM!AB427,\"\")","v":""},{"$f":"IF(ISNUMBER(FromEvoM!AA427),FromEvoM!AA427,\"\")","v":""},null,"","",null,null,{"$f":"IF(FromEvoM!W427=1,(FromEvoM!AB427*12),IF(FromEvoM!W427=7,(FromEvoM!AR427),\"\"))","v":""},null,null,{"$f":"IF(ISBLANK(FromEvoM!A427),\"\",IF(FromEvoM!AK427=\"y\",\"Y\",\"N\"))","v":""},{"$f":"IF(ISBLANK(FromEvoM!A427),\"\",Category_ID)","v":""},null,null,null,{"$f":"IF(ISBLANK(FromEvoM!AK427),\"\",FromEvoM!AK427)","v":""},{"$f":"IF(ISBLANK(FromEvoM!AM427),\"\",FromEvoM!AM427)","v":""},{"$f":"IF(ISBLANK(FromEvoM!AN427),\"\",FromEvoM!AN427)","v":""},{"$f":"IF(ISBLANK(FromEvoM!AL427),\"\",FromEvoM!AL427)","v":""},{"$f":"IF(ISBLANK(FromEvoM!A427),\"\",IF(AND(AF427=\"y\",AI427=1),\"Y\",\"N\"))","v":""},{"$f":"IF(ISBLANK(FromEvoM!A427),\"\",IF(FromEvoM!AS427=\"Yes\",2,1))","v":""},{"$f":"IF(FromEvoM!W427=1,\"M\",IF(FromEvoM!W427=7,\"W\",\"\"))","v":""},{"$f":"IF(AJ427=\"Y\",0,IF(AJ427=\"N\",FromEvoM!AF427+FromEvoM!AT427,\"\"))","v":""},{"$f":"IF(AJ427=\"Y\",(FromEvoM!AE427+FromEvoM!AF427-FromEvoM!AT427),IF(AJ427=\"N\",FromEvoM!AE427,\"\"))","v":""}]
[{"$f":"IF(ISBLANK(FromEvoM!A428),\"\",Group_Code)","v":""},{"$f":"IF(ISBLANK(FromEvoM!A428),\"\",SUBSTITUTE(FromEvoM!A428,\" \",\"\"))","v":""},{"$f":"IF(ISBLANK(FromEvoM!C428),\"\",SUBSTITUTE(FromEvoM!G428,\" \",\"\"))","v":""},{"$f":"IF(ISBLANK(FromEvoM!D428),\"\",FromEvoM!B428)","v":""},{"$f":"IF(ISBLANK(FromEvoM!D428),\"\",FromEvoM!D428)","v":""},{"$f":"IF(ISBLANK(FromEvoM!C428),\"\",FromEvoM!C428)","v":""},{"$f":"REPLACE(FromEvoM!F428,2,6, )","v":""},{"$f":"IF(ISNUMBER(FromEvoM!E428),FromEvoM!E428,\"\")","v":""},{"$f":"IF(ISBLANK(FromEvoM!I428),\"\",FromEvoM!I428)","v":""},{"$f":"IF(ISBLANK(FromEvoM!J428),\"\",FromEvoM!J428)","v":""},{"$f":"IF(ISBLANK(FromEvoM!K428),\"\",FromEvoM!K428)","v":""},{"$f":"IF(ISBLANK(FromEvoM!L428),\"\",FromEvoM!L428)","v":""},{"$f":"IF(ISBLANK(FromEvoM!M428),\"\",FromEvoM!M428)","v":""},{"$f":"IF(ISBLANK(FromEvoM!P428),\"\",FromEvoM!P428)","v":""},null,{"$f":"IF(ISNUMBER(FromEvoM!X428),FromEvoM!X428,\"\")","v":""},{"$f":"IF(ISNUMBER(FromEvoM!AB428),FromEvoM!AB428,\"\")","v":""},{"$f":"IF(ISNUMBER(FromEvoM!AA428),FromEvoM!AA428,\"\")","v":""},null,"","",null,null,{"$f":"IF(FromEvoM!W428=1,(FromEvoM!AB428*12),IF(FromEvoM!W428=7,(FromEvoM!AR428),\"\"))","v":""},null,null,{"$f":"IF(ISBLANK(FromEvoM!A428),\"\",IF(FromEvoM!AK428=\"y\",\"Y\",\"N\"))","v":""},{"$f":"IF(ISBLANK(FromEvoM!A428),\"\",Category_ID)","v":""},null,null,null,{"$f":"IF(ISBLANK(FromEvoM!AK428),\"\",FromEvoM!AK428)","v":""},{"$f":"IF(ISBLANK(FromEvoM!AM428),\"\",FromEvoM!AM428)","v":""},{"$f":"IF(ISBLANK(FromEvoM!AN428),\"\",FromEvoM!AN428)","v":""},{"$f":"IF(ISBLANK(FromEvoM!AL428),\"\",FromEvoM!AL428)","v":""},{"$f":"IF(ISBLANK(FromEvoM!A428),\"\",IF(AND(AF428=\"y\",AI428=1),\"Y\",\"N\"))","v":""},{"$f":"IF(ISBLANK(FromEvoM!A428),\"\",IF(FromEvoM!AS428=\"Yes\",2,1))","v":""},{"$f":"IF(FromEvoM!W428=1,\"M\",IF(FromEvoM!W428=7,\"W\",\"\"))","v":""},{"$f":"IF(AJ428=\"Y\",0,IF(AJ428=\"N\",FromEvoM!AF428+FromEvoM!AT428,\"\"))","v":""},{"$f":"IF(AJ428=\"Y\",(FromEvoM!AE428+FromEvoM!AF428-FromEvoM!AT428),IF(AJ428=\"N\",FromEvoM!AE428,\"\"))","v":""}]
[{"$f":"IF(ISBLANK(FromEvoM!A429),\"\",Group_Code)","v":""},{"$f":"IF(ISBLANK(FromEvoM!A429),\"\",SUBSTITUTE(FromEvoM!A429,\" \",\"\"))","v":""},{"$f":"IF(ISBLANK(FromEvoM!C429),\"\",SUBSTITUTE(FromEvoM!G429,\" \",\"\"))","v":""},{"$f":"IF(ISBLANK(FromEvoM!D429),\"\",FromEvoM!B429)","v":""},{"$f":"IF(ISBLANK(FromEvoM!D429),\"\",FromEvoM!D429)","v":""},{"$f":"IF(ISBLANK(FromEvoM!C429),\"\",FromEvoM!C429)","v":""},{"$f":"REPLACE(FromEvoM!F429,2,6, )","v":""},{"$f":"IF(ISNUMBER(FromEvoM!E429),FromEvoM!E429,\"\")","v":""},{"$f":"IF(ISBLANK(FromEvoM!I429),\"\",FromEvoM!I429)","v":""},{"$f":"IF(ISBLANK(FromEvoM!J429),\"\",FromEvoM!J429)","v":""},{"$f":"IF(ISBLANK(FromEvoM!K429),\"\",FromEvoM!K429)","v":""},{"$f":"IF(ISBLANK(FromEvoM!L429),\"\",FromEvoM!L429)","v":""},{"$f":"IF(ISBLANK(FromEvoM!M429),\"\",FromEvoM!M429)","v":""},{"$f":"IF(ISBLANK(FromEvoM!P429),\"\",FromEvoM!P429)","v":""},null,{"$f":"IF(ISNUMBER(FromEvoM!X429),FromEvoM!X429,\"\")","v":""},{"$f":"IF(ISNUMBER(FromEvoM!AB429),FromEvoM!AB429,\"\")","v":""},{"$f":"IF(ISNUMBER(FromEvoM!AA429),FromEvoM!AA429,\"\")","v":""},null,"","",null,null,{"$f":"IF(FromEvoM!W429=1,(FromEvoM!AB429*12),IF(FromEvoM!W429=7,(FromEvoM!AR429),\"\"))","v":""},null,null,{"$f":"IF(ISBLANK(FromEvoM!A429),\"\",IF(FromEvoM!AK429=\"y\",\"Y\",\"N\"))","v":""},{"$f":"IF(ISBLANK(FromEvoM!A429),\"\",Category_ID)","v":""},null,null,null,{"$f":"IF(ISBLANK(FromEvoM!AK429),\"\",FromEvoM!AK429)","v":""},{"$f":"IF(ISBLANK(FromEvoM!AM429),\"\",FromEvoM!AM429)","v":""},{"$f":"IF(ISBLANK(FromEvoM!AN429),\"\",FromEvoM!AN429)","v":""},{"$f":"IF(ISBLANK(FromEvoM!AL429),\"\",FromEvoM!AL429)","v":""},{"$f":"IF(ISBLANK(FromEvoM!A429),\"\",IF(AND(AF429=\"y\",AI429=1),\"Y\",\"N\"))","v":""},{"$f":"IF(ISBLANK(FromEvoM!A429),\"\",IF(FromEvoM!AS429=\"Yes\",2,1))","v":""},{"$f":"IF(FromEvoM!W429=1,\"M\",IF(FromEvoM!W429=7,\"W\",\"\"))","v":""},{"$f":"IF(AJ429=\"Y\",0,IF(AJ429=\"N\",FromEvoM!AF429+FromEvoM!AT429,\"\"))","v":""},{"$f":"IF(AJ429=\"Y\",(FromEvoM!AE429+FromEvoM!AF429-FromEvoM!AT429),IF(AJ429=\"N\",FromEvoM!AE429,\"\"))","v":""}]
[{"$f":"IF(ISBLANK(FromEvoM!A430),\"\",Group_Code)","v":""},{"$f":"IF(ISBLANK(FromEvoM!A430),\"\",SUBSTITUTE(FromEvoM!A430,\" \",\"\"))","v":""},{"$f":"IF(ISBLANK(FromEvoM!C430),\"\",SUBSTITUTE(FromEvoM!G430,\" \",\"\"))","v":""},{"$f":"IF(ISBLANK(FromEvoM!D430),\"\",FromEvoM!B430)","v":""},{"$f":"IF(ISBLANK(FromEvoM!D430),\"\",FromEvoM!D430)","v":""},{"$f":"IF(ISBLANK(FromEvoM!C430),\"\",FromEvoM!C430)","v":""},{"$f":"REPLACE(FromEvoM!F430,2,6, )","v":""},{"$f":"IF(ISNUMBER(FromEvoM!E430),FromEvoM!E430,\"\")","v":""},{"$f":"IF(ISBLANK(FromEvoM!I430),\"\",FromEvoM!I430)","v":""},{"$f":"IF(ISBLANK(FromEvoM!J430),\"\",FromEvoM!J430)","v":""},{"$f":"IF(ISBLANK(FromEvoM!K430),\"\",FromEvoM!K430)","v":""},{"$f":"IF(ISBLANK(FromEvoM!L430),\"\",FromEvoM!L430)","v":""},{"$f":"IF(ISBLANK(FromEvoM!M430),\"\",FromEvoM!M430)","v":""},{"$f":"IF(ISBLANK(FromEvoM!P430),\"\",FromEvoM!P430)","v":""},null,{"$f":"IF(ISNUMBER(FromEvoM!X430),FromEvoM!X430,\"\")","v":""},{"$f":"IF(ISNUMBER(FromEvoM!AB430),FromEvoM!AB430,\"\")","v":""},{"$f":"IF(ISNUMBER(FromEvoM!AA430),FromEvoM!AA430,\"\")","v":""},null,"","",null,null,{"$f":"IF(FromEvoM!W430=1,(FromEvoM!AB430*12),IF(FromEvoM!W430=7,(FromEvoM!AR430),\"\"))","v":""},null,null,{"$f":"IF(ISBLANK(FromEvoM!A430),\"\",IF(FromEvoM!AK430=\"y\",\"Y\",\"N\"))","v":""},{"$f":"IF(ISBLANK(FromEvoM!A430),\"\",Category_ID)","v":""},null,null,null,{"$f":"IF(ISBLANK(FromEvoM!AK430),\"\",FromEvoM!AK430)","v":""},{"$f":"IF(ISBLANK(FromEvoM!AM430),\"\",FromEvoM!AM430)","v":""},{"$f":"IF(ISBLANK(FromEvoM!AN430),\"\",FromEvoM!AN430)","v":""},{"$f":"IF(ISBLANK(FromEvoM!AL430),\"\",FromEvoM!AL430)","v":""},{"$f":"IF(ISBLANK(FromEvoM!A430),\"\",IF(AND(AF430=\"y\",AI430=1),\"Y\",\"N\"))","v":""},{"$f":"IF(ISBLANK(FromEvoM!A430),\"\",IF(FromEvoM!AS430=\"Yes\",2,1))","v":""},{"$f":"IF(FromEvoM!W430=1,\"M\",IF(FromEvoM!W430=7,\"W\",\"\"))","v":""},{"$f":"IF(AJ430=\"Y\",0,IF(AJ430=\"N\",FromEvoM!AF430+FromEvoM!AT430,\"\"))","v":""},{"$f":"IF(AJ430=\"Y\",(FromEvoM!AE430+FromEvoM!AF430-FromEvoM!AT430),IF(AJ430=\"N\",FromEvoM!AE430,\"\"))","v":""}]
[{"$f":"IF(ISBLANK(FromEvoM!A431),\"\",Group_Code)","v":""},{"$f":"IF(ISBLANK(FromEvoM!A431),\"\",SUBSTITUTE(FromEvoM!A431,\" \",\"\"))","v":""},{"$f":"IF(ISBLANK(FromEvoM!C431),\"\",SUBSTITUTE(FromEvoM!G431,\" \",\"\"))","v":""},{"$f":"IF(ISBLANK(FromEvoM!D431),\"\",FromEvoM!B431)","v":""},{"$f":"IF(ISBLANK(FromEvoM!D431),\"\",FromEvoM!D431)","v":""},{"$f":"IF(ISBLANK(FromEvoM!C431),\"\",FromEvoM!C431)","v":""},{"$f":"REPLACE(FromEvoM!F431,2,6, )","v":""},{"$f":"IF(ISNUMBER(FromEvoM!E431),FromEvoM!E431,\"\")","v":""},{"$f":"IF(ISBLANK(FromEvoM!I431),\"\",FromEvoM!I431)","v":""},{"$f":"IF(ISBLANK(FromEvoM!J431),\"\",FromEvoM!J431)","v":""},{"$f":"IF(ISBLANK(FromEvoM!K431),\"\",FromEvoM!K431)","v":""},{"$f":"IF(ISBLANK(FromEvoM!L431),\"\",FromEvoM!L431)","v":""},{"$f":"IF(ISBLANK(FromEvoM!M431),\"\",FromEvoM!M431)","v":""},{"$f":"IF(ISBLANK(FromEvoM!P431),\"\",FromEvoM!P431)","v":""},null,{"$f":"IF(ISNUMBER(FromEvoM!X431),FromEvoM!X431,\"\")","v":""},{"$f":"IF(ISNUMBER(FromEvoM!AB431),FromEvoM!AB431,\"\")","v":""},{"$f":"IF(ISNUMBER(FromEvoM!AA431),FromEvoM!AA431,\"\")","v":""},null,"","",null,null,{"$f":"IF(FromEvoM!W431=1,(FromEvoM!AB431*12),IF(FromEvoM!W431=7,(FromEvoM!AR431),\"\"))","v":""},null,null,{"$f":"IF(ISBLANK(FromEvoM!A431),\"\",IF(FromEvoM!AK431=\"y\",\"Y\",\"N\"))","v":""},{"$f":"IF(ISBLANK(FromEvoM!A431),\"\",Category_ID)","v":""},null,null,null,{"$f":"IF(ISBLANK(FromEvoM!AK431),\"\",FromEvoM!AK431)","v":""},{"$f":"IF(ISBLANK(FromEvoM!AM431),\"\",FromEvoM!AM431)","v":""},{"$f":"IF(ISBLANK(FromEvoM!AN431),\"\",FromEvoM!AN431)","v":""},{"$f":"IF(ISBLANK(FromEvoM!AL431),\"\",FromEvoM!AL431)","v":""},{"$f":"IF(ISBLANK(FromEvoM!A431),\"\",IF(AND(AF431=\"y\",AI431=1),\"Y\",\"N\"))","v":""},{"$f":"IF(ISBLANK(FromEvoM!A431),\"\",IF(FromEvoM!AS431=\"Yes\",2,1))","v":""},{"$f":"IF(FromEvoM!W431=1,\"M\",IF(FromEvoM!W431=7,\"W\",\"\"))","v":""},{"$f":"IF(AJ431=\"Y\",0,IF(AJ431=\"N\",FromEvoM!AF431+FromEvoM!AT431,\"\"))","v":""},{"$f":"IF(AJ431=\"Y\",(FromEvoM!AE431+FromEvoM!AF431-FromEvoM!AT431),IF(AJ431=\"N\",FromEvoM!AE431,\"\"))","v":""}]
[{"$f":"IF(ISBLANK(FromEvoM!A432),\"\",Group_Code)","v":""},{"$f":"IF(ISBLANK(FromEvoM!A432),\"\",SUBSTITUTE(FromEvoM!A432,\" \",\"\"))","v":""},{"$f":"IF(ISBLANK(FromEvoM!C432),\"\",SUBSTITUTE(FromEvoM!G432,\" \",\"\"))","v":""},{"$f":"IF(ISBLANK(FromEvoM!D432),\"\",FromEvoM!B432)","v":""},{"$f":"IF(ISBLANK(FromEvoM!D432),\"\",FromEvoM!D432)","v":""},{"$f":"IF(ISBLANK(FromEvoM!C432),\"\",FromEvoM!C432)","v":""},{"$f":"REPLACE(FromEvoM!F432,2,6, )","v":""},{"$f":"IF(ISNUMBER(FromEvoM!E432),FromEvoM!E432,\"\")","v":""},{"$f":"IF(ISBLANK(FromEvoM!I432),\"\",FromEvoM!I432)","v":""},{"$f":"IF(ISBLANK(FromEvoM!J432),\"\",FromEvoM!J432)","v":""},{"$f":"IF(ISBLANK(FromEvoM!K432),\"\",FromEvoM!K432)","v":""},{"$f":"IF(ISBLANK(FromEvoM!L432),\"\",FromEvoM!L432)","v":""},{"$f":"IF(ISBLANK(FromEvoM!M432),\"\",FromEvoM!M432)","v":""},{"$f":"IF(ISBLANK(FromEvoM!P432),\"\",FromEvoM!P432)","v":""},null,{"$f":"IF(ISNUMBER(FromEvoM!X432),FromEvoM!X432,\"\")","v":""},{"$f":"IF(ISNUMBER(FromEvoM!AB432),FromEvoM!AB432,\"\")","v":""},{"$f":"IF(ISNUMBER(FromEvoM!AA432),FromEvoM!AA432,\"\")","v":""},null,"","",null,null,{"$f":"IF(FromEvoM!W432=1,(FromEvoM!AB432*12),IF(FromEvoM!W432=7,(FromEvoM!AR432),\"\"))","v":""},null,null,{"$f":"IF(ISBLANK(FromEvoM!A432),\"\",IF(FromEvoM!AK432=\"y\",\"Y\",\"N\"))","v":""},{"$f":"IF(ISBLANK(FromEvoM!A432),\"\",Category_ID)","v":""},null,null,null,{"$f":"IF(ISBLANK(FromEvoM!AK432),\"\",FromEvoM!AK432)","v":""},{"$f":"IF(ISBLANK(FromEvoM!AM432),\"\",FromEvoM!AM432)","v":""},{"$f":"IF(ISBLANK(FromEvoM!AN432),\"\",FromEvoM!AN432)","v":""},{"$f":"IF(ISBLANK(FromEvoM!AL432),\"\",FromEvoM!AL432)","v":""},{"$f":"IF(ISBLANK(FromEvoM!A432),\"\",IF(AND(AF432=\"y\",AI432=1),\"Y\",\"N\"))","v":""},{"$f":"IF(ISBLANK(FromEvoM!A432),\"\",IF(FromEvoM!AS432=\"Yes\",2,1))","v":""},{"$f":"IF(FromEvoM!W432=1,\"M\",IF(FromEvoM!W432=7,\"W\",\"\"))","v":""},{"$f":"IF(AJ432=\"Y\",0,IF(AJ432=\"N\",FromEvoM!AF432+FromEvoM!AT432,\"\"))","v":""},{"$f":"IF(AJ432=\"Y\",(FromEvoM!AE432+FromEvoM!AF432-FromEvoM!AT432),IF(AJ432=\"N\",FromEvoM!AE432,\"\"))","v":""}]
[{"$f":"IF(ISBLANK(FromEvoM!A433),\"\",Group_Code)","v":""},{"$f":"IF(ISBLANK(FromEvoM!A433),\"\",SUBSTITUTE(FromEvoM!A433,\" \",\"\"))","v":""},{"$f":"IF(ISBLANK(FromEvoM!C433),\"\",SUBSTITUTE(FromEvoM!G433,\" \",\"\"))","v":""},{"$f":"IF(ISBLANK(FromEvoM!D433),\"\",FromEvoM!B433)","v":""},{"$f":"IF(ISBLANK(FromEvoM!D433),\"\",FromEvoM!D433)","v":""},{"$f":"IF(ISBLANK(FromEvoM!C433),\"\",FromEvoM!C433)","v":""},{"$f":"REPLACE(FromEvoM!F433,2,6, )","v":""},{"$f":"IF(ISNUMBER(FromEvoM!E433),FromEvoM!E433,\"\")","v":""},{"$f":"IF(ISBLANK(FromEvoM!I433),\"\",FromEvoM!I433)","v":""},{"$f":"IF(ISBLANK(FromEvoM!J433),\"\",FromEvoM!J433)","v":""},{"$f":"IF(ISBLANK(FromEvoM!K433),\"\",FromEvoM!K433)","v":""},{"$f":"IF(ISBLANK(FromEvoM!L433),\"\",FromEvoM!L433)","v":""},{"$f":"IF(ISBLANK(FromEvoM!M433),\"\",FromEvoM!M433)","v":""},{"$f":"IF(ISBLANK(FromEvoM!P433),\"\",FromEvoM!P433)","v":""},null,{"$f":"IF(ISNUMBER(FromEvoM!X433),FromEvoM!X433,\"\")","v":""},{"$f":"IF(ISNUMBER(FromEvoM!AB433),FromEvoM!AB433,\"\")","v":""},{"$f":"IF(ISNUMBER(FromEvoM!AA433),FromEvoM!AA433,\"\")","v":""},null,"","",null,null,{"$f":"IF(FromEvoM!W433=1,(FromEvoM!AB433*12),IF(FromEvoM!W433=7,(FromEvoM!AR433),\"\"))","v":""},null,null,{"$f":"IF(ISBLANK(FromEvoM!A433),\"\",IF(FromEvoM!AK433=\"y\",\"Y\",\"N\"))","v":""},{"$f":"IF(ISBLANK(FromEvoM!A433),\"\",Category_ID)","v":""},null,null,null,{"$f":"IF(ISBLANK(FromEvoM!AK433),\"\",FromEvoM!AK433)","v":""},{"$f":"IF(ISBLANK(FromEvoM!AM433),\"\",FromEvoM!AM433)","v":""},{"$f":"IF(ISBLANK(FromEvoM!AN433),\"\",FromEvoM!AN433)","v":""},{"$f":"IF(ISBLANK(FromEvoM!AL433),\"\",FromEvoM!AL433)","v":""},{"$f":"IF(ISBLANK(FromEvoM!A433),\"\",IF(AND(AF433=\"y\",AI433=1),\"Y\",\"N\"))","v":""},{"$f":"IF(ISBLANK(FromEvoM!A433),\"\",IF(FromEvoM!AS433=\"Yes\",2,1))","v":""},{"$f":"IF(FromEvoM!W433=1,\"M\",IF(FromEvoM!W433=7,\"W\",\"\"))","v":""},{"$f":"IF(AJ433=\"Y\",0,IF(AJ433=\"N\",FromEvoM!AF433+FromEvoM!AT433,\"\"))","v":""},{"$f":"IF(AJ433=\"Y\",(FromEvoM!AE433+FromEvoM!AF433-FromEvoM!AT433),IF(AJ433=\"N\",FromEvoM!AE433,\"\"))","v":""}]
[{"$f":"IF(ISBLANK(FromEvoM!A434),\"\",Group_Code)","v":""},{"$f":"IF(ISBLANK(FromEvoM!A434),\"\",SUBSTITUTE(FromEvoM!A434,\" \",\"\"))","v":""},{"$f":"IF(ISBLANK(FromEvoM!C434),\"\",SUBSTITUTE(FromEvoM!G434,\" \",\"\"))","v":""},{"$f":"IF(ISBLANK(FromEvoM!D434),\"\",FromEvoM!B434)","v":""},{"$f":"IF(ISBLANK(FromEvoM!D434),\"\",FromEvoM!D434)","v":""},{"$f":"IF(ISBLANK(FromEvoM!C434),\"\",FromEvoM!C434)","v":""},{"$f":"REPLACE(FromEvoM!F434,2,6, )","v":""},{"$f":"IF(ISNUMBER(FromEvoM!E434),FromEvoM!E434,\"\")","v":""},{"$f":"IF(ISBLANK(FromEvoM!I434),\"\",FromEvoM!I434)","v":""},{"$f":"IF(ISBLANK(FromEvoM!J434),\"\",FromEvoM!J434)","v":""},{"$f":"IF(ISBLANK(FromEvoM!K434),\"\",FromEvoM!K434)","v":""},{"$f":"IF(ISBLANK(FromEvoM!L434),\"\",FromEvoM!L434)","v":""},{"$f":"IF(ISBLANK(FromEvoM!M434),\"\",FromEvoM!M434)","v":""},{"$f":"IF(ISBLANK(FromEvoM!P434),\"\",FromEvoM!P434)","v":""},null,{"$f":"IF(ISNUMBER(FromEvoM!X434),FromEvoM!X434,\"\")","v":""},{"$f":"IF(ISNUMBER(FromEvoM!AB434),FromEvoM!AB434,\"\")","v":""},{"$f":"IF(ISNUMBER(FromEvoM!AA434),FromEvoM!AA434,\"\")","v":""},null,"","",null,null,{"$f":"IF(FromEvoM!W434=1,(FromEvoM!AB434*12),IF(FromEvoM!W434=7,(FromEvoM!AR434),\"\"))","v":""},null,null,{"$f":"IF(ISBLANK(FromEvoM!A434),\"\",IF(FromEvoM!AK434=\"y\",\"Y\",\"N\"))","v":""},{"$f":"IF(ISBLANK(FromEvoM!A434),\"\",Category_ID)","v":""},null,null,null,{"$f":"IF(ISBLANK(FromEvoM!AK434),\"\",FromEvoM!AK434)","v":""},{"$f":"IF(ISBLANK(FromEvoM!AM434),\"\",FromEvoM!AM434)","v":""},{"$f":"IF(ISBLANK(FromEvoM!AN434),\"\",FromEvoM!AN434)","v":""},{"$f":"IF(ISBLANK(FromEvoM!AL434),\"\",FromEvoM!AL434)","v":""},{"$f":"IF(ISBLANK(FromEvoM!A434),\"\",IF(AND(AF434=\"y\",AI434=1),\"Y\",\"N\"))","v":""},{"$f":"IF(ISBLANK(FromEvoM!A434),\"\",IF(FromEvoM!AS434=\"Yes\",2,1))","v":""},{"$f":"IF(FromEvoM!W434=1,\"M\",IF(FromEvoM!W434=7,\"W\",\"\"))","v":""},{"$f":"IF(AJ434=\"Y\",0,IF(AJ434=\"N\",FromEvoM!AF434+FromEvoM!AT434,\"\"))","v":""},{"$f":"IF(AJ434=\"Y\",(FromEvoM!AE434+FromEvoM!AF434-FromEvoM!AT434),IF(AJ434=\"N\",FromEvoM!AE434,\"\"))","v":""}]
[{"$f":"IF(ISBLANK(FromEvoM!A435),\"\",Group_Code)","v":""},{"$f":"IF(ISBLANK(FromEvoM!A435),\"\",SUBSTITUTE(FromEvoM!A435,\" \",\"\"))","v":""},{"$f":"IF(ISBLANK(FromEvoM!C435),\"\",SUBSTITUTE(FromEvoM!G435,\" \",\"\"))","v":""},{"$f":"IF(ISBLANK(FromEvoM!D435),\"\",FromEvoM!B435)","v":""},{"$f":"IF(ISBLANK(FromEvoM!D435),\"\",FromEvoM!D435)","v":""},{"$f":"IF(ISBLANK(FromEvoM!C435),\"\",FromEvoM!C435)","v":""},{"$f":"REPLACE(FromEvoM!F435,2,6, )","v":""},{"$f":"IF(ISNUMBER(FromEvoM!E435),FromEvoM!E435,\"\")","v":""},{"$f":"IF(ISBLANK(FromEvoM!I435),\"\",FromEvoM!I435)","v":""},{"$f":"IF(ISBLANK(FromEvoM!J435),\"\",FromEvoM!J435)","v":""},{"$f":"IF(ISBLANK(FromEvoM!K435),\"\",FromEvoM!K435)","v":""},{"$f":"IF(ISBLANK(FromEvoM!L435),\"\",FromEvoM!L435)","v":""},{"$f":"IF(ISBLANK(FromEvoM!M435),\"\",FromEvoM!M435)","v":""},{"$f":"IF(ISBLANK(FromEvoM!P435),\"\",FromEvoM!P435)","v":""},null,{"$f":"IF(ISNUMBER(FromEvoM!X435),FromEvoM!X435,\"\")","v":""},{"$f":"IF(ISNUMBER(FromEvoM!AB435),FromEvoM!AB435,\"\")","v":""},{"$f":"IF(ISNUMBER(FromEvoM!AA435),FromEvoM!AA435,\"\")","v":""},null,"","",null,null,{"$f":"IF(FromEvoM!W435=1,(FromEvoM!AB435*12),IF(FromEvoM!W435=7,(FromEvoM!AR435),\"\"))","v":""},null,null,{"$f":"IF(ISBLANK(FromEvoM!A435),\"\",IF(FromEvoM!AK435=\"y\",\"Y\",\"N\"))","v":""},{"$f":"IF(ISBLANK(FromEvoM!A435),\"\",Category_ID)","v":""},null,null,null,{"$f":"IF(ISBLANK(FromEvoM!AK435),\"\",FromEvoM!AK435)","v":""},{"$f":"IF(ISBLANK(FromEvoM!AM435),\"\",FromEvoM!AM435)","v":""},{"$f":"IF(ISBLANK(FromEvoM!AN435),\"\",FromEvoM!AN435)","v":""},{"$f":"IF(ISBLANK(FromEvoM!AL435),\"\",FromEvoM!AL435)","v":""},{"$f":"IF(ISBLANK(FromEvoM!A435),\"\",IF(AND(AF435=\"y\",AI435=1),\"Y\",\"N\"))","v":""},{"$f":"IF(ISBLANK(FromEvoM!A435),\"\",IF(FromEvoM!AS435=\"Yes\",2,1))","v":""},{"$f":"IF(FromEvoM!W435=1,\"M\",IF(FromEvoM!W435=7,\"W\",\"\"))","v":""},{"$f":"IF(AJ435=\"Y\",0,IF(AJ435=\"N\",FromEvoM!AF435+FromEvoM!AT435,\"\"))","v":""},{"$f":"IF(AJ435=\"Y\",(FromEvoM!AE435+FromEvoM!AF435-FromEvoM!AT435),IF(AJ435=\"N\",FromEvoM!AE435,\"\"))","v":""}]
[{"$f":"IF(ISBLANK(FromEvoM!A436),\"\",Group_Code)","v":""},{"$f":"IF(ISBLANK(FromEvoM!A436),\"\",SUBSTITUTE(FromEvoM!A436,\" \",\"\"))","v":""},{"$f":"IF(ISBLANK(FromEvoM!C436),\"\",SUBSTITUTE(FromEvoM!G436,\" \",\"\"))","v":""},{"$f":"IF(ISBLANK(FromEvoM!D436),\"\",FromEvoM!B436)","v":""},{"$f":"IF(ISBLANK(FromEvoM!D436),\"\",FromEvoM!D436)","v":""},{"$f":"IF(ISBLANK(FromEvoM!C436),\"\",FromEvoM!C436)","v":""},{"$f":"REPLACE(FromEvoM!F436,2,6, )","v":""},{"$f":"IF(ISNUMBER(FromEvoM!E436),FromEvoM!E436,\"\")","v":""},{"$f":"IF(ISBLANK(FromEvoM!I436),\"\",FromEvoM!I436)","v":""},{"$f":"IF(ISBLANK(FromEvoM!J436),\"\",FromEvoM!J436)","v":""},{"$f":"IF(ISBLANK(FromEvoM!K436),\"\",FromEvoM!K436)","v":""},{"$f":"IF(ISBLANK(FromEvoM!L436),\"\",FromEvoM!L436)","v":""},{"$f":"IF(ISBLANK(FromEvoM!M436),\"\",FromEvoM!M436)","v":""},{"$f":"IF(ISBLANK(FromEvoM!P436),\"\",FromEvoM!P436)","v":""},null,{"$f":"IF(ISNUMBER(FromEvoM!X436),FromEvoM!X436,\"\")","v":""},{"$f":"IF(ISNUMBER(FromEvoM!AB436),FromEvoM!AB436,\"\")","v":""},{"$f":"IF(ISNUMBER(FromEvoM!AA436),FromEvoM!AA436,\"\")","v":""},null,"","",null,null,{"$f":"IF(FromEvoM!W436=1,(FromEvoM!AB436*12),IF(FromEvoM!W436=7,(FromEvoM!AR436),\"\"))","v":""},null,null,{"$f":"IF(ISBLANK(FromEvoM!A436),\"\",IF(FromEvoM!AK436=\"y\",\"Y\",\"N\"))","v":""},{"$f":"IF(ISBLANK(FromEvoM!A436),\"\",Category_ID)","v":""},null,null,null,{"$f":"IF(ISBLANK(FromEvoM!AK436),\"\",FromEvoM!AK436)","v":""},{"$f":"IF(ISBLANK(FromEvoM!AM436),\"\",FromEvoM!AM436)","v":""},{"$f":"IF(ISBLANK(FromEvoM!AN436),\"\",FromEvoM!AN436)","v":""},{"$f":"IF(ISBLANK(FromEvoM!AL436),\"\",FromEvoM!AL436)","v":""},{"$f":"IF(ISBLANK(FromEvoM!A436),\"\",IF(AND(AF436=\"y\",AI436=1),\"Y\",\"N\"))","v":""},{"$f":"IF(ISBLANK(FromEvoM!A436),\"\",IF(FromEvoM!AS436=\"Yes\",2,1))","v":""},{"$f":"IF(FromEvoM!W436=1,\"M\",IF(FromEvoM!W436=7,\"W\",\"\"))","v":""},{"$f":"IF(AJ436=\"Y\",0,IF(AJ436=\"N\",FromEvoM!AF436+FromEvoM!AT436,\"\"))","v":""},{"$f":"IF(AJ436=\"Y\",(FromEvoM!AE436+FromEvoM!AF436-FromEvoM!AT436),IF(AJ436=\"N\",FromEvoM!AE436,\"\"))","v":""}]
[{"$f":"IF(ISBLANK(FromEvoM!A437),\"\",Group_Code)","v":""},{"$f":"IF(ISBLANK(FromEvoM!A437),\"\",SUBSTITUTE(FromEvoM!A437,\" \",\"\"))","v":""},{"$f":"IF(ISBLANK(FromEvoM!C437),\"\",SUBSTITUTE(FromEvoM!G437,\" \",\"\"))","v":""},{"$f":"IF(ISBLANK(FromEvoM!D437),\"\",FromEvoM!B437)","v":""},{"$f":"IF(ISBLANK(FromEvoM!D437),\"\",FromEvoM!D437)","v":""},{"$f":"IF(ISBLANK(FromEvoM!C437),\"\",FromEvoM!C437)","v":""},{"$f":"REPLACE(FromEvoM!F437,2,6, )","v":""},{"$f":"IF(ISNUMBER(FromEvoM!E437),FromEvoM!E437,\"\")","v":""},{"$f":"IF(ISBLANK(FromEvoM!I437),\"\",FromEvoM!I437)","v":""},{"$f":"IF(ISBLANK(FromEvoM!J437),\"\",FromEvoM!J437)","v":""},{"$f":"IF(ISBLANK(FromEvoM!K437),\"\",FromEvoM!K437)","v":""},{"$f":"IF(ISBLANK(FromEvoM!L437),\"\",FromEvoM!L437)","v":""},{"$f":"IF(ISBLANK(FromEvoM!M437),\"\",FromEvoM!M437)","v":""},{"$f":"IF(ISBLANK(FromEvoM!P437),\"\",FromEvoM!P437)","v":""},null,{"$f":"IF(ISNUMBER(FromEvoM!X437),FromEvoM!X437,\"\")","v":""},{"$f":"IF(ISNUMBER(FromEvoM!AB437),FromEvoM!AB437,\"\")","v":""},{"$f":"IF(ISNUMBER(FromEvoM!AA437),FromEvoM!AA437,\"\")","v":""},null,"","",null,null,{"$f":"IF(FromEvoM!W437=1,(FromEvoM!AB437*12),IF(FromEvoM!W437=7,(FromEvoM!AR437),\"\"))","v":""},null,null,{"$f":"IF(ISBLANK(FromEvoM!A437),\"\",IF(FromEvoM!AK437=\"y\",\"Y\",\"N\"))","v":""},{"$f":"IF(ISBLANK(FromEvoM!A437),\"\",Category_ID)","v":""},null,null,null,{"$f":"IF(ISBLANK(FromEvoM!AK437),\"\",FromEvoM!AK437)","v":""},{"$f":"IF(ISBLANK(FromEvoM!AM437),\"\",FromEvoM!AM437)","v":""},{"$f":"IF(ISBLANK(FromEvoM!AN437),\"\",FromEvoM!AN437)","v":""},{"$f":"IF(ISBLANK(FromEvoM!AL437),\"\",FromEvoM!AL437)","v":""},{"$f":"IF(ISBLANK(FromEvoM!A437),\"\",IF(AND(AF437=\"y\",AI437=1),\"Y\",\"N\"))","v":""},{"$f":"IF(ISBLANK(FromEvoM!A437),\"\",IF(FromEvoM!AS437=\"Yes\",2,1))","v":""},{"$f":"IF(FromEvoM!W437=1,\"M\",IF(FromEvoM!W437=7,\"W\",\"\"))","v":""},{"$f":"IF(AJ437=\"Y\",0,IF(AJ437=\"N\",FromEvoM!AF437+FromEvoM!AT437,\"\"))","v":""},{"$f":"IF(AJ437=\"Y\",(FromEvoM!AE437+FromEvoM!AF437-FromEvoM!AT437),IF(AJ437=\"N\",FromEvoM!AE437,\"\"))","v":""}]
[{"$f":"IF(ISBLANK(FromEvoM!A438),\"\",Group_Code)","v":""},{"$f":"IF(ISBLANK(FromEvoM!A438),\"\",SUBSTITUTE(FromEvoM!A438,\" \",\"\"))","v":""},{"$f":"IF(ISBLANK(FromEvoM!C438),\"\",SUBSTITUTE(FromEvoM!G438,\" \",\"\"))","v":""},{"$f":"IF(ISBLANK(FromEvoM!D438),\"\",FromEvoM!B438)","v":""},{"$f":"IF(ISBLANK(FromEvoM!D438),\"\",FromEvoM!D438)","v":""},{"$f":"IF(ISBLANK(FromEvoM!C438),\"\",FromEvoM!C438)","v":""},{"$f":"REPLACE(FromEvoM!F438,2,6, )","v":""},{"$f":"IF(ISNUMBER(FromEvoM!E438),FromEvoM!E438,\"\")","v":""},{"$f":"IF(ISBLANK(FromEvoM!I438),\"\",FromEvoM!I438)","v":""},{"$f":"IF(ISBLANK(FromEvoM!J438),\"\",FromEvoM!J438)","v":""},{"$f":"IF(ISBLANK(FromEvoM!K438),\"\",FromEvoM!K438)","v":""},{"$f":"IF(ISBLANK(FromEvoM!L438),\"\",FromEvoM!L438)","v":""},{"$f":"IF(ISBLANK(FromEvoM!M438),\"\",FromEvoM!M438)","v":""},{"$f":"IF(ISBLANK(FromEvoM!P438),\"\",FromEvoM!P438)","v":""},null,{"$f":"IF(ISNUMBER(FromEvoM!X438),FromEvoM!X438,\"\")","v":""},{"$f":"IF(ISNUMBER(FromEvoM!AB438),FromEvoM!AB438,\"\")","v":""},{"$f":"IF(ISNUMBER(FromEvoM!AA438),FromEvoM!AA438,\"\")","v":""},null,"","",null,null,{"$f":"IF(FromEvoM!W438=1,(FromEvoM!AB438*12),IF(FromEvoM!W438=7,(FromEvoM!AR438),\"\"))","v":""},null,null,{"$f":"IF(ISBLANK(FromEvoM!A438),\"\",IF(FromEvoM!AK438=\"y\",\"Y\",\"N\"))","v":""},{"$f":"IF(ISBLANK(FromEvoM!A438),\"\",Category_ID)","v":""},null,null,null,{"$f":"IF(ISBLANK(FromEvoM!AK438),\"\",FromEvoM!AK438)","v":""},{"$f":"IF(ISBLANK(FromEvoM!AM438),\"\",FromEvoM!AM438)","v":""},{"$f":"IF(ISBLANK(FromEvoM!AN438),\"\",FromEvoM!AN438)","v":""},{"$f":"IF(ISBLANK(FromEvoM!AL438),\"\",FromEvoM!AL438)","v":""},{"$f":"IF(ISBLANK(FromEvoM!A438),\"\",IF(AND(AF438=\"y\",AI438=1),\"Y\",\"N\"))","v":""},{"$f":"IF(ISBLANK(FromEvoM!A438),\"\",IF(FromEvoM!AS438=\"Yes\",2,1))","v":""},{"$f":"IF(FromEvoM!W438=1,\"M\",IF(FromEvoM!W438=7,\"W\",\"\"))","v":""},{"$f":"IF(AJ438=\"Y\",0,IF(AJ438=\"N\",FromEvoM!AF438+FromEvoM!AT438,\"\"))","v":""},{"$f":"IF(AJ438=\"Y\",(FromEvoM!AE438+FromEvoM!AF438-FromEvoM!AT438),IF(AJ438=\"N\",FromEvoM!AE438,\"\"))","v":""}]
[{"$f":"IF(ISBLANK(FromEvoM!A439),\"\",Group_Code)","v":""},{"$f":"IF(ISBLANK(FromEvoM!A439),\"\",SUBSTITUTE(FromEvoM!A439,\" \",\"\"))","v":""},{"$f":"IF(ISBLANK(FromEvoM!C439),\"\",SUBSTITUTE(FromEvoM!G439,\" \",\"\"))","v":""},{"$f":"IF(ISBLANK(FromEvoM!D439),\"\",FromEvoM!B439)","v":""},{"$f":"IF(ISBLANK(FromEvoM!D439),\"\",FromEvoM!D439)","v":""},{"$f":"IF(ISBLANK(FromEvoM!C439),\"\",FromEvoM!C439)","v":""},{"$f":"REPLACE(FromEvoM!F439,2,6, )","v":""},{"$f":"IF(ISNUMBER(FromEvoM!E439),FromEvoM!E439,\"\")","v":""},{"$f":"IF(ISBLANK(FromEvoM!I439),\"\",FromEvoM!I439)","v":""},{"$f":"IF(ISBLANK(FromEvoM!J439),\"\",FromEvoM!J439)","v":""},{"$f":"IF(ISBLANK(FromEvoM!K439),\"\",FromEvoM!K439)","v":""},{"$f":"IF(ISBLANK(FromEvoM!L439),\"\",FromEvoM!L439)","v":""},{"$f":"IF(ISBLANK(FromEvoM!M439),\"\",FromEvoM!M439)","v":""},{"$f":"IF(ISBLANK(FromEvoM!P439),\"\",FromEvoM!P439)","v":""},null,{"$f":"IF(ISNUMBER(FromEvoM!X439),FromEvoM!X439,\"\")","v":""},{"$f":"IF(ISNUMBER(FromEvoM!AB439),FromEvoM!AB439,\"\")","v":""},{"$f":"IF(ISNUMBER(FromEvoM!AA439),FromEvoM!AA439,\"\")","v":""},null,"","",null,null,{"$f":"IF(FromEvoM!W439=1,(FromEvoM!AB439*12),IF(FromEvoM!W439=7,(FromEvoM!AR439),\"\"))","v":""},null,null,{"$f":"IF(ISBLANK(FromEvoM!A439),\"\",IF(FromEvoM!AK439=\"y\",\"Y\",\"N\"))","v":""},{"$f":"IF(ISBLANK(FromEvoM!A439),\"\",Category_ID)","v":""},null,null,null,{"$f":"IF(ISBLANK(FromEvoM!AK439),\"\",FromEvoM!AK439)","v":""},{"$f":"IF(ISBLANK(FromEvoM!AM439),\"\",FromEvoM!AM439)","v":""},{"$f":"IF(ISBLANK(FromEvoM!AN439),\"\",FromEvoM!AN439)","v":""},{"$f":"IF(ISBLANK(FromEvoM!AL439),\"\",FromEvoM!AL439)","v":""},{"$f":"IF(ISBLANK(FromEvoM!A439),\"\",IF(AND(AF439=\"y\",AI439=1),\"Y\",\"N\"))","v":""},{"$f":"IF(ISBLANK(FromEvoM!A439),\"\",IF(FromEvoM!AS439=\"Yes\",2,1))","v":""},{"$f":"IF(FromEvoM!W439=1,\"M\",IF(FromEvoM!W439=7,\"W\",\"\"))","v":""},{"$f":"IF(AJ439=\"Y\",0,IF(AJ439=\"N\",FromEvoM!AF439+FromEvoM!AT439,\"\"))","v":""},{"$f":"IF(AJ439=\"Y\",(FromEvoM!AE439+FromEvoM!AF439-FromEvoM!AT439),IF(AJ439=\"N\",FromEvoM!AE439,\"\"))","v":""}]
[{"$f":"IF(ISBLANK(FromEvoM!A440),\"\",Group_Code)","v":""},{"$f":"IF(ISBLANK(FromEvoM!A440),\"\",SUBSTITUTE(FromEvoM!A440,\" \",\"\"))","v":""},{"$f":"IF(ISBLANK(FromEvoM!C440),\"\",SUBSTITUTE(FromEvoM!G440,\" \",\"\"))","v":""},{"$f":"IF(ISBLANK(FromEvoM!D440),\"\",FromEvoM!B440)","v":""},{"$f":"IF(ISBLANK(FromEvoM!D440),\"\",FromEvoM!D440)","v":""},{"$f":"IF(ISBLANK(FromEvoM!C440),\"\",FromEvoM!C440)","v":""},{"$f":"REPLACE(FromEvoM!F440,2,6, )","v":""},{"$f":"IF(ISNUMBER(FromEvoM!E440),FromEvoM!E440,\"\")","v":""},{"$f":"IF(ISBLANK(FromEvoM!I440),\"\",FromEvoM!I440)","v":""},{"$f":"IF(ISBLANK(FromEvoM!J440),\"\",FromEvoM!J440)","v":""},{"$f":"IF(ISBLANK(FromEvoM!K440),\"\",FromEvoM!K440)","v":""},{"$f":"IF(ISBLANK(FromEvoM!L440),\"\",FromEvoM!L440)","v":""},{"$f":"IF(ISBLANK(FromEvoM!M440),\"\",FromEvoM!M440)","v":""},{"$f":"IF(ISBLANK(FromEvoM!P440),\"\",FromEvoM!P440)","v":""},null,{"$f":"IF(ISNUMBER(FromEvoM!X440),FromEvoM!X440,\"\")","v":""},{"$f":"IF(ISNUMBER(FromEvoM!AB440),FromEvoM!AB440,\"\")","v":""},{"$f":"IF(ISNUMBER(FromEvoM!AA440),FromEvoM!AA440,\"\")","v":""},null,"","",null,null,{"$f":"IF(FromEvoM!W440=1,(FromEvoM!AB440*12),IF(FromEvoM!W440=7,(FromEvoM!AR440),\"\"))","v":""},null,null,{"$f":"IF(ISBLANK(FromEvoM!A440),\"\",IF(FromEvoM!AK440=\"y\",\"Y\",\"N\"))","v":""},{"$f":"IF(ISBLANK(FromEvoM!A440),\"\",Category_ID)","v":""},null,null,null,{"$f":"IF(ISBLANK(FromEvoM!AK440),\"\",FromEvoM!AK440)","v":""},{"$f":"IF(ISBLANK(FromEvoM!AM440),\"\",FromEvoM!AM440)","v":""},{"$f":"IF(ISBLANK(FromEvoM!AN440),\"\",FromEvoM!AN440)","v":""},{"$f":"IF(ISBLANK(FromEvoM!AL440),\"\",FromEvoM!AL440)","v":""},{"$f":"IF(ISBLANK(FromEvoM!A440),\"\",IF(AND(AF440=\"y\",AI440=1),\"Y\",\"N\"))","v":""},{"$f":"IF(ISBLANK(FromEvoM!A440),\"\",IF(FromEvoM!AS440=\"Yes\",2,1))","v":""},{"$f":"IF(FromEvoM!W440=1,\"M\",IF(FromEvoM!W440=7,\"W\",\"\"))","v":""},{"$f":"IF(AJ440=\"Y\",0,IF(AJ440=\"N\",FromEvoM!AF440+FromEvoM!AT440,\"\"))","v":""},{"$f":"IF(AJ440=\"Y\",(FromEvoM!AE440+FromEvoM!AF440-FromEvoM!AT440),IF(AJ440=\"N\",FromEvoM!AE440,\"\"))","v":""}]
[{"$f":"IF(ISBLANK(FromEvoM!A441),\"\",Group_Code)","v":""},{"$f":"IF(ISBLANK(FromEvoM!A441),\"\",SUBSTITUTE(FromEvoM!A441,\" \",\"\"))","v":""},{"$f":"IF(ISBLANK(FromEvoM!C441),\"\",SUBSTITUTE(FromEvoM!G441,\" \",\"\"))","v":""},{"$f":"IF(ISBLANK(FromEvoM!D441),\"\",FromEvoM!B441)","v":""},{"$f":"IF(ISBLANK(FromEvoM!D441),\"\",FromEvoM!D441)","v":""},{"$f":"IF(ISBLANK(FromEvoM!C441),\"\",FromEvoM!C441)","v":""},{"$f":"REPLACE(FromEvoM!F441,2,6, )","v":""},{"$f":"IF(ISNUMBER(FromEvoM!E441),FromEvoM!E441,\"\")","v":""},{"$f":"IF(ISBLANK(FromEvoM!I441),\"\",FromEvoM!I441)","v":""},{"$f":"IF(ISBLANK(FromEvoM!J441),\"\",FromEvoM!J441)","v":""},{"$f":"IF(ISBLANK(FromEvoM!K441),\"\",FromEvoM!K441)","v":""},{"$f":"IF(ISBLANK(FromEvoM!L441),\"\",FromEvoM!L441)","v":""},{"$f":"IF(ISBLANK(FromEvoM!M441),\"\",FromEvoM!M441)","v":""},{"$f":"IF(ISBLANK(FromEvoM!P441),\"\",FromEvoM!P441)","v":""},null,{"$f":"IF(ISNUMBER(FromEvoM!X441),FromEvoM!X441,\"\")","v":""},{"$f":"IF(ISNUMBER(FromEvoM!AB441),FromEvoM!AB441,\"\")","v":""},{"$f":"IF(ISNUMBER(FromEvoM!AA441),FromEvoM!AA441,\"\")","v":""},null,"","",null,null,{"$f":"IF(FromEvoM!W441=1,(FromEvoM!AB441*12),IF(FromEvoM!W441=7,(FromEvoM!AR441),\"\"))","v":""},null,null,{"$f":"IF(ISBLANK(FromEvoM!A441),\"\",IF(FromEvoM!AK441=\"y\",\"Y\",\"N\"))","v":""},{"$f":"IF(ISBLANK(FromEvoM!A441),\"\",Category_ID)","v":""},null,null,null,{"$f":"IF(ISBLANK(FromEvoM!AK441),\"\",FromEvoM!AK441)","v":""},{"$f":"IF(ISBLANK(FromEvoM!AM441),\"\",FromEvoM!AM441)","v":""},{"$f":"IF(ISBLANK(FromEvoM!AN441),\"\",FromEvoM!AN441)","v":""},{"$f":"IF(ISBLANK(FromEvoM!AL441),\"\",FromEvoM!AL441)","v":""},{"$f":"IF(ISBLANK(FromEvoM!A441),\"\",IF(AND(AF441=\"y\",AI441=1),\"Y\",\"N\"))","v":""},{"$f":"IF(ISBLANK(FromEvoM!A441),\"\",IF(FromEvoM!AS441=\"Yes\",2,1))","v":""},{"$f":"IF(FromEvoM!W441=1,\"M\",IF(FromEvoM!W441=7,\"W\",\"\"))","v":""},{"$f":"IF(AJ441=\"Y\",0,IF(AJ441=\"N\",FromEvoM!AF441+FromEvoM!AT441,\"\"))","v":""},{"$f":"IF(AJ441=\"Y\",(FromEvoM!AE441+FromEvoM!AF441-FromEvoM!AT441),IF(AJ441=\"N\",FromEvoM!AE441,\"\"))","v":""}]
[{"$f":"IF(ISBLANK(FromEvoM!A442),\"\",Group_Code)","v":""},{"$f":"IF(ISBLANK(FromEvoM!A442),\"\",SUBSTITUTE(FromEvoM!A442,\" \",\"\"))","v":""},{"$f":"IF(ISBLANK(FromEvoM!C442),\"\",SUBSTITUTE(FromEvoM!G442,\" \",\"\"))","v":""},{"$f":"IF(ISBLANK(FromEvoM!D442),\"\",FromEvoM!B442)","v":""},{"$f":"IF(ISBLANK(FromEvoM!D442),\"\",FromEvoM!D442)","v":""},{"$f":"IF(ISBLANK(FromEvoM!C442),\"\",FromEvoM!C442)","v":""},{"$f":"REPLACE(FromEvoM!F442,2,6, )","v":""},{"$f":"IF(ISNUMBER(FromEvoM!E442),FromEvoM!E442,\"\")","v":""},{"$f":"IF(ISBLANK(FromEvoM!I442),\"\",FromEvoM!I442)","v":""},{"$f":"IF(ISBLANK(FromEvoM!J442),\"\",FromEvoM!J442)","v":""},{"$f":"IF(ISBLANK(FromEvoM!K442),\"\",FromEvoM!K442)","v":""},{"$f":"IF(ISBLANK(FromEvoM!L442),\"\",FromEvoM!L442)","v":""},{"$f":"IF(ISBLANK(FromEvoM!M442),\"\",FromEvoM!M442)","v":""},{"$f":"IF(ISBLANK(FromEvoM!P442),\"\",FromEvoM!P442)","v":""},null,{"$f":"IF(ISNUMBER(FromEvoM!X442),FromEvoM!X442,\"\")","v":""},{"$f":"IF(ISNUMBER(FromEvoM!AB442),FromEvoM!AB442,\"\")","v":""},{"$f":"IF(ISNUMBER(FromEvoM!AA442),FromEvoM!AA442,\"\")","v":""},null,"","",null,null,{"$f":"IF(FromEvoM!W442=1,(FromEvoM!AB442*12),IF(FromEvoM!W442=7,(FromEvoM!AR442),\"\"))","v":""},null,null,{"$f":"IF(ISBLANK(FromEvoM!A442),\"\",IF(FromEvoM!AK442=\"y\",\"Y\",\"N\"))","v":""},{"$f":"IF(ISBLANK(FromEvoM!A442),\"\",Category_ID)","v":""},null,null,null,{"$f":"IF(ISBLANK(FromEvoM!AK442),\"\",FromEvoM!AK442)","v":""},{"$f":"IF(ISBLANK(FromEvoM!AM442),\"\",FromEvoM!AM442)","v":""},{"$f":"IF(ISBLANK(FromEvoM!AN442),\"\",FromEvoM!AN442)","v":""},{"$f":"IF(ISBLANK(FromEvoM!AL442),\"\",FromEvoM!AL442)","v":""},{"$f":"IF(ISBLANK(FromEvoM!A442),\"\",IF(AND(AF442=\"y\",AI442=1),\"Y\",\"N\"))","v":""},{"$f":"IF(ISBLANK(FromEvoM!A442),\"\",IF(FromEvoM!AS442=\"Yes\",2,1))","v":""},{"$f":"IF(FromEvoM!W442=1,\"M\",IF(FromEvoM!W442=7,\"W\",\"\"))","v":""},{"$f":"IF(AJ442=\"Y\",0,IF(AJ442=\"N\",FromEvoM!AF442+FromEvoM!AT442,\"\"))","v":""},{"$f":"IF(AJ442=\"Y\",(FromEvoM!AE442+FromEvoM!AF442-FromEvoM!AT442),IF(AJ442=\"N\",FromEvoM!AE442,\"\"))","v":""}]
[{"$f":"IF(ISBLANK(FromEvoM!A443),\"\",Group_Code)","v":""},{"$f":"IF(ISBLANK(FromEvoM!A443),\"\",SUBSTITUTE(FromEvoM!A443,\" \",\"\"))","v":""},{"$f":"IF(ISBLANK(FromEvoM!C443),\"\",SUBSTITUTE(FromEvoM!G443,\" \",\"\"))","v":""},{"$f":"IF(ISBLANK(FromEvoM!D443),\"\",FromEvoM!B443)","v":""},{"$f":"IF(ISBLANK(FromEvoM!D443),\"\",FromEvoM!D443)","v":""},{"$f":"IF(ISBLANK(FromEvoM!C443),\"\",FromEvoM!C443)","v":""},{"$f":"REPLACE(FromEvoM!F443,2,6, )","v":""},{"$f":"IF(ISNUMBER(FromEvoM!E443),FromEvoM!E443,\"\")","v":""},{"$f":"IF(ISBLANK(FromEvoM!I443),\"\",FromEvoM!I443)","v":""},{"$f":"IF(ISBLANK(FromEvoM!J443),\"\",FromEvoM!J443)","v":""},{"$f":"IF(ISBLANK(FromEvoM!K443),\"\",FromEvoM!K443)","v":""},{"$f":"IF(ISBLANK(FromEvoM!L443),\"\",FromEvoM!L443)","v":""},{"$f":"IF(ISBLANK(FromEvoM!M443),\"\",FromEvoM!M443)","v":""},{"$f":"IF(ISBLANK(FromEvoM!P443),\"\",FromEvoM!P443)","v":""},null,{"$f":"IF(ISNUMBER(FromEvoM!X443),FromEvoM!X443,\"\")","v":""},{"$f":"IF(ISNUMBER(FromEvoM!AB443),FromEvoM!AB443,\"\")","v":""},{"$f":"IF(ISNUMBER(FromEvoM!AA443),FromEvoM!AA443,\"\")","v":""},null,"","",null,null,{"$f":"IF(FromEvoM!W443=1,(FromEvoM!AB443*12),IF(FromEvoM!W443=7,(FromEvoM!AR443),\"\"))","v":""},null,null,{"$f":"IF(ISBLANK(FromEvoM!A443),\"\",IF(FromEvoM!AK443=\"y\",\"Y\",\"N\"))","v":""},{"$f":"IF(ISBLANK(FromEvoM!A443),\"\",Category_ID)","v":""},null,null,null,{"$f":"IF(ISBLANK(FromEvoM!AK443),\"\",FromEvoM!AK443)","v":""},{"$f":"IF(ISBLANK(FromEvoM!AM443),\"\",FromEvoM!AM443)","v":""},{"$f":"IF(ISBLANK(FromEvoM!AN443),\"\",FromEvoM!AN443)","v":""},{"$f":"IF(ISBLANK(FromEvoM!AL443),\"\",FromEvoM!AL443)","v":""},{"$f":"IF(ISBLANK(FromEvoM!A443),\"\",IF(AND(AF443=\"y\",AI443=1),\"Y\",\"N\"))","v":""},{"$f":"IF(ISBLANK(FromEvoM!A443),\"\",IF(FromEvoM!AS443=\"Yes\",2,1))","v":""},{"$f":"IF(FromEvoM!W443=1,\"M\",IF(FromEvoM!W443=7,\"W\",\"\"))","v":""},{"$f":"IF(AJ443=\"Y\",0,IF(AJ443=\"N\",FromEvoM!AF443+FromEvoM!AT443,\"\"))","v":""},{"$f":"IF(AJ443=\"Y\",(FromEvoM!AE443+FromEvoM!AF443-FromEvoM!AT443),IF(AJ443=\"N\",FromEvoM!AE443,\"\"))","v":""}]
[{"$f":"IF(ISBLANK(FromEvoM!A444),\"\",Group_Code)","v":""},{"$f":"IF(ISBLANK(FromEvoM!A444),\"\",SUBSTITUTE(FromEvoM!A444,\" \",\"\"))","v":""},{"$f":"IF(ISBLANK(FromEvoM!C444),\"\",SUBSTITUTE(FromEvoM!G444,\" \",\"\"))","v":""},{"$f":"IF(ISBLANK(FromEvoM!D444),\"\",FromEvoM!B444)","v":""},{"$f":"IF(ISBLANK(FromEvoM!D444),\"\",FromEvoM!D444)","v":""},{"$f":"IF(ISBLANK(FromEvoM!C444),\"\",FromEvoM!C444)","v":""},{"$f":"REPLACE(FromEvoM!F444,2,6, )","v":""},{"$f":"IF(ISNUMBER(FromEvoM!E444),FromEvoM!E444,\"\")","v":""},{"$f":"IF(ISBLANK(FromEvoM!I444),\"\",FromEvoM!I444)","v":""},{"$f":"IF(ISBLANK(FromEvoM!J444),\"\",FromEvoM!J444)","v":""},{"$f":"IF(ISBLANK(FromEvoM!K444),\"\",FromEvoM!K444)","v":""},{"$f":"IF(ISBLANK(FromEvoM!L444),\"\",FromEvoM!L444)","v":""},{"$f":"IF(ISBLANK(FromEvoM!M444),\"\",FromEvoM!M444)","v":""},{"$f":"IF(ISBLANK(FromEvoM!P444),\"\",FromEvoM!P444)","v":""},null,{"$f":"IF(ISNUMBER(FromEvoM!X444),FromEvoM!X444,\"\")","v":""},{"$f":"IF(ISNUMBER(FromEvoM!AB444),FromEvoM!AB444,\"\")","v":""},{"$f":"IF(ISNUMBER(FromEvoM!AA444),FromEvoM!AA444,\"\")","v":""},null,"","",null,null,{"$f":"IF(FromEvoM!W444=1,(FromEvoM!AB444*12),IF(FromEvoM!W444=7,(FromEvoM!AR444),\"\"))","v":""},null,null,{"$f":"IF(ISBLANK(FromEvoM!A444),\"\",IF(FromEvoM!AK444=\"y\",\"Y\",\"N\"))","v":""},{"$f":"IF(ISBLANK(FromEvoM!A444),\"\",Category_ID)","v":""},null,null,null,{"$f":"IF(ISBLANK(FromEvoM!AK444),\"\",FromEvoM!AK444)","v":""},{"$f":"IF(ISBLANK(FromEvoM!AM444),\"\",FromEvoM!AM444)","v":""},{"$f":"IF(ISBLANK(FromEvoM!AN444),\"\",FromEvoM!AN444)","v":""},{"$f":"IF(ISBLANK(FromEvoM!AL444),\"\",FromEvoM!AL444)","v":""},{"$f":"IF(ISBLANK(FromEvoM!A444),\"\",IF(AND(AF444=\"y\",AI444=1),\"Y\",\"N\"))","v":""},{"$f":"IF(ISBLANK(FromEvoM!A444),\"\",IF(FromEvoM!AS444=\"Yes\",2,1))","v":""},{"$f":"IF(FromEvoM!W444=1,\"M\",IF(FromEvoM!W444=7,\"W\",\"\"))","v":""},{"$f":"IF(AJ444=\"Y\",0,IF(AJ444=\"N\",FromEvoM!AF444+FromEvoM!AT444,\"\"))","v":""},{"$f":"IF(AJ444=\"Y\",(FromEvoM!AE444+FromEvoM!AF444-FromEvoM!AT444),IF(AJ444=\"N\",FromEvoM!AE444,\"\"))","v":""}]
[{"$f":"IF(ISBLANK(FromEvoM!A445),\"\",Group_Code)","v":""},{"$f":"IF(ISBLANK(FromEvoM!A445),\"\",SUBSTITUTE(FromEvoM!A445,\" \",\"\"))","v":""},{"$f":"IF(ISBLANK(FromEvoM!C445),\"\",SUBSTITUTE(FromEvoM!G445,\" \",\"\"))","v":""},{"$f":"IF(ISBLANK(FromEvoM!D445),\"\",FromEvoM!B445)","v":""},{"$f":"IF(ISBLANK(FromEvoM!D445),\"\",FromEvoM!D445)","v":""},{"$f":"IF(ISBLANK(FromEvoM!C445),\"\",FromEvoM!C445)","v":""},{"$f":"REPLACE(FromEvoM!F445,2,6, )","v":""},{"$f":"IF(ISNUMBER(FromEvoM!E445),FromEvoM!E445,\"\")","v":""},{"$f":"IF(ISBLANK(FromEvoM!I445),\"\",FromEvoM!I445)","v":""},{"$f":"IF(ISBLANK(FromEvoM!J445),\"\",FromEvoM!J445)","v":""},{"$f":"IF(ISBLANK(FromEvoM!K445),\"\",FromEvoM!K445)","v":""},{"$f":"IF(ISBLANK(FromEvoM!L445),\"\",FromEvoM!L445)","v":""},{"$f":"IF(ISBLANK(FromEvoM!M445),\"\",FromEvoM!M445)","v":""},{"$f":"IF(ISBLANK(FromEvoM!P445),\"\",FromEvoM!P445)","v":""},null,{"$f":"IF(ISNUMBER(FromEvoM!X445),FromEvoM!X445,\"\")","v":""},{"$f":"IF(ISNUMBER(FromEvoM!AB445),FromEvoM!AB445,\"\")","v":""},{"$f":"IF(ISNUMBER(FromEvoM!AA445),FromEvoM!AA445,\"\")","v":""},null,"","",null,null,{"$f":"IF(FromEvoM!W445=1,(FromEvoM!AB445*12),IF(FromEvoM!W445=7,(FromEvoM!AR445),\"\"))","v":""},null,null,{"$f":"IF(ISBLANK(FromEvoM!A445),\"\",IF(FromEvoM!AK445=\"y\",\"Y\",\"N\"))","v":""},{"$f":"IF(ISBLANK(FromEvoM!A445),\"\",Category_ID)","v":""},null,null,null,{"$f":"IF(ISBLANK(FromEvoM!AK445),\"\",FromEvoM!AK445)","v":""},{"$f":"IF(ISBLANK(FromEvoM!AM445),\"\",FromEvoM!AM445)","v":""},{"$f":"IF(ISBLANK(FromEvoM!AN445),\"\",FromEvoM!AN445)","v":""},{"$f":"IF(ISBLANK(FromEvoM!AL445),\"\",FromEvoM!AL445)","v":""},{"$f":"IF(ISBLANK(FromEvoM!A445),\"\",IF(AND(AF445=\"y\",AI445=1),\"Y\",\"N\"))","v":""},{"$f":"IF(ISBLANK(FromEvoM!A445),\"\",IF(FromEvoM!AS445=\"Yes\",2,1))","v":""},{"$f":"IF(FromEvoM!W445=1,\"M\",IF(FromEvoM!W445=7,\"W\",\"\"))","v":""},{"$f":"IF(AJ445=\"Y\",0,IF(AJ445=\"N\",FromEvoM!AF445+FromEvoM!AT445,\"\"))","v":""},{"$f":"IF(AJ445=\"Y\",(FromEvoM!AE445+FromEvoM!AF445-FromEvoM!AT445),IF(AJ445=\"N\",FromEvoM!AE445,\"\"))","v":""}]
[{"$f":"IF(ISBLANK(FromEvoM!A446),\"\",Group_Code)","v":""},{"$f":"IF(ISBLANK(FromEvoM!A446),\"\",SUBSTITUTE(FromEvoM!A446,\" \",\"\"))","v":""},{"$f":"IF(ISBLANK(FromEvoM!C446),\"\",SUBSTITUTE(FromEvoM!G446,\" \",\"\"))","v":""},{"$f":"IF(ISBLANK(FromEvoM!D446),\"\",FromEvoM!B446)","v":""},{"$f":"IF(ISBLANK(FromEvoM!D446),\"\",FromEvoM!D446)","v":""},{"$f":"IF(ISBLANK(FromEvoM!C446),\"\",FromEvoM!C446)","v":""},{"$f":"REPLACE(FromEvoM!F446,2,6, )","v":""},{"$f":"IF(ISNUMBER(FromEvoM!E446),FromEvoM!E446,\"\")","v":""},{"$f":"IF(ISBLANK(FromEvoM!I446),\"\",FromEvoM!I446)","v":""},{"$f":"IF(ISBLANK(FromEvoM!J446),\"\",FromEvoM!J446)","v":""},{"$f":"IF(ISBLANK(FromEvoM!K446),\"\",FromEvoM!K446)","v":""},{"$f":"IF(ISBLANK(FromEvoM!L446),\"\",FromEvoM!L446)","v":""},{"$f":"IF(ISBLANK(FromEvoM!M446),\"\",FromEvoM!M446)","v":""},{"$f":"IF(ISBLANK(FromEvoM!P446),\"\",FromEvoM!P446)","v":""},null,{"$f":"IF(ISNUMBER(FromEvoM!X446),FromEvoM!X446,\"\")","v":""},{"$f":"IF(ISNUMBER(FromEvoM!AB446),FromEvoM!AB446,\"\")","v":""},{"$f":"IF(ISNUMBER(FromEvoM!AA446),FromEvoM!AA446,\"\")","v":""},null,"","",null,null,{"$f":"IF(FromEvoM!W446=1,(FromEvoM!AB446*12),IF(FromEvoM!W446=7,(FromEvoM!AR446),\"\"))","v":""},null,null,{"$f":"IF(ISBLANK(FromEvoM!A446),\"\",IF(FromEvoM!AK446=\"y\",\"Y\",\"N\"))","v":""},{"$f":"IF(ISBLANK(FromEvoM!A446),\"\",Category_ID)","v":""},null,null,null,{"$f":"IF(ISBLANK(FromEvoM!AK446),\"\",FromEvoM!AK446)","v":""},{"$f":"IF(ISBLANK(FromEvoM!AM446),\"\",FromEvoM!AM446)","v":""},{"$f":"IF(ISBLANK(FromEvoM!AN446),\"\",FromEvoM!AN446)","v":""},{"$f":"IF(ISBLANK(FromEvoM!AL446),\"\",FromEvoM!AL446)","v":""},{"$f":"IF(ISBLANK(FromEvoM!A446),\"\",IF(AND(AF446=\"y\",AI446=1),\"Y\",\"N\"))","v":""},{"$f":"IF(ISBLANK(FromEvoM!A446),\"\",IF(FromEvoM!AS446=\"Yes\",2,1))","v":""},{"$f":"IF(FromEvoM!W446=1,\"M\",IF(FromEvoM!W446=7,\"W\",\"\"))","v":""},{"$f":"IF(AJ446=\"Y\",0,IF(AJ446=\"N\",FromEvoM!AF446+FromEvoM!AT446,\"\"))","v":""},{"$f":"IF(AJ446=\"Y\",(FromEvoM!AE446+FromEvoM!AF446-FromEvoM!AT446),IF(AJ446=\"N\",FromEvoM!AE446,\"\"))","v":""}]
[{"$f":"IF(ISBLANK(FromEvoM!A447),\"\",Group_Code)","v":""},{"$f":"IF(ISBLANK(FromEvoM!A447),\"\",SUBSTITUTE(FromEvoM!A447,\" \",\"\"))","v":""},{"$f":"IF(ISBLANK(FromEvoM!C447),\"\",SUBSTITUTE(FromEvoM!G447,\" \",\"\"))","v":""},{"$f":"IF(ISBLANK(FromEvoM!D447),\"\",FromEvoM!B447)","v":""},{"$f":"IF(ISBLANK(FromEvoM!D447),\"\",FromEvoM!D447)","v":""},{"$f":"IF(ISBLANK(FromEvoM!C447),\"\",FromEvoM!C447)","v":""},{"$f":"REPLACE(FromEvoM!F447,2,6, )","v":""},{"$f":"IF(ISNUMBER(FromEvoM!E447),FromEvoM!E447,\"\")","v":""},{"$f":"IF(ISBLANK(FromEvoM!I447),\"\",FromEvoM!I447)","v":""},{"$f":"IF(ISBLANK(FromEvoM!J447),\"\",FromEvoM!J447)","v":""},{"$f":"IF(ISBLANK(FromEvoM!K447),\"\",FromEvoM!K447)","v":""},{"$f":"IF(ISBLANK(FromEvoM!L447),\"\",FromEvoM!L447)","v":""},{"$f":"IF(ISBLANK(FromEvoM!M447),\"\",FromEvoM!M447)","v":""},{"$f":"IF(ISBLANK(FromEvoM!P447),\"\",FromEvoM!P447)","v":""},null,{"$f":"IF(ISNUMBER(FromEvoM!X447),FromEvoM!X447,\"\")","v":""},{"$f":"IF(ISNUMBER(FromEvoM!AB447),FromEvoM!AB447,\"\")","v":""},{"$f":"IF(ISNUMBER(FromEvoM!AA447),FromEvoM!AA447,\"\")","v":""},null,"","",null,null,{"$f":"IF(FromEvoM!W447=1,(FromEvoM!AB447*12),IF(FromEvoM!W447=7,(FromEvoM!AR447),\"\"))","v":""},null,null,{"$f":"IF(ISBLANK(FromEvoM!A447),\"\",IF(FromEvoM!AK447=\"y\",\"Y\",\"N\"))","v":""},{"$f":"IF(ISBLANK(FromEvoM!A447),\"\",Category_ID)","v":""},null,null,null,{"$f":"IF(ISBLANK(FromEvoM!AK447),\"\",FromEvoM!AK447)","v":""},{"$f":"IF(ISBLANK(FromEvoM!AM447),\"\",FromEvoM!AM447)","v":""},{"$f":"IF(ISBLANK(FromEvoM!AN447),\"\",FromEvoM!AN447)","v":""},{"$f":"IF(ISBLANK(FromEvoM!AL447),\"\",FromEvoM!AL447)","v":""},{"$f":"IF(ISBLANK(FromEvoM!A447),\"\",IF(AND(AF447=\"y\",AI447=1),\"Y\",\"N\"))","v":""},{"$f":"IF(ISBLANK(FromEvoM!A447),\"\",IF(FromEvoM!AS447=\"Yes\",2,1))","v":""},{"$f":"IF(FromEvoM!W447=1,\"M\",IF(FromEvoM!W447=7,\"W\",\"\"))","v":""},{"$f":"IF(AJ447=\"Y\",0,IF(AJ447=\"N\",FromEvoM!AF447+FromEvoM!AT447,\"\"))","v":""},{"$f":"IF(AJ447=\"Y\",(FromEvoM!AE447+FromEvoM!AF447-FromEvoM!AT447),IF(AJ447=\"N\",FromEvoM!AE447,\"\"))","v":""}]
[{"$f":"IF(ISBLANK(FromEvoM!A448),\"\",Group_Code)","v":""},{"$f":"IF(ISBLANK(FromEvoM!A448),\"\",SUBSTITUTE(FromEvoM!A448,\" \",\"\"))","v":""},{"$f":"IF(ISBLANK(FromEvoM!C448),\"\",SUBSTITUTE(FromEvoM!G448,\" \",\"\"))","v":""},{"$f":"IF(ISBLANK(FromEvoM!D448),\"\",FromEvoM!B448)","v":""},{"$f":"IF(ISBLANK(FromEvoM!D448),\"\",FromEvoM!D448)","v":""},{"$f":"IF(ISBLANK(FromEvoM!C448),\"\",FromEvoM!C448)","v":""},{"$f":"REPLACE(FromEvoM!F448,2,6, )","v":""},{"$f":"IF(ISNUMBER(FromEvoM!E448),FromEvoM!E448,\"\")","v":""},{"$f":"IF(ISBLANK(FromEvoM!I448),\"\",FromEvoM!I448)","v":""},{"$f":"IF(ISBLANK(FromEvoM!J448),\"\",FromEvoM!J448)","v":""},{"$f":"IF(ISBLANK(FromEvoM!K448),\"\",FromEvoM!K448)","v":""},{"$f":"IF(ISBLANK(FromEvoM!L448),\"\",FromEvoM!L448)","v":""},{"$f":"IF(ISBLANK(FromEvoM!M448),\"\",FromEvoM!M448)","v":""},{"$f":"IF(ISBLANK(FromEvoM!P448),\"\",FromEvoM!P448)","v":""},null,{"$f":"IF(ISNUMBER(FromEvoM!X448),FromEvoM!X448,\"\")","v":""},{"$f":"IF(ISNUMBER(FromEvoM!AB448),FromEvoM!AB448,\"\")","v":""},{"$f":"IF(ISNUMBER(FromEvoM!AA448),FromEvoM!AA448,\"\")","v":""},null,"","",null,null,{"$f":"IF(FromEvoM!W448=1,(FromEvoM!AB448*12),IF(FromEvoM!W448=7,(FromEvoM!AR448),\"\"))","v":""},null,null,{"$f":"IF(ISBLANK(FromEvoM!A448),\"\",IF(FromEvoM!AK448=\"y\",\"Y\",\"N\"))","v":""},{"$f":"IF(ISBLANK(FromEvoM!A448),\"\",Category_ID)","v":""},null,null,null,{"$f":"IF(ISBLANK(FromEvoM!AK448),\"\",FromEvoM!AK448)","v":""},{"$f":"IF(ISBLANK(FromEvoM!AM448),\"\",FromEvoM!AM448)","v":""},{"$f":"IF(ISBLANK(FromEvoM!AN448),\"\",FromEvoM!AN448)","v":""},{"$f":"IF(ISBLANK(FromEvoM!AL448),\"\",FromEvoM!AL448)","v":""},{"$f":"IF(ISBLANK(FromEvoM!A448),\"\",IF(AND(AF448=\"y\",AI448=1),\"Y\",\"N\"))","v":""},{"$f":"IF(ISBLANK(FromEvoM!A448),\"\",IF(FromEvoM!AS448=\"Yes\",2,1))","v":""},{"$f":"IF(FromEvoM!W448=1,\"M\",IF(FromEvoM!W448=7,\"W\",\"\"))","v":""},{"$f":"IF(AJ448=\"Y\",0,IF(AJ448=\"N\",FromEvoM!AF448+FromEvoM!AT448,\"\"))","v":""},{"$f":"IF(AJ448=\"Y\",(FromEvoM!AE448+FromEvoM!AF448-FromEvoM!AT448),IF(AJ448=\"N\",FromEvoM!AE448,\"\"))","v":""}]
[{"$f":"IF(ISBLANK(FromEvoM!A449),\"\",Group_Code)","v":""},{"$f":"IF(ISBLANK(FromEvoM!A449),\"\",SUBSTITUTE(FromEvoM!A449,\" \",\"\"))","v":""},{"$f":"IF(ISBLANK(FromEvoM!C449),\"\",SUBSTITUTE(FromEvoM!G449,\" \",\"\"))","v":""},{"$f":"IF(ISBLANK(FromEvoM!D449),\"\",FromEvoM!B449)","v":""},{"$f":"IF(ISBLANK(FromEvoM!D449),\"\",FromEvoM!D449)","v":""},{"$f":"IF(ISBLANK(FromEvoM!C449),\"\",FromEvoM!C449)","v":""},{"$f":"REPLACE(FromEvoM!F449,2,6, )","v":""},{"$f":"IF(ISNUMBER(FromEvoM!E449),FromEvoM!E449,\"\")","v":""},{"$f":"IF(ISBLANK(FromEvoM!I449),\"\",FromEvoM!I449)","v":""},{"$f":"IF(ISBLANK(FromEvoM!J449),\"\",FromEvoM!J449)","v":""},{"$f":"IF(ISBLANK(FromEvoM!K449),\"\",FromEvoM!K449)","v":""},{"$f":"IF(ISBLANK(FromEvoM!L449),\"\",FromEvoM!L449)","v":""},{"$f":"IF(ISBLANK(FromEvoM!M449),\"\",FromEvoM!M449)","v":""},{"$f":"IF(ISBLANK(FromEvoM!P449),\"\",FromEvoM!P449)","v":""},null,{"$f":"IF(ISNUMBER(FromEvoM!X449),FromEvoM!X449,\"\")","v":""},{"$f":"IF(ISNUMBER(FromEvoM!AB449),FromEvoM!AB449,\"\")","v":""},{"$f":"IF(ISNUMBER(FromEvoM!AA449),FromEvoM!AA449,\"\")","v":""},null,"","",null,null,{"$f":"IF(FromEvoM!W449=1,(FromEvoM!AB449*12),IF(FromEvoM!W449=7,(FromEvoM!AR449),\"\"))","v":""},null,null,{"$f":"IF(ISBLANK(FromEvoM!A449),\"\",IF(FromEvoM!AK449=\"y\",\"Y\",\"N\"))","v":""},{"$f":"IF(ISBLANK(FromEvoM!A449),\"\",Category_ID)","v":""},null,null,null,{"$f":"IF(ISBLANK(FromEvoM!AK449),\"\",FromEvoM!AK449)","v":""},{"$f":"IF(ISBLANK(FromEvoM!AM449),\"\",FromEvoM!AM449)","v":""},{"$f":"IF(ISBLANK(FromEvoM!AN449),\"\",FromEvoM!AN449)","v":""},{"$f":"IF(ISBLANK(FromEvoM!AL449),\"\",FromEvoM!AL449)","v":""},{"$f":"IF(ISBLANK(FromEvoM!A449),\"\",IF(AND(AF449=\"y\",AI449=1),\"Y\",\"N\"))","v":""},{"$f":"IF(ISBLANK(FromEvoM!A449),\"\",IF(FromEvoM!AS449=\"Yes\",2,1))","v":""},{"$f":"IF(FromEvoM!W449=1,\"M\",IF(FromEvoM!W449=7,\"W\",\"\"))","v":""},{"$f":"IF(AJ449=\"Y\",0,IF(AJ449=\"N\",FromEvoM!AF449+FromEvoM!AT449,\"\"))","v":""},{"$f":"IF(AJ449=\"Y\",(FromEvoM!AE449+FromEvoM!AF449-FromEvoM!AT449),IF(AJ449=\"N\",FromEvoM!AE449,\"\"))","v":""}]
[{"$f":"IF(ISBLANK(FromEvoM!A450),\"\",Group_Code)","v":""},{"$f":"IF(ISBLANK(FromEvoM!A450),\"\",SUBSTITUTE(FromEvoM!A450,\" \",\"\"))","v":""},{"$f":"IF(ISBLANK(FromEvoM!C450),\"\",SUBSTITUTE(FromEvoM!G450,\" \",\"\"))","v":""},{"$f":"IF(ISBLANK(FromEvoM!D450),\"\",FromEvoM!B450)","v":""},{"$f":"IF(ISBLANK(FromEvoM!D450),\"\",FromEvoM!D450)","v":""},{"$f":"IF(ISBLANK(FromEvoM!C450),\"\",FromEvoM!C450)","v":""},{"$f":"REPLACE(FromEvoM!F450,2,6, )","v":""},{"$f":"IF(ISNUMBER(FromEvoM!E450),FromEvoM!E450,\"\")","v":""},{"$f":"IF(ISBLANK(FromEvoM!I450),\"\",FromEvoM!I450)","v":""},{"$f":"IF(ISBLANK(FromEvoM!J450),\"\",FromEvoM!J450)","v":""},{"$f":"IF(ISBLANK(FromEvoM!K450),\"\",FromEvoM!K450)","v":""},{"$f":"IF(ISBLANK(FromEvoM!L450),\"\",FromEvoM!L450)","v":""},{"$f":"IF(ISBLANK(FromEvoM!M450),\"\",FromEvoM!M450)","v":""},{"$f":"IF(ISBLANK(FromEvoM!P450),\"\",FromEvoM!P450)","v":""},null,{"$f":"IF(ISNUMBER(FromEvoM!X450),FromEvoM!X450,\"\")","v":""},{"$f":"IF(ISNUMBER(FromEvoM!AB450),FromEvoM!AB450,\"\")","v":""},{"$f":"IF(ISNUMBER(FromEvoM!AA450),FromEvoM!AA450,\"\")","v":""},null,"","",null,null,{"$f":"IF(FromEvoM!W450=1,(FromEvoM!AB450*12),IF(FromEvoM!W450=7,(FromEvoM!AR450),\"\"))","v":""},null,null,{"$f":"IF(ISBLANK(FromEvoM!A450),\"\",IF(FromEvoM!AK450=\"y\",\"Y\",\"N\"))","v":""},{"$f":"IF(ISBLANK(FromEvoM!A450),\"\",Category_ID)","v":""},null,null,null,{"$f":"IF(ISBLANK(FromEvoM!AK450),\"\",FromEvoM!AK450)","v":""},{"$f":"IF(ISBLANK(FromEvoM!AM450),\"\",FromEvoM!AM450)","v":""},{"$f":"IF(ISBLANK(FromEvoM!AN450),\"\",FromEvoM!AN450)","v":""},{"$f":"IF(ISBLANK(FromEvoM!AL450),\"\",FromEvoM!AL450)","v":""},{"$f":"IF(ISBLANK(FromEvoM!A450),\"\",IF(AND(AF450=\"y\",AI450=1),\"Y\",\"N\"))","v":""},{"$f":"IF(ISBLANK(FromEvoM!A450),\"\",IF(FromEvoM!AS450=\"Yes\",2,1))","v":""},{"$f":"IF(FromEvoM!W450=1,\"M\",IF(FromEvoM!W450=7,\"W\",\"\"))","v":""},{"$f":"IF(AJ450=\"Y\",0,IF(AJ450=\"N\",FromEvoM!AF450+FromEvoM!AT450,\"\"))","v":""},{"$f":"IF(AJ450=\"Y\",(FromEvoM!AE450+FromEvoM!AF450-FromEvoM!AT450),IF(AJ450=\"N\",FromEvoM!AE450,\"\"))","v":""}]
[{"$f":"IF(ISBLANK(FromEvoM!A451),\"\",Group_Code)","v":""},{"$f":"IF(ISBLANK(FromEvoM!A451),\"\",SUBSTITUTE(FromEvoM!A451,\" \",\"\"))","v":""},{"$f":"IF(ISBLANK(FromEvoM!C451),\"\",SUBSTITUTE(FromEvoM!G451,\" \",\"\"))","v":""},{"$f":"IF(ISBLANK(FromEvoM!D451),\"\",FromEvoM!B451)","v":""},{"$f":"IF(ISBLANK(FromEvoM!D451),\"\",FromEvoM!D451)","v":""},{"$f":"IF(ISBLANK(FromEvoM!C451),\"\",FromEvoM!C451)","v":""},{"$f":"REPLACE(FromEvoM!F451,2,6, )","v":""},{"$f":"IF(ISNUMBER(FromEvoM!E451),FromEvoM!E451,\"\")","v":""},{"$f":"IF(ISBLANK(FromEvoM!I451),\"\",FromEvoM!I451)","v":""},{"$f":"IF(ISBLANK(FromEvoM!J451),\"\",FromEvoM!J451)","v":""},{"$f":"IF(ISBLANK(FromEvoM!K451),\"\",FromEvoM!K451)","v":""},{"$f":"IF(ISBLANK(FromEvoM!L451),\"\",FromEvoM!L451)","v":""},{"$f":"IF(ISBLANK(FromEvoM!M451),\"\",FromEvoM!M451)","v":""},{"$f":"IF(ISBLANK(FromEvoM!P451),\"\",FromEvoM!P451)","v":""},null,{"$f":"IF(ISNUMBER(FromEvoM!X451),FromEvoM!X451,\"\")","v":""},{"$f":"IF(ISNUMBER(FromEvoM!AB451),FromEvoM!AB451,\"\")","v":""},{"$f":"IF(ISNUMBER(FromEvoM!AA451),FromEvoM!AA451,\"\")","v":""},null,{"$f":"AM451","v":""},{"$f":"AN451","v":""},null,null,{"$f":"IF(FromEvoM!W451=1,(FromEvoM!AB451*12),IF(FromEvoM!W451=7,(FromEvoM!AR451),\"\"))","v":""},null,null,{"$f":"IF(ISBLANK(FromEvoM!A451),\"\",IF(FromEvoM!AK451=\"y\",\"Y\",\"N\"))","v":""},{"$f":"IF(ISBLANK(FromEvoM!A451),\"\",Category_ID)","v":""},null,null,null,{"$f":"IF(ISBLANK(FromEvoM!AK451),\"\",FromEvoM!AK451)","v":""},{"$f":"IF(ISBLANK(FromEvoM!AM451),\"\",FromEvoM!AM451)","v":""},{"$f":"IF(ISBLANK(FromEvoM!AN451),\"\",FromEvoM!AN451)","v":""},{"$f":"IF(ISBLANK(FromEvoM!AL451),\"\",FromEvoM!AL451)","v":""},{"$f":"IF(ISBLANK(FromEvoM!A451),\"\",IF(AND(AF451=\"y\",AI451=1),\"Y\",\"N\"))","v":""},{"$f":"IF(ISBLANK(FromEvoM!A451),\"\",IF(FromEvoM!AS451=\"Yes\",2,1))","v":""},{"$f":"IF(FromEvoM!W451=1,\"M\",IF(FromEvoM!W451=7,\"W\",\"\"))","v":""},{"$f":"IF(AJ451=\"Y\",0,IF(AJ451=\"N\",FromEvoM!AF451+FromEvoM!AT451,\"\"))","v":""},{"$f":"IF(AJ451=\"Y\",(FromEvoM!AE451+FromEvoM!AF451-FromEvoM!AT451),IF(AJ451=\"N\",FromEvoM!AE451,\"\"))","v":""}]
[{"$f":"IF(ISBLANK(FromEvoM!A452),\"\",Group_Code)","v":""},{"$f":"IF(ISBLANK(FromEvoM!A452),\"\",SUBSTITUTE(FromEvoM!A452,\" \",\"\"))","v":""},{"$f":"IF(ISBLANK(FromEvoM!C452),\"\",SUBSTITUTE(FromEvoM!G452,\" \",\"\"))","v":""},{"$f":"IF(ISBLANK(FromEvoM!D452),\"\",FromEvoM!B452)","v":""},{"$f":"IF(ISBLANK(FromEvoM!D452),\"\",FromEvoM!D452)","v":""},{"$f":"IF(ISBLANK(FromEvoM!C452),\"\",FromEvoM!C452)","v":""},{"$f":"REPLACE(FromEvoM!F452,2,6, )","v":""},{"$f":"IF(ISNUMBER(FromEvoM!E452),FromEvoM!E452,\"\")","v":""},{"$f":"IF(ISBLANK(FromEvoM!I452),\"\",FromEvoM!I452)","v":""},{"$f":"IF(ISBLANK(FromEvoM!J452),\"\",FromEvoM!J452)","v":""},{"$f":"IF(ISBLANK(FromEvoM!K452),\"\",FromEvoM!K452)","v":""},{"$f":"IF(ISBLANK(FromEvoM!L452),\"\",FromEvoM!L452)","v":""},{"$f":"IF(ISBLANK(FromEvoM!M452),\"\",FromEvoM!M452)","v":""},{"$f":"IF(ISBLANK(FromEvoM!P452),\"\",FromEvoM!P452)","v":""},null,{"$f":"IF(ISNUMBER(FromEvoM!X452),FromEvoM!X452,\"\")","v":""},{"$f":"IF(ISNUMBER(FromEvoM!AB452),FromEvoM!AB452,\"\")","v":""},{"$f":"IF(ISNUMBER(FromEvoM!AA452),FromEvoM!AA452,\"\")","v":""},null,"","",null,null,{"$f":"IF(FromEvoM!W452=1,(FromEvoM!AB452*12),IF(FromEvoM!W452=7,(FromEvoM!AR452),\"\"))","v":""},null,null,{"$f":"IF(ISBLANK(FromEvoM!A452),\"\",IF(FromEvoM!AK452=\"y\",\"Y\",\"N\"))","v":""},{"$f":"IF(ISBLANK(FromEvoM!A452),\"\",Category_ID)","v":""},null,null,null,{"$f":"IF(ISBLANK(FromEvoM!AK452),\"\",FromEvoM!AK452)","v":""},{"$f":"IF(ISBLANK(FromEvoM!AM452),\"\",FromEvoM!AM452)","v":""},{"$f":"IF(ISBLANK(FromEvoM!AN452),\"\",FromEvoM!AN452)","v":""},{"$f":"IF(ISBLANK(FromEvoM!AL452),\"\",FromEvoM!AL452)","v":""},{"$f":"IF(ISBLANK(FromEvoM!A452),\"\",IF(AND(AF452=\"y\",AI452=1),\"Y\",\"N\"))","v":""},{"$f":"IF(ISBLANK(FromEvoM!A452),\"\",IF(FromEvoM!AS452=\"Yes\",2,1))","v":""},{"$f":"IF(FromEvoM!W452=1,\"M\",IF(FromEvoM!W452=7,\"W\",\"\"))","v":""},{"$f":"IF(AJ452=\"Y\",0,IF(AJ452=\"N\",FromEvoM!AF452+FromEvoM!AT452,\"\"))","v":""},{"$f":"IF(AJ452=\"Y\",(FromEvoM!AE452+FromEvoM!AF452-FromEvoM!AT452),IF(AJ452=\"N\",FromEvoM!AE452,\"\"))","v":""}]
[{"$f":"IF(ISBLANK(FromEvoM!A453),\"\",Group_Code)","v":""},{"$f":"IF(ISBLANK(FromEvoM!A453),\"\",SUBSTITUTE(FromEvoM!A453,\" \",\"\"))","v":""},{"$f":"IF(ISBLANK(FromEvoM!C453),\"\",SUBSTITUTE(FromEvoM!G453,\" \",\"\"))","v":""},{"$f":"IF(ISBLANK(FromEvoM!D453),\"\",FromEvoM!B453)","v":""},{"$f":"IF(ISBLANK(FromEvoM!D453),\"\",FromEvoM!D453)","v":""},{"$f":"IF(ISBLANK(FromEvoM!C453),\"\",FromEvoM!C453)","v":""},{"$f":"REPLACE(FromEvoM!F453,2,6, )","v":""},{"$f":"IF(ISNUMBER(FromEvoM!E453),FromEvoM!E453,\"\")","v":""},{"$f":"IF(ISBLANK(FromEvoM!I453),\"\",FromEvoM!I453)","v":""},{"$f":"IF(ISBLANK(FromEvoM!J453),\"\",FromEvoM!J453)","v":""},{"$f":"IF(ISBLANK(FromEvoM!K453),\"\",FromEvoM!K453)","v":""},{"$f":"IF(ISBLANK(FromEvoM!L453),\"\",FromEvoM!L453)","v":""},{"$f":"IF(ISBLANK(FromEvoM!M453),\"\",FromEvoM!M453)","v":""},{"$f":"IF(ISBLANK(FromEvoM!P453),\"\",FromEvoM!P453)","v":""},null,{"$f":"IF(ISNUMBER(FromEvoM!X453),FromEvoM!X453,\"\")","v":""},{"$f":"IF(ISNUMBER(FromEvoM!AB453),FromEvoM!AB453,\"\")","v":""},{"$f":"IF(ISNUMBER(FromEvoM!AA453),FromEvoM!AA453,\"\")","v":""},null,"","",null,null,{"$f":"IF(FromEvoM!W453=1,(FromEvoM!AB453*12),IF(FromEvoM!W453=7,(FromEvoM!AR453),\"\"))","v":""},null,null,{"$f":"IF(ISBLANK(FromEvoM!A453),\"\",IF(FromEvoM!AK453=\"y\",\"Y\",\"N\"))","v":""},{"$f":"IF(ISBLANK(FromEvoM!A453),\"\",Category_ID)","v":""},null,null,null,{"$f":"IF(ISBLANK(FromEvoM!AK453),\"\",FromEvoM!AK453)","v":""},{"$f":"IF(ISBLANK(FromEvoM!AM453),\"\",FromEvoM!AM453)","v":""},{"$f":"IF(ISBLANK(FromEvoM!AN453),\"\",FromEvoM!AN453)","v":""},{"$f":"IF(ISBLANK(FromEvoM!AL453),\"\",FromEvoM!AL453)","v":""},{"$f":"IF(ISBLANK(FromEvoM!A453),\"\",IF(AND(AF453=\"y\",AI453=1),\"Y\",\"N\"))","v":""},{"$f":"IF(ISBLANK(FromEvoM!A453),\"\",IF(FromEvoM!AS453=\"Yes\",2,1))","v":""},{"$f":"IF(FromEvoM!W453=1,\"M\",IF(FromEvoM!W453=7,\"W\",\"\"))","v":""},{"$f":"IF(AJ453=\"Y\",0,IF(AJ453=\"N\",FromEvoM!AF453+FromEvoM!AT453,\"\"))","v":""},{"$f":"IF(AJ453=\"Y\",(FromEvoM!AE453+FromEvoM!AF453-FromEvoM!AT453),IF(AJ453=\"N\",FromEvoM!AE453,\"\"))","v":""}]
[{"$f":"IF(ISBLANK(FromEvoM!A454),\"\",Group_Code)","v":""},{"$f":"IF(ISBLANK(FromEvoM!A454),\"\",SUBSTITUTE(FromEvoM!A454,\" \",\"\"))","v":""},{"$f":"IF(ISBLANK(FromEvoM!C454),\"\",SUBSTITUTE(FromEvoM!G454,\" \",\"\"))","v":""},{"$f":"IF(ISBLANK(FromEvoM!D454),\"\",FromEvoM!B454)","v":""},{"$f":"IF(ISBLANK(FromEvoM!D454),\"\",FromEvoM!D454)","v":""},{"$f":"IF(ISBLANK(FromEvoM!C454),\"\",FromEvoM!C454)","v":""},{"$f":"REPLACE(FromEvoM!F454,2,6, )","v":""},{"$f":"IF(ISNUMBER(FromEvoM!E454),FromEvoM!E454,\"\")","v":""},{"$f":"IF(ISBLANK(FromEvoM!I454),\"\",FromEvoM!I454)","v":""},{"$f":"IF(ISBLANK(FromEvoM!J454),\"\",FromEvoM!J454)","v":""},{"$f":"IF(ISBLANK(FromEvoM!K454),\"\",FromEvoM!K454)","v":""},{"$f":"IF(ISBLANK(FromEvoM!L454),\"\",FromEvoM!L454)","v":""},{"$f":"IF(ISBLANK(FromEvoM!M454),\"\",FromEvoM!M454)","v":""},{"$f":"IF(ISBLANK(FromEvoM!P454),\"\",FromEvoM!P454)","v":""},null,{"$f":"IF(ISNUMBER(FromEvoM!X454),FromEvoM!X454,\"\")","v":""},{"$f":"IF(ISNUMBER(FromEvoM!AB454),FromEvoM!AB454,\"\")","v":""},{"$f":"IF(ISNUMBER(FromEvoM!AA454),FromEvoM!AA454,\"\")","v":""},null,"","",null,null,{"$f":"IF(FromEvoM!W454=1,(FromEvoM!AB454*12),IF(FromEvoM!W454=7,(FromEvoM!AR454),\"\"))","v":""},null,null,{"$f":"IF(ISBLANK(FromEvoM!A454),\"\",IF(FromEvoM!AK454=\"y\",\"Y\",\"N\"))","v":""},{"$f":"IF(ISBLANK(FromEvoM!A454),\"\",Category_ID)","v":""},null,null,null,{"$f":"IF(ISBLANK(FromEvoM!AK454),\"\",FromEvoM!AK454)","v":""},{"$f":"IF(ISBLANK(FromEvoM!AM454),\"\",FromEvoM!AM454)","v":""},{"$f":"IF(ISBLANK(FromEvoM!AN454),\"\",FromEvoM!AN454)","v":""},{"$f":"IF(ISBLANK(FromEvoM!AL454),\"\",FromEvoM!AL454)","v":""},{"$f":"IF(ISBLANK(FromEvoM!A454),\"\",IF(AND(AF454=\"y\",AI454=1),\"Y\",\"N\"))","v":""},{"$f":"IF(ISBLANK(FromEvoM!A454),\"\",IF(FromEvoM!AS454=\"Yes\",2,1))","v":""},{"$f":"IF(FromEvoM!W454=1,\"M\",IF(FromEvoM!W454=7,\"W\",\"\"))","v":""},{"$f":"IF(AJ454=\"Y\",0,IF(AJ454=\"N\",FromEvoM!AF454+FromEvoM!AT454,\"\"))","v":""},{"$f":"IF(AJ454=\"Y\",(FromEvoM!AE454+FromEvoM!AF454-FromEvoM!AT454),IF(AJ454=\"N\",FromEvoM!AE454,\"\"))","v":""}]
[{"$f":"IF(ISBLANK(FromEvoM!A455),\"\",Group_Code)","v":""},{"$f":"IF(ISBLANK(FromEvoM!A455),\"\",SUBSTITUTE(FromEvoM!A455,\" \",\"\"))","v":""},{"$f":"IF(ISBLANK(FromEvoM!C455),\"\",SUBSTITUTE(FromEvoM!G455,\" \",\"\"))","v":""},{"$f":"IF(ISBLANK(FromEvoM!D455),\"\",FromEvoM!B455)","v":""},{"$f":"IF(ISBLANK(FromEvoM!D455),\"\",FromEvoM!D455)","v":""},{"$f":"IF(ISBLANK(FromEvoM!C455),\"\",FromEvoM!C455)","v":""},{"$f":"REPLACE(FromEvoM!F455,2,6, )","v":""},{"$f":"IF(ISNUMBER(FromEvoM!E455),FromEvoM!E455,\"\")","v":""},{"$f":"IF(ISBLANK(FromEvoM!I455),\"\",FromEvoM!I455)","v":""},{"$f":"IF(ISBLANK(FromEvoM!J455),\"\",FromEvoM!J455)","v":""},{"$f":"IF(ISBLANK(FromEvoM!K455),\"\",FromEvoM!K455)","v":""},{"$f":"IF(ISBLANK(FromEvoM!L455),\"\",FromEvoM!L455)","v":""},{"$f":"IF(ISBLANK(FromEvoM!M455),\"\",FromEvoM!M455)","v":""},{"$f":"IF(ISBLANK(FromEvoM!P455),\"\",FromEvoM!P455)","v":""},null,{"$f":"IF(ISNUMBER(FromEvoM!X455),FromEvoM!X455,\"\")","v":""},{"$f":"IF(ISNUMBER(FromEvoM!AB455),FromEvoM!AB455,\"\")","v":""},{"$f":"IF(ISNUMBER(FromEvoM!AA455),FromEvoM!AA455,\"\")","v":""},null,"","",null,null,{"$f":"IF(FromEvoM!W455=1,(FromEvoM!AB455*12),IF(FromEvoM!W455=7,(FromEvoM!AR455),\"\"))","v":""},null,null,{"$f":"IF(ISBLANK(FromEvoM!A455),\"\",IF(FromEvoM!AK455=\"y\",\"Y\",\"N\"))","v":""},{"$f":"IF(ISBLANK(FromEvoM!A455),\"\",Category_ID)","v":""},null,null,null,{"$f":"IF(ISBLANK(FromEvoM!AK455),\"\",FromEvoM!AK455)","v":""},{"$f":"IF(ISBLANK(FromEvoM!AM455),\"\",FromEvoM!AM455)","v":""},{"$f":"IF(ISBLANK(FromEvoM!AN455),\"\",FromEvoM!AN455)","v":""},{"$f":"IF(ISBLANK(FromEvoM!AL455),\"\",FromEvoM!AL455)","v":""},{"$f":"IF(ISBLANK(FromEvoM!A455),\"\",IF(AND(AF455=\"y\",AI455=1),\"Y\",\"N\"))","v":""},{"$f":"IF(ISBLANK(FromEvoM!A455),\"\",IF(FromEvoM!AS455=\"Yes\",2,1))","v":""},{"$f":"IF(FromEvoM!W455=1,\"M\",IF(FromEvoM!W455=7,\"W\",\"\"))","v":""},{"$f":"IF(AJ455=\"Y\",0,IF(AJ455=\"N\",FromEvoM!AF455+FromEvoM!AT455,\"\"))","v":""},{"$f":"IF(AJ455=\"Y\",(FromEvoM!AE455+FromEvoM!AF455-FromEvoM!AT455),IF(AJ455=\"N\",FromEvoM!AE455,\"\"))","v":""}]
[{"$f":"IF(ISBLANK(FromEvoM!A456),\"\",Group_Code)","v":""},{"$f":"IF(ISBLANK(FromEvoM!A456),\"\",SUBSTITUTE(FromEvoM!A456,\" \",\"\"))","v":""},{"$f":"IF(ISBLANK(FromEvoM!C456),\"\",SUBSTITUTE(FromEvoM!G456,\" \",\"\"))","v":""},{"$f":"IF(ISBLANK(FromEvoM!D456),\"\",FromEvoM!B456)","v":""},{"$f":"IF(ISBLANK(FromEvoM!D456),\"\",FromEvoM!D456)","v":""},{"$f":"IF(ISBLANK(FromEvoM!C456),\"\",FromEvoM!C456)","v":""},{"$f":"REPLACE(FromEvoM!F456,2,6, )","v":""},{"$f":"IF(ISNUMBER(FromEvoM!E456),FromEvoM!E456,\"\")","v":""},{"$f":"IF(ISBLANK(FromEvoM!I456),\"\",FromEvoM!I456)","v":""},{"$f":"IF(ISBLANK(FromEvoM!J456),\"\",FromEvoM!J456)","v":""},{"$f":"IF(ISBLANK(FromEvoM!K456),\"\",FromEvoM!K456)","v":""},{"$f":"IF(ISBLANK(FromEvoM!L456),\"\",FromEvoM!L456)","v":""},{"$f":"IF(ISBLANK(FromEvoM!M456),\"\",FromEvoM!M456)","v":""},{"$f":"IF(ISBLANK(FromEvoM!P456),\"\",FromEvoM!P456)","v":""},null,{"$f":"IF(ISNUMBER(FromEvoM!X456),FromEvoM!X456,\"\")","v":""},{"$f":"IF(ISNUMBER(FromEvoM!AB456),FromEvoM!AB456,\"\")","v":""},{"$f":"IF(ISNUMBER(FromEvoM!AA456),FromEvoM!AA456,\"\")","v":""},null,"","",null,null,{"$f":"IF(FromEvoM!W456=1,(FromEvoM!AB456*12),IF(FromEvoM!W456=7,(FromEvoM!AR456),\"\"))","v":""},null,null,{"$f":"IF(ISBLANK(FromEvoM!A456),\"\",IF(FromEvoM!AK456=\"y\",\"Y\",\"N\"))","v":""},{"$f":"IF(ISBLANK(FromEvoM!A456),\"\",Category_ID)","v":""},null,null,null,{"$f":"IF(ISBLANK(FromEvoM!AK456),\"\",FromEvoM!AK456)","v":""},{"$f":"IF(ISBLANK(FromEvoM!AM456),\"\",FromEvoM!AM456)","v":""},{"$f":"IF(ISBLANK(FromEvoM!AN456),\"\",FromEvoM!AN456)","v":""},{"$f":"IF(ISBLANK(FromEvoM!AL456),\"\",FromEvoM!AL456)","v":""},{"$f":"IF(ISBLANK(FromEvoM!A456),\"\",IF(AND(AF456=\"y\",AI456=1),\"Y\",\"N\"))","v":""},{"$f":"IF(ISBLANK(FromEvoM!A456),\"\",IF(FromEvoM!AS456=\"Yes\",2,1))","v":""},{"$f":"IF(FromEvoM!W456=1,\"M\",IF(FromEvoM!W456=7,\"W\",\"\"))","v":""},{"$f":"IF(AJ456=\"Y\",0,IF(AJ456=\"N\",FromEvoM!AF456+FromEvoM!AT456,\"\"))","v":""},{"$f":"IF(AJ456=\"Y\",(FromEvoM!AE456+FromEvoM!AF456-FromEvoM!AT456),IF(AJ456=\"N\",FromEvoM!AE456,\"\"))","v":""}]
[{"$f":"IF(ISBLANK(FromEvoM!A457),\"\",Group_Code)","v":""},{"$f":"IF(ISBLANK(FromEvoM!A457),\"\",SUBSTITUTE(FromEvoM!A457,\" \",\"\"))","v":""},{"$f":"IF(ISBLANK(FromEvoM!C457),\"\",SUBSTITUTE(FromEvoM!G457,\" \",\"\"))","v":""},{"$f":"IF(ISBLANK(FromEvoM!D457),\"\",FromEvoM!B457)","v":""},{"$f":"IF(ISBLANK(FromEvoM!D457),\"\",FromEvoM!D457)","v":""},{"$f":"IF(ISBLANK(FromEvoM!C457),\"\",FromEvoM!C457)","v":""},{"$f":"REPLACE(FromEvoM!F457,2,6, )","v":""},{"$f":"IF(ISNUMBER(FromEvoM!E457),FromEvoM!E457,\"\")","v":""},{"$f":"IF(ISBLANK(FromEvoM!I457),\"\",FromEvoM!I457)","v":""},{"$f":"IF(ISBLANK(FromEvoM!J457),\"\",FromEvoM!J457)","v":""},{"$f":"IF(ISBLANK(FromEvoM!K457),\"\",FromEvoM!K457)","v":""},{"$f":"IF(ISBLANK(FromEvoM!L457),\"\",FromEvoM!L457)","v":""},{"$f":"IF(ISBLANK(FromEvoM!M457),\"\",FromEvoM!M457)","v":""},{"$f":"IF(ISBLANK(FromEvoM!P457),\"\",FromEvoM!P457)","v":""},null,{"$f":"IF(ISNUMBER(FromEvoM!X457),FromEvoM!X457,\"\")","v":""},{"$f":"IF(ISNUMBER(FromEvoM!AB457),FromEvoM!AB457,\"\")","v":""},{"$f":"IF(ISNUMBER(FromEvoM!AA457),FromEvoM!AA457,\"\")","v":""},null,"","",null,null,{"$f":"IF(FromEvoM!W457=1,(FromEvoM!AB457*12),IF(FromEvoM!W457=7,(FromEvoM!AR457),\"\"))","v":""},null,null,{"$f":"IF(ISBLANK(FromEvoM!A457),\"\",IF(FromEvoM!AK457=\"y\",\"Y\",\"N\"))","v":""},{"$f":"IF(ISBLANK(FromEvoM!A457),\"\",Category_ID)","v":""},null,null,null,{"$f":"IF(ISBLANK(FromEvoM!AK457),\"\",FromEvoM!AK457)","v":""},{"$f":"IF(ISBLANK(FromEvoM!AM457),\"\",FromEvoM!AM457)","v":""},{"$f":"IF(ISBLANK(FromEvoM!AN457),\"\",FromEvoM!AN457)","v":""},{"$f":"IF(ISBLANK(FromEvoM!AL457),\"\",FromEvoM!AL457)","v":""},{"$f":"IF(ISBLANK(FromEvoM!A457),\"\",IF(AND(AF457=\"y\",AI457=1),\"Y\",\"N\"))","v":""},{"$f":"IF(ISBLANK(FromEvoM!A457),\"\",IF(FromEvoM!AS457=\"Yes\",2,1))","v":""},{"$f":"IF(FromEvoM!W457=1,\"M\",IF(FromEvoM!W457=7,\"W\",\"\"))","v":""},{"$f":"IF(AJ457=\"Y\",0,IF(AJ457=\"N\",FromEvoM!AF457+FromEvoM!AT457,\"\"))","v":""},{"$f":"IF(AJ457=\"Y\",(FromEvoM!AE457+FromEvoM!AF457-FromEvoM!AT457),IF(AJ457=\"N\",FromEvoM!AE457,\"\"))","v":""}]
[{"$f":"IF(ISBLANK(FromEvoM!A458),\"\",Group_Code)","v":""},{"$f":"IF(ISBLANK(FromEvoM!A458),\"\",SUBSTITUTE(FromEvoM!A458,\" \",\"\"))","v":""},{"$f":"IF(ISBLANK(FromEvoM!C458),\"\",SUBSTITUTE(FromEvoM!G458,\" \",\"\"))","v":""},{"$f":"IF(ISBLANK(FromEvoM!D458),\"\",FromEvoM!B458)","v":""},{"$f":"IF(ISBLANK(FromEvoM!D458),\"\",FromEvoM!D458)","v":""},{"$f":"IF(ISBLANK(FromEvoM!C458),\"\",FromEvoM!C458)","v":""},{"$f":"REPLACE(FromEvoM!F458,2,6, )","v":""},{"$f":"IF(ISNUMBER(FromEvoM!E458),FromEvoM!E458,\"\")","v":""},{"$f":"IF(ISBLANK(FromEvoM!I458),\"\",FromEvoM!I458)","v":""},{"$f":"IF(ISBLANK(FromEvoM!J458),\"\",FromEvoM!J458)","v":""},{"$f":"IF(ISBLANK(FromEvoM!K458),\"\",FromEvoM!K458)","v":""},{"$f":"IF(ISBLANK(FromEvoM!L458),\"\",FromEvoM!L458)","v":""},{"$f":"IF(ISBLANK(FromEvoM!M458),\"\",FromEvoM!M458)","v":""},{"$f":"IF(ISBLANK(FromEvoM!P458),\"\",FromEvoM!P458)","v":""},null,{"$f":"IF(ISNUMBER(FromEvoM!X458),FromEvoM!X458,\"\")","v":""},{"$f":"IF(ISNUMBER(FromEvoM!AB458),FromEvoM!AB458,\"\")","v":""},{"$f":"IF(ISNUMBER(FromEvoM!AA458),FromEvoM!AA458,\"\")","v":""},null,"","",null,null,{"$f":"IF(FromEvoM!W458=1,(FromEvoM!AB458*12),IF(FromEvoM!W458=7,(FromEvoM!AR458),\"\"))","v":""},null,null,{"$f":"IF(ISBLANK(FromEvoM!A458),\"\",IF(FromEvoM!AK458=\"y\",\"Y\",\"N\"))","v":""},{"$f":"IF(ISBLANK(FromEvoM!A458),\"\",Category_ID)","v":""},null,null,null,{"$f":"IF(ISBLANK(FromEvoM!AK458),\"\",FromEvoM!AK458)","v":""},{"$f":"IF(ISBLANK(FromEvoM!AM458),\"\",FromEvoM!AM458)","v":""},{"$f":"IF(ISBLANK(FromEvoM!AN458),\"\",FromEvoM!AN458)","v":""},{"$f":"IF(ISBLANK(FromEvoM!AL458),\"\",FromEvoM!AL458)","v":""},{"$f":"IF(ISBLANK(FromEvoM!A458),\"\",IF(AND(AF458=\"y\",AI458=1),\"Y\",\"N\"))","v":""},{"$f":"IF(ISBLANK(FromEvoM!A458),\"\",IF(FromEvoM!AS458=\"Yes\",2,1))","v":""},{"$f":"IF(FromEvoM!W458=1,\"M\",IF(FromEvoM!W458=7,\"W\",\"\"))","v":""},{"$f":"IF(AJ458=\"Y\",0,IF(AJ458=\"N\",FromEvoM!AF458+FromEvoM!AT458,\"\"))","v":""},{"$f":"IF(AJ458=\"Y\",(FromEvoM!AE458+FromEvoM!AF458-FromEvoM!AT458),IF(AJ458=\"N\",FromEvoM!AE458,\"\"))","v":""}]
[{"$f":"IF(ISBLANK(FromEvoM!A459),\"\",Group_Code)","v":""},{"$f":"IF(ISBLANK(FromEvoM!A459),\"\",SUBSTITUTE(FromEvoM!A459,\" \",\"\"))","v":""},{"$f":"IF(ISBLANK(FromEvoM!C459),\"\",SUBSTITUTE(FromEvoM!G459,\" \",\"\"))","v":""},{"$f":"IF(ISBLANK(FromEvoM!D459),\"\",FromEvoM!B459)","v":""},{"$f":"IF(ISBLANK(FromEvoM!D459),\"\",FromEvoM!D459)","v":""},{"$f":"IF(ISBLANK(FromEvoM!C459),\"\",FromEvoM!C459)","v":""},{"$f":"REPLACE(FromEvoM!F459,2,6, )","v":""},{"$f":"IF(ISNUMBER(FromEvoM!E459),FromEvoM!E459,\"\")","v":""},{"$f":"IF(ISBLANK(FromEvoM!I459),\"\",FromEvoM!I459)","v":""},{"$f":"IF(ISBLANK(FromEvoM!J459),\"\",FromEvoM!J459)","v":""},{"$f":"IF(ISBLANK(FromEvoM!K459),\"\",FromEvoM!K459)","v":""},{"$f":"IF(ISBLANK(FromEvoM!L459),\"\",FromEvoM!L459)","v":""},{"$f":"IF(ISBLANK(FromEvoM!M459),\"\",FromEvoM!M459)","v":""},{"$f":"IF(ISBLANK(FromEvoM!P459),\"\",FromEvoM!P459)","v":""},null,{"$f":"IF(ISNUMBER(FromEvoM!X459),FromEvoM!X459,\"\")","v":""},{"$f":"IF(ISNUMBER(FromEvoM!AB459),FromEvoM!AB459,\"\")","v":""},{"$f":"IF(ISNUMBER(FromEvoM!AA459),FromEvoM!AA459,\"\")","v":""},null,"","",null,null,{"$f":"IF(FromEvoM!W459=1,(FromEvoM!AB459*12),IF(FromEvoM!W459=7,(FromEvoM!AR459),\"\"))","v":""},null,null,{"$f":"IF(ISBLANK(FromEvoM!A459),\"\",IF(FromEvoM!AK459=\"y\",\"Y\",\"N\"))","v":""},{"$f":"IF(ISBLANK(FromEvoM!A459),\"\",Category_ID)","v":""},null,null,null,{"$f":"IF(ISBLANK(FromEvoM!AK459),\"\",FromEvoM!AK459)","v":""},{"$f":"IF(ISBLANK(FromEvoM!AM459),\"\",FromEvoM!AM459)","v":""},{"$f":"IF(ISBLANK(FromEvoM!AN459),\"\",FromEvoM!AN459)","v":""},{"$f":"IF(ISBLANK(FromEvoM!AL459),\"\",FromEvoM!AL459)","v":""},{"$f":"IF(ISBLANK(FromEvoM!A459),\"\",IF(AND(AF459=\"y\",AI459=1),\"Y\",\"N\"))","v":""},{"$f":"IF(ISBLANK(FromEvoM!A459),\"\",IF(FromEvoM!AS459=\"Yes\",2,1))","v":""},{"$f":"IF(FromEvoM!W459=1,\"M\",IF(FromEvoM!W459=7,\"W\",\"\"))","v":""},{"$f":"IF(AJ459=\"Y\",0,IF(AJ459=\"N\",FromEvoM!AF459+FromEvoM!AT459,\"\"))","v":""},{"$f":"IF(AJ459=\"Y\",(FromEvoM!AE459+FromEvoM!AF459-FromEvoM!AT459),IF(AJ459=\"N\",FromEvoM!AE459,\"\"))","v":""}]
[{"$f":"IF(ISBLANK(FromEvoM!A460),\"\",Group_Code)","v":""},{"$f":"IF(ISBLANK(FromEvoM!A460),\"\",SUBSTITUTE(FromEvoM!A460,\" \",\"\"))","v":""},{"$f":"IF(ISBLANK(FromEvoM!C460),\"\",SUBSTITUTE(FromEvoM!G460,\" \",\"\"))","v":""},{"$f":"IF(ISBLANK(FromEvoM!D460),\"\",FromEvoM!B460)","v":""},{"$f":"IF(ISBLANK(FromEvoM!D460),\"\",FromEvoM!D460)","v":""},{"$f":"IF(ISBLANK(FromEvoM!C460),\"\",FromEvoM!C460)","v":""},{"$f":"REPLACE(FromEvoM!F460,2,6, )","v":""},{"$f":"IF(ISNUMBER(FromEvoM!E460),FromEvoM!E460,\"\")","v":""},{"$f":"IF(ISBLANK(FromEvoM!I460),\"\",FromEvoM!I460)","v":""},{"$f":"IF(ISBLANK(FromEvoM!J460),\"\",FromEvoM!J460)","v":""},{"$f":"IF(ISBLANK(FromEvoM!K460),\"\",FromEvoM!K460)","v":""},{"$f":"IF(ISBLANK(FromEvoM!L460),\"\",FromEvoM!L460)","v":""},{"$f":"IF(ISBLANK(FromEvoM!M460),\"\",FromEvoM!M460)","v":""},{"$f":"IF(ISBLANK(FromEvoM!P460),\"\",FromEvoM!P460)","v":""},null,{"$f":"IF(ISNUMBER(FromEvoM!X460),FromEvoM!X460,\"\")","v":""},{"$f":"IF(ISNUMBER(FromEvoM!AB460),FromEvoM!AB460,\"\")","v":""},{"$f":"IF(ISNUMBER(FromEvoM!AA460),FromEvoM!AA460,\"\")","v":""},null,"","",null,null,{"$f":"IF(FromEvoM!W460=1,(FromEvoM!AB460*12),IF(FromEvoM!W460=7,(FromEvoM!AR460),\"\"))","v":""},null,null,{"$f":"IF(ISBLANK(FromEvoM!A460),\"\",IF(FromEvoM!AK460=\"y\",\"Y\",\"N\"))","v":""},{"$f":"IF(ISBLANK(FromEvoM!A460),\"\",Category_ID)","v":""},null,null,null,{"$f":"IF(ISBLANK(FromEvoM!AK460),\"\",FromEvoM!AK460)","v":""},{"$f":"IF(ISBLANK(FromEvoM!AM460),\"\",FromEvoM!AM460)","v":""},{"$f":"IF(ISBLANK(FromEvoM!AN460),\"\",FromEvoM!AN460)","v":""},{"$f":"IF(ISBLANK(FromEvoM!AL460),\"\",FromEvoM!AL460)","v":""},{"$f":"IF(ISBLANK(FromEvoM!A460),\"\",IF(AND(AF460=\"y\",AI460=1),\"Y\",\"N\"))","v":""},{"$f":"IF(ISBLANK(FromEvoM!A460),\"\",IF(FromEvoM!AS460=\"Yes\",2,1))","v":""},{"$f":"IF(FromEvoM!W460=1,\"M\",IF(FromEvoM!W460=7,\"W\",\"\"))","v":""},{"$f":"IF(AJ460=\"Y\",0,IF(AJ460=\"N\",FromEvoM!AF460+FromEvoM!AT460,\"\"))","v":""},{"$f":"IF(AJ460=\"Y\",(FromEvoM!AE460+FromEvoM!AF460-FromEvoM!AT460),IF(AJ460=\"N\",FromEvoM!AE460,\"\"))","v":""}]
[{"$f":"IF(ISBLANK(FromEvoM!A461),\"\",Group_Code)","v":""},{"$f":"IF(ISBLANK(FromEvoM!A461),\"\",SUBSTITUTE(FromEvoM!A461,\" \",\"\"))","v":""},{"$f":"IF(ISBLANK(FromEvoM!C461),\"\",SUBSTITUTE(FromEvoM!G461,\" \",\"\"))","v":""},{"$f":"IF(ISBLANK(FromEvoM!D461),\"\",FromEvoM!B461)","v":""},{"$f":"IF(ISBLANK(FromEvoM!D461),\"\",FromEvoM!D461)","v":""},{"$f":"IF(ISBLANK(FromEvoM!C461),\"\",FromEvoM!C461)","v":""},{"$f":"REPLACE(FromEvoM!F461,2,6, )","v":""},{"$f":"IF(ISNUMBER(FromEvoM!E461),FromEvoM!E461,\"\")","v":""},{"$f":"IF(ISBLANK(FromEvoM!I461),\"\",FromEvoM!I461)","v":""},{"$f":"IF(ISBLANK(FromEvoM!J461),\"\",FromEvoM!J461)","v":""},{"$f":"IF(ISBLANK(FromEvoM!K461),\"\",FromEvoM!K461)","v":""},{"$f":"IF(ISBLANK(FromEvoM!L461),\"\",FromEvoM!L461)","v":""},{"$f":"IF(ISBLANK(FromEvoM!M461),\"\",FromEvoM!M461)","v":""},{"$f":"IF(ISBLANK(FromEvoM!P461),\"\",FromEvoM!P461)","v":""},null,{"$f":"IF(ISNUMBER(FromEvoM!X461),FromEvoM!X461,\"\")","v":""},{"$f":"IF(ISNUMBER(FromEvoM!AB461),FromEvoM!AB461,\"\")","v":""},{"$f":"IF(ISNUMBER(FromEvoM!AA461),FromEvoM!AA461,\"\")","v":""},null,"","",null,null,{"$f":"IF(FromEvoM!W461=1,(FromEvoM!AB461*12),IF(FromEvoM!W461=7,(FromEvoM!AR461),\"\"))","v":""},null,null,{"$f":"IF(ISBLANK(FromEvoM!A461),\"\",IF(FromEvoM!AK461=\"y\",\"Y\",\"N\"))","v":""},{"$f":"IF(ISBLANK(FromEvoM!A461),\"\",Category_ID)","v":""},null,null,null,{"$f":"IF(ISBLANK(FromEvoM!AK461),\"\",FromEvoM!AK461)","v":""},{"$f":"IF(ISBLANK(FromEvoM!AM461),\"\",FromEvoM!AM461)","v":""},{"$f":"IF(ISBLANK(FromEvoM!AN461),\"\",FromEvoM!AN461)","v":""},{"$f":"IF(ISBLANK(FromEvoM!AL461),\"\",FromEvoM!AL461)","v":""},{"$f":"IF(ISBLANK(FromEvoM!A461),\"\",IF(AND(AF461=\"y\",AI461=1),\"Y\",\"N\"))","v":""},{"$f":"IF(ISBLANK(FromEvoM!A461),\"\",IF(FromEvoM!AS461=\"Yes\",2,1))","v":""},{"$f":"IF(FromEvoM!W461=1,\"M\",IF(FromEvoM!W461=7,\"W\",\"\"))","v":""},{"$f":"IF(AJ461=\"Y\",0,IF(AJ461=\"N\",FromEvoM!AF461+FromEvoM!AT461,\"\"))","v":""},{"$f":"IF(AJ461=\"Y\",(FromEvoM!AE461+FromEvoM!AF461-FromEvoM!AT461),IF(AJ461=\"N\",FromEvoM!AE461,\"\"))","v":""}]
[{"$f":"IF(ISBLANK(FromEvoM!A462),\"\",Group_Code)","v":""},{"$f":"IF(ISBLANK(FromEvoM!A462),\"\",SUBSTITUTE(FromEvoM!A462,\" \",\"\"))","v":""},{"$f":"IF(ISBLANK(FromEvoM!C462),\"\",SUBSTITUTE(FromEvoM!G462,\" \",\"\"))","v":""},{"$f":"IF(ISBLANK(FromEvoM!D462),\"\",FromEvoM!B462)","v":""},{"$f":"IF(ISBLANK(FromEvoM!D462),\"\",FromEvoM!D462)","v":""},{"$f":"IF(ISBLANK(FromEvoM!C462),\"\",FromEvoM!C462)","v":""},{"$f":"REPLACE(FromEvoM!F462,2,6, )","v":""},{"$f":"IF(ISNUMBER(FromEvoM!E462),FromEvoM!E462,\"\")","v":""},{"$f":"IF(ISBLANK(FromEvoM!I462),\"\",FromEvoM!I462)","v":""},{"$f":"IF(ISBLANK(FromEvoM!J462),\"\",FromEvoM!J462)","v":""},{"$f":"IF(ISBLANK(FromEvoM!K462),\"\",FromEvoM!K462)","v":""},{"$f":"IF(ISBLANK(FromEvoM!L462),\"\",FromEvoM!L462)","v":""},{"$f":"IF(ISBLANK(FromEvoM!M462),\"\",FromEvoM!M462)","v":""},{"$f":"IF(ISBLANK(FromEvoM!P462),\"\",FromEvoM!P462)","v":""},null,{"$f":"IF(ISNUMBER(FromEvoM!X462),FromEvoM!X462,\"\")","v":""},{"$f":"IF(ISNUMBER(FromEvoM!AB462),FromEvoM!AB462,\"\")","v":""},{"$f":"IF(ISNUMBER(FromEvoM!AA462),FromEvoM!AA462,\"\")","v":""},null,"","",null,null,{"$f":"IF(FromEvoM!W462=1,(FromEvoM!AB462*12),IF(FromEvoM!W462=7,(FromEvoM!AR462),\"\"))","v":""},null,null,{"$f":"IF(ISBLANK(FromEvoM!A462),\"\",IF(FromEvoM!AK462=\"y\",\"Y\",\"N\"))","v":""},{"$f":"IF(ISBLANK(FromEvoM!A462),\"\",Category_ID)","v":""},null,null,null,{"$f":"IF(ISBLANK(FromEvoM!AK462),\"\",FromEvoM!AK462)","v":""},{"$f":"IF(ISBLANK(FromEvoM!AM462),\"\",FromEvoM!AM462)","v":""},{"$f":"IF(ISBLANK(FromEvoM!AN462),\"\",FromEvoM!AN462)","v":""},{"$f":"IF(ISBLANK(FromEvoM!AL462),\"\",FromEvoM!AL462)","v":""},{"$f":"IF(ISBLANK(FromEvoM!A462),\"\",IF(AND(AF462=\"y\",AI462=1),\"Y\",\"N\"))","v":""},{"$f":"IF(ISBLANK(FromEvoM!A462),\"\",IF(FromEvoM!AS462=\"Yes\",2,1))","v":""},{"$f":"IF(FromEvoM!W462=1,\"M\",IF(FromEvoM!W462=7,\"W\",\"\"))","v":""},{"$f":"IF(AJ462=\"Y\",0,IF(AJ462=\"N\",FromEvoM!AF462+FromEvoM!AT462,\"\"))","v":""},{"$f":"IF(AJ462=\"Y\",(FromEvoM!AE462+FromEvoM!AF462-FromEvoM!AT462),IF(AJ462=\"N\",FromEvoM!AE462,\"\"))","v":""}]
[{"$f":"IF(ISBLANK(FromEvoM!A463),\"\",Group_Code)","v":""},{"$f":"IF(ISBLANK(FromEvoM!A463),\"\",SUBSTITUTE(FromEvoM!A463,\" \",\"\"))","v":""},{"$f":"IF(ISBLANK(FromEvoM!C463),\"\",SUBSTITUTE(FromEvoM!G463,\" \",\"\"))","v":""},{"$f":"IF(ISBLANK(FromEvoM!D463),\"\",FromEvoM!B463)","v":""},{"$f":"IF(ISBLANK(FromEvoM!D463),\"\",FromEvoM!D463)","v":""},{"$f":"IF(ISBLANK(FromEvoM!C463),\"\",FromEvoM!C463)","v":""},{"$f":"REPLACE(FromEvoM!F463,2,6, )","v":""},{"$f":"IF(ISNUMBER(FromEvoM!E463),FromEvoM!E463,\"\")","v":""},{"$f":"IF(ISBLANK(FromEvoM!I463),\"\",FromEvoM!I463)","v":""},{"$f":"IF(ISBLANK(FromEvoM!J463),\"\",FromEvoM!J463)","v":""},{"$f":"IF(ISBLANK(FromEvoM!K463),\"\",FromEvoM!K463)","v":""},{"$f":"IF(ISBLANK(FromEvoM!L463),\"\",FromEvoM!L463)","v":""},{"$f":"IF(ISBLANK(FromEvoM!M463),\"\",FromEvoM!M463)","v":""},{"$f":"IF(ISBLANK(FromEvoM!P463),\"\",FromEvoM!P463)","v":""},null,{"$f":"IF(ISNUMBER(FromEvoM!X463),FromEvoM!X463,\"\")","v":""},{"$f":"IF(ISNUMBER(FromEvoM!AB463),FromEvoM!AB463,\"\")","v":""},{"$f":"IF(ISNUMBER(FromEvoM!AA463),FromEvoM!AA463,\"\")","v":""},null,"","",null,null,{"$f":"IF(FromEvoM!W463=1,(FromEvoM!AB463*12),IF(FromEvoM!W463=7,(FromEvoM!AR463),\"\"))","v":""},null,null,{"$f":"IF(ISBLANK(FromEvoM!A463),\"\",IF(FromEvoM!AK463=\"y\",\"Y\",\"N\"))","v":""},{"$f":"IF(ISBLANK(FromEvoM!A463),\"\",Category_ID)","v":""},null,null,null,{"$f":"IF(ISBLANK(FromEvoM!AK463),\"\",FromEvoM!AK463)","v":""},{"$f":"IF(ISBLANK(FromEvoM!AM463),\"\",FromEvoM!AM463)","v":""},{"$f":"IF(ISBLANK(FromEvoM!AN463),\"\",FromEvoM!AN463)","v":""},{"$f":"IF(ISBLANK(FromEvoM!AL463),\"\",FromEvoM!AL463)","v":""},{"$f":"IF(ISBLANK(FromEvoM!A463),\"\",IF(AND(AF463=\"y\",AI463=1),\"Y\",\"N\"))","v":""},{"$f":"IF(ISBLANK(FromEvoM!A463),\"\",IF(FromEvoM!AS463=\"Yes\",2,1))","v":""},{"$f":"IF(FromEvoM!W463=1,\"M\",IF(FromEvoM!W463=7,\"W\",\"\"))","v":""},{"$f":"IF(AJ463=\"Y\",0,IF(AJ463=\"N\",FromEvoM!AF463+FromEvoM!AT463,\"\"))","v":""},{"$f":"IF(AJ463=\"Y\",(FromEvoM!AE463+FromEvoM!AF463-FromEvoM!AT463),IF(AJ463=\"N\",FromEvoM!AE463,\"\"))","v":""}]
[{"$f":"IF(ISBLANK(FromEvoM!A464),\"\",Group_Code)","v":""},{"$f":"IF(ISBLANK(FromEvoM!A464),\"\",SUBSTITUTE(FromEvoM!A464,\" \",\"\"))","v":""},{"$f":"IF(ISBLANK(FromEvoM!C464),\"\",SUBSTITUTE(FromEvoM!G464,\" \",\"\"))","v":""},{"$f":"IF(ISBLANK(FromEvoM!D464),\"\",FromEvoM!B464)","v":""},{"$f":"IF(ISBLANK(FromEvoM!D464),\"\",FromEvoM!D464)","v":""},{"$f":"IF(ISBLANK(FromEvoM!C464),\"\",FromEvoM!C464)","v":""},{"$f":"REPLACE(FromEvoM!F464,2,6, )","v":""},{"$f":"IF(ISNUMBER(FromEvoM!E464),FromEvoM!E464,\"\")","v":""},{"$f":"IF(ISBLANK(FromEvoM!I464),\"\",FromEvoM!I464)","v":""},{"$f":"IF(ISBLANK(FromEvoM!J464),\"\",FromEvoM!J464)","v":""},{"$f":"IF(ISBLANK(FromEvoM!K464),\"\",FromEvoM!K464)","v":""},{"$f":"IF(ISBLANK(FromEvoM!L464),\"\",FromEvoM!L464)","v":""},{"$f":"IF(ISBLANK(FromEvoM!M464),\"\",FromEvoM!M464)","v":""},{"$f":"IF(ISBLANK(FromEvoM!P464),\"\",FromEvoM!P464)","v":""},null,{"$f":"IF(ISNUMBER(FromEvoM!X464),FromEvoM!X464,\"\")","v":""},{"$f":"IF(ISNUMBER(FromEvoM!AB464),FromEvoM!AB464,\"\")","v":""},{"$f":"IF(ISNUMBER(FromEvoM!AA464),FromEvoM!AA464,\"\")","v":""},null,"","",null,null,{"$f":"IF(FromEvoM!W464=1,(FromEvoM!AB464*12),IF(FromEvoM!W464=7,(FromEvoM!AR464),\"\"))","v":""},null,null,{"$f":"IF(ISBLANK(FromEvoM!A464),\"\",IF(FromEvoM!AK464=\"y\",\"Y\",\"N\"))","v":""},{"$f":"IF(ISBLANK(FromEvoM!A464),\"\",Category_ID)","v":""},null,null,null,{"$f":"IF(ISBLANK(FromEvoM!AK464),\"\",FromEvoM!AK464)","v":""},{"$f":"IF(ISBLANK(FromEvoM!AM464),\"\",FromEvoM!AM464)","v":""},{"$f":"IF(ISBLANK(FromEvoM!AN464),\"\",FromEvoM!AN464)","v":""},{"$f":"IF(ISBLANK(FromEvoM!AL464),\"\",FromEvoM!AL464)","v":""},{"$f":"IF(ISBLANK(FromEvoM!A464),\"\",IF(AND(AF464=\"y\",AI464=1),\"Y\",\"N\"))","v":""},{"$f":"IF(ISBLANK(FromEvoM!A464),\"\",IF(FromEvoM!AS464=\"Yes\",2,1))","v":""},{"$f":"IF(FromEvoM!W464=1,\"M\",IF(FromEvoM!W464=7,\"W\",\"\"))","v":""},{"$f":"IF(AJ464=\"Y\",0,IF(AJ464=\"N\",FromEvoM!AF464+FromEvoM!AT464,\"\"))","v":""},{"$f":"IF(AJ464=\"Y\",(FromEvoM!AE464+FromEvoM!AF464-FromEvoM!AT464),IF(AJ464=\"N\",FromEvoM!AE464,\"\"))","v":""}]
[{"$f":"IF(ISBLANK(FromEvoM!A465),\"\",Group_Code)","v":""},{"$f":"IF(ISBLANK(FromEvoM!A465),\"\",SUBSTITUTE(FromEvoM!A465,\" \",\"\"))","v":""},{"$f":"IF(ISBLANK(FromEvoM!C465),\"\",SUBSTITUTE(FromEvoM!G465,\" \",\"\"))","v":""},{"$f":"IF(ISBLANK(FromEvoM!D465),\"\",FromEvoM!B465)","v":""},{"$f":"IF(ISBLANK(FromEvoM!D465),\"\",FromEvoM!D465)","v":""},{"$f":"IF(ISBLANK(FromEvoM!C465),\"\",FromEvoM!C465)","v":""},{"$f":"REPLACE(FromEvoM!F465,2,6, )","v":""},{"$f":"IF(ISNUMBER(FromEvoM!E465),FromEvoM!E465,\"\")","v":""},{"$f":"IF(ISBLANK(FromEvoM!I465),\"\",FromEvoM!I465)","v":""},{"$f":"IF(ISBLANK(FromEvoM!J465),\"\",FromEvoM!J465)","v":""},{"$f":"IF(ISBLANK(FromEvoM!K465),\"\",FromEvoM!K465)","v":""},{"$f":"IF(ISBLANK(FromEvoM!L465),\"\",FromEvoM!L465)","v":""},{"$f":"IF(ISBLANK(FromEvoM!M465),\"\",FromEvoM!M465)","v":""},{"$f":"IF(ISBLANK(FromEvoM!P465),\"\",FromEvoM!P465)","v":""},null,{"$f":"IF(ISNUMBER(FromEvoM!X465),FromEvoM!X465,\"\")","v":""},{"$f":"IF(ISNUMBER(FromEvoM!AB465),FromEvoM!AB465,\"\")","v":""},{"$f":"IF(ISNUMBER(FromEvoM!AA465),FromEvoM!AA465,\"\")","v":""},null,"","",null,null,{"$f":"IF(FromEvoM!W465=1,(FromEvoM!AB465*12),IF(FromEvoM!W465=7,(FromEvoM!AR465),\"\"))","v":""},null,null,{"$f":"IF(ISBLANK(FromEvoM!A465),\"\",IF(FromEvoM!AK465=\"y\",\"Y\",\"N\"))","v":""},{"$f":"IF(ISBLANK(FromEvoM!A465),\"\",Category_ID)","v":""},null,null,null,{"$f":"IF(ISBLANK(FromEvoM!AK465),\"\",FromEvoM!AK465)","v":""},{"$f":"IF(ISBLANK(FromEvoM!AM465),\"\",FromEvoM!AM465)","v":""},{"$f":"IF(ISBLANK(FromEvoM!AN465),\"\",FromEvoM!AN465)","v":""},{"$f":"IF(ISBLANK(FromEvoM!AL465),\"\",FromEvoM!AL465)","v":""},{"$f":"IF(ISBLANK(FromEvoM!A465),\"\",IF(AND(AF465=\"y\",AI465=1),\"Y\",\"N\"))","v":""},{"$f":"IF(ISBLANK(FromEvoM!A465),\"\",IF(FromEvoM!AS465=\"Yes\",2,1))","v":""},{"$f":"IF(FromEvoM!W465=1,\"M\",IF(FromEvoM!W465=7,\"W\",\"\"))","v":""},{"$f":"IF(AJ465=\"Y\",0,IF(AJ465=\"N\",FromEvoM!AF465+FromEvoM!AT465,\"\"))","v":""},{"$f":"IF(AJ465=\"Y\",(FromEvoM!AE465+FromEvoM!AF465-FromEvoM!AT465),IF(AJ465=\"N\",FromEvoM!AE465,\"\"))","v":""}]
[{"$f":"IF(ISBLANK(FromEvoM!A466),\"\",Group_Code)","v":""},{"$f":"IF(ISBLANK(FromEvoM!A466),\"\",SUBSTITUTE(FromEvoM!A466,\" \",\"\"))","v":""},{"$f":"IF(ISBLANK(FromEvoM!C466),\"\",SUBSTITUTE(FromEvoM!G466,\" \",\"\"))","v":""},{"$f":"IF(ISBLANK(FromEvoM!D466),\"\",FromEvoM!B466)","v":""},{"$f":"IF(ISBLANK(FromEvoM!D466),\"\",FromEvoM!D466)","v":""},{"$f":"IF(ISBLANK(FromEvoM!C466),\"\",FromEvoM!C466)","v":""},{"$f":"REPLACE(FromEvoM!F466,2,6, )","v":""},{"$f":"IF(ISNUMBER(FromEvoM!E466),FromEvoM!E466,\"\")","v":""},{"$f":"IF(ISBLANK(FromEvoM!I466),\"\",FromEvoM!I466)","v":""},{"$f":"IF(ISBLANK(FromEvoM!J466),\"\",FromEvoM!J466)","v":""},{"$f":"IF(ISBLANK(FromEvoM!K466),\"\",FromEvoM!K466)","v":""},{"$f":"IF(ISBLANK(FromEvoM!L466),\"\",FromEvoM!L466)","v":""},{"$f":"IF(ISBLANK(FromEvoM!M466),\"\",FromEvoM!M466)","v":""},{"$f":"IF(ISBLANK(FromEvoM!P466),\"\",FromEvoM!P466)","v":""},null,{"$f":"IF(ISNUMBER(FromEvoM!X466),FromEvoM!X466,\"\")","v":""},{"$f":"IF(ISNUMBER(FromEvoM!AB466),FromEvoM!AB466,\"\")","v":""},{"$f":"IF(ISNUMBER(FromEvoM!AA466),FromEvoM!AA466,\"\")","v":""},null,"","",null,null,{"$f":"IF(FromEvoM!W466=1,(FromEvoM!AB466*12),IF(FromEvoM!W466=7,(FromEvoM!AR466),\"\"))","v":""},null,null,{"$f":"IF(ISBLANK(FromEvoM!A466),\"\",IF(FromEvoM!AK466=\"y\",\"Y\",\"N\"))","v":""},{"$f":"IF(ISBLANK(FromEvoM!A466),\"\",Category_ID)","v":""},null,null,null,{"$f":"IF(ISBLANK(FromEvoM!AK466),\"\",FromEvoM!AK466)","v":""},{"$f":"IF(ISBLANK(FromEvoM!AM466),\"\",FromEvoM!AM466)","v":""},{"$f":"IF(ISBLANK(FromEvoM!AN466),\"\",FromEvoM!AN466)","v":""},{"$f":"IF(ISBLANK(FromEvoM!AL466),\"\",FromEvoM!AL466)","v":""},{"$f":"IF(ISBLANK(FromEvoM!A466),\"\",IF(AND(AF466=\"y\",AI466=1),\"Y\",\"N\"))","v":""},{"$f":"IF(ISBLANK(FromEvoM!A466),\"\",IF(FromEvoM!AS466=\"Yes\",2,1))","v":""},{"$f":"IF(FromEvoM!W466=1,\"M\",IF(FromEvoM!W466=7,\"W\",\"\"))","v":""},{"$f":"IF(AJ466=\"Y\",0,IF(AJ466=\"N\",FromEvoM!AF466+FromEvoM!AT466,\"\"))","v":""},{"$f":"IF(AJ466=\"Y\",(FromEvoM!AE466+FromEvoM!AF466-FromEvoM!AT466),IF(AJ466=\"N\",FromEvoM!AE466,\"\"))","v":""}]
[{"$f":"IF(ISBLANK(FromEvoM!A467),\"\",Group_Code)","v":""},{"$f":"IF(ISBLANK(FromEvoM!A467),\"\",SUBSTITUTE(FromEvoM!A467,\" \",\"\"))","v":""},{"$f":"IF(ISBLANK(FromEvoM!C467),\"\",SUBSTITUTE(FromEvoM!G467,\" \",\"\"))","v":""},{"$f":"IF(ISBLANK(FromEvoM!D467),\"\",FromEvoM!B467)","v":""},{"$f":"IF(ISBLANK(FromEvoM!D467),\"\",FromEvoM!D467)","v":""},{"$f":"IF(ISBLANK(FromEvoM!C467),\"\",FromEvoM!C467)","v":""},{"$f":"REPLACE(FromEvoM!F467,2,6, )","v":""},{"$f":"IF(ISNUMBER(FromEvoM!E467),FromEvoM!E467,\"\")","v":""},{"$f":"IF(ISBLANK(FromEvoM!I467),\"\",FromEvoM!I467)","v":""},{"$f":"IF(ISBLANK(FromEvoM!J467),\"\",FromEvoM!J467)","v":""},{"$f":"IF(ISBLANK(FromEvoM!K467),\"\",FromEvoM!K467)","v":""},{"$f":"IF(ISBLANK(FromEvoM!L467),\"\",FromEvoM!L467)","v":""},{"$f":"IF(ISBLANK(FromEvoM!M467),\"\",FromEvoM!M467)","v":""},{"$f":"IF(ISBLANK(FromEvoM!P467),\"\",FromEvoM!P467)","v":""},null,{"$f":"IF(ISNUMBER(FromEvoM!X467),FromEvoM!X467,\"\")","v":""},{"$f":"IF(ISNUMBER(FromEvoM!AB467),FromEvoM!AB467,\"\")","v":""},{"$f":"IF(ISNUMBER(FromEvoM!AA467),FromEvoM!AA467,\"\")","v":""},null,"","",null,null,{"$f":"IF(FromEvoM!W467=1,(FromEvoM!AB467*12),IF(FromEvoM!W467=7,(FromEvoM!AR467),\"\"))","v":""},null,null,{"$f":"IF(ISBLANK(FromEvoM!A467),\"\",IF(FromEvoM!AK467=\"y\",\"Y\",\"N\"))","v":""},{"$f":"IF(ISBLANK(FromEvoM!A467),\"\",Category_ID)","v":""},null,null,null,{"$f":"IF(ISBLANK(FromEvoM!AK467),\"\",FromEvoM!AK467)","v":""},{"$f":"IF(ISBLANK(FromEvoM!AM467),\"\",FromEvoM!AM467)","v":""},{"$f":"IF(ISBLANK(FromEvoM!AN467),\"\",FromEvoM!AN467)","v":""},{"$f":"IF(ISBLANK(FromEvoM!AL467),\"\",FromEvoM!AL467)","v":""},{"$f":"IF(ISBLANK(FromEvoM!A467),\"\",IF(AND(AF467=\"y\",AI467=1),\"Y\",\"N\"))","v":""},{"$f":"IF(ISBLANK(FromEvoM!A467),\"\",IF(FromEvoM!AS467=\"Yes\",2,1))","v":""},{"$f":"IF(FromEvoM!W467=1,\"M\",IF(FromEvoM!W467=7,\"W\",\"\"))","v":""},{"$f":"IF(AJ467=\"Y\",0,IF(AJ467=\"N\",FromEvoM!AF467+FromEvoM!AT467,\"\"))","v":""},{"$f":"IF(AJ467=\"Y\",(FromEvoM!AE467+FromEvoM!AF467-FromEvoM!AT467),IF(AJ467=\"N\",FromEvoM!AE467,\"\"))","v":""}]
[{"$f":"IF(ISBLANK(FromEvoM!A468),\"\",Group_Code)","v":""},{"$f":"IF(ISBLANK(FromEvoM!A468),\"\",SUBSTITUTE(FromEvoM!A468,\" \",\"\"))","v":""},{"$f":"IF(ISBLANK(FromEvoM!C468),\"\",SUBSTITUTE(FromEvoM!G468,\" \",\"\"))","v":""},{"$f":"IF(ISBLANK(FromEvoM!D468),\"\",FromEvoM!B468)","v":""},{"$f":"IF(ISBLANK(FromEvoM!D468),\"\",FromEvoM!D468)","v":""},{"$f":"IF(ISBLANK(FromEvoM!C468),\"\",FromEvoM!C468)","v":""},{"$f":"REPLACE(FromEvoM!F468,2,6, )","v":""},{"$f":"IF(ISNUMBER(FromEvoM!E468),FromEvoM!E468,\"\")","v":""},{"$f":"IF(ISBLANK(FromEvoM!I468),\"\",FromEvoM!I468)","v":""},{"$f":"IF(ISBLANK(FromEvoM!J468),\"\",FromEvoM!J468)","v":""},{"$f":"IF(ISBLANK(FromEvoM!K468),\"\",FromEvoM!K468)","v":""},{"$f":"IF(ISBLANK(FromEvoM!L468),\"\",FromEvoM!L468)","v":""},{"$f":"IF(ISBLANK(FromEvoM!M468),\"\",FromEvoM!M468)","v":""},{"$f":"IF(ISBLANK(FromEvoM!P468),\"\",FromEvoM!P468)","v":""},null,{"$f":"IF(ISNUMBER(FromEvoM!X468),FromEvoM!X468,\"\")","v":""},{"$f":"IF(ISNUMBER(FromEvoM!AB468),FromEvoM!AB468,\"\")","v":""},{"$f":"IF(ISNUMBER(FromEvoM!AA468),FromEvoM!AA468,\"\")","v":""},null,"","",null,null,{"$f":"IF(FromEvoM!W468=1,(FromEvoM!AB468*12),IF(FromEvoM!W468=7,(FromEvoM!AR468),\"\"))","v":""},null,null,{"$f":"IF(ISBLANK(FromEvoM!A468),\"\",IF(FromEvoM!AK468=\"y\",\"Y\",\"N\"))","v":""},{"$f":"IF(ISBLANK(FromEvoM!A468),\"\",Category_ID)","v":""},null,null,null,{"$f":"IF(ISBLANK(FromEvoM!AK468),\"\",FromEvoM!AK468)","v":""},{"$f":"IF(ISBLANK(FromEvoM!AM468),\"\",FromEvoM!AM468)","v":""},{"$f":"IF(ISBLANK(FromEvoM!AN468),\"\",FromEvoM!AN468)","v":""},{"$f":"IF(ISBLANK(FromEvoM!AL468),\"\",FromEvoM!AL468)","v":""},{"$f":"IF(ISBLANK(FromEvoM!A468),\"\",IF(AND(AF468=\"y\",AI468=1),\"Y\",\"N\"))","v":""},{"$f":"IF(ISBLANK(FromEvoM!A468),\"\",IF(FromEvoM!AS468=\"Yes\",2,1))","v":""},{"$f":"IF(FromEvoM!W468=1,\"M\",IF(FromEvoM!W468=7,\"W\",\"\"))","v":""},{"$f":"IF(AJ468=\"Y\",0,IF(AJ468=\"N\",FromEvoM!AF468+FromEvoM!AT468,\"\"))","v":""},{"$f":"IF(AJ468=\"Y\",(FromEvoM!AE468+FromEvoM!AF468-FromEvoM!AT468),IF(AJ468=\"N\",FromEvoM!AE468,\"\"))","v":""}]
[{"$f":"IF(ISBLANK(FromEvoM!A469),\"\",Group_Code)","v":""},{"$f":"IF(ISBLANK(FromEvoM!A469),\"\",SUBSTITUTE(FromEvoM!A469,\" \",\"\"))","v":""},{"$f":"IF(ISBLANK(FromEvoM!C469),\"\",SUBSTITUTE(FromEvoM!G469,\" \",\"\"))","v":""},{"$f":"IF(ISBLANK(FromEvoM!D469),\"\",FromEvoM!B469)","v":""},{"$f":"IF(ISBLANK(FromEvoM!D469),\"\",FromEvoM!D469)","v":""},{"$f":"IF(ISBLANK(FromEvoM!C469),\"\",FromEvoM!C469)","v":""},{"$f":"REPLACE(FromEvoM!F469,2,6, )","v":""},{"$f":"IF(ISNUMBER(FromEvoM!E469),FromEvoM!E469,\"\")","v":""},{"$f":"IF(ISBLANK(FromEvoM!I469),\"\",FromEvoM!I469)","v":""},{"$f":"IF(ISBLANK(FromEvoM!J469),\"\",FromEvoM!J469)","v":""},{"$f":"IF(ISBLANK(FromEvoM!K469),\"\",FromEvoM!K469)","v":""},{"$f":"IF(ISBLANK(FromEvoM!L469),\"\",FromEvoM!L469)","v":""},{"$f":"IF(ISBLANK(FromEvoM!M469),\"\",FromEvoM!M469)","v":""},{"$f":"IF(ISBLANK(FromEvoM!P469),\"\",FromEvoM!P469)","v":""},null,{"$f":"IF(ISNUMBER(FromEvoM!X469),FromEvoM!X469,\"\")","v":""},{"$f":"IF(ISNUMBER(FromEvoM!AB469),FromEvoM!AB469,\"\")","v":""},{"$f":"IF(ISNUMBER(FromEvoM!AA469),FromEvoM!AA469,\"\")","v":""},null,"","",null,null,{"$f":"IF(FromEvoM!W469=1,(FromEvoM!AB469*12),IF(FromEvoM!W469=7,(FromEvoM!AR469),\"\"))","v":""},null,null,{"$f":"IF(ISBLANK(FromEvoM!A469),\"\",IF(FromEvoM!AK469=\"y\",\"Y\",\"N\"))","v":""},{"$f":"IF(ISBLANK(FromEvoM!A469),\"\",Category_ID)","v":""},null,null,null,{"$f":"IF(ISBLANK(FromEvoM!AK469),\"\",FromEvoM!AK469)","v":""},{"$f":"IF(ISBLANK(FromEvoM!AM469),\"\",FromEvoM!AM469)","v":""},{"$f":"IF(ISBLANK(FromEvoM!AN469),\"\",FromEvoM!AN469)","v":""},{"$f":"IF(ISBLANK(FromEvoM!AL469),\"\",FromEvoM!AL469)","v":""},{"$f":"IF(ISBLANK(FromEvoM!A469),\"\",IF(AND(AF469=\"y\",AI469=1),\"Y\",\"N\"))","v":""},{"$f":"IF(ISBLANK(FromEvoM!A469),\"\",IF(FromEvoM!AS469=\"Yes\",2,1))","v":""},{"$f":"IF(FromEvoM!W469=1,\"M\",IF(FromEvoM!W469=7,\"W\",\"\"))","v":""},{"$f":"IF(AJ469=\"Y\",0,IF(AJ469=\"N\",FromEvoM!AF469+FromEvoM!AT469,\"\"))","v":""},{"$f":"IF(AJ469=\"Y\",(FromEvoM!AE469+FromEvoM!AF469-FromEvoM!AT469),IF(AJ469=\"N\",FromEvoM!AE469,\"\"))","v":""}]
[{"$f":"IF(ISBLANK(FromEvoM!A470),\"\",Group_Code)","v":""},{"$f":"IF(ISBLANK(FromEvoM!A470),\"\",SUBSTITUTE(FromEvoM!A470,\" \",\"\"))","v":""},{"$f":"IF(ISBLANK(FromEvoM!C470),\"\",SUBSTITUTE(FromEvoM!G470,\" \",\"\"))","v":""},{"$f":"IF(ISBLANK(FromEvoM!D470),\"\",FromEvoM!B470)","v":""},{"$f":"IF(ISBLANK(FromEvoM!D470),\"\",FromEvoM!D470)","v":""},{"$f":"IF(ISBLANK(FromEvoM!C470),\"\",FromEvoM!C470)","v":""},{"$f":"REPLACE(FromEvoM!F470,2,6, )","v":""},{"$f":"IF(ISNUMBER(FromEvoM!E470),FromEvoM!E470,\"\")","v":""},{"$f":"IF(ISBLANK(FromEvoM!I470),\"\",FromEvoM!I470)","v":""},{"$f":"IF(ISBLANK(FromEvoM!J470),\"\",FromEvoM!J470)","v":""},{"$f":"IF(ISBLANK(FromEvoM!K470),\"\",FromEvoM!K470)","v":""},{"$f":"IF(ISBLANK(FromEvoM!L470),\"\",FromEvoM!L470)","v":""},{"$f":"IF(ISBLANK(FromEvoM!M470),\"\",FromEvoM!M470)","v":""},{"$f":"IF(ISBLANK(FromEvoM!P470),\"\",FromEvoM!P470)","v":""},null,{"$f":"IF(ISNUMBER(FromEvoM!X470),FromEvoM!X470,\"\")","v":""},{"$f":"IF(ISNUMBER(FromEvoM!AB470),FromEvoM!AB470,\"\")","v":""},{"$f":"IF(ISNUMBER(FromEvoM!AA470),FromEvoM!AA470,\"\")","v":""},null,"","",null,null,{"$f":"IF(FromEvoM!W470=1,(FromEvoM!AB470*12),IF(FromEvoM!W470=7,(FromEvoM!AR470),\"\"))","v":""},null,null,{"$f":"IF(ISBLANK(FromEvoM!A470),\"\",IF(FromEvoM!AK470=\"y\",\"Y\",\"N\"))","v":""},{"$f":"IF(ISBLANK(FromEvoM!A470),\"\",Category_ID)","v":""},null,null,null,{"$f":"IF(ISBLANK(FromEvoM!AK470),\"\",FromEvoM!AK470)","v":""},{"$f":"IF(ISBLANK(FromEvoM!AM470),\"\",FromEvoM!AM470)","v":""},{"$f":"IF(ISBLANK(FromEvoM!AN470),\"\",FromEvoM!AN470)","v":""},{"$f":"IF(ISBLANK(FromEvoM!AL470),\"\",FromEvoM!AL470)","v":""},{"$f":"IF(ISBLANK(FromEvoM!A470),\"\",IF(AND(AF470=\"y\",AI470=1),\"Y\",\"N\"))","v":""},{"$f":"IF(ISBLANK(FromEvoM!A470),\"\",IF(FromEvoM!AS470=\"Yes\",2,1))","v":""},{"$f":"IF(FromEvoM!W470=1,\"M\",IF(FromEvoM!W470=7,\"W\",\"\"))","v":""},{"$f":"IF(AJ470=\"Y\",0,IF(AJ470=\"N\",FromEvoM!AF470+FromEvoM!AT470,\"\"))","v":""},{"$f":"IF(AJ470=\"Y\",(FromEvoM!AE470+FromEvoM!AF470-FromEvoM!AT470),IF(AJ470=\"N\",FromEvoM!AE470,\"\"))","v":""}]
[{"$f":"IF(ISBLANK(FromEvoM!A471),\"\",Group_Code)","v":""},{"$f":"IF(ISBLANK(FromEvoM!A471),\"\",SUBSTITUTE(FromEvoM!A471,\" \",\"\"))","v":""},{"$f":"IF(ISBLANK(FromEvoM!C471),\"\",SUBSTITUTE(FromEvoM!G471,\" \",\"\"))","v":""},{"$f":"IF(ISBLANK(FromEvoM!D471),\"\",FromEvoM!B471)","v":""},{"$f":"IF(ISBLANK(FromEvoM!D471),\"\",FromEvoM!D471)","v":""},{"$f":"IF(ISBLANK(FromEvoM!C471),\"\",FromEvoM!C471)","v":""},{"$f":"REPLACE(FromEvoM!F471,2,6, )","v":""},{"$f":"IF(ISNUMBER(FromEvoM!E471),FromEvoM!E471,\"\")","v":""},{"$f":"IF(ISBLANK(FromEvoM!I471),\"\",FromEvoM!I471)","v":""},{"$f":"IF(ISBLANK(FromEvoM!J471),\"\",FromEvoM!J471)","v":""},{"$f":"IF(ISBLANK(FromEvoM!K471),\"\",FromEvoM!K471)","v":""},{"$f":"IF(ISBLANK(FromEvoM!L471),\"\",FromEvoM!L471)","v":""},{"$f":"IF(ISBLANK(FromEvoM!M471),\"\",FromEvoM!M471)","v":""},{"$f":"IF(ISBLANK(FromEvoM!P471),\"\",FromEvoM!P471)","v":""},null,{"$f":"IF(ISNUMBER(FromEvoM!X471),FromEvoM!X471,\"\")","v":""},{"$f":"IF(ISNUMBER(FromEvoM!AB471),FromEvoM!AB471,\"\")","v":""},{"$f":"IF(ISNUMBER(FromEvoM!AA471),FromEvoM!AA471,\"\")","v":""},null,"","",null,null,{"$f":"IF(FromEvoM!W471=1,(FromEvoM!AB471*12),IF(FromEvoM!W471=7,(FromEvoM!AR471),\"\"))","v":""},null,null,{"$f":"IF(ISBLANK(FromEvoM!A471),\"\",IF(FromEvoM!AK471=\"y\",\"Y\",\"N\"))","v":""},{"$f":"IF(ISBLANK(FromEvoM!A471),\"\",Category_ID)","v":""},null,null,null,{"$f":"IF(ISBLANK(FromEvoM!AK471),\"\",FromEvoM!AK471)","v":""},{"$f":"IF(ISBLANK(FromEvoM!AM471),\"\",FromEvoM!AM471)","v":""},{"$f":"IF(ISBLANK(FromEvoM!AN471),\"\",FromEvoM!AN471)","v":""},{"$f":"IF(ISBLANK(FromEvoM!AL471),\"\",FromEvoM!AL471)","v":""},{"$f":"IF(ISBLANK(FromEvoM!A471),\"\",IF(AND(AF471=\"y\",AI471=1),\"Y\",\"N\"))","v":""},{"$f":"IF(ISBLANK(FromEvoM!A471),\"\",IF(FromEvoM!AS471=\"Yes\",2,1))","v":""},{"$f":"IF(FromEvoM!W471=1,\"M\",IF(FromEvoM!W471=7,\"W\",\"\"))","v":""},{"$f":"IF(AJ471=\"Y\",0,IF(AJ471=\"N\",FromEvoM!AF471+FromEvoM!AT471,\"\"))","v":""},{"$f":"IF(AJ471=\"Y\",(FromEvoM!AE471+FromEvoM!AF471-FromEvoM!AT471),IF(AJ471=\"N\",FromEvoM!AE471,\"\"))","v":""}]
[{"$f":"IF(ISBLANK(FromEvoM!A472),\"\",Group_Code)","v":""},{"$f":"IF(ISBLANK(FromEvoM!A472),\"\",SUBSTITUTE(FromEvoM!A472,\" \",\"\"))","v":""},{"$f":"IF(ISBLANK(FromEvoM!C472),\"\",SUBSTITUTE(FromEvoM!G472,\" \",\"\"))","v":""},{"$f":"IF(ISBLANK(FromEvoM!D472),\"\",FromEvoM!B472)","v":""},{"$f":"IF(ISBLANK(FromEvoM!D472),\"\",FromEvoM!D472)","v":""},{"$f":"IF(ISBLANK(FromEvoM!C472),\"\",FromEvoM!C472)","v":""},{"$f":"REPLACE(FromEvoM!F472,2,6, )","v":""},{"$f":"IF(ISNUMBER(FromEvoM!E472),FromEvoM!E472,\"\")","v":""},{"$f":"IF(ISBLANK(FromEvoM!I472),\"\",FromEvoM!I472)","v":""},{"$f":"IF(ISBLANK(FromEvoM!J472),\"\",FromEvoM!J472)","v":""},{"$f":"IF(ISBLANK(FromEvoM!K472),\"\",FromEvoM!K472)","v":""},{"$f":"IF(ISBLANK(FromEvoM!L472),\"\",FromEvoM!L472)","v":""},{"$f":"IF(ISBLANK(FromEvoM!M472),\"\",FromEvoM!M472)","v":""},{"$f":"IF(ISBLANK(FromEvoM!P472),\"\",FromEvoM!P472)","v":""},null,{"$f":"IF(ISNUMBER(FromEvoM!X472),FromEvoM!X472,\"\")","v":""},{"$f":"IF(ISNUMBER(FromEvoM!AB472),FromEvoM!AB472,\"\")","v":""},{"$f":"IF(ISNUMBER(FromEvoM!AA472),FromEvoM!AA472,\"\")","v":""},null,"","",null,null,{"$f":"IF(FromEvoM!W472=1,(FromEvoM!AB472*12),IF(FromEvoM!W472=7,(FromEvoM!AR472),\"\"))","v":""},null,null,{"$f":"IF(ISBLANK(FromEvoM!A472),\"\",IF(FromEvoM!AK472=\"y\",\"Y\",\"N\"))","v":""},{"$f":"IF(ISBLANK(FromEvoM!A472),\"\",Category_ID)","v":""},null,null,null,{"$f":"IF(ISBLANK(FromEvoM!AK472),\"\",FromEvoM!AK472)","v":""},{"$f":"IF(ISBLANK(FromEvoM!AM472),\"\",FromEvoM!AM472)","v":""},{"$f":"IF(ISBLANK(FromEvoM!AN472),\"\",FromEvoM!AN472)","v":""},{"$f":"IF(ISBLANK(FromEvoM!AL472),\"\",FromEvoM!AL472)","v":""},{"$f":"IF(ISBLANK(FromEvoM!A472),\"\",IF(AND(AF472=\"y\",AI472=1),\"Y\",\"N\"))","v":""},{"$f":"IF(ISBLANK(FromEvoM!A472),\"\",IF(FromEvoM!AS472=\"Yes\",2,1))","v":""},{"$f":"IF(FromEvoM!W472=1,\"M\",IF(FromEvoM!W472=7,\"W\",\"\"))","v":""},{"$f":"IF(AJ472=\"Y\",0,IF(AJ472=\"N\",FromEvoM!AF472+FromEvoM!AT472,\"\"))","v":""},{"$f":"IF(AJ472=\"Y\",(FromEvoM!AE472+FromEvoM!AF472-FromEvoM!AT472),IF(AJ472=\"N\",FromEvoM!AE472,\"\"))","v":""}]
[{"$f":"IF(ISBLANK(FromEvoM!A473),\"\",Group_Code)","v":""},{"$f":"IF(ISBLANK(FromEvoM!A473),\"\",SUBSTITUTE(FromEvoM!A473,\" \",\"\"))","v":""},{"$f":"IF(ISBLANK(FromEvoM!C473),\"\",SUBSTITUTE(FromEvoM!G473,\" \",\"\"))","v":""},{"$f":"IF(ISBLANK(FromEvoM!D473),\"\",FromEvoM!B473)","v":""},{"$f":"IF(ISBLANK(FromEvoM!D473),\"\",FromEvoM!D473)","v":""},{"$f":"IF(ISBLANK(FromEvoM!C473),\"\",FromEvoM!C473)","v":""},{"$f":"REPLACE(FromEvoM!F473,2,6, )","v":""},{"$f":"IF(ISNUMBER(FromEvoM!E473),FromEvoM!E473,\"\")","v":""},{"$f":"IF(ISBLANK(FromEvoM!I473),\"\",FromEvoM!I473)","v":""},{"$f":"IF(ISBLANK(FromEvoM!J473),\"\",FromEvoM!J473)","v":""},{"$f":"IF(ISBLANK(FromEvoM!K473),\"\",FromEvoM!K473)","v":""},{"$f":"IF(ISBLANK(FromEvoM!L473),\"\",FromEvoM!L473)","v":""},{"$f":"IF(ISBLANK(FromEvoM!M473),\"\",FromEvoM!M473)","v":""},{"$f":"IF(ISBLANK(FromEvoM!P473),\"\",FromEvoM!P473)","v":""},null,{"$f":"IF(ISNUMBER(FromEvoM!X473),FromEvoM!X473,\"\")","v":""},{"$f":"IF(ISNUMBER(FromEvoM!AB473),FromEvoM!AB473,\"\")","v":""},{"$f":"IF(ISNUMBER(FromEvoM!AA473),FromEvoM!AA473,\"\")","v":""},null,"","",null,null,{"$f":"IF(FromEvoM!W473=1,(FromEvoM!AB473*12),IF(FromEvoM!W473=7,(FromEvoM!AR473),\"\"))","v":""},null,null,{"$f":"IF(ISBLANK(FromEvoM!A473),\"\",IF(FromEvoM!AK473=\"y\",\"Y\",\"N\"))","v":""},{"$f":"IF(ISBLANK(FromEvoM!A473),\"\",Category_ID)","v":""},null,null,null,{"$f":"IF(ISBLANK(FromEvoM!AK473),\"\",FromEvoM!AK473)","v":""},{"$f":"IF(ISBLANK(FromEvoM!AM473),\"\",FromEvoM!AM473)","v":""},{"$f":"IF(ISBLANK(FromEvoM!AN473),\"\",FromEvoM!AN473)","v":""},{"$f":"IF(ISBLANK(FromEvoM!AL473),\"\",FromEvoM!AL473)","v":""},{"$f":"IF(ISBLANK(FromEvoM!A473),\"\",IF(AND(AF473=\"y\",AI473=1),\"Y\",\"N\"))","v":""},{"$f":"IF(ISBLANK(FromEvoM!A473),\"\",IF(FromEvoM!AS473=\"Yes\",2,1))","v":""},{"$f":"IF(FromEvoM!W473=1,\"M\",IF(FromEvoM!W473=7,\"W\",\"\"))","v":""},{"$f":"IF(AJ473=\"Y\",0,IF(AJ473=\"N\",FromEvoM!AF473+FromEvoM!AT473,\"\"))","v":""},{"$f":"IF(AJ473=\"Y\",(FromEvoM!AE473+FromEvoM!AF473-FromEvoM!AT473),IF(AJ473=\"N\",FromEvoM!AE473,\"\"))","v":""}]
[{"$f":"IF(ISBLANK(FromEvoM!A474),\"\",Group_Code)","v":""},{"$f":"IF(ISBLANK(FromEvoM!A474),\"\",SUBSTITUTE(FromEvoM!A474,\" \",\"\"))","v":""},{"$f":"IF(ISBLANK(FromEvoM!C474),\"\",SUBSTITUTE(FromEvoM!G474,\" \",\"\"))","v":""},{"$f":"IF(ISBLANK(FromEvoM!D474),\"\",FromEvoM!B474)","v":""},{"$f":"IF(ISBLANK(FromEvoM!D474),\"\",FromEvoM!D474)","v":""},{"$f":"IF(ISBLANK(FromEvoM!C474),\"\",FromEvoM!C474)","v":""},{"$f":"REPLACE(FromEvoM!F474,2,6, )","v":""},{"$f":"IF(ISNUMBER(FromEvoM!E474),FromEvoM!E474,\"\")","v":""},{"$f":"IF(ISBLANK(FromEvoM!I474),\"\",FromEvoM!I474)","v":""},{"$f":"IF(ISBLANK(FromEvoM!J474),\"\",FromEvoM!J474)","v":""},{"$f":"IF(ISBLANK(FromEvoM!K474),\"\",FromEvoM!K474)","v":""},{"$f":"IF(ISBLANK(FromEvoM!L474),\"\",FromEvoM!L474)","v":""},{"$f":"IF(ISBLANK(FromEvoM!M474),\"\",FromEvoM!M474)","v":""},{"$f":"IF(ISBLANK(FromEvoM!P474),\"\",FromEvoM!P474)","v":""},null,{"$f":"IF(ISNUMBER(FromEvoM!X474),FromEvoM!X474,\"\")","v":""},{"$f":"IF(ISNUMBER(FromEvoM!AB474),FromEvoM!AB474,\"\")","v":""},{"$f":"IF(ISNUMBER(FromEvoM!AA474),FromEvoM!AA474,\"\")","v":""},null,"","",null,null,{"$f":"IF(FromEvoM!W474=1,(FromEvoM!AB474*12),IF(FromEvoM!W474=7,(FromEvoM!AR474),\"\"))","v":""},null,null,{"$f":"IF(ISBLANK(FromEvoM!A474),\"\",IF(FromEvoM!AK474=\"y\",\"Y\",\"N\"))","v":""},{"$f":"IF(ISBLANK(FromEvoM!A474),\"\",Category_ID)","v":""},null,null,null,{"$f":"IF(ISBLANK(FromEvoM!AK474),\"\",FromEvoM!AK474)","v":""},{"$f":"IF(ISBLANK(FromEvoM!AM474),\"\",FromEvoM!AM474)","v":""},{"$f":"IF(ISBLANK(FromEvoM!AN474),\"\",FromEvoM!AN474)","v":""},{"$f":"IF(ISBLANK(FromEvoM!AL474),\"\",FromEvoM!AL474)","v":""},{"$f":"IF(ISBLANK(FromEvoM!A474),\"\",IF(AND(AF474=\"y\",AI474=1),\"Y\",\"N\"))","v":""},{"$f":"IF(ISBLANK(FromEvoM!A474),\"\",IF(FromEvoM!AS474=\"Yes\",2,1))","v":""},{"$f":"IF(FromEvoM!W474=1,\"M\",IF(FromEvoM!W474=7,\"W\",\"\"))","v":""},{"$f":"IF(AJ474=\"Y\",0,IF(AJ474=\"N\",FromEvoM!AF474+FromEvoM!AT474,\"\"))","v":""},{"$f":"IF(AJ474=\"Y\",(FromEvoM!AE474+FromEvoM!AF474-FromEvoM!AT474),IF(AJ474=\"N\",FromEvoM!AE474,\"\"))","v":""}]
[{"$f":"IF(ISBLANK(FromEvoM!A475),\"\",Group_Code)","v":""},{"$f":"IF(ISBLANK(FromEvoM!A475),\"\",SUBSTITUTE(FromEvoM!A475,\" \",\"\"))","v":""},{"$f":"IF(ISBLANK(FromEvoM!C475),\"\",SUBSTITUTE(FromEvoM!G475,\" \",\"\"))","v":""},{"$f":"IF(ISBLANK(FromEvoM!D475),\"\",FromEvoM!B475)","v":""},{"$f":"IF(ISBLANK(FromEvoM!D475),\"\",FromEvoM!D475)","v":""},{"$f":"IF(ISBLANK(FromEvoM!C475),\"\",FromEvoM!C475)","v":""},{"$f":"REPLACE(FromEvoM!F475,2,6, )","v":""},{"$f":"IF(ISNUMBER(FromEvoM!E475),FromEvoM!E475,\"\")","v":""},{"$f":"IF(ISBLANK(FromEvoM!I475),\"\",FromEvoM!I475)","v":""},{"$f":"IF(ISBLANK(FromEvoM!J475),\"\",FromEvoM!J475)","v":""},{"$f":"IF(ISBLANK(FromEvoM!K475),\"\",FromEvoM!K475)","v":""},{"$f":"IF(ISBLANK(FromEvoM!L475),\"\",FromEvoM!L475)","v":""},{"$f":"IF(ISBLANK(FromEvoM!M475),\"\",FromEvoM!M475)","v":""},{"$f":"IF(ISBLANK(FromEvoM!P475),\"\",FromEvoM!P475)","v":""},null,{"$f":"IF(ISNUMBER(FromEvoM!X475),FromEvoM!X475,\"\")","v":""},{"$f":"IF(ISNUMBER(FromEvoM!AB475),FromEvoM!AB475,\"\")","v":""},{"$f":"IF(ISNUMBER(FromEvoM!AA475),FromEvoM!AA475,\"\")","v":""},null,"","",null,null,{"$f":"IF(FromEvoM!W475=1,(FromEvoM!AB475*12),IF(FromEvoM!W475=7,(FromEvoM!AR475),\"\"))","v":""},null,null,{"$f":"IF(ISBLANK(FromEvoM!A475),\"\",IF(FromEvoM!AK475=\"y\",\"Y\",\"N\"))","v":""},{"$f":"IF(ISBLANK(FromEvoM!A475),\"\",Category_ID)","v":""},null,null,null,{"$f":"IF(ISBLANK(FromEvoM!AK475),\"\",FromEvoM!AK475)","v":""},{"$f":"IF(ISBLANK(FromEvoM!AM475),\"\",FromEvoM!AM475)","v":""},{"$f":"IF(ISBLANK(FromEvoM!AN475),\"\",FromEvoM!AN475)","v":""},{"$f":"IF(ISBLANK(FromEvoM!AL475),\"\",FromEvoM!AL475)","v":""},{"$f":"IF(ISBLANK(FromEvoM!A475),\"\",IF(AND(AF475=\"y\",AI475=1),\"Y\",\"N\"))","v":""},{"$f":"IF(ISBLANK(FromEvoM!A475),\"\",IF(FromEvoM!AS475=\"Yes\",2,1))","v":""},{"$f":"IF(FromEvoM!W475=1,\"M\",IF(FromEvoM!W475=7,\"W\",\"\"))","v":""},{"$f":"IF(AJ475=\"Y\",0,IF(AJ475=\"N\",FromEvoM!AF475+FromEvoM!AT475,\"\"))","v":""},{"$f":"IF(AJ475=\"Y\",(FromEvoM!AE475+FromEvoM!AF475-FromEvoM!AT475),IF(AJ475=\"N\",FromEvoM!AE475,\"\"))","v":""}]
[{"$f":"IF(ISBLANK(FromEvoM!A476),\"\",Group_Code)","v":""},{"$f":"IF(ISBLANK(FromEvoM!A476),\"\",SUBSTITUTE(FromEvoM!A476,\" \",\"\"))","v":""},{"$f":"IF(ISBLANK(FromEvoM!C476),\"\",SUBSTITUTE(FromEvoM!G476,\" \",\"\"))","v":""},{"$f":"IF(ISBLANK(FromEvoM!D476),\"\",FromEvoM!B476)","v":""},{"$f":"IF(ISBLANK(FromEvoM!D476),\"\",FromEvoM!D476)","v":""},{"$f":"IF(ISBLANK(FromEvoM!C476),\"\",FromEvoM!C476)","v":""},{"$f":"REPLACE(FromEvoM!F476,2,6, )","v":""},{"$f":"IF(ISNUMBER(FromEvoM!E476),FromEvoM!E476,\"\")","v":""},{"$f":"IF(ISBLANK(FromEvoM!I476),\"\",FromEvoM!I476)","v":""},{"$f":"IF(ISBLANK(FromEvoM!J476),\"\",FromEvoM!J476)","v":""},{"$f":"IF(ISBLANK(FromEvoM!K476),\"\",FromEvoM!K476)","v":""},{"$f":"IF(ISBLANK(FromEvoM!L476),\"\",FromEvoM!L476)","v":""},{"$f":"IF(ISBLANK(FromEvoM!M476),\"\",FromEvoM!M476)","v":""},{"$f":"IF(ISBLANK(FromEvoM!P476),\"\",FromEvoM!P476)","v":""},null,{"$f":"IF(ISNUMBER(FromEvoM!X476),FromEvoM!X476,\"\")","v":""},{"$f":"IF(ISNUMBER(FromEvoM!AB476),FromEvoM!AB476,\"\")","v":""},{"$f":"IF(ISNUMBER(FromEvoM!AA476),FromEvoM!AA476,\"\")","v":""},null,"","",null,null,{"$f":"IF(FromEvoM!W476=1,(FromEvoM!AB476*12),IF(FromEvoM!W476=7,(FromEvoM!AR476),\"\"))","v":""},null,null,{"$f":"IF(ISBLANK(FromEvoM!A476),\"\",IF(FromEvoM!AK476=\"y\",\"Y\",\"N\"))","v":""},{"$f":"IF(ISBLANK(FromEvoM!A476),\"\",Category_ID)","v":""},null,null,null,{"$f":"IF(ISBLANK(FromEvoM!AK476),\"\",FromEvoM!AK476)","v":""},{"$f":"IF(ISBLANK(FromEvoM!AM476),\"\",FromEvoM!AM476)","v":""},{"$f":"IF(ISBLANK(FromEvoM!AN476),\"\",FromEvoM!AN476)","v":""},{"$f":"IF(ISBLANK(FromEvoM!AL476),\"\",FromEvoM!AL476)","v":""},{"$f":"IF(ISBLANK(FromEvoM!A476),\"\",IF(AND(AF476=\"y\",AI476=1),\"Y\",\"N\"))","v":""},{"$f":"IF(ISBLANK(FromEvoM!A476),\"\",IF(FromEvoM!AS476=\"Yes\",2,1))","v":""},{"$f":"IF(FromEvoM!W476=1,\"M\",IF(FromEvoM!W476=7,\"W\",\"\"))","v":""},{"$f":"IF(AJ476=\"Y\",0,IF(AJ476=\"N\",FromEvoM!AF476+FromEvoM!AT476,\"\"))","v":""},{"$f":"IF(AJ476=\"Y\",(FromEvoM!AE476+FromEvoM!AF476-FromEvoM!AT476),IF(AJ476=\"N\",FromEvoM!AE476,\"\"))","v":""}]
[{"$f":"IF(ISBLANK(FromEvoM!A477),\"\",Group_Code)","v":""},{"$f":"IF(ISBLANK(FromEvoM!A477),\"\",SUBSTITUTE(FromEvoM!A477,\" \",\"\"))","v":""},{"$f":"IF(ISBLANK(FromEvoM!C477),\"\",SUBSTITUTE(FromEvoM!G477,\" \",\"\"))","v":""},{"$f":"IF(ISBLANK(FromEvoM!D477),\"\",FromEvoM!B477)","v":""},{"$f":"IF(ISBLANK(FromEvoM!D477),\"\",FromEvoM!D477)","v":""},{"$f":"IF(ISBLANK(FromEvoM!C477),\"\",FromEvoM!C477)","v":""},{"$f":"REPLACE(FromEvoM!F477,2,6, )","v":""},{"$f":"IF(ISNUMBER(FromEvoM!E477),FromEvoM!E477,\"\")","v":""},{"$f":"IF(ISBLANK(FromEvoM!I477),\"\",FromEvoM!I477)","v":""},{"$f":"IF(ISBLANK(FromEvoM!J477),\"\",FromEvoM!J477)","v":""},{"$f":"IF(ISBLANK(FromEvoM!K477),\"\",FromEvoM!K477)","v":""},{"$f":"IF(ISBLANK(FromEvoM!L477),\"\",FromEvoM!L477)","v":""},{"$f":"IF(ISBLANK(FromEvoM!M477),\"\",FromEvoM!M477)","v":""},{"$f":"IF(ISBLANK(FromEvoM!P477),\"\",FromEvoM!P477)","v":""},null,{"$f":"IF(ISNUMBER(FromEvoM!X477),FromEvoM!X477,\"\")","v":""},{"$f":"IF(ISNUMBER(FromEvoM!AB477),FromEvoM!AB477,\"\")","v":""},{"$f":"IF(ISNUMBER(FromEvoM!AA477),FromEvoM!AA477,\"\")","v":""},null,"","",null,null,{"$f":"IF(FromEvoM!W477=1,(FromEvoM!AB477*12),IF(FromEvoM!W477=7,(FromEvoM!AR477),\"\"))","v":""},null,null,{"$f":"IF(ISBLANK(FromEvoM!A477),\"\",IF(FromEvoM!AK477=\"y\",\"Y\",\"N\"))","v":""},{"$f":"IF(ISBLANK(FromEvoM!A477),\"\",Category_ID)","v":""},null,null,null,{"$f":"IF(ISBLANK(FromEvoM!AK477),\"\",FromEvoM!AK477)","v":""},{"$f":"IF(ISBLANK(FromEvoM!AM477),\"\",FromEvoM!AM477)","v":""},{"$f":"IF(ISBLANK(FromEvoM!AN477),\"\",FromEvoM!AN477)","v":""},{"$f":"IF(ISBLANK(FromEvoM!AL477),\"\",FromEvoM!AL477)","v":""},{"$f":"IF(ISBLANK(FromEvoM!A477),\"\",IF(AND(AF477=\"y\",AI477=1),\"Y\",\"N\"))","v":""},{"$f":"IF(ISBLANK(FromEvoM!A477),\"\",IF(FromEvoM!AS477=\"Yes\",2,1))","v":""},{"$f":"IF(FromEvoM!W477=1,\"M\",IF(FromEvoM!W477=7,\"W\",\"\"))","v":""},{"$f":"IF(AJ477=\"Y\",0,IF(AJ477=\"N\",FromEvoM!AF477+FromEvoM!AT477,\"\"))","v":""},{"$f":"IF(AJ477=\"Y\",(FromEvoM!AE477+FromEvoM!AF477-FromEvoM!AT477),IF(AJ477=\"N\",FromEvoM!AE477,\"\"))","v":""}]
[{"$f":"IF(ISBLANK(FromEvoM!A478),\"\",Group_Code)","v":""},{"$f":"IF(ISBLANK(FromEvoM!A478),\"\",SUBSTITUTE(FromEvoM!A478,\" \",\"\"))","v":""},{"$f":"IF(ISBLANK(FromEvoM!C478),\"\",SUBSTITUTE(FromEvoM!G478,\" \",\"\"))","v":""},{"$f":"IF(ISBLANK(FromEvoM!D478),\"\",FromEvoM!B478)","v":""},{"$f":"IF(ISBLANK(FromEvoM!D478),\"\",FromEvoM!D478)","v":""},{"$f":"IF(ISBLANK(FromEvoM!C478),\"\",FromEvoM!C478)","v":""},{"$f":"REPLACE(FromEvoM!F478,2,6, )","v":""},{"$f":"IF(ISNUMBER(FromEvoM!E478),FromEvoM!E478,\"\")","v":""},{"$f":"IF(ISBLANK(FromEvoM!I478),\"\",FromEvoM!I478)","v":""},{"$f":"IF(ISBLANK(FromEvoM!J478),\"\",FromEvoM!J478)","v":""},{"$f":"IF(ISBLANK(FromEvoM!K478),\"\",FromEvoM!K478)","v":""},{"$f":"IF(ISBLANK(FromEvoM!L478),\"\",FromEvoM!L478)","v":""},{"$f":"IF(ISBLANK(FromEvoM!M478),\"\",FromEvoM!M478)","v":""},{"$f":"IF(ISBLANK(FromEvoM!P478),\"\",FromEvoM!P478)","v":""},null,{"$f":"IF(ISNUMBER(FromEvoM!X478),FromEvoM!X478,\"\")","v":""},{"$f":"IF(ISNUMBER(FromEvoM!AB478),FromEvoM!AB478,\"\")","v":""},{"$f":"IF(ISNUMBER(FromEvoM!AA478),FromEvoM!AA478,\"\")","v":""},null,"","",null,null,{"$f":"IF(FromEvoM!W478=1,(FromEvoM!AB478*12),IF(FromEvoM!W478=7,(FromEvoM!AR478),\"\"))","v":""},null,null,{"$f":"IF(ISBLANK(FromEvoM!A478),\"\",IF(FromEvoM!AK478=\"y\",\"Y\",\"N\"))","v":""},{"$f":"IF(ISBLANK(FromEvoM!A478),\"\",Category_ID)","v":""},null,null,null,{"$f":"IF(ISBLANK(FromEvoM!AK478),\"\",FromEvoM!AK478)","v":""},{"$f":"IF(ISBLANK(FromEvoM!AM478),\"\",FromEvoM!AM478)","v":""},{"$f":"IF(ISBLANK(FromEvoM!AN478),\"\",FromEvoM!AN478)","v":""},{"$f":"IF(ISBLANK(FromEvoM!AL478),\"\",FromEvoM!AL478)","v":""},{"$f":"IF(ISBLANK(FromEvoM!A478),\"\",IF(AND(AF478=\"y\",AI478=1),\"Y\",\"N\"))","v":""},{"$f":"IF(ISBLANK(FromEvoM!A478),\"\",IF(FromEvoM!AS478=\"Yes\",2,1))","v":""},{"$f":"IF(FromEvoM!W478=1,\"M\",IF(FromEvoM!W478=7,\"W\",\"\"))","v":""},{"$f":"IF(AJ478=\"Y\",0,IF(AJ478=\"N\",FromEvoM!AF478+FromEvoM!AT478,\"\"))","v":""},{"$f":"IF(AJ478=\"Y\",(FromEvoM!AE478+FromEvoM!AF478-FromEvoM!AT478),IF(AJ478=\"N\",FromEvoM!AE478,\"\"))","v":""}]
[{"$f":"IF(ISBLANK(FromEvoM!A479),\"\",Group_Code)","v":""},{"$f":"IF(ISBLANK(FromEvoM!A479),\"\",SUBSTITUTE(FromEvoM!A479,\" \",\"\"))","v":""},{"$f":"IF(ISBLANK(FromEvoM!C479),\"\",SUBSTITUTE(FromEvoM!G479,\" \",\"\"))","v":""},{"$f":"IF(ISBLANK(FromEvoM!D479),\"\",FromEvoM!B479)","v":""},{"$f":"IF(ISBLANK(FromEvoM!D479),\"\",FromEvoM!D479)","v":""},{"$f":"IF(ISBLANK(FromEvoM!C479),\"\",FromEvoM!C479)","v":""},{"$f":"REPLACE(FromEvoM!F479,2,6, )","v":""},{"$f":"IF(ISNUMBER(FromEvoM!E479),FromEvoM!E479,\"\")","v":""},{"$f":"IF(ISBLANK(FromEvoM!I479),\"\",FromEvoM!I479)","v":""},{"$f":"IF(ISBLANK(FromEvoM!J479),\"\",FromEvoM!J479)","v":""},{"$f":"IF(ISBLANK(FromEvoM!K479),\"\",FromEvoM!K479)","v":""},{"$f":"IF(ISBLANK(FromEvoM!L479),\"\",FromEvoM!L479)","v":""},{"$f":"IF(ISBLANK(FromEvoM!M479),\"\",FromEvoM!M479)","v":""},{"$f":"IF(ISBLANK(FromEvoM!P479),\"\",FromEvoM!P479)","v":""},null,{"$f":"IF(ISNUMBER(FromEvoM!X479),FromEvoM!X479,\"\")","v":""},{"$f":"IF(ISNUMBER(FromEvoM!AB479),FromEvoM!AB479,\"\")","v":""},{"$f":"IF(ISNUMBER(FromEvoM!AA479),FromEvoM!AA479,\"\")","v":""},null,"","",null,null,{"$f":"IF(FromEvoM!W479=1,(FromEvoM!AB479*12),IF(FromEvoM!W479=7,(FromEvoM!AR479),\"\"))","v":""},null,null,{"$f":"IF(ISBLANK(FromEvoM!A479),\"\",IF(FromEvoM!AK479=\"y\",\"Y\",\"N\"))","v":""},{"$f":"IF(ISBLANK(FromEvoM!A479),\"\",Category_ID)","v":""},null,null,null,{"$f":"IF(ISBLANK(FromEvoM!AK479),\"\",FromEvoM!AK479)","v":""},{"$f":"IF(ISBLANK(FromEvoM!AM479),\"\",FromEvoM!AM479)","v":""},{"$f":"IF(ISBLANK(FromEvoM!AN479),\"\",FromEvoM!AN479)","v":""},{"$f":"IF(ISBLANK(FromEvoM!AL479),\"\",FromEvoM!AL479)","v":""},{"$f":"IF(ISBLANK(FromEvoM!A479),\"\",IF(AND(AF479=\"y\",AI479=1),\"Y\",\"N\"))","v":""},{"$f":"IF(ISBLANK(FromEvoM!A479),\"\",IF(FromEvoM!AS479=\"Yes\",2,1))","v":""},{"$f":"IF(FromEvoM!W479=1,\"M\",IF(FromEvoM!W479=7,\"W\",\"\"))","v":""},{"$f":"IF(AJ479=\"Y\",0,IF(AJ479=\"N\",FromEvoM!AF479+FromEvoM!AT479,\"\"))","v":""},{"$f":"IF(AJ479=\"Y\",(FromEvoM!AE479+FromEvoM!AF479-FromEvoM!AT479),IF(AJ479=\"N\",FromEvoM!AE479,\"\"))","v":""}]
[{"$f":"IF(ISBLANK(FromEvoM!A480),\"\",Group_Code)","v":""},{"$f":"IF(ISBLANK(FromEvoM!A480),\"\",SUBSTITUTE(FromEvoM!A480,\" \",\"\"))","v":""},{"$f":"IF(ISBLANK(FromEvoM!C480),\"\",SUBSTITUTE(FromEvoM!G480,\" \",\"\"))","v":""},{"$f":"IF(ISBLANK(FromEvoM!D480),\"\",FromEvoM!B480)","v":""},{"$f":"IF(ISBLANK(FromEvoM!D480),\"\",FromEvoM!D480)","v":""},{"$f":"IF(ISBLANK(FromEvoM!C480),\"\",FromEvoM!C480)","v":""},{"$f":"REPLACE(FromEvoM!F480,2,6, )","v":""},{"$f":"IF(ISNUMBER(FromEvoM!E480),FromEvoM!E480,\"\")","v":""},{"$f":"IF(ISBLANK(FromEvoM!I480),\"\",FromEvoM!I480)","v":""},{"$f":"IF(ISBLANK(FromEvoM!J480),\"\",FromEvoM!J480)","v":""},{"$f":"IF(ISBLANK(FromEvoM!K480),\"\",FromEvoM!K480)","v":""},{"$f":"IF(ISBLANK(FromEvoM!L480),\"\",FromEvoM!L480)","v":""},{"$f":"IF(ISBLANK(FromEvoM!M480),\"\",FromEvoM!M480)","v":""},{"$f":"IF(ISBLANK(FromEvoM!P480),\"\",FromEvoM!P480)","v":""},null,{"$f":"IF(ISNUMBER(FromEvoM!X480),FromEvoM!X480,\"\")","v":""},{"$f":"IF(ISNUMBER(FromEvoM!AB480),FromEvoM!AB480,\"\")","v":""},{"$f":"IF(ISNUMBER(FromEvoM!AA480),FromEvoM!AA480,\"\")","v":""},null,"","",null,null,{"$f":"IF(FromEvoM!W480=1,(FromEvoM!AB480*12),IF(FromEvoM!W480=7,(FromEvoM!AR480),\"\"))","v":""},null,null,{"$f":"IF(ISBLANK(FromEvoM!A480),\"\",IF(FromEvoM!AK480=\"y\",\"Y\",\"N\"))","v":""},{"$f":"IF(ISBLANK(FromEvoM!A480),\"\",Category_ID)","v":""},null,null,null,{"$f":"IF(ISBLANK(FromEvoM!AK480),\"\",FromEvoM!AK480)","v":""},{"$f":"IF(ISBLANK(FromEvoM!AM480),\"\",FromEvoM!AM480)","v":""},{"$f":"IF(ISBLANK(FromEvoM!AN480),\"\",FromEvoM!AN480)","v":""},{"$f":"IF(ISBLANK(FromEvoM!AL480),\"\",FromEvoM!AL480)","v":""},{"$f":"IF(ISBLANK(FromEvoM!A480),\"\",IF(AND(AF480=\"y\",AI480=1),\"Y\",\"N\"))","v":""},{"$f":"IF(ISBLANK(FromEvoM!A480),\"\",IF(FromEvoM!AS480=\"Yes\",2,1))","v":""},{"$f":"IF(FromEvoM!W480=1,\"M\",IF(FromEvoM!W480=7,\"W\",\"\"))","v":""},{"$f":"IF(AJ480=\"Y\",0,IF(AJ480=\"N\",FromEvoM!AF480+FromEvoM!AT480,\"\"))","v":""},{"$f":"IF(AJ480=\"Y\",(FromEvoM!AE480+FromEvoM!AF480-FromEvoM!AT480),IF(AJ480=\"N\",FromEvoM!AE480,\"\"))","v":""}]
[{"$f":"IF(ISBLANK(FromEvoM!A481),\"\",Group_Code)","v":""},{"$f":"IF(ISBLANK(FromEvoM!A481),\"\",SUBSTITUTE(FromEvoM!A481,\" \",\"\"))","v":""},{"$f":"IF(ISBLANK(FromEvoM!C481),\"\",SUBSTITUTE(FromEvoM!G481,\" \",\"\"))","v":""},{"$f":"IF(ISBLANK(FromEvoM!D481),\"\",FromEvoM!B481)","v":""},{"$f":"IF(ISBLANK(FromEvoM!D481),\"\",FromEvoM!D481)","v":""},{"$f":"IF(ISBLANK(FromEvoM!C481),\"\",FromEvoM!C481)","v":""},{"$f":"REPLACE(FromEvoM!F481,2,6, )","v":""},{"$f":"IF(ISNUMBER(FromEvoM!E481),FromEvoM!E481,\"\")","v":""},{"$f":"IF(ISBLANK(FromEvoM!I481),\"\",FromEvoM!I481)","v":""},{"$f":"IF(ISBLANK(FromEvoM!J481),\"\",FromEvoM!J481)","v":""},{"$f":"IF(ISBLANK(FromEvoM!K481),\"\",FromEvoM!K481)","v":""},{"$f":"IF(ISBLANK(FromEvoM!L481),\"\",FromEvoM!L481)","v":""},{"$f":"IF(ISBLANK(FromEvoM!M481),\"\",FromEvoM!M481)","v":""},{"$f":"IF(ISBLANK(FromEvoM!P481),\"\",FromEvoM!P481)","v":""},null,{"$f":"IF(ISNUMBER(FromEvoM!X481),FromEvoM!X481,\"\")","v":""},{"$f":"IF(ISNUMBER(FromEvoM!AB481),FromEvoM!AB481,\"\")","v":""},{"$f":"IF(ISNUMBER(FromEvoM!AA481),FromEvoM!AA481,\"\")","v":""},null,"","",null,null,{"$f":"IF(FromEvoM!W481=1,(FromEvoM!AB481*12),IF(FromEvoM!W481=7,(FromEvoM!AR481),\"\"))","v":""},null,null,{"$f":"IF(ISBLANK(FromEvoM!A481),\"\",IF(FromEvoM!AK481=\"y\",\"Y\",\"N\"))","v":""},{"$f":"IF(ISBLANK(FromEvoM!A481),\"\",Category_ID)","v":""},null,null,null,{"$f":"IF(ISBLANK(FromEvoM!AK481),\"\",FromEvoM!AK481)","v":""},{"$f":"IF(ISBLANK(FromEvoM!AM481),\"\",FromEvoM!AM481)","v":""},{"$f":"IF(ISBLANK(FromEvoM!AN481),\"\",FromEvoM!AN481)","v":""},{"$f":"IF(ISBLANK(FromEvoM!AL481),\"\",FromEvoM!AL481)","v":""},{"$f":"IF(ISBLANK(FromEvoM!A481),\"\",IF(AND(AF481=\"y\",AI481=1),\"Y\",\"N\"))","v":""},{"$f":"IF(ISBLANK(FromEvoM!A481),\"\",IF(FromEvoM!AS481=\"Yes\",2,1))","v":""},{"$f":"IF(FromEvoM!W481=1,\"M\",IF(FromEvoM!W481=7,\"W\",\"\"))","v":""},{"$f":"IF(AJ481=\"Y\",0,IF(AJ481=\"N\",FromEvoM!AF481+FromEvoM!AT481,\"\"))","v":""},{"$f":"IF(AJ481=\"Y\",(FromEvoM!AE481+FromEvoM!AF481-FromEvoM!AT481),IF(AJ481=\"N\",FromEvoM!AE481,\"\"))","v":""}]
[{"$f":"IF(ISBLANK(FromEvoM!A482),\"\",Group_Code)","v":""},{"$f":"IF(ISBLANK(FromEvoM!A482),\"\",SUBSTITUTE(FromEvoM!A482,\" \",\"\"))","v":""},{"$f":"IF(ISBLANK(FromEvoM!C482),\"\",SUBSTITUTE(FromEvoM!G482,\" \",\"\"))","v":""},{"$f":"IF(ISBLANK(FromEvoM!D482),\"\",FromEvoM!B482)","v":""},{"$f":"IF(ISBLANK(FromEvoM!D482),\"\",FromEvoM!D482)","v":""},{"$f":"IF(ISBLANK(FromEvoM!C482),\"\",FromEvoM!C482)","v":""},{"$f":"REPLACE(FromEvoM!F482,2,6, )","v":""},{"$f":"IF(ISNUMBER(FromEvoM!E482),FromEvoM!E482,\"\")","v":""},{"$f":"IF(ISBLANK(FromEvoM!I482),\"\",FromEvoM!I482)","v":""},{"$f":"IF(ISBLANK(FromEvoM!J482),\"\",FromEvoM!J482)","v":""},{"$f":"IF(ISBLANK(FromEvoM!K482),\"\",FromEvoM!K482)","v":""},{"$f":"IF(ISBLANK(FromEvoM!L482),\"\",FromEvoM!L482)","v":""},{"$f":"IF(ISBLANK(FromEvoM!M482),\"\",FromEvoM!M482)","v":""},{"$f":"IF(ISBLANK(FromEvoM!P482),\"\",FromEvoM!P482)","v":""},null,{"$f":"IF(ISNUMBER(FromEvoM!X482),FromEvoM!X482,\"\")","v":""},{"$f":"IF(ISNUMBER(FromEvoM!AB482),FromEvoM!AB482,\"\")","v":""},{"$f":"IF(ISNUMBER(FromEvoM!AA482),FromEvoM!AA482,\"\")","v":""},null,"","",null,null,{"$f":"IF(FromEvoM!W482=1,(FromEvoM!AB482*12),IF(FromEvoM!W482=7,(FromEvoM!AR482),\"\"))","v":""},null,null,{"$f":"IF(ISBLANK(FromEvoM!A482),\"\",IF(FromEvoM!AK482=\"y\",\"Y\",\"N\"))","v":""},{"$f":"IF(ISBLANK(FromEvoM!A482),\"\",Category_ID)","v":""},null,null,null,{"$f":"IF(ISBLANK(FromEvoM!AK482),\"\",FromEvoM!AK482)","v":""},{"$f":"IF(ISBLANK(FromEvoM!AM482),\"\",FromEvoM!AM482)","v":""},{"$f":"IF(ISBLANK(FromEvoM!AN482),\"\",FromEvoM!AN482)","v":""},{"$f":"IF(ISBLANK(FromEvoM!AL482),\"\",FromEvoM!AL482)","v":""},{"$f":"IF(ISBLANK(FromEvoM!A482),\"\",IF(AND(AF482=\"y\",AI482=1),\"Y\",\"N\"))","v":""},{"$f":"IF(ISBLANK(FromEvoM!A482),\"\",IF(FromEvoM!AS482=\"Yes\",2,1))","v":""},{"$f":"IF(FromEvoM!W482=1,\"M\",IF(FromEvoM!W482=7,\"W\",\"\"))","v":""},{"$f":"IF(AJ482=\"Y\",0,IF(AJ482=\"N\",FromEvoM!AF482+FromEvoM!AT482,\"\"))","v":""},{"$f":"IF(AJ482=\"Y\",(FromEvoM!AE482+FromEvoM!AF482-FromEvoM!AT482),IF(AJ482=\"N\",FromEvoM!AE482,\"\"))","v":""}]
[{"$f":"IF(ISBLANK(FromEvoM!A483),\"\",Group_Code)","v":""},{"$f":"IF(ISBLANK(FromEvoM!A483),\"\",SUBSTITUTE(FromEvoM!A483,\" \",\"\"))","v":""},{"$f":"IF(ISBLANK(FromEvoM!C483),\"\",SUBSTITUTE(FromEvoM!G483,\" \",\"\"))","v":""},{"$f":"IF(ISBLANK(FromEvoM!D483),\"\",FromEvoM!B483)","v":""},{"$f":"IF(ISBLANK(FromEvoM!D483),\"\",FromEvoM!D483)","v":""},{"$f":"IF(ISBLANK(FromEvoM!C483),\"\",FromEvoM!C483)","v":""},{"$f":"REPLACE(FromEvoM!F483,2,6, )","v":""},{"$f":"IF(ISNUMBER(FromEvoM!E483),FromEvoM!E483,\"\")","v":""},{"$f":"IF(ISBLANK(FromEvoM!I483),\"\",FromEvoM!I483)","v":""},{"$f":"IF(ISBLANK(FromEvoM!J483),\"\",FromEvoM!J483)","v":""},{"$f":"IF(ISBLANK(FromEvoM!K483),\"\",FromEvoM!K483)","v":""},{"$f":"IF(ISBLANK(FromEvoM!L483),\"\",FromEvoM!L483)","v":""},{"$f":"IF(ISBLANK(FromEvoM!M483),\"\",FromEvoM!M483)","v":""},{"$f":"IF(ISBLANK(FromEvoM!P483),\"\",FromEvoM!P483)","v":""},null,{"$f":"IF(ISNUMBER(FromEvoM!X483),FromEvoM!X483,\"\")","v":""},{"$f":"IF(ISNUMBER(FromEvoM!AB483),FromEvoM!AB483,\"\")","v":""},{"$f":"IF(ISNUMBER(FromEvoM!AA483),FromEvoM!AA483,\"\")","v":""},null,"","",null,null,{"$f":"IF(FromEvoM!W483=1,(FromEvoM!AB483*12),IF(FromEvoM!W483=7,(FromEvoM!AR483),\"\"))","v":""},null,null,{"$f":"IF(ISBLANK(FromEvoM!A483),\"\",IF(FromEvoM!AK483=\"y\",\"Y\",\"N\"))","v":""},{"$f":"IF(ISBLANK(FromEvoM!A483),\"\",Category_ID)","v":""},null,null,null,{"$f":"IF(ISBLANK(FromEvoM!AK483),\"\",FromEvoM!AK483)","v":""},{"$f":"IF(ISBLANK(FromEvoM!AM483),\"\",FromEvoM!AM483)","v":""},{"$f":"IF(ISBLANK(FromEvoM!AN483),\"\",FromEvoM!AN483)","v":""},{"$f":"IF(ISBLANK(FromEvoM!AL483),\"\",FromEvoM!AL483)","v":""},{"$f":"IF(ISBLANK(FromEvoM!A483),\"\",IF(AND(AF483=\"y\",AI483=1),\"Y\",\"N\"))","v":""},{"$f":"IF(ISBLANK(FromEvoM!A483),\"\",IF(FromEvoM!AS483=\"Yes\",2,1))","v":""},{"$f":"IF(FromEvoM!W483=1,\"M\",IF(FromEvoM!W483=7,\"W\",\"\"))","v":""},{"$f":"IF(AJ483=\"Y\",0,IF(AJ483=\"N\",FromEvoM!AF483+FromEvoM!AT483,\"\"))","v":""},{"$f":"IF(AJ483=\"Y\",(FromEvoM!AE483+FromEvoM!AF483-FromEvoM!AT483),IF(AJ483=\"N\",FromEvoM!AE483,\"\"))","v":""}]
[{"$f":"IF(ISBLANK(FromEvoM!A484),\"\",Group_Code)","v":""},{"$f":"IF(ISBLANK(FromEvoM!A484),\"\",SUBSTITUTE(FromEvoM!A484,\" \",\"\"))","v":""},{"$f":"IF(ISBLANK(FromEvoM!C484),\"\",SUBSTITUTE(FromEvoM!G484,\" \",\"\"))","v":""},{"$f":"IF(ISBLANK(FromEvoM!D484),\"\",FromEvoM!B484)","v":""},{"$f":"IF(ISBLANK(FromEvoM!D484),\"\",FromEvoM!D484)","v":""},{"$f":"IF(ISBLANK(FromEvoM!C484),\"\",FromEvoM!C484)","v":""},{"$f":"REPLACE(FromEvoM!F484,2,6, )","v":""},{"$f":"IF(ISNUMBER(FromEvoM!E484),FromEvoM!E484,\"\")","v":""},{"$f":"IF(ISBLANK(FromEvoM!I484),\"\",FromEvoM!I484)","v":""},{"$f":"IF(ISBLANK(FromEvoM!J484),\"\",FromEvoM!J484)","v":""},{"$f":"IF(ISBLANK(FromEvoM!K484),\"\",FromEvoM!K484)","v":""},{"$f":"IF(ISBLANK(FromEvoM!L484),\"\",FromEvoM!L484)","v":""},{"$f":"IF(ISBLANK(FromEvoM!M484),\"\",FromEvoM!M484)","v":""},{"$f":"IF(ISBLANK(FromEvoM!P484),\"\",FromEvoM!P484)","v":""},null,{"$f":"IF(ISNUMBER(FromEvoM!X484),FromEvoM!X484,\"\")","v":""},{"$f":"IF(ISNUMBER(FromEvoM!AB484),FromEvoM!AB484,\"\")","v":""},{"$f":"IF(ISNUMBER(FromEvoM!AA484),FromEvoM!AA484,\"\")","v":""},null,"","",null,null,{"$f":"IF(FromEvoM!W484=1,(FromEvoM!AB484*12),IF(FromEvoM!W484=7,(FromEvoM!AR484),\"\"))","v":""},null,null,{"$f":"IF(ISBLANK(FromEvoM!A484),\"\",IF(FromEvoM!AK484=\"y\",\"Y\",\"N\"))","v":""},{"$f":"IF(ISBLANK(FromEvoM!A484),\"\",Category_ID)","v":""},null,null,null,{"$f":"IF(ISBLANK(FromEvoM!AK484),\"\",FromEvoM!AK484)","v":""},{"$f":"IF(ISBLANK(FromEvoM!AM484),\"\",FromEvoM!AM484)","v":""},{"$f":"IF(ISBLANK(FromEvoM!AN484),\"\",FromEvoM!AN484)","v":""},{"$f":"IF(ISBLANK(FromEvoM!AL484),\"\",FromEvoM!AL484)","v":""},{"$f":"IF(ISBLANK(FromEvoM!A484),\"\",IF(AND(AF484=\"y\",AI484=1),\"Y\",\"N\"))","v":""},{"$f":"IF(ISBLANK(FromEvoM!A484),\"\",IF(FromEvoM!AS484=\"Yes\",2,1))","v":""},{"$f":"IF(FromEvoM!W484=1,\"M\",IF(FromEvoM!W484=7,\"W\",\"\"))","v":""},{"$f":"IF(AJ484=\"Y\",0,IF(AJ484=\"N\",FromEvoM!AF484+FromEvoM!AT484,\"\"))","v":""},{"$f":"IF(AJ484=\"Y\",(FromEvoM!AE484+FromEvoM!AF484-FromEvoM!AT484),IF(AJ484=\"N\",FromEvoM!AE484,\"\"))","v":""}]
[{"$f":"IF(ISBLANK(FromEvoM!A485),\"\",Group_Code)","v":""},{"$f":"IF(ISBLANK(FromEvoM!A485),\"\",SUBSTITUTE(FromEvoM!A485,\" \",\"\"))","v":""},{"$f":"IF(ISBLANK(FromEvoM!C485),\"\",SUBSTITUTE(FromEvoM!G485,\" \",\"\"))","v":""},{"$f":"IF(ISBLANK(FromEvoM!D485),\"\",FromEvoM!B485)","v":""},{"$f":"IF(ISBLANK(FromEvoM!D485),\"\",FromEvoM!D485)","v":""},{"$f":"IF(ISBLANK(FromEvoM!C485),\"\",FromEvoM!C485)","v":""},{"$f":"REPLACE(FromEvoM!F485,2,6, )","v":""},{"$f":"IF(ISNUMBER(FromEvoM!E485),FromEvoM!E485,\"\")","v":""},{"$f":"IF(ISBLANK(FromEvoM!I485),\"\",FromEvoM!I485)","v":""},{"$f":"IF(ISBLANK(FromEvoM!J485),\"\",FromEvoM!J485)","v":""},{"$f":"IF(ISBLANK(FromEvoM!K485),\"\",FromEvoM!K485)","v":""},{"$f":"IF(ISBLANK(FromEvoM!L485),\"\",FromEvoM!L485)","v":""},{"$f":"IF(ISBLANK(FromEvoM!M485),\"\",FromEvoM!M485)","v":""},{"$f":"IF(ISBLANK(FromEvoM!P485),\"\",FromEvoM!P485)","v":""},null,{"$f":"IF(ISNUMBER(FromEvoM!X485),FromEvoM!X485,\"\")","v":""},{"$f":"IF(ISNUMBER(FromEvoM!AB485),FromEvoM!AB485,\"\")","v":""},{"$f":"IF(ISNUMBER(FromEvoM!AA485),FromEvoM!AA485,\"\")","v":""},null,"","",null,null,{"$f":"IF(FromEvoM!W485=1,(FromEvoM!AB485*12),IF(FromEvoM!W485=7,(FromEvoM!AR485),\"\"))","v":""},null,null,{"$f":"IF(ISBLANK(FromEvoM!A485),\"\",IF(FromEvoM!AK485=\"y\",\"Y\",\"N\"))","v":""},{"$f":"IF(ISBLANK(FromEvoM!A485),\"\",Category_ID)","v":""},null,null,null,{"$f":"IF(ISBLANK(FromEvoM!AK485),\"\",FromEvoM!AK485)","v":""},{"$f":"IF(ISBLANK(FromEvoM!AM485),\"\",FromEvoM!AM485)","v":""},{"$f":"IF(ISBLANK(FromEvoM!AN485),\"\",FromEvoM!AN485)","v":""},{"$f":"IF(ISBLANK(FromEvoM!AL485),\"\",FromEvoM!AL485)","v":""},{"$f":"IF(ISBLANK(FromEvoM!A485),\"\",IF(AND(AF485=\"y\",AI485=1),\"Y\",\"N\"))","v":""},{"$f":"IF(ISBLANK(FromEvoM!A485),\"\",IF(FromEvoM!AS485=\"Yes\",2,1))","v":""},{"$f":"IF(FromEvoM!W485=1,\"M\",IF(FromEvoM!W485=7,\"W\",\"\"))","v":""},{"$f":"IF(AJ485=\"Y\",0,IF(AJ485=\"N\",FromEvoM!AF485+FromEvoM!AT485,\"\"))","v":""},{"$f":"IF(AJ485=\"Y\",(FromEvoM!AE485+FromEvoM!AF485-FromEvoM!AT485),IF(AJ485=\"N\",FromEvoM!AE485,\"\"))","v":""}]
[{"$f":"IF(ISBLANK(FromEvoM!A486),\"\",Group_Code)","v":""},{"$f":"IF(ISBLANK(FromEvoM!A486),\"\",SUBSTITUTE(FromEvoM!A486,\" \",\"\"))","v":""},{"$f":"IF(ISBLANK(FromEvoM!C486),\"\",SUBSTITUTE(FromEvoM!G486,\" \",\"\"))","v":""},{"$f":"IF(ISBLANK(FromEvoM!D486),\"\",FromEvoM!B486)","v":""},{"$f":"IF(ISBLANK(FromEvoM!D486),\"\",FromEvoM!D486)","v":""},{"$f":"IF(ISBLANK(FromEvoM!C486),\"\",FromEvoM!C486)","v":""},{"$f":"REPLACE(FromEvoM!F486,2,6, )","v":""},{"$f":"IF(ISNUMBER(FromEvoM!E486),FromEvoM!E486,\"\")","v":""},{"$f":"IF(ISBLANK(FromEvoM!I486),\"\",FromEvoM!I486)","v":""},{"$f":"IF(ISBLANK(FromEvoM!J486),\"\",FromEvoM!J486)","v":""},{"$f":"IF(ISBLANK(FromEvoM!K486),\"\",FromEvoM!K486)","v":""},{"$f":"IF(ISBLANK(FromEvoM!L486),\"\",FromEvoM!L486)","v":""},{"$f":"IF(ISBLANK(FromEvoM!M486),\"\",FromEvoM!M486)","v":""},{"$f":"IF(ISBLANK(FromEvoM!P486),\"\",FromEvoM!P486)","v":""},null,{"$f":"IF(ISNUMBER(FromEvoM!X486),FromEvoM!X486,\"\")","v":""},{"$f":"IF(ISNUMBER(FromEvoM!AB486),FromEvoM!AB486,\"\")","v":""},{"$f":"IF(ISNUMBER(FromEvoM!AA486),FromEvoM!AA486,\"\")","v":""},null,"","",null,null,{"$f":"IF(FromEvoM!W486=1,(FromEvoM!AB486*12),IF(FromEvoM!W486=7,(FromEvoM!AR486),\"\"))","v":""},null,null,{"$f":"IF(ISBLANK(FromEvoM!A486),\"\",IF(FromEvoM!AK486=\"y\",\"Y\",\"N\"))","v":""},{"$f":"IF(ISBLANK(FromEvoM!A486),\"\",Category_ID)","v":""},null,null,null,{"$f":"IF(ISBLANK(FromEvoM!AK486),\"\",FromEvoM!AK486)","v":""},{"$f":"IF(ISBLANK(FromEvoM!AM486),\"\",FromEvoM!AM486)","v":""},{"$f":"IF(ISBLANK(FromEvoM!AN486),\"\",FromEvoM!AN486)","v":""},{"$f":"IF(ISBLANK(FromEvoM!AL486),\"\",FromEvoM!AL486)","v":""},{"$f":"IF(ISBLANK(FromEvoM!A486),\"\",IF(AND(AF486=\"y\",AI486=1),\"Y\",\"N\"))","v":""},{"$f":"IF(ISBLANK(FromEvoM!A486),\"\",IF(FromEvoM!AS486=\"Yes\",2,1))","v":""},{"$f":"IF(FromEvoM!W486=1,\"M\",IF(FromEvoM!W486=7,\"W\",\"\"))","v":""},{"$f":"IF(AJ486=\"Y\",0,IF(AJ486=\"N\",FromEvoM!AF486+FromEvoM!AT486,\"\"))","v":""},{"$f":"IF(AJ486=\"Y\",(FromEvoM!AE486+FromEvoM!AF486-FromEvoM!AT486),IF(AJ486=\"N\",FromEvoM!AE486,\"\"))","v":""}]
[{"$f":"IF(ISBLANK(FromEvoM!A487),\"\",Group_Code)","v":""},{"$f":"IF(ISBLANK(FromEvoM!A487),\"\",SUBSTITUTE(FromEvoM!A487,\" \",\"\"))","v":""},{"$f":"IF(ISBLANK(FromEvoM!C487),\"\",SUBSTITUTE(FromEvoM!G487,\" \",\"\"))","v":""},{"$f":"IF(ISBLANK(FromEvoM!D487),\"\",FromEvoM!B487)","v":""},{"$f":"IF(ISBLANK(FromEvoM!D487),\"\",FromEvoM!D487)","v":""},{"$f":"IF(ISBLANK(FromEvoM!C487),\"\",FromEvoM!C487)","v":""},{"$f":"REPLACE(FromEvoM!F487,2,6, )","v":""},{"$f":"IF(ISNUMBER(FromEvoM!E487),FromEvoM!E487,\"\")","v":""},{"$f":"IF(ISBLANK(FromEvoM!I487),\"\",FromEvoM!I487)","v":""},{"$f":"IF(ISBLANK(FromEvoM!J487),\"\",FromEvoM!J487)","v":""},{"$f":"IF(ISBLANK(FromEvoM!K487),\"\",FromEvoM!K487)","v":""},{"$f":"IF(ISBLANK(FromEvoM!L487),\"\",FromEvoM!L487)","v":""},{"$f":"IF(ISBLANK(FromEvoM!M487),\"\",FromEvoM!M487)","v":""},{"$f":"IF(ISBLANK(FromEvoM!P487),\"\",FromEvoM!P487)","v":""},null,{"$f":"IF(ISNUMBER(FromEvoM!X487),FromEvoM!X487,\"\")","v":""},{"$f":"IF(ISNUMBER(FromEvoM!AB487),FromEvoM!AB487,\"\")","v":""},{"$f":"IF(ISNUMBER(FromEvoM!AA487),FromEvoM!AA487,\"\")","v":""},null,"","",null,null,{"$f":"IF(FromEvoM!W487=1,(FromEvoM!AB487*12),IF(FromEvoM!W487=7,(FromEvoM!AR487),\"\"))","v":""},null,null,{"$f":"IF(ISBLANK(FromEvoM!A487),\"\",IF(FromEvoM!AK487=\"y\",\"Y\",\"N\"))","v":""},{"$f":"IF(ISBLANK(FromEvoM!A487),\"\",Category_ID)","v":""},null,null,null,{"$f":"IF(ISBLANK(FromEvoM!AK487),\"\",FromEvoM!AK487)","v":""},{"$f":"IF(ISBLANK(FromEvoM!AM487),\"\",FromEvoM!AM487)","v":""},{"$f":"IF(ISBLANK(FromEvoM!AN487),\"\",FromEvoM!AN487)","v":""},{"$f":"IF(ISBLANK(FromEvoM!AL487),\"\",FromEvoM!AL487)","v":""},{"$f":"IF(ISBLANK(FromEvoM!A487),\"\",IF(AND(AF487=\"y\",AI487=1),\"Y\",\"N\"))","v":""},{"$f":"IF(ISBLANK(FromEvoM!A487),\"\",IF(FromEvoM!AS487=\"Yes\",2,1))","v":""},{"$f":"IF(FromEvoM!W487=1,\"M\",IF(FromEvoM!W487=7,\"W\",\"\"))","v":""},{"$f":"IF(AJ487=\"Y\",0,IF(AJ487=\"N\",FromEvoM!AF487+FromEvoM!AT487,\"\"))","v":""},{"$f":"IF(AJ487=\"Y\",(FromEvoM!AE487+FromEvoM!AF487-FromEvoM!AT487),IF(AJ487=\"N\",FromEvoM!AE487,\"\"))","v":""}]
[{"$f":"IF(ISBLANK(FromEvoM!A488),\"\",Group_Code)","v":""},{"$f":"IF(ISBLANK(FromEvoM!A488),\"\",SUBSTITUTE(FromEvoM!A488,\" \",\"\"))","v":""},{"$f":"IF(ISBLANK(FromEvoM!C488),\"\",SUBSTITUTE(FromEvoM!G488,\" \",\"\"))","v":""},{"$f":"IF(ISBLANK(FromEvoM!D488),\"\",FromEvoM!B488)","v":""},{"$f":"IF(ISBLANK(FromEvoM!D488),\"\",FromEvoM!D488)","v":""},{"$f":"IF(ISBLANK(FromEvoM!C488),\"\",FromEvoM!C488)","v":""},{"$f":"REPLACE(FromEvoM!F488,2,6, )","v":""},{"$f":"IF(ISNUMBER(FromEvoM!E488),FromEvoM!E488,\"\")","v":""},{"$f":"IF(ISBLANK(FromEvoM!I488),\"\",FromEvoM!I488)","v":""},{"$f":"IF(ISBLANK(FromEvoM!J488),\"\",FromEvoM!J488)","v":""},{"$f":"IF(ISBLANK(FromEvoM!K488),\"\",FromEvoM!K488)","v":""},{"$f":"IF(ISBLANK(FromEvoM!L488),\"\",FromEvoM!L488)","v":""},{"$f":"IF(ISBLANK(FromEvoM!M488),\"\",FromEvoM!M488)","v":""},{"$f":"IF(ISBLANK(FromEvoM!P488),\"\",FromEvoM!P488)","v":""},null,{"$f":"IF(ISNUMBER(FromEvoM!X488),FromEvoM!X488,\"\")","v":""},{"$f":"IF(ISNUMBER(FromEvoM!AB488),FromEvoM!AB488,\"\")","v":""},{"$f":"IF(ISNUMBER(FromEvoM!AA488),FromEvoM!AA488,\"\")","v":""},null,"","",null,null,{"$f":"IF(FromEvoM!W488=1,(FromEvoM!AB488*12),IF(FromEvoM!W488=7,(FromEvoM!AR488),\"\"))","v":""},null,null,{"$f":"IF(ISBLANK(FromEvoM!A488),\"\",IF(FromEvoM!AK488=\"y\",\"Y\",\"N\"))","v":""},{"$f":"IF(ISBLANK(FromEvoM!A488),\"\",Category_ID)","v":""},null,null,null,{"$f":"IF(ISBLANK(FromEvoM!AK488),\"\",FromEvoM!AK488)","v":""},{"$f":"IF(ISBLANK(FromEvoM!AM488),\"\",FromEvoM!AM488)","v":""},{"$f":"IF(ISBLANK(FromEvoM!AN488),\"\",FromEvoM!AN488)","v":""},{"$f":"IF(ISBLANK(FromEvoM!AL488),\"\",FromEvoM!AL488)","v":""},{"$f":"IF(ISBLANK(FromEvoM!A488),\"\",IF(AND(AF488=\"y\",AI488=1),\"Y\",\"N\"))","v":""},{"$f":"IF(ISBLANK(FromEvoM!A488),\"\",IF(FromEvoM!AS488=\"Yes\",2,1))","v":""},{"$f":"IF(FromEvoM!W488=1,\"M\",IF(FromEvoM!W488=7,\"W\",\"\"))","v":""},{"$f":"IF(AJ488=\"Y\",0,IF(AJ488=\"N\",FromEvoM!AF488+FromEvoM!AT488,\"\"))","v":""},{"$f":"IF(AJ488=\"Y\",(FromEvoM!AE488+FromEvoM!AF488-FromEvoM!AT488),IF(AJ488=\"N\",FromEvoM!AE488,\"\"))","v":""}]
[{"$f":"IF(ISBLANK(FromEvoM!A489),\"\",Group_Code)","v":""},{"$f":"IF(ISBLANK(FromEvoM!A489),\"\",SUBSTITUTE(FromEvoM!A489,\" \",\"\"))","v":""},{"$f":"IF(ISBLANK(FromEvoM!C489),\"\",SUBSTITUTE(FromEvoM!G489,\" \",\"\"))","v":""},{"$f":"IF(ISBLANK(FromEvoM!D489),\"\",FromEvoM!B489)","v":""},{"$f":"IF(ISBLANK(FromEvoM!D489),\"\",FromEvoM!D489)","v":""},{"$f":"IF(ISBLANK(FromEvoM!C489),\"\",FromEvoM!C489)","v":""},{"$f":"REPLACE(FromEvoM!F489,2,6, )","v":""},{"$f":"IF(ISNUMBER(FromEvoM!E489),FromEvoM!E489,\"\")","v":""},{"$f":"IF(ISBLANK(FromEvoM!I489),\"\",FromEvoM!I489)","v":""},{"$f":"IF(ISBLANK(FromEvoM!J489),\"\",FromEvoM!J489)","v":""},{"$f":"IF(ISBLANK(FromEvoM!K489),\"\",FromEvoM!K489)","v":""},{"$f":"IF(ISBLANK(FromEvoM!L489),\"\",FromEvoM!L489)","v":""},{"$f":"IF(ISBLANK(FromEvoM!M489),\"\",FromEvoM!M489)","v":""},{"$f":"IF(ISBLANK(FromEvoM!P489),\"\",FromEvoM!P489)","v":""},null,{"$f":"IF(ISNUMBER(FromEvoM!X489),FromEvoM!X489,\"\")","v":""},{"$f":"IF(ISNUMBER(FromEvoM!AB489),FromEvoM!AB489,\"\")","v":""},{"$f":"IF(ISNUMBER(FromEvoM!AA489),FromEvoM!AA489,\"\")","v":""},null,"","",null,null,{"$f":"IF(FromEvoM!W489=1,(FromEvoM!AB489*12),IF(FromEvoM!W489=7,(FromEvoM!AR489),\"\"))","v":""},null,null,{"$f":"IF(ISBLANK(FromEvoM!A489),\"\",IF(FromEvoM!AK489=\"y\",\"Y\",\"N\"))","v":""},{"$f":"IF(ISBLANK(FromEvoM!A489),\"\",Category_ID)","v":""},null,null,null,{"$f":"IF(ISBLANK(FromEvoM!AK489),\"\",FromEvoM!AK489)","v":""},{"$f":"IF(ISBLANK(FromEvoM!AM489),\"\",FromEvoM!AM489)","v":""},{"$f":"IF(ISBLANK(FromEvoM!AN489),\"\",FromEvoM!AN489)","v":""},{"$f":"IF(ISBLANK(FromEvoM!AL489),\"\",FromEvoM!AL489)","v":""},{"$f":"IF(ISBLANK(FromEvoM!A489),\"\",IF(AND(AF489=\"y\",AI489=1),\"Y\",\"N\"))","v":""},{"$f":"IF(ISBLANK(FromEvoM!A489),\"\",IF(FromEvoM!AS489=\"Yes\",2,1))","v":""},{"$f":"IF(FromEvoM!W489=1,\"M\",IF(FromEvoM!W489=7,\"W\",\"\"))","v":""},{"$f":"IF(AJ489=\"Y\",0,IF(AJ489=\"N\",FromEvoM!AF489+FromEvoM!AT489,\"\"))","v":""},{"$f":"IF(AJ489=\"Y\",(FromEvoM!AE489+FromEvoM!AF489-FromEvoM!AT489),IF(AJ489=\"N\",FromEvoM!AE489,\"\"))","v":""}]
[{"$f":"IF(ISBLANK(FromEvoM!A490),\"\",Group_Code)","v":""},{"$f":"IF(ISBLANK(FromEvoM!A490),\"\",SUBSTITUTE(FromEvoM!A490,\" \",\"\"))","v":""},{"$f":"IF(ISBLANK(FromEvoM!C490),\"\",SUBSTITUTE(FromEvoM!G490,\" \",\"\"))","v":""},{"$f":"IF(ISBLANK(FromEvoM!D490),\"\",FromEvoM!B490)","v":""},{"$f":"IF(ISBLANK(FromEvoM!D490),\"\",FromEvoM!D490)","v":""},{"$f":"IF(ISBLANK(FromEvoM!C490),\"\",FromEvoM!C490)","v":""},{"$f":"REPLACE(FromEvoM!F490,2,6, )","v":""},{"$f":"IF(ISNUMBER(FromEvoM!E490),FromEvoM!E490,\"\")","v":""},{"$f":"IF(ISBLANK(FromEvoM!I490),\"\",FromEvoM!I490)","v":""},{"$f":"IF(ISBLANK(FromEvoM!J490),\"\",FromEvoM!J490)","v":""},{"$f":"IF(ISBLANK(FromEvoM!K490),\"\",FromEvoM!K490)","v":""},{"$f":"IF(ISBLANK(FromEvoM!L490),\"\",FromEvoM!L490)","v":""},{"$f":"IF(ISBLANK(FromEvoM!M490),\"\",FromEvoM!M490)","v":""},{"$f":"IF(ISBLANK(FromEvoM!P490),\"\",FromEvoM!P490)","v":""},null,{"$f":"IF(ISNUMBER(FromEvoM!X490),FromEvoM!X490,\"\")","v":""},{"$f":"IF(ISNUMBER(FromEvoM!AB490),FromEvoM!AB490,\"\")","v":""},{"$f":"IF(ISNUMBER(FromEvoM!AA490),FromEvoM!AA490,\"\")","v":""},null,"","",null,null,{"$f":"IF(FromEvoM!W490=1,(FromEvoM!AB490*12),IF(FromEvoM!W490=7,(FromEvoM!AR490),\"\"))","v":""},null,null,{"$f":"IF(ISBLANK(FromEvoM!A490),\"\",IF(FromEvoM!AK490=\"y\",\"Y\",\"N\"))","v":""},{"$f":"IF(ISBLANK(FromEvoM!A490),\"\",Category_ID)","v":""},null,null,null,{"$f":"IF(ISBLANK(FromEvoM!AK490),\"\",FromEvoM!AK490)","v":""},{"$f":"IF(ISBLANK(FromEvoM!AM490),\"\",FromEvoM!AM490)","v":""},{"$f":"IF(ISBLANK(FromEvoM!AN490),\"\",FromEvoM!AN490)","v":""},{"$f":"IF(ISBLANK(FromEvoM!AL490),\"\",FromEvoM!AL490)","v":""},{"$f":"IF(ISBLANK(FromEvoM!A490),\"\",IF(AND(AF490=\"y\",AI490=1),\"Y\",\"N\"))","v":""},{"$f":"IF(ISBLANK(FromEvoM!A490),\"\",IF(FromEvoM!AS490=\"Yes\",2,1))","v":""},{"$f":"IF(FromEvoM!W490=1,\"M\",IF(FromEvoM!W490=7,\"W\",\"\"))","v":""},{"$f":"IF(AJ490=\"Y\",0,IF(AJ490=\"N\",FromEvoM!AF490+FromEvoM!AT490,\"\"))","v":""},{"$f":"IF(AJ490=\"Y\",(FromEvoM!AE490+FromEvoM!AF490-FromEvoM!AT490),IF(AJ490=\"N\",FromEvoM!AE490,\"\"))","v":""}]
[{"$f":"IF(ISBLANK(FromEvoM!A491),\"\",Group_Code)","v":""},{"$f":"IF(ISBLANK(FromEvoM!A491),\"\",SUBSTITUTE(FromEvoM!A491,\" \",\"\"))","v":""},{"$f":"IF(ISBLANK(FromEvoM!C491),\"\",SUBSTITUTE(FromEvoM!G491,\" \",\"\"))","v":""},{"$f":"IF(ISBLANK(FromEvoM!D491),\"\",FromEvoM!B491)","v":""},{"$f":"IF(ISBLANK(FromEvoM!D491),\"\",FromEvoM!D491)","v":""},{"$f":"IF(ISBLANK(FromEvoM!C491),\"\",FromEvoM!C491)","v":""},{"$f":"REPLACE(FromEvoM!F491,2,6, )","v":""},{"$f":"IF(ISNUMBER(FromEvoM!E491),FromEvoM!E491,\"\")","v":""},{"$f":"IF(ISBLANK(FromEvoM!I491),\"\",FromEvoM!I491)","v":""},{"$f":"IF(ISBLANK(FromEvoM!J491),\"\",FromEvoM!J491)","v":""},{"$f":"IF(ISBLANK(FromEvoM!K491),\"\",FromEvoM!K491)","v":""},{"$f":"IF(ISBLANK(FromEvoM!L491),\"\",FromEvoM!L491)","v":""},{"$f":"IF(ISBLANK(FromEvoM!M491),\"\",FromEvoM!M491)","v":""},{"$f":"IF(ISBLANK(FromEvoM!P491),\"\",FromEvoM!P491)","v":""},null,{"$f":"IF(ISNUMBER(FromEvoM!X491),FromEvoM!X491,\"\")","v":""},{"$f":"IF(ISNUMBER(FromEvoM!AB491),FromEvoM!AB491,\"\")","v":""},{"$f":"IF(ISNUMBER(FromEvoM!AA491),FromEvoM!AA491,\"\")","v":""},null,"","",null,null,{"$f":"IF(FromEvoM!W491=1,(FromEvoM!AB491*12),IF(FromEvoM!W491=7,(FromEvoM!AR491),\"\"))","v":""},null,null,{"$f":"IF(ISBLANK(FromEvoM!A491),\"\",IF(FromEvoM!AK491=\"y\",\"Y\",\"N\"))","v":""},{"$f":"IF(ISBLANK(FromEvoM!A491),\"\",Category_ID)","v":""},null,null,null,{"$f":"IF(ISBLANK(FromEvoM!AK491),\"\",FromEvoM!AK491)","v":""},{"$f":"IF(ISBLANK(FromEvoM!AM491),\"\",FromEvoM!AM491)","v":""},{"$f":"IF(ISBLANK(FromEvoM!AN491),\"\",FromEvoM!AN491)","v":""},{"$f":"IF(ISBLANK(FromEvoM!AL491),\"\",FromEvoM!AL491)","v":""},{"$f":"IF(ISBLANK(FromEvoM!A491),\"\",IF(AND(AF491=\"y\",AI491=1),\"Y\",\"N\"))","v":""},{"$f":"IF(ISBLANK(FromEvoM!A491),\"\",IF(FromEvoM!AS491=\"Yes\",2,1))","v":""},{"$f":"IF(FromEvoM!W491=1,\"M\",IF(FromEvoM!W491=7,\"W\",\"\"))","v":""},{"$f":"IF(AJ491=\"Y\",0,IF(AJ491=\"N\",FromEvoM!AF491+FromEvoM!AT491,\"\"))","v":""},{"$f":"IF(AJ491=\"Y\",(FromEvoM!AE491+FromEvoM!AF491-FromEvoM!AT491),IF(AJ491=\"N\",FromEvoM!AE491,\"\"))","v":""}]
[{"$f":"IF(ISBLANK(FromEvoM!A492),\"\",Group_Code)","v":""},{"$f":"IF(ISBLANK(FromEvoM!A492),\"\",SUBSTITUTE(FromEvoM!A492,\" \",\"\"))","v":""},{"$f":"IF(ISBLANK(FromEvoM!C492),\"\",SUBSTITUTE(FromEvoM!G492,\" \",\"\"))","v":""},{"$f":"IF(ISBLANK(FromEvoM!D492),\"\",FromEvoM!B492)","v":""},{"$f":"IF(ISBLANK(FromEvoM!D492),\"\",FromEvoM!D492)","v":""},{"$f":"IF(ISBLANK(FromEvoM!C492),\"\",FromEvoM!C492)","v":""},{"$f":"REPLACE(FromEvoM!F492,2,6, )","v":""},{"$f":"IF(ISNUMBER(FromEvoM!E492),FromEvoM!E492,\"\")","v":""},{"$f":"IF(ISBLANK(FromEvoM!I492),\"\",FromEvoM!I492)","v":""},{"$f":"IF(ISBLANK(FromEvoM!J492),\"\",FromEvoM!J492)","v":""},{"$f":"IF(ISBLANK(FromEvoM!K492),\"\",FromEvoM!K492)","v":""},{"$f":"IF(ISBLANK(FromEvoM!L492),\"\",FromEvoM!L492)","v":""},{"$f":"IF(ISBLANK(FromEvoM!M492),\"\",FromEvoM!M492)","v":""},{"$f":"IF(ISBLANK(FromEvoM!P492),\"\",FromEvoM!P492)","v":""},null,{"$f":"IF(ISNUMBER(FromEvoM!X492),FromEvoM!X492,\"\")","v":""},{"$f":"IF(ISNUMBER(FromEvoM!AB492),FromEvoM!AB492,\"\")","v":""},{"$f":"IF(ISNUMBER(FromEvoM!AA492),FromEvoM!AA492,\"\")","v":""},null,"","",null,null,{"$f":"IF(FromEvoM!W492=1,(FromEvoM!AB492*12),IF(FromEvoM!W492=7,(FromEvoM!AR492),\"\"))","v":""},null,null,{"$f":"IF(ISBLANK(FromEvoM!A492),\"\",IF(FromEvoM!AK492=\"y\",\"Y\",\"N\"))","v":""},{"$f":"IF(ISBLANK(FromEvoM!A492),\"\",Category_ID)","v":""},null,null,null,{"$f":"IF(ISBLANK(FromEvoM!AK492),\"\",FromEvoM!AK492)","v":""},{"$f":"IF(ISBLANK(FromEvoM!AM492),\"\",FromEvoM!AM492)","v":""},{"$f":"IF(ISBLANK(FromEvoM!AN492),\"\",FromEvoM!AN492)","v":""},{"$f":"IF(ISBLANK(FromEvoM!AL492),\"\",FromEvoM!AL492)","v":""},{"$f":"IF(ISBLANK(FromEvoM!A492),\"\",IF(AND(AF492=\"y\",AI492=1),\"Y\",\"N\"))","v":""},{"$f":"IF(ISBLANK(FromEvoM!A492),\"\",IF(FromEvoM!AS492=\"Yes\",2,1))","v":""},{"$f":"IF(FromEvoM!W492=1,\"M\",IF(FromEvoM!W492=7,\"W\",\"\"))","v":""},{"$f":"IF(AJ492=\"Y\",0,IF(AJ492=\"N\",FromEvoM!AF492+FromEvoM!AT492,\"\"))","v":""},{"$f":"IF(AJ492=\"Y\",(FromEvoM!AE492+FromEvoM!AF492-FromEvoM!AT492),IF(AJ492=\"N\",FromEvoM!AE492,\"\"))","v":""}]
[{"$f":"IF(ISBLANK(FromEvoM!A493),\"\",Group_Code)","v":""},{"$f":"IF(ISBLANK(FromEvoM!A493),\"\",SUBSTITUTE(FromEvoM!A493,\" \",\"\"))","v":""},{"$f":"IF(ISBLANK(FromEvoM!C493),\"\",SUBSTITUTE(FromEvoM!G493,\" \",\"\"))","v":""},{"$f":"IF(ISBLANK(FromEvoM!D493),\"\",FromEvoM!B493)","v":""},{"$f":"IF(ISBLANK(FromEvoM!D493),\"\",FromEvoM!D493)","v":""},{"$f":"IF(ISBLANK(FromEvoM!C493),\"\",FromEvoM!C493)","v":""},{"$f":"REPLACE(FromEvoM!F493,2,6, )","v":""},{"$f":"IF(ISNUMBER(FromEvoM!E493),FromEvoM!E493,\"\")","v":""},{"$f":"IF(ISBLANK(FromEvoM!I493),\"\",FromEvoM!I493)","v":""},{"$f":"IF(ISBLANK(FromEvoM!J493),\"\",FromEvoM!J493)","v":""},{"$f":"IF(ISBLANK(FromEvoM!K493),\"\",FromEvoM!K493)","v":""},{"$f":"IF(ISBLANK(FromEvoM!L493),\"\",FromEvoM!L493)","v":""},{"$f":"IF(ISBLANK(FromEvoM!M493),\"\",FromEvoM!M493)","v":""},{"$f":"IF(ISBLANK(FromEvoM!P493),\"\",FromEvoM!P493)","v":""},null,{"$f":"IF(ISNUMBER(FromEvoM!X493),FromEvoM!X493,\"\")","v":""},{"$f":"IF(ISNUMBER(FromEvoM!AB493),FromEvoM!AB493,\"\")","v":""},{"$f":"IF(ISNUMBER(FromEvoM!AA493),FromEvoM!AA493,\"\")","v":""},null,"","",null,null,{"$f":"IF(FromEvoM!W493=1,(FromEvoM!AB493*12),IF(FromEvoM!W493=7,(FromEvoM!AR493),\"\"))","v":""},null,null,{"$f":"IF(ISBLANK(FromEvoM!A493),\"\",IF(FromEvoM!AK493=\"y\",\"Y\",\"N\"))","v":""},{"$f":"IF(ISBLANK(FromEvoM!A493),\"\",Category_ID)","v":""},null,null,null,{"$f":"IF(ISBLANK(FromEvoM!AK493),\"\",FromEvoM!AK493)","v":""},{"$f":"IF(ISBLANK(FromEvoM!AM493),\"\",FromEvoM!AM493)","v":""},{"$f":"IF(ISBLANK(FromEvoM!AN493),\"\",FromEvoM!AN493)","v":""},{"$f":"IF(ISBLANK(FromEvoM!AL493),\"\",FromEvoM!AL493)","v":""},{"$f":"IF(ISBLANK(FromEvoM!A493),\"\",IF(AND(AF493=\"y\",AI493=1),\"Y\",\"N\"))","v":""},{"$f":"IF(ISBLANK(FromEvoM!A493),\"\",IF(FromEvoM!AS493=\"Yes\",2,1))","v":""},{"$f":"IF(FromEvoM!W493=1,\"M\",IF(FromEvoM!W493=7,\"W\",\"\"))","v":""},{"$f":"IF(AJ493=\"Y\",0,IF(AJ493=\"N\",FromEvoM!AF493+FromEvoM!AT493,\"\"))","v":""},{"$f":"IF(AJ493=\"Y\",(FromEvoM!AE493+FromEvoM!AF493-FromEvoM!AT493),IF(AJ493=\"N\",FromEvoM!AE493,\"\"))","v":""}]
[{"$f":"IF(ISBLANK(FromEvoM!A494),\"\",Group_Code)","v":""},{"$f":"IF(ISBLANK(FromEvoM!A494),\"\",SUBSTITUTE(FromEvoM!A494,\" \",\"\"))","v":""},{"$f":"IF(ISBLANK(FromEvoM!C494),\"\",SUBSTITUTE(FromEvoM!G494,\" \",\"\"))","v":""},{"$f":"IF(ISBLANK(FromEvoM!D494),\"\",FromEvoM!B494)","v":""},{"$f":"IF(ISBLANK(FromEvoM!D494),\"\",FromEvoM!D494)","v":""},{"$f":"IF(ISBLANK(FromEvoM!C494),\"\",FromEvoM!C494)","v":""},{"$f":"REPLACE(FromEvoM!F494,2,6, )","v":""},{"$f":"IF(ISNUMBER(FromEvoM!E494),FromEvoM!E494,\"\")","v":""},{"$f":"IF(ISBLANK(FromEvoM!I494),\"\",FromEvoM!I494)","v":""},{"$f":"IF(ISBLANK(FromEvoM!J494),\"\",FromEvoM!J494)","v":""},{"$f":"IF(ISBLANK(FromEvoM!K494),\"\",FromEvoM!K494)","v":""},{"$f":"IF(ISBLANK(FromEvoM!L494),\"\",FromEvoM!L494)","v":""},{"$f":"IF(ISBLANK(FromEvoM!M494),\"\",FromEvoM!M494)","v":""},{"$f":"IF(ISBLANK(FromEvoM!P494),\"\",FromEvoM!P494)","v":""},null,{"$f":"IF(ISNUMBER(FromEvoM!X494),FromEvoM!X494,\"\")","v":""},{"$f":"IF(ISNUMBER(FromEvoM!AB494),FromEvoM!AB494,\"\")","v":""},{"$f":"IF(ISNUMBER(FromEvoM!AA494),FromEvoM!AA494,\"\")","v":""},null,"","",null,null,{"$f":"IF(FromEvoM!W494=1,(FromEvoM!AB494*12),IF(FromEvoM!W494=7,(FromEvoM!AR494),\"\"))","v":""},null,null,{"$f":"IF(ISBLANK(FromEvoM!A494),\"\",IF(FromEvoM!AK494=\"y\",\"Y\",\"N\"))","v":""},{"$f":"IF(ISBLANK(FromEvoM!A494),\"\",Category_ID)","v":""},null,null,null,{"$f":"IF(ISBLANK(FromEvoM!AK494),\"\",FromEvoM!AK494)","v":""},{"$f":"IF(ISBLANK(FromEvoM!AM494),\"\",FromEvoM!AM494)","v":""},{"$f":"IF(ISBLANK(FromEvoM!AN494),\"\",FromEvoM!AN494)","v":""},{"$f":"IF(ISBLANK(FromEvoM!AL494),\"\",FromEvoM!AL494)","v":""},{"$f":"IF(ISBLANK(FromEvoM!A494),\"\",IF(AND(AF494=\"y\",AI494=1),\"Y\",\"N\"))","v":""},{"$f":"IF(ISBLANK(FromEvoM!A494),\"\",IF(FromEvoM!AS494=\"Yes\",2,1))","v":""},{"$f":"IF(FromEvoM!W494=1,\"M\",IF(FromEvoM!W494=7,\"W\",\"\"))","v":""},{"$f":"IF(AJ494=\"Y\",0,IF(AJ494=\"N\",FromEvoM!AF494+FromEvoM!AT494,\"\"))","v":""},{"$f":"IF(AJ494=\"Y\",(FromEvoM!AE494+FromEvoM!AF494-FromEvoM!AT494),IF(AJ494=\"N\",FromEvoM!AE494,\"\"))","v":""}]
[{"$f":"IF(ISBLANK(FromEvoM!A495),\"\",Group_Code)","v":""},{"$f":"IF(ISBLANK(FromEvoM!A495),\"\",SUBSTITUTE(FromEvoM!A495,\" \",\"\"))","v":""},{"$f":"IF(ISBLANK(FromEvoM!C495),\"\",SUBSTITUTE(FromEvoM!G495,\" \",\"\"))","v":""},{"$f":"IF(ISBLANK(FromEvoM!D495),\"\",FromEvoM!B495)","v":""},{"$f":"IF(ISBLANK(FromEvoM!D495),\"\",FromEvoM!D495)","v":""},{"$f":"IF(ISBLANK(FromEvoM!C495),\"\",FromEvoM!C495)","v":""},{"$f":"REPLACE(FromEvoM!F495,2,6, )","v":""},{"$f":"IF(ISNUMBER(FromEvoM!E495),FromEvoM!E495,\"\")","v":""},{"$f":"IF(ISBLANK(FromEvoM!I495),\"\",FromEvoM!I495)","v":""},{"$f":"IF(ISBLANK(FromEvoM!J495),\"\",FromEvoM!J495)","v":""},{"$f":"IF(ISBLANK(FromEvoM!K495),\"\",FromEvoM!K495)","v":""},{"$f":"IF(ISBLANK(FromEvoM!L495),\"\",FromEvoM!L495)","v":""},{"$f":"IF(ISBLANK(FromEvoM!M495),\"\",FromEvoM!M495)","v":""},{"$f":"IF(ISBLANK(FromEvoM!P495),\"\",FromEvoM!P495)","v":""},null,{"$f":"IF(ISNUMBER(FromEvoM!X495),FromEvoM!X495,\"\")","v":""},{"$f":"IF(ISNUMBER(FromEvoM!AB495),FromEvoM!AB495,\"\")","v":""},{"$f":"IF(ISNUMBER(FromEvoM!AA495),FromEvoM!AA495,\"\")","v":""},null,"","",null,null,{"$f":"IF(FromEvoM!W495=1,(FromEvoM!AB495*12),IF(FromEvoM!W495=7,(FromEvoM!AR495),\"\"))","v":""},null,null,{"$f":"IF(ISBLANK(FromEvoM!A495),\"\",IF(FromEvoM!AK495=\"y\",\"Y\",\"N\"))","v":""},{"$f":"IF(ISBLANK(FromEvoM!A495),\"\",Category_ID)","v":""},null,null,null,{"$f":"IF(ISBLANK(FromEvoM!AK495),\"\",FromEvoM!AK495)","v":""},{"$f":"IF(ISBLANK(FromEvoM!AM495),\"\",FromEvoM!AM495)","v":""},{"$f":"IF(ISBLANK(FromEvoM!AN495),\"\",FromEvoM!AN495)","v":""},{"$f":"IF(ISBLANK(FromEvoM!AL495),\"\",FromEvoM!AL495)","v":""},{"$f":"IF(ISBLANK(FromEvoM!A495),\"\",IF(AND(AF495=\"y\",AI495=1),\"Y\",\"N\"))","v":""},{"$f":"IF(ISBLANK(FromEvoM!A495),\"\",IF(FromEvoM!AS495=\"Yes\",2,1))","v":""},{"$f":"IF(FromEvoM!W495=1,\"M\",IF(FromEvoM!W495=7,\"W\",\"\"))","v":""},{"$f":"IF(AJ495=\"Y\",0,IF(AJ495=\"N\",FromEvoM!AF495+FromEvoM!AT495,\"\"))","v":""},{"$f":"IF(AJ495=\"Y\",(FromEvoM!AE495+FromEvoM!AF495-FromEvoM!AT495),IF(AJ495=\"N\",FromEvoM!AE495,\"\"))","v":""}]
[{"$f":"IF(ISBLANK(FromEvoM!A496),\"\",Group_Code)","v":""},{"$f":"IF(ISBLANK(FromEvoM!A496),\"\",SUBSTITUTE(FromEvoM!A496,\" \",\"\"))","v":""},{"$f":"IF(ISBLANK(FromEvoM!C496),\"\",SUBSTITUTE(FromEvoM!G496,\" \",\"\"))","v":""},{"$f":"IF(ISBLANK(FromEvoM!D496),\"\",FromEvoM!B496)","v":""},{"$f":"IF(ISBLANK(FromEvoM!D496),\"\",FromEvoM!D496)","v":""},{"$f":"IF(ISBLANK(FromEvoM!C496),\"\",FromEvoM!C496)","v":""},{"$f":"REPLACE(FromEvoM!F496,2,6, )","v":""},{"$f":"IF(ISNUMBER(FromEvoM!E496),FromEvoM!E496,\"\")","v":""},{"$f":"IF(ISBLANK(FromEvoM!I496),\"\",FromEvoM!I496)","v":""},{"$f":"IF(ISBLANK(FromEvoM!J496),\"\",FromEvoM!J496)","v":""},{"$f":"IF(ISBLANK(FromEvoM!K496),\"\",FromEvoM!K496)","v":""},{"$f":"IF(ISBLANK(FromEvoM!L496),\"\",FromEvoM!L496)","v":""},{"$f":"IF(ISBLANK(FromEvoM!M496),\"\",FromEvoM!M496)","v":""},{"$f":"IF(ISBLANK(FromEvoM!P496),\"\",FromEvoM!P496)","v":""},null,{"$f":"IF(ISNUMBER(FromEvoM!X496),FromEvoM!X496,\"\")","v":""},{"$f":"IF(ISNUMBER(FromEvoM!AB496),FromEvoM!AB496,\"\")","v":""},{"$f":"IF(ISNUMBER(FromEvoM!AA496),FromEvoM!AA496,\"\")","v":""},null,"","",null,null,{"$f":"IF(FromEvoM!W496=1,(FromEvoM!AB496*12),IF(FromEvoM!W496=7,(FromEvoM!AR496),\"\"))","v":""},null,null,{"$f":"IF(ISBLANK(FromEvoM!A496),\"\",IF(FromEvoM!AK496=\"y\",\"Y\",\"N\"))","v":""},{"$f":"IF(ISBLANK(FromEvoM!A496),\"\",Category_ID)","v":""},null,null,null,{"$f":"IF(ISBLANK(FromEvoM!AK496),\"\",FromEvoM!AK496)","v":""},{"$f":"IF(ISBLANK(FromEvoM!AM496),\"\",FromEvoM!AM496)","v":""},{"$f":"IF(ISBLANK(FromEvoM!AN496),\"\",FromEvoM!AN496)","v":""},{"$f":"IF(ISBLANK(FromEvoM!AL496),\"\",FromEvoM!AL496)","v":""},{"$f":"IF(ISBLANK(FromEvoM!A496),\"\",IF(AND(AF496=\"y\",AI496=1),\"Y\",\"N\"))","v":""},{"$f":"IF(ISBLANK(FromEvoM!A496),\"\",IF(FromEvoM!AS496=\"Yes\",2,1))","v":""},{"$f":"IF(FromEvoM!W496=1,\"M\",IF(FromEvoM!W496=7,\"W\",\"\"))","v":""},{"$f":"IF(AJ496=\"Y\",0,IF(AJ496=\"N\",FromEvoM!AF496+FromEvoM!AT496,\"\"))","v":""},{"$f":"IF(AJ496=\"Y\",(FromEvoM!AE496+FromEvoM!AF496-FromEvoM!AT496),IF(AJ496=\"N\",FromEvoM!AE496,\"\"))","v":""}]
[{"$f":"IF(ISBLANK(FromEvoM!A497),\"\",Group_Code)","v":""},{"$f":"IF(ISBLANK(FromEvoM!A497),\"\",SUBSTITUTE(FromEvoM!A497,\" \",\"\"))","v":""},{"$f":"IF(ISBLANK(FromEvoM!C497),\"\",SUBSTITUTE(FromEvoM!G497,\" \",\"\"))","v":""},{"$f":"IF(ISBLANK(FromEvoM!D497),\"\",FromEvoM!B497)","v":""},{"$f":"IF(ISBLANK(FromEvoM!D497),\"\",FromEvoM!D497)","v":""},{"$f":"IF(ISBLANK(FromEvoM!C497),\"\",FromEvoM!C497)","v":""},{"$f":"REPLACE(FromEvoM!F497,2,6, )","v":""},{"$f":"IF(ISNUMBER(FromEvoM!E497),FromEvoM!E497,\"\")","v":""},{"$f":"IF(ISBLANK(FromEvoM!I497),\"\",FromEvoM!I497)","v":""},{"$f":"IF(ISBLANK(FromEvoM!J497),\"\",FromEvoM!J497)","v":""},{"$f":"IF(ISBLANK(FromEvoM!K497),\"\",FromEvoM!K497)","v":""},{"$f":"IF(ISBLANK(FromEvoM!L497),\"\",FromEvoM!L497)","v":""},{"$f":"IF(ISBLANK(FromEvoM!M497),\"\",FromEvoM!M497)","v":""},{"$f":"IF(ISBLANK(FromEvoM!P497),\"\",FromEvoM!P497)","v":""},null,{"$f":"IF(ISNUMBER(FromEvoM!X497),FromEvoM!X497,\"\")","v":""},{"$f":"IF(ISNUMBER(FromEvoM!AB497),FromEvoM!AB497,\"\")","v":""},{"$f":"IF(ISNUMBER(FromEvoM!AA497),FromEvoM!AA497,\"\")","v":""},null,"","",null,null,{"$f":"IF(FromEvoM!W497=1,(FromEvoM!AB497*12),IF(FromEvoM!W497=7,(FromEvoM!AR497),\"\"))","v":""},null,null,{"$f":"IF(ISBLANK(FromEvoM!A497),\"\",IF(FromEvoM!AK497=\"y\",\"Y\",\"N\"))","v":""},{"$f":"IF(ISBLANK(FromEvoM!A497),\"\",Category_ID)","v":""},null,null,null,{"$f":"IF(ISBLANK(FromEvoM!AK497),\"\",FromEvoM!AK497)","v":""},{"$f":"IF(ISBLANK(FromEvoM!AM497),\"\",FromEvoM!AM497)","v":""},{"$f":"IF(ISBLANK(FromEvoM!AN497),\"\",FromEvoM!AN497)","v":""},{"$f":"IF(ISBLANK(FromEvoM!AL497),\"\",FromEvoM!AL497)","v":""},{"$f":"IF(ISBLANK(FromEvoM!A497),\"\",IF(AND(AF497=\"y\",AI497=1),\"Y\",\"N\"))","v":""},{"$f":"IF(ISBLANK(FromEvoM!A497),\"\",IF(FromEvoM!AS497=\"Yes\",2,1))","v":""},{"$f":"IF(FromEvoM!W497=1,\"M\",IF(FromEvoM!W497=7,\"W\",\"\"))","v":""},{"$f":"IF(AJ497=\"Y\",0,IF(AJ497=\"N\",FromEvoM!AF497+FromEvoM!AT497,\"\"))","v":""},{"$f":"IF(AJ497=\"Y\",(FromEvoM!AE497+FromEvoM!AF497-FromEvoM!AT497),IF(AJ497=\"N\",FromEvoM!AE497,\"\"))","v":""}]
[{"$f":"IF(ISBLANK(FromEvoM!A498),\"\",Group_Code)","v":""},{"$f":"IF(ISBLANK(FromEvoM!A498),\"\",SUBSTITUTE(FromEvoM!A498,\" \",\"\"))","v":""},{"$f":"IF(ISBLANK(FromEvoM!C498),\"\",SUBSTITUTE(FromEvoM!G498,\" \",\"\"))","v":""},{"$f":"IF(ISBLANK(FromEvoM!D498),\"\",FromEvoM!B498)","v":""},{"$f":"IF(ISBLANK(FromEvoM!D498),\"\",FromEvoM!D498)","v":""},{"$f":"IF(ISBLANK(FromEvoM!C498),\"\",FromEvoM!C498)","v":""},{"$f":"REPLACE(FromEvoM!F498,2,6, )","v":""},{"$f":"IF(ISNUMBER(FromEvoM!E498),FromEvoM!E498,\"\")","v":""},{"$f":"IF(ISBLANK(FromEvoM!I498),\"\",FromEvoM!I498)","v":""},{"$f":"IF(ISBLANK(FromEvoM!J498),\"\",FromEvoM!J498)","v":""},{"$f":"IF(ISBLANK(FromEvoM!K498),\"\",FromEvoM!K498)","v":""},{"$f":"IF(ISBLANK(FromEvoM!L498),\"\",FromEvoM!L498)","v":""},{"$f":"IF(ISBLANK(FromEvoM!M498),\"\",FromEvoM!M498)","v":""},{"$f":"IF(ISBLANK(FromEvoM!P498),\"\",FromEvoM!P498)","v":""},null,{"$f":"IF(ISNUMBER(FromEvoM!X498),FromEvoM!X498,\"\")","v":""},{"$f":"IF(ISNUMBER(FromEvoM!AB498),FromEvoM!AB498,\"\")","v":""},{"$f":"IF(ISNUMBER(FromEvoM!AA498),FromEvoM!AA498,\"\")","v":""},null,"","",null,null,{"$f":"IF(FromEvoM!W498=1,(FromEvoM!AB498*12),IF(FromEvoM!W498=7,(FromEvoM!AR498),\"\"))","v":""},null,null,{"$f":"IF(ISBLANK(FromEvoM!A498),\"\",IF(FromEvoM!AK498=\"y\",\"Y\",\"N\"))","v":""},{"$f":"IF(ISBLANK(FromEvoM!A498),\"\",Category_ID)","v":""},null,null,null,{"$f":"IF(ISBLANK(FromEvoM!AK498),\"\",FromEvoM!AK498)","v":""},{"$f":"IF(ISBLANK(FromEvoM!AM498),\"\",FromEvoM!AM498)","v":""},{"$f":"IF(ISBLANK(FromEvoM!AN498),\"\",FromEvoM!AN498)","v":""},{"$f":"IF(ISBLANK(FromEvoM!AL498),\"\",FromEvoM!AL498)","v":""},{"$f":"IF(ISBLANK(FromEvoM!A498),\"\",IF(AND(AF498=\"y\",AI498=1),\"Y\",\"N\"))","v":""},{"$f":"IF(ISBLANK(FromEvoM!A498),\"\",IF(FromEvoM!AS498=\"Yes\",2,1))","v":""},{"$f":"IF(FromEvoM!W498=1,\"M\",IF(FromEvoM!W498=7,\"W\",\"\"))","v":""},{"$f":"IF(AJ498=\"Y\",0,IF(AJ498=\"N\",FromEvoM!AF498+FromEvoM!AT498,\"\"))","v":""},{"$f":"IF(AJ498=\"Y\",(FromEvoM!AE498+FromEvoM!AF498-FromEvoM!AT498),IF(AJ498=\"N\",FromEvoM!AE498,\"\"))","v":""}]
[{"$f":"IF(ISBLANK(FromEvoM!A499),\"\",Group_Code)","v":""},{"$f":"IF(ISBLANK(FromEvoM!A499),\"\",SUBSTITUTE(FromEvoM!A499,\" \",\"\"))","v":""},{"$f":"IF(ISBLANK(FromEvoM!C499),\"\",SUBSTITUTE(FromEvoM!G499,\" \",\"\"))","v":""},{"$f":"IF(ISBLANK(FromEvoM!D499),\"\",FromEvoM!B499)","v":""},{"$f":"IF(ISBLANK(FromEvoM!D499),\"\",FromEvoM!D499)","v":""},{"$f":"IF(ISBLANK(FromEvoM!C499),\"\",FromEvoM!C499)","v":""},{"$f":"REPLACE(FromEvoM!F499,2,6, )","v":""},{"$f":"IF(ISNUMBER(FromEvoM!E499),FromEvoM!E499,\"\")","v":""},{"$f":"IF(ISBLANK(FromEvoM!I499),\"\",FromEvoM!I499)","v":""},{"$f":"IF(ISBLANK(FromEvoM!J499),\"\",FromEvoM!J499)","v":""},{"$f":"IF(ISBLANK(FromEvoM!K499),\"\",FromEvoM!K499)","v":""},{"$f":"IF(ISBLANK(FromEvoM!L499),\"\",FromEvoM!L499)","v":""},{"$f":"IF(ISBLANK(FromEvoM!M499),\"\",FromEvoM!M499)","v":""},{"$f":"IF(ISBLANK(FromEvoM!P499),\"\",FromEvoM!P499)","v":""},null,{"$f":"IF(ISNUMBER(FromEvoM!X499),FromEvoM!X499,\"\")","v":""},{"$f":"IF(ISNUMBER(FromEvoM!AB499),FromEvoM!AB499,\"\")","v":""},{"$f":"IF(ISNUMBER(FromEvoM!AA499),FromEvoM!AA499,\"\")","v":""},null,"","",null,null,{"$f":"IF(FromEvoM!W499=1,(FromEvoM!AB499*12),IF(FromEvoM!W499=7,(FromEvoM!AR499),\"\"))","v":""},null,null,{"$f":"IF(ISBLANK(FromEvoM!A499),\"\",IF(FromEvoM!AK499=\"y\",\"Y\",\"N\"))","v":""},{"$f":"IF(ISBLANK(FromEvoM!A499),\"\",Category_ID)","v":""},null,null,null,{"$f":"IF(ISBLANK(FromEvoM!AK499),\"\",FromEvoM!AK499)","v":""},{"$f":"IF(ISBLANK(FromEvoM!AM499),\"\",FromEvoM!AM499)","v":""},{"$f":"IF(ISBLANK(FromEvoM!AN499),\"\",FromEvoM!AN499)","v":""},{"$f":"IF(ISBLANK(FromEvoM!AL499),\"\",FromEvoM!AL499)","v":""},{"$f":"IF(ISBLANK(FromEvoM!A499),\"\",IF(AND(AF499=\"y\",AI499=1),\"Y\",\"N\"))","v":""},{"$f":"IF(ISBLANK(FromEvoM!A499),\"\",IF(FromEvoM!AS499=\"Yes\",2,1))","v":""},{"$f":"IF(FromEvoM!W499=1,\"M\",IF(FromEvoM!W499=7,\"W\",\"\"))","v":""},{"$f":"IF(AJ499=\"Y\",0,IF(AJ499=\"N\",FromEvoM!AF499+FromEvoM!AT499,\"\"))","v":""},{"$f":"IF(AJ499=\"Y\",(FromEvoM!AE499+FromEvoM!AF499-FromEvoM!AT499),IF(AJ499=\"N\",FromEvoM!AE499,\"\"))","v":""}]
[{"$f":"IF(ISBLANK(FromEvoM!A500),\"\",Group_Code)","v":""},{"$f":"IF(ISBLANK(FromEvoM!A500),\"\",SUBSTITUTE(FromEvoM!A500,\" \",\"\"))","v":""},{"$f":"IF(ISBLANK(FromEvoM!C500),\"\",SUBSTITUTE(FromEvoM!G500,\" \",\"\"))","v":""},{"$f":"IF(ISBLANK(FromEvoM!D500),\"\",FromEvoM!B500)","v":""},{"$f":"IF(ISBLANK(FromEvoM!D500),\"\",FromEvoM!D500)","v":""},{"$f":"IF(ISBLANK(FromEvoM!C500),\"\",FromEvoM!C500)","v":""},{"$f":"REPLACE(FromEvoM!F500,2,6, )","v":""},{"$f":"IF(ISNUMBER(FromEvoM!E500),FromEvoM!E500,\"\")","v":""},{"$f":"IF(ISBLANK(FromEvoM!I500),\"\",FromEvoM!I500)","v":""},{"$f":"IF(ISBLANK(FromEvoM!J500),\"\",FromEvoM!J500)","v":""},{"$f":"IF(ISBLANK(FromEvoM!K500),\"\",FromEvoM!K500)","v":""},{"$f":"IF(ISBLANK(FromEvoM!L500),\"\",FromEvoM!L500)","v":""},{"$f":"IF(ISBLANK(FromEvoM!M500),\"\",FromEvoM!M500)","v":""},{"$f":"IF(ISBLANK(FromEvoM!P500),\"\",FromEvoM!P500)","v":""},null,{"$f":"IF(ISNUMBER(FromEvoM!X500),FromEvoM!X500,\"\")","v":""},{"$f":"IF(ISNUMBER(FromEvoM!AB500),FromEvoM!AB500,\"\")","v":""},{"$f":"IF(ISNUMBER(FromEvoM!AA500),FromEvoM!AA500,\"\")","v":""},null,"","",null,null,{"$f":"IF(FromEvoM!W500=1,(FromEvoM!AB500*12),IF(FromEvoM!W500=7,(FromEvoM!AR500),\"\"))","v":""},null,null,{"$f":"IF(ISBLANK(FromEvoM!A500),\"\",IF(FromEvoM!AK500=\"y\",\"Y\",\"N\"))","v":""},{"$f":"IF(ISBLANK(FromEvoM!A500),\"\",Category_ID)","v":""},null,null,null,{"$f":"IF(ISBLANK(FromEvoM!AK500),\"\",FromEvoM!AK500)","v":""},{"$f":"IF(ISBLANK(FromEvoM!AM500),\"\",FromEvoM!AM500)","v":""},{"$f":"IF(ISBLANK(FromEvoM!AN500),\"\",FromEvoM!AN500)","v":""},{"$f":"IF(ISBLANK(FromEvoM!AL500),\"\",FromEvoM!AL500)","v":""},{"$f":"IF(ISBLANK(FromEvoM!A500),\"\",IF(AND(AF500=\"y\",AI500=1),\"Y\",\"N\"))","v":""},{"$f":"IF(ISBLANK(FromEvoM!A500),\"\",IF(FromEvoM!AS500=\"Yes\",2,1))","v":""},{"$f":"IF(FromEvoM!W500=1,\"M\",IF(FromEvoM!W500=7,\"W\",\"\"))","v":""},{"$f":"IF(AJ500=\"Y\",0,IF(AJ500=\"N\",FromEvoM!AF500+FromEvoM!AT500,\"\"))","v":""},{"$f":"IF(AJ500=\"Y\",(FromEvoM!AE500+FromEvoM!AF500-FromEvoM!AT500),IF(AJ500=\"N\",FromEvoM!AE500,\"\"))","v":""}]
[{"$f":"IF(ISBLANK(FromEvoM!A501),\"\",Group_Code)","v":""},{"$f":"IF(ISBLANK(FromEvoM!A501),\"\",SUBSTITUTE(FromEvoM!A501,\" \",\"\"))","v":""},{"$f":"IF(ISBLANK(FromEvoM!C501),\"\",SUBSTITUTE(FromEvoM!G501,\" \",\"\"))","v":""},{"$f":"IF(ISBLANK(FromEvoM!D501),\"\",FromEvoM!B501)","v":""},{"$f":"IF(ISBLANK(FromEvoM!D501),\"\",FromEvoM!D501)","v":""},{"$f":"IF(ISBLANK(FromEvoM!C501),\"\",FromEvoM!C501)","v":""},{"$f":"REPLACE(FromEvoM!F501,2,6, )","v":""},{"$f":"IF(ISNUMBER(FromEvoM!E501),FromEvoM!E501,\"\")","v":""},{"$f":"IF(ISBLANK(FromEvoM!I501),\"\",FromEvoM!I501)","v":""},{"$f":"IF(ISBLANK(FromEvoM!J501),\"\",FromEvoM!J501)","v":""},{"$f":"IF(ISBLANK(FromEvoM!K501),\"\",FromEvoM!K501)","v":""},{"$f":"IF(ISBLANK(FromEvoM!L501),\"\",FromEvoM!L501)","v":""},{"$f":"IF(ISBLANK(FromEvoM!M501),\"\",FromEvoM!M501)","v":""},{"$f":"IF(ISBLANK(FromEvoM!P501),\"\",FromEvoM!P501)","v":""},null,{"$f":"IF(ISNUMBER(FromEvoM!X501),FromEvoM!X501,\"\")","v":""},{"$f":"IF(ISNUMBER(FromEvoM!AB501),FromEvoM!AB501,\"\")","v":""},{"$f":"IF(ISNUMBER(FromEvoM!AA501),FromEvoM!AA501,\"\")","v":""},null,"","",null,null,{"$f":"IF(FromEvoM!W501=1,(FromEvoM!AB501*12),IF(FromEvoM!W501=7,(FromEvoM!AR501),\"\"))","v":""},null,null,{"$f":"IF(ISBLANK(FromEvoM!A501),\"\",IF(FromEvoM!AK501=\"y\",\"Y\",\"N\"))","v":""},{"$f":"IF(ISBLANK(FromEvoM!A501),\"\",Category_ID)","v":""},null,null,null,{"$f":"IF(ISBLANK(FromEvoM!AK501),\"\",FromEvoM!AK501)","v":""},{"$f":"IF(ISBLANK(FromEvoM!AM501),\"\",FromEvoM!AM501)","v":""},{"$f":"IF(ISBLANK(FromEvoM!AN501),\"\",FromEvoM!AN501)","v":""},{"$f":"IF(ISBLANK(FromEvoM!AL501),\"\",FromEvoM!AL501)","v":""},{"$f":"IF(ISBLANK(FromEvoM!A501),\"\",IF(AND(AF501=\"y\",AI501=1),\"Y\",\"N\"))","v":""},{"$f":"IF(ISBLANK(FromEvoM!A501),\"\",IF(FromEvoM!AS501=\"Yes\",2,1))","v":""},{"$f":"IF(FromEvoM!W501=1,\"M\",IF(FromEvoM!W501=7,\"W\",\"\"))","v":""},{"$f":"IF(AJ501=\"Y\",0,IF(AJ501=\"N\",FromEvoM!AF501+FromEvoM!AT501,\"\"))","v":""},{"$f":"IF(AJ501=\"Y\",(FromEvoM!AE501+FromEvoM!AF501-FromEvoM!AT501),IF(AJ501=\"N\",FromEvoM!AE501,\"\"))","v":""}]
[{"$f":"IF(ISBLANK(FromEvoM!A502),\"\",Group_Code)","v":""},{"$f":"IF(ISBLANK(FromEvoM!A502),\"\",SUBSTITUTE(FromEvoM!A502,\" \",\"\"))","v":""},{"$f":"IF(ISBLANK(FromEvoM!C502),\"\",SUBSTITUTE(FromEvoM!G502,\" \",\"\"))","v":""},{"$f":"IF(ISBLANK(FromEvoM!D502),\"\",FromEvoM!B502)","v":""},{"$f":"IF(ISBLANK(FromEvoM!D502),\"\",FromEvoM!D502)","v":""},{"$f":"IF(ISBLANK(FromEvoM!C502),\"\",FromEvoM!C502)","v":""},{"$f":"REPLACE(FromEvoM!F502,2,6, )","v":""},{"$f":"IF(ISNUMBER(FromEvoM!E502),FromEvoM!E502,\"\")","v":""},{"$f":"IF(ISBLANK(FromEvoM!I502),\"\",FromEvoM!I502)","v":""},{"$f":"IF(ISBLANK(FromEvoM!J502),\"\",FromEvoM!J502)","v":""},{"$f":"IF(ISBLANK(FromEvoM!K502),\"\",FromEvoM!K502)","v":""},{"$f":"IF(ISBLANK(FromEvoM!L502),\"\",FromEvoM!L502)","v":""},{"$f":"IF(ISBLANK(FromEvoM!M502),\"\",FromEvoM!M502)","v":""},{"$f":"IF(ISBLANK(FromEvoM!P502),\"\",FromEvoM!P502)","v":""},null,{"$f":"IF(ISNUMBER(FromEvoM!X502),FromEvoM!X502,\"\")","v":""},{"$f":"IF(ISNUMBER(FromEvoM!AB502),FromEvoM!AB502,\"\")","v":""},{"$f":"IF(ISNUMBER(FromEvoM!AA502),FromEvoM!AA502,\"\")","v":""},null,"","",null,null,{"$f":"IF(FromEvoM!W502=1,(FromEvoM!AB502*12),IF(FromEvoM!W502=7,(FromEvoM!AR502),\"\"))","v":""},null,null,{"$f":"IF(ISBLANK(FromEvoM!A502),\"\",IF(FromEvoM!AK502=\"y\",\"Y\",\"N\"))","v":""},{"$f":"IF(ISBLANK(FromEvoM!A502),\"\",Category_ID)","v":""},null,null,null,{"$f":"IF(ISBLANK(FromEvoM!AK502),\"\",FromEvoM!AK502)","v":""},{"$f":"IF(ISBLANK(FromEvoM!AM502),\"\",FromEvoM!AM502)","v":""},{"$f":"IF(ISBLANK(FromEvoM!AN502),\"\",FromEvoM!AN502)","v":""},{"$f":"IF(ISBLANK(FromEvoM!AL502),\"\",FromEvoM!AL502)","v":""},{"$f":"IF(ISBLANK(FromEvoM!A502),\"\",IF(AND(AF502=\"y\",AI502=1),\"Y\",\"N\"))","v":""},{"$f":"IF(ISBLANK(FromEvoM!A502),\"\",IF(FromEvoM!AS502=\"Yes\",2,1))","v":""},{"$f":"IF(FromEvoM!W502=1,\"M\",IF(FromEvoM!W502=7,\"W\",\"\"))","v":""},{"$f":"IF(AJ502=\"Y\",0,IF(AJ502=\"N\",FromEvoM!AF502+FromEvoM!AT502,\"\"))","v":""},{"$f":"IF(AJ502=\"Y\",(FromEvoM!AE502+FromEvoM!AF502-FromEvoM!AT502),IF(AJ502=\"N\",FromEvoM!AE502,\"\"))","v":""}]
[{"$f":"IF(ISBLANK(FromEvoM!A503),\"\",Group_Code)","v":""},{"$f":"IF(ISBLANK(FromEvoM!A503),\"\",SUBSTITUTE(FromEvoM!A503,\" \",\"\"))","v":""},{"$f":"IF(ISBLANK(FromEvoM!C503),\"\",SUBSTITUTE(FromEvoM!G503,\" \",\"\"))","v":""},{"$f":"IF(ISBLANK(FromEvoM!D503),\"\",FromEvoM!B503)","v":""},{"$f":"IF(ISBLANK(FromEvoM!D503),\"\",FromEvoM!D503)","v":""},{"$f":"IF(ISBLANK(FromEvoM!C503),\"\",FromEvoM!C503)","v":""},{"$f":"REPLACE(FromEvoM!F503,2,6, )","v":""},{"$f":"IF(ISNUMBER(FromEvoM!E503),FromEvoM!E503,\"\")","v":""},{"$f":"IF(ISBLANK(FromEvoM!I503),\"\",FromEvoM!I503)","v":""},{"$f":"IF(ISBLANK(FromEvoM!J503),\"\",FromEvoM!J503)","v":""},{"$f":"IF(ISBLANK(FromEvoM!K503),\"\",FromEvoM!K503)","v":""},{"$f":"IF(ISBLANK(FromEvoM!L503),\"\",FromEvoM!L503)","v":""},{"$f":"IF(ISBLANK(FromEvoM!M503),\"\",FromEvoM!M503)","v":""},{"$f":"IF(ISBLANK(FromEvoM!P503),\"\",FromEvoM!P503)","v":""},null,{"$f":"IF(ISNUMBER(FromEvoM!X503),FromEvoM!X503,\"\")","v":""},{"$f":"IF(ISNUMBER(FromEvoM!AB503),FromEvoM!AB503,\"\")","v":""},{"$f":"IF(ISNUMBER(FromEvoM!AA503),FromEvoM!AA503,\"\")","v":""},null,"","",null,null,{"$f":"IF(FromEvoM!W503=1,(FromEvoM!AB503*12),IF(FromEvoM!W503=7,(FromEvoM!AR503),\"\"))","v":""},null,null,{"$f":"IF(ISBLANK(FromEvoM!A503),\"\",IF(FromEvoM!AK503=\"y\",\"Y\",\"N\"))","v":""},{"$f":"IF(ISBLANK(FromEvoM!A503),\"\",Category_ID)","v":""},null,null,null,{"$f":"IF(ISBLANK(FromEvoM!AK503),\"\",FromEvoM!AK503)","v":""},{"$f":"IF(ISBLANK(FromEvoM!AM503),\"\",FromEvoM!AM503)","v":""},{"$f":"IF(ISBLANK(FromEvoM!AN503),\"\",FromEvoM!AN503)","v":""},{"$f":"IF(ISBLANK(FromEvoM!AL503),\"\",FromEvoM!AL503)","v":""},{"$f":"IF(ISBLANK(FromEvoM!A503),\"\",IF(AND(AF503=\"y\",AI503=1),\"Y\",\"N\"))","v":""},{"$f":"IF(ISBLANK(FromEvoM!A503),\"\",IF(FromEvoM!AS503=\"Yes\",2,1))","v":""},{"$f":"IF(FromEvoM!W503=1,\"M\",IF(FromEvoM!W503=7,\"W\",\"\"))","v":""},{"$f":"IF(AJ503=\"Y\",0,IF(AJ503=\"N\",FromEvoM!AF503+FromEvoM!AT503,\"\"))","v":""},{"$f":"IF(AJ503=\"Y\",(FromEvoM!AE503+FromEvoM!AF503-FromEvoM!AT503),IF(AJ503=\"N\",FromEvoM!AE503,\"\"))","v":""}]
[{"$f":"IF(ISBLANK(FromEvoM!A504),\"\",Group_Code)","v":""},{"$f":"IF(ISBLANK(FromEvoM!A504),\"\",SUBSTITUTE(FromEvoM!A504,\" \",\"\"))","v":""},{"$f":"IF(ISBLANK(FromEvoM!C504),\"\",SUBSTITUTE(FromEvoM!G504,\" \",\"\"))","v":""},{"$f":"IF(ISBLANK(FromEvoM!D504),\"\",FromEvoM!B504)","v":""},{"$f":"IF(ISBLANK(FromEvoM!D504),\"\",FromEvoM!D504)","v":""},{"$f":"IF(ISBLANK(FromEvoM!C504),\"\",FromEvoM!C504)","v":""},{"$f":"REPLACE(FromEvoM!F504,2,6, )","v":""},{"$f":"IF(ISNUMBER(FromEvoM!E504),FromEvoM!E504,\"\")","v":""},{"$f":"IF(ISBLANK(FromEvoM!I504),\"\",FromEvoM!I504)","v":""},{"$f":"IF(ISBLANK(FromEvoM!J504),\"\",FromEvoM!J504)","v":""},{"$f":"IF(ISBLANK(FromEvoM!K504),\"\",FromEvoM!K504)","v":""},{"$f":"IF(ISBLANK(FromEvoM!L504),\"\",FromEvoM!L504)","v":""},{"$f":"IF(ISBLANK(FromEvoM!M504),\"\",FromEvoM!M504)","v":""},{"$f":"IF(ISBLANK(FromEvoM!P504),\"\",FromEvoM!P504)","v":""},null,{"$f":"IF(ISNUMBER(FromEvoM!X504),FromEvoM!X504,\"\")","v":""},{"$f":"IF(ISNUMBER(FromEvoM!AB504),FromEvoM!AB504,\"\")","v":""},{"$f":"IF(ISNUMBER(FromEvoM!AA504),FromEvoM!AA504,\"\")","v":""},null,"","",null,null,{"$f":"IF(FromEvoM!W504=1,(FromEvoM!AB504*12),IF(FromEvoM!W504=7,(FromEvoM!AR504),\"\"))","v":""},null,null,{"$f":"IF(ISBLANK(FromEvoM!A504),\"\",IF(FromEvoM!AK504=\"y\",\"Y\",\"N\"))","v":""},{"$f":"IF(ISBLANK(FromEvoM!A504),\"\",Category_ID)","v":""},null,null,null,{"$f":"IF(ISBLANK(FromEvoM!AK504),\"\",FromEvoM!AK504)","v":""},{"$f":"IF(ISBLANK(FromEvoM!AM504),\"\",FromEvoM!AM504)","v":""},{"$f":"IF(ISBLANK(FromEvoM!AN504),\"\",FromEvoM!AN504)","v":""},{"$f":"IF(ISBLANK(FromEvoM!AL504),\"\",FromEvoM!AL504)","v":""},{"$f":"IF(ISBLANK(FromEvoM!A504),\"\",IF(AND(AF504=\"y\",AI504=1),\"Y\",\"N\"))","v":""},{"$f":"IF(ISBLANK(FromEvoM!A504),\"\",IF(FromEvoM!AS504=\"Yes\",2,1))","v":""},{"$f":"IF(FromEvoM!W504=1,\"M\",IF(FromEvoM!W504=7,\"W\",\"\"))","v":""},{"$f":"IF(AJ504=\"Y\",0,IF(AJ504=\"N\",FromEvoM!AF504+FromEvoM!AT504,\"\"))","v":""},{"$f":"IF(AJ504=\"Y\",(FromEvoM!AE504+FromEvoM!AF504-FromEvoM!AT504),IF(AJ504=\"N\",FromEvoM!AE504,\"\"))","v":""}]
[{"$f":"IF(ISBLANK(FromEvoM!A505),\"\",Group_Code)","v":""},{"$f":"IF(ISBLANK(FromEvoM!A505),\"\",SUBSTITUTE(FromEvoM!A505,\" \",\"\"))","v":""},{"$f":"IF(ISBLANK(FromEvoM!C505),\"\",SUBSTITUTE(FromEvoM!G505,\" \",\"\"))","v":""},{"$f":"IF(ISBLANK(FromEvoM!D505),\"\",FromEvoM!B505)","v":""},{"$f":"IF(ISBLANK(FromEvoM!D505),\"\",FromEvoM!D505)","v":""},{"$f":"IF(ISBLANK(FromEvoM!C505),\"\",FromEvoM!C505)","v":""},{"$f":"REPLACE(FromEvoM!F505,2,6, )","v":""},{"$f":"IF(ISNUMBER(FromEvoM!E505),FromEvoM!E505,\"\")","v":""},{"$f":"IF(ISBLANK(FromEvoM!I505),\"\",FromEvoM!I505)","v":""},{"$f":"IF(ISBLANK(FromEvoM!J505),\"\",FromEvoM!J505)","v":""},{"$f":"IF(ISBLANK(FromEvoM!K505),\"\",FromEvoM!K505)","v":""},{"$f":"IF(ISBLANK(FromEvoM!L505),\"\",FromEvoM!L505)","v":""},{"$f":"IF(ISBLANK(FromEvoM!M505),\"\",FromEvoM!M505)","v":""},{"$f":"IF(ISBLANK(FromEvoM!P505),\"\",FromEvoM!P505)","v":""},null,{"$f":"IF(ISNUMBER(FromEvoM!X505),FromEvoM!X505,\"\")","v":""},{"$f":"IF(ISNUMBER(FromEvoM!AB505),FromEvoM!AB505,\"\")","v":""},{"$f":"IF(ISNUMBER(FromEvoM!AA505),FromEvoM!AA505,\"\")","v":""},null,"","",null,null,{"$f":"IF(FromEvoM!W505=1,(FromEvoM!AB505*12),IF(FromEvoM!W505=7,(FromEvoM!AR505),\"\"))","v":""},null,null,{"$f":"IF(ISBLANK(FromEvoM!A505),\"\",IF(FromEvoM!AK505=\"y\",\"Y\",\"N\"))","v":""},{"$f":"IF(ISBLANK(FromEvoM!A505),\"\",Category_ID)","v":""},null,null,null,{"$f":"IF(ISBLANK(FromEvoM!AK505),\"\",FromEvoM!AK505)","v":""},{"$f":"IF(ISBLANK(FromEvoM!AM505),\"\",FromEvoM!AM505)","v":""},{"$f":"IF(ISBLANK(FromEvoM!AN505),\"\",FromEvoM!AN505)","v":""},{"$f":"IF(ISBLANK(FromEvoM!AL505),\"\",FromEvoM!AL505)","v":""},{"$f":"IF(ISBLANK(FromEvoM!A505),\"\",IF(AND(AF505=\"y\",AI505=1),\"Y\",\"N\"))","v":""},{"$f":"IF(ISBLANK(FromEvoM!A505),\"\",IF(FromEvoM!AS505=\"Yes\",2,1))","v":""},{"$f":"IF(FromEvoM!W505=1,\"M\",IF(FromEvoM!W505=7,\"W\",\"\"))","v":""},{"$f":"IF(AJ505=\"Y\",0,IF(AJ505=\"N\",FromEvoM!AF505+FromEvoM!AT505,\"\"))","v":""},{"$f":"IF(AJ505=\"Y\",(FromEvoM!AE505+FromEvoM!AF505-FromEvoM!AT505),IF(AJ505=\"N\",FromEvoM!AE505,\"\"))","v":""}]
[{"$f":"IF(ISBLANK(FromEvoM!A506),\"\",Group_Code)","v":""},{"$f":"IF(ISBLANK(FromEvoM!A506),\"\",SUBSTITUTE(FromEvoM!A506,\" \",\"\"))","v":""},{"$f":"IF(ISBLANK(FromEvoM!C506),\"\",SUBSTITUTE(FromEvoM!G506,\" \",\"\"))","v":""},{"$f":"IF(ISBLANK(FromEvoM!D506),\"\",FromEvoM!B506)","v":""},{"$f":"IF(ISBLANK(FromEvoM!D506),\"\",FromEvoM!D506)","v":""},{"$f":"IF(ISBLANK(FromEvoM!C506),\"\",FromEvoM!C506)","v":""},{"$f":"REPLACE(FromEvoM!F506,2,6, )","v":""},{"$f":"IF(ISNUMBER(FromEvoM!E506),FromEvoM!E506,\"\")","v":""},{"$f":"IF(ISBLANK(FromEvoM!I506),\"\",FromEvoM!I506)","v":""},{"$f":"IF(ISBLANK(FromEvoM!J506),\"\",FromEvoM!J506)","v":""},{"$f":"IF(ISBLANK(FromEvoM!K506),\"\",FromEvoM!K506)","v":""},{"$f":"IF(ISBLANK(FromEvoM!L506),\"\",FromEvoM!L506)","v":""},{"$f":"IF(ISBLANK(FromEvoM!M506),\"\",FromEvoM!M506)","v":""},{"$f":"IF(ISBLANK(FromEvoM!P506),\"\",FromEvoM!P506)","v":""},null,{"$f":"IF(ISNUMBER(FromEvoM!X506),FromEvoM!X506,\"\")","v":""},{"$f":"IF(ISNUMBER(FromEvoM!AB506),FromEvoM!AB506,\"\")","v":""},{"$f":"IF(ISNUMBER(FromEvoM!AA506),FromEvoM!AA506,\"\")","v":""},null,"","",null,null,{"$f":"IF(FromEvoM!W506=1,(FromEvoM!AB506*12),IF(FromEvoM!W506=7,(FromEvoM!AR506),\"\"))","v":""},null,null,{"$f":"IF(ISBLANK(FromEvoM!A506),\"\",IF(FromEvoM!AK506=\"y\",\"Y\",\"N\"))","v":""},{"$f":"IF(ISBLANK(FromEvoM!A506),\"\",Category_ID)","v":""},null,null,null,{"$f":"IF(ISBLANK(FromEvoM!AK506),\"\",FromEvoM!AK506)","v":""},{"$f":"IF(ISBLANK(FromEvoM!AM506),\"\",FromEvoM!AM506)","v":""},{"$f":"IF(ISBLANK(FromEvoM!AN506),\"\",FromEvoM!AN506)","v":""},{"$f":"IF(ISBLANK(FromEvoM!AL506),\"\",FromEvoM!AL506)","v":""},{"$f":"IF(ISBLANK(FromEvoM!A506),\"\",IF(AND(AF506=\"y\",AI506=1),\"Y\",\"N\"))","v":""},{"$f":"IF(ISBLANK(FromEvoM!A506),\"\",IF(FromEvoM!AS506=\"Yes\",2,1))","v":""},{"$f":"IF(FromEvoM!W506=1,\"M\",IF(FromEvoM!W506=7,\"W\",\"\"))","v":""},{"$f":"IF(AJ506=\"Y\",0,IF(AJ506=\"N\",FromEvoM!AF506+FromEvoM!AT506,\"\"))","v":""},{"$f":"IF(AJ506=\"Y\",(FromEvoM!AE506+FromEvoM!AF506-FromEvoM!AT506),IF(AJ506=\"N\",FromEvoM!AE506,\"\"))","v":""}]
[{"$f":"IF(ISBLANK(FromEvoM!A507),\"\",Group_Code)","v":""},{"$f":"IF(ISBLANK(FromEvoM!A507),\"\",SUBSTITUTE(FromEvoM!A507,\" \",\"\"))","v":""},{"$f":"IF(ISBLANK(FromEvoM!C507),\"\",SUBSTITUTE(FromEvoM!G507,\" \",\"\"))","v":""},{"$f":"IF(ISBLANK(FromEvoM!D507),\"\",FromEvoM!B507)","v":""},{"$f":"IF(ISBLANK(FromEvoM!D507),\"\",FromEvoM!D507)","v":""},{"$f":"IF(ISBLANK(FromEvoM!C507),\"\",FromEvoM!C507)","v":""},{"$f":"REPLACE(FromEvoM!F507,2,6, )","v":""},{"$f":"IF(ISNUMBER(FromEvoM!E507),FromEvoM!E507,\"\")","v":""},{"$f":"IF(ISBLANK(FromEvoM!I507),\"\",FromEvoM!I507)","v":""},{"$f":"IF(ISBLANK(FromEvoM!J507),\"\",FromEvoM!J507)","v":""},{"$f":"IF(ISBLANK(FromEvoM!K507),\"\",FromEvoM!K507)","v":""},{"$f":"IF(ISBLANK(FromEvoM!L507),\"\",FromEvoM!L507)","v":""},{"$f":"IF(ISBLANK(FromEvoM!M507),\"\",FromEvoM!M507)","v":""},{"$f":"IF(ISBLANK(FromEvoM!P507),\"\",FromEvoM!P507)","v":""},null,{"$f":"IF(ISNUMBER(FromEvoM!X507),FromEvoM!X507,\"\")","v":""},{"$f":"IF(ISNUMBER(FromEvoM!AB507),FromEvoM!AB507,\"\")","v":""},{"$f":"IF(ISNUMBER(FromEvoM!AA507),FromEvoM!AA507,\"\")","v":""},null,"","",null,null,{"$f":"IF(FromEvoM!W507=1,(FromEvoM!AB507*12),IF(FromEvoM!W507=7,(FromEvoM!AR507),\"\"))","v":""},null,null,{"$f":"IF(ISBLANK(FromEvoM!A507),\"\",IF(FromEvoM!AK507=\"y\",\"Y\",\"N\"))","v":""},{"$f":"IF(ISBLANK(FromEvoM!A507),\"\",Category_ID)","v":""},null,null,null,{"$f":"IF(ISBLANK(FromEvoM!AK507),\"\",FromEvoM!AK507)","v":""},{"$f":"IF(ISBLANK(FromEvoM!AM507),\"\",FromEvoM!AM507)","v":""},{"$f":"IF(ISBLANK(FromEvoM!AN507),\"\",FromEvoM!AN507)","v":""},{"$f":"IF(ISBLANK(FromEvoM!AL507),\"\",FromEvoM!AL507)","v":""},{"$f":"IF(ISBLANK(FromEvoM!A507),\"\",IF(AND(AF507=\"y\",AI507=1),\"Y\",\"N\"))","v":""},{"$f":"IF(ISBLANK(FromEvoM!A507),\"\",IF(FromEvoM!AS507=\"Yes\",2,1))","v":""},{"$f":"IF(FromEvoM!W507=1,\"M\",IF(FromEvoM!W507=7,\"W\",\"\"))","v":""},{"$f":"IF(AJ507=\"Y\",0,IF(AJ507=\"N\",FromEvoM!AF507+FromEvoM!AT507,\"\"))","v":""},{"$f":"IF(AJ507=\"Y\",(FromEvoM!AE507+FromEvoM!AF507-FromEvoM!AT507),IF(AJ507=\"N\",FromEvoM!AE507,\"\"))","v":""}]
[{"$f":"IF(ISBLANK(FromEvoM!A508),\"\",Group_Code)","v":""},{"$f":"IF(ISBLANK(FromEvoM!A508),\"\",SUBSTITUTE(FromEvoM!A508,\" \",\"\"))","v":""},{"$f":"IF(ISBLANK(FromEvoM!C508),\"\",SUBSTITUTE(FromEvoM!G508,\" \",\"\"))","v":""},{"$f":"IF(ISBLANK(FromEvoM!D508),\"\",FromEvoM!B508)","v":""},{"$f":"IF(ISBLANK(FromEvoM!D508),\"\",FromEvoM!D508)","v":""},{"$f":"IF(ISBLANK(FromEvoM!C508),\"\",FromEvoM!C508)","v":""},{"$f":"REPLACE(FromEvoM!F508,2,6, )","v":""},{"$f":"IF(ISNUMBER(FromEvoM!E508),FromEvoM!E508,\"\")","v":""},{"$f":"IF(ISBLANK(FromEvoM!I508),\"\",FromEvoM!I508)","v":""},{"$f":"IF(ISBLANK(FromEvoM!J508),\"\",FromEvoM!J508)","v":""},{"$f":"IF(ISBLANK(FromEvoM!K508),\"\",FromEvoM!K508)","v":""},{"$f":"IF(ISBLANK(FromEvoM!L508),\"\",FromEvoM!L508)","v":""},{"$f":"IF(ISBLANK(FromEvoM!M508),\"\",FromEvoM!M508)","v":""},{"$f":"IF(ISBLANK(FromEvoM!P508),\"\",FromEvoM!P508)","v":""},null,{"$f":"IF(ISNUMBER(FromEvoM!X508),FromEvoM!X508,\"\")","v":""},{"$f":"IF(ISNUMBER(FromEvoM!AB508),FromEvoM!AB508,\"\")","v":""},{"$f":"IF(ISNUMBER(FromEvoM!AA508),FromEvoM!AA508,\"\")","v":""},null,"","",null,null,{"$f":"IF(FromEvoM!W508=1,(FromEvoM!AB508*12),IF(FromEvoM!W508=7,(FromEvoM!AR508),\"\"))","v":""},null,null,{"$f":"IF(ISBLANK(FromEvoM!A508),\"\",IF(FromEvoM!AK508=\"y\",\"Y\",\"N\"))","v":""},{"$f":"IF(ISBLANK(FromEvoM!A508),\"\",Category_ID)","v":""},null,null,null,{"$f":"IF(ISBLANK(FromEvoM!AK508),\"\",FromEvoM!AK508)","v":""},{"$f":"IF(ISBLANK(FromEvoM!AM508),\"\",FromEvoM!AM508)","v":""},{"$f":"IF(ISBLANK(FromEvoM!AN508),\"\",FromEvoM!AN508)","v":""},{"$f":"IF(ISBLANK(FromEvoM!AL508),\"\",FromEvoM!AL508)","v":""},{"$f":"IF(ISBLANK(FromEvoM!A508),\"\",IF(AND(AF508=\"y\",AI508=1),\"Y\",\"N\"))","v":""},{"$f":"IF(ISBLANK(FromEvoM!A508),\"\",IF(FromEvoM!AS508=\"Yes\",2,1))","v":""},{"$f":"IF(FromEvoM!W508=1,\"M\",IF(FromEvoM!W508=7,\"W\",\"\"))","v":""},{"$f":"IF(AJ508=\"Y\",0,IF(AJ508=\"N\",FromEvoM!AF508+FromEvoM!AT508,\"\"))","v":""},{"$f":"IF(AJ508=\"Y\",(FromEvoM!AE508+FromEvoM!AF508-FromEvoM!AT508),IF(AJ508=\"N\",FromEvoM!AE508,\"\"))","v":""}]
[{"$f":"IF(ISBLANK(FromEvoM!A509),\"\",Group_Code)","v":""},{"$f":"IF(ISBLANK(FromEvoM!A509),\"\",SUBSTITUTE(FromEvoM!A509,\" \",\"\"))","v":""},{"$f":"IF(ISBLANK(FromEvoM!C509),\"\",SUBSTITUTE(FromEvoM!G509,\" \",\"\"))","v":""},{"$f":"IF(ISBLANK(FromEvoM!D509),\"\",FromEvoM!B509)","v":""},{"$f":"IF(ISBLANK(FromEvoM!D509),\"\",FromEvoM!D509)","v":""},{"$f":"IF(ISBLANK(FromEvoM!C509),\"\",FromEvoM!C509)","v":""},{"$f":"REPLACE(FromEvoM!F509,2,6, )","v":""},{"$f":"IF(ISNUMBER(FromEvoM!E509),FromEvoM!E509,\"\")","v":""},{"$f":"IF(ISBLANK(FromEvoM!I509),\"\",FromEvoM!I509)","v":""},{"$f":"IF(ISBLANK(FromEvoM!J509),\"\",FromEvoM!J509)","v":""},{"$f":"IF(ISBLANK(FromEvoM!K509),\"\",FromEvoM!K509)","v":""},{"$f":"IF(ISBLANK(FromEvoM!L509),\"\",FromEvoM!L509)","v":""},{"$f":"IF(ISBLANK(FromEvoM!M509),\"\",FromEvoM!M509)","v":""},{"$f":"IF(ISBLANK(FromEvoM!P509),\"\",FromEvoM!P509)","v":""},null,{"$f":"IF(ISNUMBER(FromEvoM!X509),FromEvoM!X509,\"\")","v":""},{"$f":"IF(ISNUMBER(FromEvoM!AB509),FromEvoM!AB509,\"\")","v":""},{"$f":"IF(ISNUMBER(FromEvoM!AA509),FromEvoM!AA509,\"\")","v":""},null,"","",null,null,{"$f":"IF(FromEvoM!W509=1,(FromEvoM!AB509*12),IF(FromEvoM!W509=7,(FromEvoM!AR509),\"\"))","v":""},null,null,{"$f":"IF(ISBLANK(FromEvoM!A509),\"\",IF(FromEvoM!AK509=\"y\",\"Y\",\"N\"))","v":""},{"$f":"IF(ISBLANK(FromEvoM!A509),\"\",Category_ID)","v":""},null,null,null,{"$f":"IF(ISBLANK(FromEvoM!AK509),\"\",FromEvoM!AK509)","v":""},{"$f":"IF(ISBLANK(FromEvoM!AM509),\"\",FromEvoM!AM509)","v":""},{"$f":"IF(ISBLANK(FromEvoM!AN509),\"\",FromEvoM!AN509)","v":""},{"$f":"IF(ISBLANK(FromEvoM!AL509),\"\",FromEvoM!AL509)","v":""},{"$f":"IF(ISBLANK(FromEvoM!A509),\"\",IF(AND(AF509=\"y\",AI509=1),\"Y\",\"N\"))","v":""},{"$f":"IF(ISBLANK(FromEvoM!A509),\"\",IF(FromEvoM!AS509=\"Yes\",2,1))","v":""},{"$f":"IF(FromEvoM!W509=1,\"M\",IF(FromEvoM!W509=7,\"W\",\"\"))","v":""},{"$f":"IF(AJ509=\"Y\",0,IF(AJ509=\"N\",FromEvoM!AF509+FromEvoM!AT509,\"\"))","v":""},{"$f":"IF(AJ509=\"Y\",(FromEvoM!AE509+FromEvoM!AF509-FromEvoM!AT509),IF(AJ509=\"N\",FromEvoM!AE509,\"\"))","v":""}]
[{"$f":"IF(ISBLANK(FromEvoM!A510),\"\",Group_Code)","v":""},{"$f":"IF(ISBLANK(FromEvoM!A510),\"\",SUBSTITUTE(FromEvoM!A510,\" \",\"\"))","v":""},{"$f":"IF(ISBLANK(FromEvoM!C510),\"\",SUBSTITUTE(FromEvoM!G510,\" \",\"\"))","v":""},{"$f":"IF(ISBLANK(FromEvoM!D510),\"\",FromEvoM!B510)","v":""},{"$f":"IF(ISBLANK(FromEvoM!D510),\"\",FromEvoM!D510)","v":""},{"$f":"IF(ISBLANK(FromEvoM!C510),\"\",FromEvoM!C510)","v":""},{"$f":"REPLACE(FromEvoM!F510,2,6, )","v":""},{"$f":"IF(ISNUMBER(FromEvoM!E510),FromEvoM!E510,\"\")","v":""},{"$f":"IF(ISBLANK(FromEvoM!I510),\"\",FromEvoM!I510)","v":""},{"$f":"IF(ISBLANK(FromEvoM!J510),\"\",FromEvoM!J510)","v":""},{"$f":"IF(ISBLANK(FromEvoM!K510),\"\",FromEvoM!K510)","v":""},{"$f":"IF(ISBLANK(FromEvoM!L510),\"\",FromEvoM!L510)","v":""},{"$f":"IF(ISBLANK(FromEvoM!M510),\"\",FromEvoM!M510)","v":""},{"$f":"IF(ISBLANK(FromEvoM!P510),\"\",FromEvoM!P510)","v":""},null,{"$f":"IF(ISNUMBER(FromEvoM!X510),FromEvoM!X510,\"\")","v":""},{"$f":"IF(ISNUMBER(FromEvoM!AB510),FromEvoM!AB510,\"\")","v":""},{"$f":"IF(ISNUMBER(FromEvoM!AA510),FromEvoM!AA510,\"\")","v":""},null,"","",null,null,{"$f":"IF(FromEvoM!W510=1,(FromEvoM!AB510*12),IF(FromEvoM!W510=7,(FromEvoM!AR510),\"\"))","v":""},null,null,{"$f":"IF(ISBLANK(FromEvoM!A510),\"\",IF(FromEvoM!AK510=\"y\",\"Y\",\"N\"))","v":""},{"$f":"IF(ISBLANK(FromEvoM!A510),\"\",Category_ID)","v":""},null,null,null,{"$f":"IF(ISBLANK(FromEvoM!AK510),\"\",FromEvoM!AK510)","v":""},{"$f":"IF(ISBLANK(FromEvoM!AM510),\"\",FromEvoM!AM510)","v":""},{"$f":"IF(ISBLANK(FromEvoM!AN510),\"\",FromEvoM!AN510)","v":""},{"$f":"IF(ISBLANK(FromEvoM!AL510),\"\",FromEvoM!AL510)","v":""},{"$f":"IF(ISBLANK(FromEvoM!A510),\"\",IF(AND(AF510=\"y\",AI510=1),\"Y\",\"N\"))","v":""},{"$f":"IF(ISBLANK(FromEvoM!A510),\"\",IF(FromEvoM!AS510=\"Yes\",2,1))","v":""},{"$f":"IF(FromEvoM!W510=1,\"M\",IF(FromEvoM!W510=7,\"W\",\"\"))","v":""},{"$f":"IF(AJ510=\"Y\",0,IF(AJ510=\"N\",FromEvoM!AF510+FromEvoM!AT510,\"\"))","v":""},{"$f":"IF(AJ510=\"Y\",(FromEvoM!AE510+FromEvoM!AF510-FromEvoM!AT510),IF(AJ510=\"N\",FromEvoM!AE510,\"\"))","v":""}]
[{"$f":"IF(ISBLANK(FromEvoM!A511),\"\",Group_Code)","v":""},{"$f":"IF(ISBLANK(FromEvoM!A511),\"\",SUBSTITUTE(FromEvoM!A511,\" \",\"\"))","v":""},{"$f":"IF(ISBLANK(FromEvoM!C511),\"\",SUBSTITUTE(FromEvoM!G511,\" \",\"\"))","v":""},{"$f":"IF(ISBLANK(FromEvoM!D511),\"\",FromEvoM!B511)","v":""},{"$f":"IF(ISBLANK(FromEvoM!D511),\"\",FromEvoM!D511)","v":""},{"$f":"IF(ISBLANK(FromEvoM!C511),\"\",FromEvoM!C511)","v":""},{"$f":"REPLACE(FromEvoM!F511,2,6, )","v":""},{"$f":"IF(ISNUMBER(FromEvoM!E511),FromEvoM!E511,\"\")","v":""},{"$f":"IF(ISBLANK(FromEvoM!I511),\"\",FromEvoM!I511)","v":""},{"$f":"IF(ISBLANK(FromEvoM!J511),\"\",FromEvoM!J511)","v":""},{"$f":"IF(ISBLANK(FromEvoM!K511),\"\",FromEvoM!K511)","v":""},{"$f":"IF(ISBLANK(FromEvoM!L511),\"\",FromEvoM!L511)","v":""},{"$f":"IF(ISBLANK(FromEvoM!M511),\"\",FromEvoM!M511)","v":""},{"$f":"IF(ISBLANK(FromEvoM!P511),\"\",FromEvoM!P511)","v":""},null,{"$f":"IF(ISNUMBER(FromEvoM!X511),FromEvoM!X511,\"\")","v":""},{"$f":"IF(ISNUMBER(FromEvoM!AB511),FromEvoM!AB511,\"\")","v":""},{"$f":"IF(ISNUMBER(FromEvoM!AA511),FromEvoM!AA511,\"\")","v":""},null,"","",null,null,{"$f":"IF(FromEvoM!W511=1,(FromEvoM!AB511*12),IF(FromEvoM!W511=7,(FromEvoM!AR511),\"\"))","v":""},null,null,{"$f":"IF(ISBLANK(FromEvoM!A511),\"\",IF(FromEvoM!AK511=\"y\",\"Y\",\"N\"))","v":""},{"$f":"IF(ISBLANK(FromEvoM!A511),\"\",Category_ID)","v":""},null,null,null,{"$f":"IF(ISBLANK(FromEvoM!AK511),\"\",FromEvoM!AK511)","v":""},{"$f":"IF(ISBLANK(FromEvoM!AM511),\"\",FromEvoM!AM511)","v":""},{"$f":"IF(ISBLANK(FromEvoM!AN511),\"\",FromEvoM!AN511)","v":""},{"$f":"IF(ISBLANK(FromEvoM!AL511),\"\",FromEvoM!AL511)","v":""},{"$f":"IF(ISBLANK(FromEvoM!A511),\"\",IF(AND(AF511=\"y\",AI511=1),\"Y\",\"N\"))","v":""},{"$f":"IF(ISBLANK(FromEvoM!A511),\"\",IF(FromEvoM!AS511=\"Yes\",2,1))","v":""},{"$f":"IF(FromEvoM!W511=1,\"M\",IF(FromEvoM!W511=7,\"W\",\"\"))","v":""},{"$f":"IF(AJ511=\"Y\",0,IF(AJ511=\"N\",FromEvoM!AF511+FromEvoM!AT511,\"\"))","v":""},{"$f":"IF(AJ511=\"Y\",(FromEvoM!AE511+FromEvoM!AF511-FromEvoM!AT511),IF(AJ511=\"N\",FromEvoM!AE511,\"\"))","v":""}]
[{"$f":"IF(ISBLANK(FromEvoM!A512),\"\",Group_Code)","v":""},{"$f":"IF(ISBLANK(FromEvoM!A512),\"\",SUBSTITUTE(FromEvoM!A512,\" \",\"\"))","v":""},{"$f":"IF(ISBLANK(FromEvoM!C512),\"\",SUBSTITUTE(FromEvoM!G512,\" \",\"\"))","v":""},{"$f":"IF(ISBLANK(FromEvoM!D512),\"\",FromEvoM!B512)","v":""},{"$f":"IF(ISBLANK(FromEvoM!D512),\"\",FromEvoM!D512)","v":""},{"$f":"IF(ISBLANK(FromEvoM!C512),\"\",FromEvoM!C512)","v":""},{"$f":"REPLACE(FromEvoM!F512,2,6, )","v":""},{"$f":"IF(ISNUMBER(FromEvoM!E512),FromEvoM!E512,\"\")","v":""},{"$f":"IF(ISBLANK(FromEvoM!I512),\"\",FromEvoM!I512)","v":""},{"$f":"IF(ISBLANK(FromEvoM!J512),\"\",FromEvoM!J512)","v":""},{"$f":"IF(ISBLANK(FromEvoM!K512),\"\",FromEvoM!K512)","v":""},{"$f":"IF(ISBLANK(FromEvoM!L512),\"\",FromEvoM!L512)","v":""},{"$f":"IF(ISBLANK(FromEvoM!M512),\"\",FromEvoM!M512)","v":""},{"$f":"IF(ISBLANK(FromEvoM!P512),\"\",FromEvoM!P512)","v":""},null,{"$f":"IF(ISNUMBER(FromEvoM!X512),FromEvoM!X512,\"\")","v":""},{"$f":"IF(ISNUMBER(FromEvoM!AB512),FromEvoM!AB512,\"\")","v":""},{"$f":"IF(ISNUMBER(FromEvoM!AA512),FromEvoM!AA512,\"\")","v":""},null,"","",null,null,{"$f":"IF(FromEvoM!W512=1,(FromEvoM!AB512*12),IF(FromEvoM!W512=7,(FromEvoM!AR512),\"\"))","v":""},null,null,{"$f":"IF(ISBLANK(FromEvoM!A512),\"\",IF(FromEvoM!AK512=\"y\",\"Y\",\"N\"))","v":""},{"$f":"IF(ISBLANK(FromEvoM!A512),\"\",Category_ID)","v":""},null,null,null,{"$f":"IF(ISBLANK(FromEvoM!AK512),\"\",FromEvoM!AK512)","v":""},{"$f":"IF(ISBLANK(FromEvoM!AM512),\"\",FromEvoM!AM512)","v":""},{"$f":"IF(ISBLANK(FromEvoM!AN512),\"\",FromEvoM!AN512)","v":""},{"$f":"IF(ISBLANK(FromEvoM!AL512),\"\",FromEvoM!AL512)","v":""},{"$f":"IF(ISBLANK(FromEvoM!A512),\"\",IF(AND(AF512=\"y\",AI512=1),\"Y\",\"N\"))","v":""},{"$f":"IF(ISBLANK(FromEvoM!A512),\"\",IF(FromEvoM!AS512=\"Yes\",2,1))","v":""},{"$f":"IF(FromEvoM!W512=1,\"M\",IF(FromEvoM!W512=7,\"W\",\"\"))","v":""},{"$f":"IF(AJ512=\"Y\",0,IF(AJ512=\"N\",FromEvoM!AF512+FromEvoM!AT512,\"\"))","v":""},{"$f":"IF(AJ512=\"Y\",(FromEvoM!AE512+FromEvoM!AF512-FromEvoM!AT512),IF(AJ512=\"N\",FromEvoM!AE512,\"\"))","v":""}]
[{"$f":"IF(ISBLANK(FromEvoM!A513),\"\",Group_Code)","v":""},{"$f":"IF(ISBLANK(FromEvoM!A513),\"\",SUBSTITUTE(FromEvoM!A513,\" \",\"\"))","v":""},{"$f":"IF(ISBLANK(FromEvoM!C513),\"\",SUBSTITUTE(FromEvoM!G513,\" \",\"\"))","v":""},{"$f":"IF(ISBLANK(FromEvoM!D513),\"\",FromEvoM!B513)","v":""},{"$f":"IF(ISBLANK(FromEvoM!D513),\"\",FromEvoM!D513)","v":""},{"$f":"IF(ISBLANK(FromEvoM!C513),\"\",FromEvoM!C513)","v":""},{"$f":"REPLACE(FromEvoM!F513,2,6, )","v":""},{"$f":"IF(ISNUMBER(FromEvoM!E513),FromEvoM!E513,\"\")","v":""},{"$f":"IF(ISBLANK(FromEvoM!I513),\"\",FromEvoM!I513)","v":""},{"$f":"IF(ISBLANK(FromEvoM!J513),\"\",FromEvoM!J513)","v":""},{"$f":"IF(ISBLANK(FromEvoM!K513),\"\",FromEvoM!K513)","v":""},{"$f":"IF(ISBLANK(FromEvoM!L513),\"\",FromEvoM!L513)","v":""},{"$f":"IF(ISBLANK(FromEvoM!M513),\"\",FromEvoM!M513)","v":""},{"$f":"IF(ISBLANK(FromEvoM!P513),\"\",FromEvoM!P513)","v":""},null,{"$f":"IF(ISNUMBER(FromEvoM!X513),FromEvoM!X513,\"\")","v":""},{"$f":"IF(ISNUMBER(FromEvoM!AB513),FromEvoM!AB513,\"\")","v":""},{"$f":"IF(ISNUMBER(FromEvoM!AA513),FromEvoM!AA513,\"\")","v":""},null,"","",null,null,{"$f":"IF(FromEvoM!W513=1,(FromEvoM!AB513*12),IF(FromEvoM!W513=7,(FromEvoM!AR513),\"\"))","v":""},null,null,{"$f":"IF(ISBLANK(FromEvoM!A513),\"\",IF(FromEvoM!AK513=\"y\",\"Y\",\"N\"))","v":""},{"$f":"IF(ISBLANK(FromEvoM!A513),\"\",Category_ID)","v":""},null,null,null,{"$f":"IF(ISBLANK(FromEvoM!AK513),\"\",FromEvoM!AK513)","v":""},{"$f":"IF(ISBLANK(FromEvoM!AM513),\"\",FromEvoM!AM513)","v":""},{"$f":"IF(ISBLANK(FromEvoM!AN513),\"\",FromEvoM!AN513)","v":""},{"$f":"IF(ISBLANK(FromEvoM!AL513),\"\",FromEvoM!AL513)","v":""},{"$f":"IF(ISBLANK(FromEvoM!A513),\"\",IF(AND(AF513=\"y\",AI513=1),\"Y\",\"N\"))","v":""},{"$f":"IF(ISBLANK(FromEvoM!A513),\"\",IF(FromEvoM!AS513=\"Yes\",2,1))","v":""},{"$f":"IF(FromEvoM!W513=1,\"M\",IF(FromEvoM!W513=7,\"W\",\"\"))","v":""},{"$f":"IF(AJ513=\"Y\",0,IF(AJ513=\"N\",FromEvoM!AF513+FromEvoM!AT513,\"\"))","v":""},{"$f":"IF(AJ513=\"Y\",(FromEvoM!AE513+FromEvoM!AF513-FromEvoM!AT513),IF(AJ513=\"N\",FromEvoM!AE513,\"\"))","v":""}]
[{"$f":"IF(ISBLANK(FromEvoM!A514),\"\",Group_Code)","v":""},{"$f":"IF(ISBLANK(FromEvoM!A514),\"\",SUBSTITUTE(FromEvoM!A514,\" \",\"\"))","v":""},{"$f":"IF(ISBLANK(FromEvoM!C514),\"\",SUBSTITUTE(FromEvoM!G514,\" \",\"\"))","v":""},{"$f":"IF(ISBLANK(FromEvoM!D514),\"\",FromEvoM!B514)","v":""},{"$f":"IF(ISBLANK(FromEvoM!D514),\"\",FromEvoM!D514)","v":""},{"$f":"IF(ISBLANK(FromEvoM!C514),\"\",FromEvoM!C514)","v":""},{"$f":"REPLACE(FromEvoM!F514,2,6, )","v":""},{"$f":"IF(ISNUMBER(FromEvoM!E514),FromEvoM!E514,\"\")","v":""},{"$f":"IF(ISBLANK(FromEvoM!I514),\"\",FromEvoM!I514)","v":""},{"$f":"IF(ISBLANK(FromEvoM!J514),\"\",FromEvoM!J514)","v":""},{"$f":"IF(ISBLANK(FromEvoM!K514),\"\",FromEvoM!K514)","v":""},{"$f":"IF(ISBLANK(FromEvoM!L514),\"\",FromEvoM!L514)","v":""},{"$f":"IF(ISBLANK(FromEvoM!M514),\"\",FromEvoM!M514)","v":""},{"$f":"IF(ISBLANK(FromEvoM!P514),\"\",FromEvoM!P514)","v":""},null,{"$f":"IF(ISNUMBER(FromEvoM!X514),FromEvoM!X514,\"\")","v":""},{"$f":"IF(ISNUMBER(FromEvoM!AB514),FromEvoM!AB514,\"\")","v":""},{"$f":"IF(ISNUMBER(FromEvoM!AA514),FromEvoM!AA514,\"\")","v":""},null,"","",null,null,{"$f":"IF(FromEvoM!W514=1,(FromEvoM!AB514*12),IF(FromEvoM!W514=7,(FromEvoM!AR514),\"\"))","v":""},null,null,{"$f":"IF(ISBLANK(FromEvoM!A514),\"\",IF(FromEvoM!AK514=\"y\",\"Y\",\"N\"))","v":""},{"$f":"IF(ISBLANK(FromEvoM!A514),\"\",Category_ID)","v":""},null,null,null,{"$f":"IF(ISBLANK(FromEvoM!AK514),\"\",FromEvoM!AK514)","v":""},{"$f":"IF(ISBLANK(FromEvoM!AM514),\"\",FromEvoM!AM514)","v":""},{"$f":"IF(ISBLANK(FromEvoM!AN514),\"\",FromEvoM!AN514)","v":""},{"$f":"IF(ISBLANK(FromEvoM!AL514),\"\",FromEvoM!AL514)","v":""},{"$f":"IF(ISBLANK(FromEvoM!A514),\"\",IF(AND(AF514=\"y\",AI514=1),\"Y\",\"N\"))","v":""},{"$f":"IF(ISBLANK(FromEvoM!A514),\"\",IF(FromEvoM!AS514=\"Yes\",2,1))","v":""},{"$f":"IF(FromEvoM!W514=1,\"M\",IF(FromEvoM!W514=7,\"W\",\"\"))","v":""},{"$f":"IF(AJ514=\"Y\",0,IF(AJ514=\"N\",FromEvoM!AF514+FromEvoM!AT514,\"\"))","v":""},{"$f":"IF(AJ514=\"Y\",(FromEvoM!AE514+FromEvoM!AF514-FromEvoM!AT514),IF(AJ514=\"N\",FromEvoM!AE514,\"\"))","v":""}]
[{"$f":"IF(ISBLANK(FromEvoM!A515),\"\",Group_Code)","v":""},{"$f":"IF(ISBLANK(FromEvoM!A515),\"\",SUBSTITUTE(FromEvoM!A515,\" \",\"\"))","v":""},{"$f":"IF(ISBLANK(FromEvoM!C515),\"\",SUBSTITUTE(FromEvoM!G515,\" \",\"\"))","v":""},{"$f":"IF(ISBLANK(FromEvoM!D515),\"\",FromEvoM!B515)","v":""},{"$f":"IF(ISBLANK(FromEvoM!D515),\"\",FromEvoM!D515)","v":""},{"$f":"IF(ISBLANK(FromEvoM!C515),\"\",FromEvoM!C515)","v":""},{"$f":"REPLACE(FromEvoM!F515,2,6, )","v":""},{"$f":"IF(ISNUMBER(FromEvoM!E515),FromEvoM!E515,\"\")","v":""},{"$f":"IF(ISBLANK(FromEvoM!I515),\"\",FromEvoM!I515)","v":""},{"$f":"IF(ISBLANK(FromEvoM!J515),\"\",FromEvoM!J515)","v":""},{"$f":"IF(ISBLANK(FromEvoM!K515),\"\",FromEvoM!K515)","v":""},{"$f":"IF(ISBLANK(FromEvoM!L515),\"\",FromEvoM!L515)","v":""},{"$f":"IF(ISBLANK(FromEvoM!M515),\"\",FromEvoM!M515)","v":""},{"$f":"IF(ISBLANK(FromEvoM!P515),\"\",FromEvoM!P515)","v":""},null,{"$f":"IF(ISNUMBER(FromEvoM!X515),FromEvoM!X515,\"\")","v":""},{"$f":"IF(ISNUMBER(FromEvoM!AB515),FromEvoM!AB515,\"\")","v":""},{"$f":"IF(ISNUMBER(FromEvoM!AA515),FromEvoM!AA515,\"\")","v":""},null,{"$f":"AM515","v":""},{"$f":"AN515","v":""},null,null,{"$f":"IF(FromEvoM!W515=1,(FromEvoM!AB515*12),IF(FromEvoM!W515=7,(FromEvoM!AR515),\"\"))","v":""},null,null,{"$f":"IF(ISBLANK(FromEvoM!A515),\"\",IF(FromEvoM!AK515=\"y\",\"Y\",\"N\"))","v":""},{"$f":"IF(ISBLANK(FromEvoM!A515),\"\",Category_ID)","v":""},null,null,null,{"$f":"IF(ISBLANK(FromEvoM!AK515),\"\",FromEvoM!AK515)","v":""},{"$f":"IF(ISBLANK(FromEvoM!AM515),\"\",FromEvoM!AM515)","v":""},{"$f":"IF(ISBLANK(FromEvoM!AN515),\"\",FromEvoM!AN515)","v":""},{"$f":"IF(ISBLANK(FromEvoM!AL515),\"\",FromEvoM!AL515)","v":""},{"$f":"IF(ISBLANK(FromEvoM!A515),\"\",IF(AND(AF515=\"y\",AI515=1),\"Y\",\"N\"))","v":""},{"$f":"IF(ISBLANK(FromEvoM!A515),\"\",IF(FromEvoM!AS515=\"Yes\",2,1))","v":""},{"$f":"IF(FromEvoM!W515=1,\"M\",IF(FromEvoM!W515=7,\"W\",\"\"))","v":""},{"$f":"IF(AJ515=\"Y\",0,IF(AJ515=\"N\",FromEvoM!AF515+FromEvoM!AT515,\"\"))","v":""},{"$f":"IF(AJ515=\"Y\",(FromEvoM!AE515+FromEvoM!AF515-FromEvoM!AT515),IF(AJ515=\"N\",FromEvoM!AE515,\"\"))","v":""}]
[{"$f":"IF(ISBLANK(FromEvoM!A516),\"\",Group_Code)","v":""},{"$f":"IF(ISBLANK(FromEvoM!A516),\"\",SUBSTITUTE(FromEvoM!A516,\" \",\"\"))","v":""},{"$f":"IF(ISBLANK(FromEvoM!C516),\"\",SUBSTITUTE(FromEvoM!G516,\" \",\"\"))","v":""},{"$f":"IF(ISBLANK(FromEvoM!D516),\"\",FromEvoM!B516)","v":""},{"$f":"IF(ISBLANK(FromEvoM!D516),\"\",FromEvoM!D516)","v":""},{"$f":"IF(ISBLANK(FromEvoM!C516),\"\",FromEvoM!C516)","v":""},{"$f":"REPLACE(FromEvoM!F516,2,6, )","v":""},{"$f":"IF(ISNUMBER(FromEvoM!E516),FromEvoM!E516,\"\")","v":""},{"$f":"IF(ISBLANK(FromEvoM!I516),\"\",FromEvoM!I516)","v":""},{"$f":"IF(ISBLANK(FromEvoM!J516),\"\",FromEvoM!J516)","v":""},{"$f":"IF(ISBLANK(FromEvoM!K516),\"\",FromEvoM!K516)","v":""},{"$f":"IF(ISBLANK(FromEvoM!L516),\"\",FromEvoM!L516)","v":""},{"$f":"IF(ISBLANK(FromEvoM!M516),\"\",FromEvoM!M516)","v":""},{"$f":"IF(ISBLANK(FromEvoM!P516),\"\",FromEvoM!P516)","v":""},null,{"$f":"IF(ISNUMBER(FromEvoM!X516),FromEvoM!X516,\"\")","v":""},{"$f":"IF(ISNUMBER(FromEvoM!AB516),FromEvoM!AB516,\"\")","v":""},{"$f":"IF(ISNUMBER(FromEvoM!AA516),FromEvoM!AA516,\"\")","v":""},null,"","",null,null,{"$f":"IF(FromEvoM!W516=1,(FromEvoM!AB516*12),IF(FromEvoM!W516=7,(FromEvoM!AR516),\"\"))","v":""},null,null,{"$f":"IF(ISBLANK(FromEvoM!A516),\"\",IF(FromEvoM!AK516=\"y\",\"Y\",\"N\"))","v":""},{"$f":"IF(ISBLANK(FromEvoM!A516),\"\",Category_ID)","v":""},null,null,null,{"$f":"IF(ISBLANK(FromEvoM!AK516),\"\",FromEvoM!AK516)","v":""},{"$f":"IF(ISBLANK(FromEvoM!AM516),\"\",FromEvoM!AM516)","v":""},{"$f":"IF(ISBLANK(FromEvoM!AN516),\"\",FromEvoM!AN516)","v":""},{"$f":"IF(ISBLANK(FromEvoM!AL516),\"\",FromEvoM!AL516)","v":""},{"$f":"IF(ISBLANK(FromEvoM!A516),\"\",IF(AND(AF516=\"y\",AI516=1),\"Y\",\"N\"))","v":""},{"$f":"IF(ISBLANK(FromEvoM!A516),\"\",IF(FromEvoM!AS516=\"Yes\",2,1))","v":""},{"$f":"IF(FromEvoM!W516=1,\"M\",IF(FromEvoM!W516=7,\"W\",\"\"))","v":""},{"$f":"IF(AJ516=\"Y\",0,IF(AJ516=\"N\",FromEvoM!AF516+FromEvoM!AT516,\"\"))","v":""},{"$f":"IF(AJ516=\"Y\",(FromEvoM!AE516+FromEvoM!AF516-FromEvoM!AT516),IF(AJ516=\"N\",FromEvoM!AE516,\"\"))","v":""}]
[{"$f":"IF(ISBLANK(FromEvoM!A517),\"\",Group_Code)","v":""},{"$f":"IF(ISBLANK(FromEvoM!A517),\"\",SUBSTITUTE(FromEvoM!A517,\" \",\"\"))","v":""},{"$f":"IF(ISBLANK(FromEvoM!C517),\"\",SUBSTITUTE(FromEvoM!G517,\" \",\"\"))","v":""},{"$f":"IF(ISBLANK(FromEvoM!D517),\"\",FromEvoM!B517)","v":""},{"$f":"IF(ISBLANK(FromEvoM!D517),\"\",FromEvoM!D517)","v":""},{"$f":"IF(ISBLANK(FromEvoM!C517),\"\",FromEvoM!C517)","v":""},{"$f":"REPLACE(FromEvoM!F517,2,6, )","v":""},{"$f":"IF(ISNUMBER(FromEvoM!E517),FromEvoM!E517,\"\")","v":""},{"$f":"IF(ISBLANK(FromEvoM!I517),\"\",FromEvoM!I517)","v":""},{"$f":"IF(ISBLANK(FromEvoM!J517),\"\",FromEvoM!J517)","v":""},{"$f":"IF(ISBLANK(FromEvoM!K517),\"\",FromEvoM!K517)","v":""},{"$f":"IF(ISBLANK(FromEvoM!L517),\"\",FromEvoM!L517)","v":""},{"$f":"IF(ISBLANK(FromEvoM!M517),\"\",FromEvoM!M517)","v":""},{"$f":"IF(ISBLANK(FromEvoM!P517),\"\",FromEvoM!P517)","v":""},null,{"$f":"IF(ISNUMBER(FromEvoM!X517),FromEvoM!X517,\"\")","v":""},{"$f":"IF(ISNUMBER(FromEvoM!AB517),FromEvoM!AB517,\"\")","v":""},{"$f":"IF(ISNUMBER(FromEvoM!AA517),FromEvoM!AA517,\"\")","v":""},null,"","",null,null,{"$f":"IF(FromEvoM!W517=1,(FromEvoM!AB517*12),IF(FromEvoM!W517=7,(FromEvoM!AR517),\"\"))","v":""},null,null,{"$f":"IF(ISBLANK(FromEvoM!A517),\"\",IF(FromEvoM!AK517=\"y\",\"Y\",\"N\"))","v":""},{"$f":"IF(ISBLANK(FromEvoM!A517),\"\",Category_ID)","v":""},null,null,null,{"$f":"IF(ISBLANK(FromEvoM!AK517),\"\",FromEvoM!AK517)","v":""},{"$f":"IF(ISBLANK(FromEvoM!AM517),\"\",FromEvoM!AM517)","v":""},{"$f":"IF(ISBLANK(FromEvoM!AN517),\"\",FromEvoM!AN517)","v":""},{"$f":"IF(ISBLANK(FromEvoM!AL517),\"\",FromEvoM!AL517)","v":""},{"$f":"IF(ISBLANK(FromEvoM!A517),\"\",IF(AND(AF517=\"y\",AI517=1),\"Y\",\"N\"))","v":""},{"$f":"IF(ISBLANK(FromEvoM!A517),\"\",IF(FromEvoM!AS517=\"Yes\",2,1))","v":""},{"$f":"IF(FromEvoM!W517=1,\"M\",IF(FromEvoM!W517=7,\"W\",\"\"))","v":""},{"$f":"IF(AJ517=\"Y\",0,IF(AJ517=\"N\",FromEvoM!AF517+FromEvoM!AT517,\"\"))","v":""},{"$f":"IF(AJ517=\"Y\",(FromEvoM!AE517+FromEvoM!AF517-FromEvoM!AT517),IF(AJ517=\"N\",FromEvoM!AE517,\"\"))","v":""}]
[{"$f":"IF(ISBLANK(FromEvoM!A518),\"\",Group_Code)","v":""},{"$f":"IF(ISBLANK(FromEvoM!A518),\"\",SUBSTITUTE(FromEvoM!A518,\" \",\"\"))","v":""},{"$f":"IF(ISBLANK(FromEvoM!C518),\"\",SUBSTITUTE(FromEvoM!G518,\" \",\"\"))","v":""},{"$f":"IF(ISBLANK(FromEvoM!D518),\"\",FromEvoM!B518)","v":""},{"$f":"IF(ISBLANK(FromEvoM!D518),\"\",FromEvoM!D518)","v":""},{"$f":"IF(ISBLANK(FromEvoM!C518),\"\",FromEvoM!C518)","v":""},{"$f":"REPLACE(FromEvoM!F518,2,6, )","v":""},{"$f":"IF(ISNUMBER(FromEvoM!E518),FromEvoM!E518,\"\")","v":""},{"$f":"IF(ISBLANK(FromEvoM!I518),\"\",FromEvoM!I518)","v":""},{"$f":"IF(ISBLANK(FromEvoM!J518),\"\",FromEvoM!J518)","v":""},{"$f":"IF(ISBLANK(FromEvoM!K518),\"\",FromEvoM!K518)","v":""},{"$f":"IF(ISBLANK(FromEvoM!L518),\"\",FromEvoM!L518)","v":""},{"$f":"IF(ISBLANK(FromEvoM!M518),\"\",FromEvoM!M518)","v":""},{"$f":"IF(ISBLANK(FromEvoM!P518),\"\",FromEvoM!P518)","v":""},null,{"$f":"IF(ISNUMBER(FromEvoM!X518),FromEvoM!X518,\"\")","v":""},{"$f":"IF(ISNUMBER(FromEvoM!AB518),FromEvoM!AB518,\"\")","v":""},{"$f":"IF(ISNUMBER(FromEvoM!AA518),FromEvoM!AA518,\"\")","v":""},null,"","",null,null,{"$f":"IF(FromEvoM!W518=1,(FromEvoM!AB518*12),IF(FromEvoM!W518=7,(FromEvoM!AR518),\"\"))","v":""},null,null,{"$f":"IF(ISBLANK(FromEvoM!A518),\"\",IF(FromEvoM!AK518=\"y\",\"Y\",\"N\"))","v":""},{"$f":"IF(ISBLANK(FromEvoM!A518),\"\",Category_ID)","v":""},null,null,null,{"$f":"IF(ISBLANK(FromEvoM!AK518),\"\",FromEvoM!AK518)","v":""},{"$f":"IF(ISBLANK(FromEvoM!AM518),\"\",FromEvoM!AM518)","v":""},{"$f":"IF(ISBLANK(FromEvoM!AN518),\"\",FromEvoM!AN518)","v":""},{"$f":"IF(ISBLANK(FromEvoM!AL518),\"\",FromEvoM!AL518)","v":""},{"$f":"IF(ISBLANK(FromEvoM!A518),\"\",IF(AND(AF518=\"y\",AI518=1),\"Y\",\"N\"))","v":""},{"$f":"IF(ISBLANK(FromEvoM!A518),\"\",IF(FromEvoM!AS518=\"Yes\",2,1))","v":""},{"$f":"IF(FromEvoM!W518=1,\"M\",IF(FromEvoM!W518=7,\"W\",\"\"))","v":""},{"$f":"IF(AJ518=\"Y\",0,IF(AJ518=\"N\",FromEvoM!AF518+FromEvoM!AT518,\"\"))","v":""},{"$f":"IF(AJ518=\"Y\",(FromEvoM!AE518+FromEvoM!AF518-FromEvoM!AT518),IF(AJ518=\"N\",FromEvoM!AE518,\"\"))","v":""}]
[{"$f":"IF(ISBLANK(FromEvoM!A519),\"\",Group_Code)","v":""},{"$f":"IF(ISBLANK(FromEvoM!A519),\"\",SUBSTITUTE(FromEvoM!A519,\" \",\"\"))","v":""},{"$f":"IF(ISBLANK(FromEvoM!C519),\"\",SUBSTITUTE(FromEvoM!G519,\" \",\"\"))","v":""},{"$f":"IF(ISBLANK(FromEvoM!D519),\"\",FromEvoM!B519)","v":""},{"$f":"IF(ISBLANK(FromEvoM!D519),\"\",FromEvoM!D519)","v":""},{"$f":"IF(ISBLANK(FromEvoM!C519),\"\",FromEvoM!C519)","v":""},{"$f":"REPLACE(FromEvoM!F519,2,6, )","v":""},{"$f":"IF(ISNUMBER(FromEvoM!E519),FromEvoM!E519,\"\")","v":""},{"$f":"IF(ISBLANK(FromEvoM!I519),\"\",FromEvoM!I519)","v":""},{"$f":"IF(ISBLANK(FromEvoM!J519),\"\",FromEvoM!J519)","v":""},{"$f":"IF(ISBLANK(FromEvoM!K519),\"\",FromEvoM!K519)","v":""},{"$f":"IF(ISBLANK(FromEvoM!L519),\"\",FromEvoM!L519)","v":""},{"$f":"IF(ISBLANK(FromEvoM!M519),\"\",FromEvoM!M519)","v":""},{"$f":"IF(ISBLANK(FromEvoM!P519),\"\",FromEvoM!P519)","v":""},null,{"$f":"IF(ISNUMBER(FromEvoM!X519),FromEvoM!X519,\"\")","v":""},{"$f":"IF(ISNUMBER(FromEvoM!AB519),FromEvoM!AB519,\"\")","v":""},{"$f":"IF(ISNUMBER(FromEvoM!AA519),FromEvoM!AA519,\"\")","v":""},null,"","",null,null,{"$f":"IF(FromEvoM!W519=1,(FromEvoM!AB519*12),IF(FromEvoM!W519=7,(FromEvoM!AR519),\"\"))","v":""},null,null,{"$f":"IF(ISBLANK(FromEvoM!A519),\"\",IF(FromEvoM!AK519=\"y\",\"Y\",\"N\"))","v":""},{"$f":"IF(ISBLANK(FromEvoM!A519),\"\",Category_ID)","v":""},null,null,null,{"$f":"IF(ISBLANK(FromEvoM!AK519),\"\",FromEvoM!AK519)","v":""},{"$f":"IF(ISBLANK(FromEvoM!AM519),\"\",FromEvoM!AM519)","v":""},{"$f":"IF(ISBLANK(FromEvoM!AN519),\"\",FromEvoM!AN519)","v":""},{"$f":"IF(ISBLANK(FromEvoM!AL519),\"\",FromEvoM!AL519)","v":""},{"$f":"IF(ISBLANK(FromEvoM!A519),\"\",IF(AND(AF519=\"y\",AI519=1),\"Y\",\"N\"))","v":""},{"$f":"IF(ISBLANK(FromEvoM!A519),\"\",IF(FromEvoM!AS519=\"Yes\",2,1))","v":""},{"$f":"IF(FromEvoM!W519=1,\"M\",IF(FromEvoM!W519=7,\"W\",\"\"))","v":""},{"$f":"IF(AJ519=\"Y\",0,IF(AJ519=\"N\",FromEvoM!AF519+FromEvoM!AT519,\"\"))","v":""},{"$f":"IF(AJ519=\"Y\",(FromEvoM!AE519+FromEvoM!AF519-FromEvoM!AT519),IF(AJ519=\"N\",FromEvoM!AE519,\"\"))","v":""}]
[{"$f":"IF(ISBLANK(FromEvoM!A520),\"\",Group_Code)","v":""},{"$f":"IF(ISBLANK(FromEvoM!A520),\"\",SUBSTITUTE(FromEvoM!A520,\" \",\"\"))","v":""},{"$f":"IF(ISBLANK(FromEvoM!C520),\"\",SUBSTITUTE(FromEvoM!G520,\" \",\"\"))","v":""},{"$f":"IF(ISBLANK(FromEvoM!D520),\"\",FromEvoM!B520)","v":""},{"$f":"IF(ISBLANK(FromEvoM!D520),\"\",FromEvoM!D520)","v":""},{"$f":"IF(ISBLANK(FromEvoM!C520),\"\",FromEvoM!C520)","v":""},{"$f":"REPLACE(FromEvoM!F520,2,6, )","v":""},{"$f":"IF(ISNUMBER(FromEvoM!E520),FromEvoM!E520,\"\")","v":""},{"$f":"IF(ISBLANK(FromEvoM!I520),\"\",FromEvoM!I520)","v":""},{"$f":"IF(ISBLANK(FromEvoM!J520),\"\",FromEvoM!J520)","v":""},{"$f":"IF(ISBLANK(FromEvoM!K520),\"\",FromEvoM!K520)","v":""},{"$f":"IF(ISBLANK(FromEvoM!L520),\"\",FromEvoM!L520)","v":""},{"$f":"IF(ISBLANK(FromEvoM!M520),\"\",FromEvoM!M520)","v":""},{"$f":"IF(ISBLANK(FromEvoM!P520),\"\",FromEvoM!P520)","v":""},null,{"$f":"IF(ISNUMBER(FromEvoM!X520),FromEvoM!X520,\"\")","v":""},{"$f":"IF(ISNUMBER(FromEvoM!AB520),FromEvoM!AB520,\"\")","v":""},{"$f":"IF(ISNUMBER(FromEvoM!AA520),FromEvoM!AA520,\"\")","v":""},null,"","",null,null,{"$f":"IF(FromEvoM!W520=1,(FromEvoM!AB520*12),IF(FromEvoM!W520=7,(FromEvoM!AR520),\"\"))","v":""},null,null,{"$f":"IF(ISBLANK(FromEvoM!A520),\"\",IF(FromEvoM!AK520=\"y\",\"Y\",\"N\"))","v":""},{"$f":"IF(ISBLANK(FromEvoM!A520),\"\",Category_ID)","v":""},null,null,null,{"$f":"IF(ISBLANK(FromEvoM!AK520),\"\",FromEvoM!AK520)","v":""},{"$f":"IF(ISBLANK(FromEvoM!AM520),\"\",FromEvoM!AM520)","v":""},{"$f":"IF(ISBLANK(FromEvoM!AN520),\"\",FromEvoM!AN520)","v":""},{"$f":"IF(ISBLANK(FromEvoM!AL520),\"\",FromEvoM!AL520)","v":""},{"$f":"IF(ISBLANK(FromEvoM!A520),\"\",IF(AND(AF520=\"y\",AI520=1),\"Y\",\"N\"))","v":""},{"$f":"IF(ISBLANK(FromEvoM!A520),\"\",IF(FromEvoM!AS520=\"Yes\",2,1))","v":""},{"$f":"IF(FromEvoM!W520=1,\"M\",IF(FromEvoM!W520=7,\"W\",\"\"))","v":""},{"$f":"IF(AJ520=\"Y\",0,IF(AJ520=\"N\",FromEvoM!AF520+FromEvoM!AT520,\"\"))","v":""},{"$f":"IF(AJ520=\"Y\",(FromEvoM!AE520+FromEvoM!AF520-FromEvoM!AT520),IF(AJ520=\"N\",FromEvoM!AE520,\"\"))","v":""}]
[{"$f":"IF(ISBLANK(FromEvoM!A521),\"\",Group_Code)","v":""},{"$f":"IF(ISBLANK(FromEvoM!A521),\"\",SUBSTITUTE(FromEvoM!A521,\" \",\"\"))","v":""},{"$f":"IF(ISBLANK(FromEvoM!C521),\"\",SUBSTITUTE(FromEvoM!G521,\" \",\"\"))","v":""},{"$f":"IF(ISBLANK(FromEvoM!D521),\"\",FromEvoM!B521)","v":""},{"$f":"IF(ISBLANK(FromEvoM!D521),\"\",FromEvoM!D521)","v":""},{"$f":"IF(ISBLANK(FromEvoM!C521),\"\",FromEvoM!C521)","v":""},{"$f":"REPLACE(FromEvoM!F521,2,6, )","v":""},{"$f":"IF(ISNUMBER(FromEvoM!E521),FromEvoM!E521,\"\")","v":""},{"$f":"IF(ISBLANK(FromEvoM!I521),\"\",FromEvoM!I521)","v":""},{"$f":"IF(ISBLANK(FromEvoM!J521),\"\",FromEvoM!J521)","v":""},{"$f":"IF(ISBLANK(FromEvoM!K521),\"\",FromEvoM!K521)","v":""},{"$f":"IF(ISBLANK(FromEvoM!L521),\"\",FromEvoM!L521)","v":""},{"$f":"IF(ISBLANK(FromEvoM!M521),\"\",FromEvoM!M521)","v":""},{"$f":"IF(ISBLANK(FromEvoM!P521),\"\",FromEvoM!P521)","v":""},null,{"$f":"IF(ISNUMBER(FromEvoM!X521),FromEvoM!X521,\"\")","v":""},{"$f":"IF(ISNUMBER(FromEvoM!AB521),FromEvoM!AB521,\"\")","v":""},{"$f":"IF(ISNUMBER(FromEvoM!AA521),FromEvoM!AA521,\"\")","v":""},null,"","",null,null,{"$f":"IF(FromEvoM!W521=1,(FromEvoM!AB521*12),IF(FromEvoM!W521=7,(FromEvoM!AR521),\"\"))","v":""},null,null,{"$f":"IF(ISBLANK(FromEvoM!A521),\"\",IF(FromEvoM!AK521=\"y\",\"Y\",\"N\"))","v":""},{"$f":"IF(ISBLANK(FromEvoM!A521),\"\",Category_ID)","v":""},null,null,null,{"$f":"IF(ISBLANK(FromEvoM!AK521),\"\",FromEvoM!AK521)","v":""},{"$f":"IF(ISBLANK(FromEvoM!AM521),\"\",FromEvoM!AM521)","v":""},{"$f":"IF(ISBLANK(FromEvoM!AN521),\"\",FromEvoM!AN521)","v":""},{"$f":"IF(ISBLANK(FromEvoM!AL521),\"\",FromEvoM!AL521)","v":""},{"$f":"IF(ISBLANK(FromEvoM!A521),\"\",IF(AND(AF521=\"y\",AI521=1),\"Y\",\"N\"))","v":""},{"$f":"IF(ISBLANK(FromEvoM!A521),\"\",IF(FromEvoM!AS521=\"Yes\",2,1))","v":""},{"$f":"IF(FromEvoM!W521=1,\"M\",IF(FromEvoM!W521=7,\"W\",\"\"))","v":""},{"$f":"IF(AJ521=\"Y\",0,IF(AJ521=\"N\",FromEvoM!AF521+FromEvoM!AT521,\"\"))","v":""},{"$f":"IF(AJ521=\"Y\",(FromEvoM!AE521+FromEvoM!AF521-FromEvoM!AT521),IF(AJ521=\"N\",FromEvoM!AE521,\"\"))","v":""}]
[{"$f":"IF(ISBLANK(FromEvoM!A522),\"\",Group_Code)","v":""},{"$f":"IF(ISBLANK(FromEvoM!A522),\"\",SUBSTITUTE(FromEvoM!A522,\" \",\"\"))","v":""},{"$f":"IF(ISBLANK(FromEvoM!C522),\"\",SUBSTITUTE(FromEvoM!G522,\" \",\"\"))","v":""},{"$f":"IF(ISBLANK(FromEvoM!D522),\"\",FromEvoM!B522)","v":""},{"$f":"IF(ISBLANK(FromEvoM!D522),\"\",FromEvoM!D522)","v":""},{"$f":"IF(ISBLANK(FromEvoM!C522),\"\",FromEvoM!C522)","v":""},{"$f":"REPLACE(FromEvoM!F522,2,6, )","v":""},{"$f":"IF(ISNUMBER(FromEvoM!E522),FromEvoM!E522,\"\")","v":""},{"$f":"IF(ISBLANK(FromEvoM!I522),\"\",FromEvoM!I522)","v":""},{"$f":"IF(ISBLANK(FromEvoM!J522),\"\",FromEvoM!J522)","v":""},{"$f":"IF(ISBLANK(FromEvoM!K522),\"\",FromEvoM!K522)","v":""},{"$f":"IF(ISBLANK(FromEvoM!L522),\"\",FromEvoM!L522)","v":""},{"$f":"IF(ISBLANK(FromEvoM!M522),\"\",FromEvoM!M522)","v":""},{"$f":"IF(ISBLANK(FromEvoM!P522),\"\",FromEvoM!P522)","v":""},null,{"$f":"IF(ISNUMBER(FromEvoM!X522),FromEvoM!X522,\"\")","v":""},{"$f":"IF(ISNUMBER(FromEvoM!AB522),FromEvoM!AB522,\"\")","v":""},{"$f":"IF(ISNUMBER(FromEvoM!AA522),FromEvoM!AA522,\"\")","v":""},null,"","",null,null,{"$f":"IF(FromEvoM!W522=1,(FromEvoM!AB522*12),IF(FromEvoM!W522=7,(FromEvoM!AR522),\"\"))","v":""},null,null,{"$f":"IF(ISBLANK(FromEvoM!A522),\"\",IF(FromEvoM!AK522=\"y\",\"Y\",\"N\"))","v":""},{"$f":"IF(ISBLANK(FromEvoM!A522),\"\",Category_ID)","v":""},null,null,null,{"$f":"IF(ISBLANK(FromEvoM!AK522),\"\",FromEvoM!AK522)","v":""},{"$f":"IF(ISBLANK(FromEvoM!AM522),\"\",FromEvoM!AM522)","v":""},{"$f":"IF(ISBLANK(FromEvoM!AN522),\"\",FromEvoM!AN522)","v":""},{"$f":"IF(ISBLANK(FromEvoM!AL522),\"\",FromEvoM!AL522)","v":""},{"$f":"IF(ISBLANK(FromEvoM!A522),\"\",IF(AND(AF522=\"y\",AI522=1),\"Y\",\"N\"))","v":""},{"$f":"IF(ISBLANK(FromEvoM!A522),\"\",IF(FromEvoM!AS522=\"Yes\",2,1))","v":""},{"$f":"IF(FromEvoM!W522=1,\"M\",IF(FromEvoM!W522=7,\"W\",\"\"))","v":""},{"$f":"IF(AJ522=\"Y\",0,IF(AJ522=\"N\",FromEvoM!AF522+FromEvoM!AT522,\"\"))","v":""},{"$f":"IF(AJ522=\"Y\",(FromEvoM!AE522+FromEvoM!AF522-FromEvoM!AT522),IF(AJ522=\"N\",FromEvoM!AE522,\"\"))","v":""}]
[{"$f":"IF(ISBLANK(FromEvoM!A523),\"\",Group_Code)","v":""},{"$f":"IF(ISBLANK(FromEvoM!A523),\"\",SUBSTITUTE(FromEvoM!A523,\" \",\"\"))","v":""},{"$f":"IF(ISBLANK(FromEvoM!C523),\"\",SUBSTITUTE(FromEvoM!G523,\" \",\"\"))","v":""},{"$f":"IF(ISBLANK(FromEvoM!D523),\"\",FromEvoM!B523)","v":""},{"$f":"IF(ISBLANK(FromEvoM!D523),\"\",FromEvoM!D523)","v":""},{"$f":"IF(ISBLANK(FromEvoM!C523),\"\",FromEvoM!C523)","v":""},{"$f":"REPLACE(FromEvoM!F523,2,6, )","v":""},{"$f":"IF(ISNUMBER(FromEvoM!E523),FromEvoM!E523,\"\")","v":""},{"$f":"IF(ISBLANK(FromEvoM!I523),\"\",FromEvoM!I523)","v":""},{"$f":"IF(ISBLANK(FromEvoM!J523),\"\",FromEvoM!J523)","v":""},{"$f":"IF(ISBLANK(FromEvoM!K523),\"\",FromEvoM!K523)","v":""},{"$f":"IF(ISBLANK(FromEvoM!L523),\"\",FromEvoM!L523)","v":""},{"$f":"IF(ISBLANK(FromEvoM!M523),\"\",FromEvoM!M523)","v":""},{"$f":"IF(ISBLANK(FromEvoM!P523),\"\",FromEvoM!P523)","v":""},null,{"$f":"IF(ISNUMBER(FromEvoM!X523),FromEvoM!X523,\"\")","v":""},{"$f":"IF(ISNUMBER(FromEvoM!AB523),FromEvoM!AB523,\"\")","v":""},{"$f":"IF(ISNUMBER(FromEvoM!AA523),FromEvoM!AA523,\"\")","v":""},null,"","",null,null,{"$f":"IF(FromEvoM!W523=1,(FromEvoM!AB523*12),IF(FromEvoM!W523=7,(FromEvoM!AR523),\"\"))","v":""},null,null,{"$f":"IF(ISBLANK(FromEvoM!A523),\"\",IF(FromEvoM!AK523=\"y\",\"Y\",\"N\"))","v":""},{"$f":"IF(ISBLANK(FromEvoM!A523),\"\",Category_ID)","v":""},null,null,null,{"$f":"IF(ISBLANK(FromEvoM!AK523),\"\",FromEvoM!AK523)","v":""},{"$f":"IF(ISBLANK(FromEvoM!AM523),\"\",FromEvoM!AM523)","v":""},{"$f":"IF(ISBLANK(FromEvoM!AN523),\"\",FromEvoM!AN523)","v":""},{"$f":"IF(ISBLANK(FromEvoM!AL523),\"\",FromEvoM!AL523)","v":""},{"$f":"IF(ISBLANK(FromEvoM!A523),\"\",IF(AND(AF523=\"y\",AI523=1),\"Y\",\"N\"))","v":""},{"$f":"IF(ISBLANK(FromEvoM!A523),\"\",IF(FromEvoM!AS523=\"Yes\",2,1))","v":""},{"$f":"IF(FromEvoM!W523=1,\"M\",IF(FromEvoM!W523=7,\"W\",\"\"))","v":""},{"$f":"IF(AJ523=\"Y\",0,IF(AJ523=\"N\",FromEvoM!AF523+FromEvoM!AT523,\"\"))","v":""},{"$f":"IF(AJ523=\"Y\",(FromEvoM!AE523+FromEvoM!AF523-FromEvoM!AT523),IF(AJ523=\"N\",FromEvoM!AE523,\"\"))","v":""}]
[{"$f":"IF(ISBLANK(FromEvoM!A524),\"\",Group_Code)","v":""},{"$f":"IF(ISBLANK(FromEvoM!A524),\"\",SUBSTITUTE(FromEvoM!A524,\" \",\"\"))","v":""},{"$f":"IF(ISBLANK(FromEvoM!C524),\"\",SUBSTITUTE(FromEvoM!G524,\" \",\"\"))","v":""},{"$f":"IF(ISBLANK(FromEvoM!D524),\"\",FromEvoM!B524)","v":""},{"$f":"IF(ISBLANK(FromEvoM!D524),\"\",FromEvoM!D524)","v":""},{"$f":"IF(ISBLANK(FromEvoM!C524),\"\",FromEvoM!C524)","v":""},{"$f":"REPLACE(FromEvoM!F524,2,6, )","v":""},{"$f":"IF(ISNUMBER(FromEvoM!E524),FromEvoM!E524,\"\")","v":""},{"$f":"IF(ISBLANK(FromEvoM!I524),\"\",FromEvoM!I524)","v":""},{"$f":"IF(ISBLANK(FromEvoM!J524),\"\",FromEvoM!J524)","v":""},{"$f":"IF(ISBLANK(FromEvoM!K524),\"\",FromEvoM!K524)","v":""},{"$f":"IF(ISBLANK(FromEvoM!L524),\"\",FromEvoM!L524)","v":""},{"$f":"IF(ISBLANK(FromEvoM!M524),\"\",FromEvoM!M524)","v":""},{"$f":"IF(ISBLANK(FromEvoM!P524),\"\",FromEvoM!P524)","v":""},null,{"$f":"IF(ISNUMBER(FromEvoM!X524),FromEvoM!X524,\"\")","v":""},{"$f":"IF(ISNUMBER(FromEvoM!AB524),FromEvoM!AB524,\"\")","v":""},{"$f":"IF(ISNUMBER(FromEvoM!AA524),FromEvoM!AA524,\"\")","v":""},null,"","",null,null,{"$f":"IF(FromEvoM!W524=1,(FromEvoM!AB524*12),IF(FromEvoM!W524=7,(FromEvoM!AR524),\"\"))","v":""},null,null,{"$f":"IF(ISBLANK(FromEvoM!A524),\"\",IF(FromEvoM!AK524=\"y\",\"Y\",\"N\"))","v":""},{"$f":"IF(ISBLANK(FromEvoM!A524),\"\",Category_ID)","v":""},null,null,null,{"$f":"IF(ISBLANK(FromEvoM!AK524),\"\",FromEvoM!AK524)","v":""},{"$f":"IF(ISBLANK(FromEvoM!AM524),\"\",FromEvoM!AM524)","v":""},{"$f":"IF(ISBLANK(FromEvoM!AN524),\"\",FromEvoM!AN524)","v":""},{"$f":"IF(ISBLANK(FromEvoM!AL524),\"\",FromEvoM!AL524)","v":""},{"$f":"IF(ISBLANK(FromEvoM!A524),\"\",IF(AND(AF524=\"y\",AI524=1),\"Y\",\"N\"))","v":""},{"$f":"IF(ISBLANK(FromEvoM!A524),\"\",IF(FromEvoM!AS524=\"Yes\",2,1))","v":""},{"$f":"IF(FromEvoM!W524=1,\"M\",IF(FromEvoM!W524=7,\"W\",\"\"))","v":""},{"$f":"IF(AJ524=\"Y\",0,IF(AJ524=\"N\",FromEvoM!AF524+FromEvoM!AT524,\"\"))","v":""},{"$f":"IF(AJ524=\"Y\",(FromEvoM!AE524+FromEvoM!AF524-FromEvoM!AT524),IF(AJ524=\"N\",FromEvoM!AE524,\"\"))","v":""}]
[{"$f":"IF(ISBLANK(FromEvoM!A525),\"\",Group_Code)","v":""},{"$f":"IF(ISBLANK(FromEvoM!A525),\"\",SUBSTITUTE(FromEvoM!A525,\" \",\"\"))","v":""},{"$f":"IF(ISBLANK(FromEvoM!C525),\"\",SUBSTITUTE(FromEvoM!G525,\" \",\"\"))","v":""},{"$f":"IF(ISBLANK(FromEvoM!D525),\"\",FromEvoM!B525)","v":""},{"$f":"IF(ISBLANK(FromEvoM!D525),\"\",FromEvoM!D525)","v":""},{"$f":"IF(ISBLANK(FromEvoM!C525),\"\",FromEvoM!C525)","v":""},{"$f":"REPLACE(FromEvoM!F525,2,6, )","v":""},{"$f":"IF(ISNUMBER(FromEvoM!E525),FromEvoM!E525,\"\")","v":""},{"$f":"IF(ISBLANK(FromEvoM!I525),\"\",FromEvoM!I525)","v":""},{"$f":"IF(ISBLANK(FromEvoM!J525),\"\",FromEvoM!J525)","v":""},{"$f":"IF(ISBLANK(FromEvoM!K525),\"\",FromEvoM!K525)","v":""},{"$f":"IF(ISBLANK(FromEvoM!L525),\"\",FromEvoM!L525)","v":""},{"$f":"IF(ISBLANK(FromEvoM!M525),\"\",FromEvoM!M525)","v":""},{"$f":"IF(ISBLANK(FromEvoM!P525),\"\",FromEvoM!P525)","v":""},null,{"$f":"IF(ISNUMBER(FromEvoM!X525),FromEvoM!X525,\"\")","v":""},{"$f":"IF(ISNUMBER(FromEvoM!AB525),FromEvoM!AB525,\"\")","v":""},{"$f":"IF(ISNUMBER(FromEvoM!AA525),FromEvoM!AA525,\"\")","v":""},null,"","",null,null,{"$f":"IF(FromEvoM!W525=1,(FromEvoM!AB525*12),IF(FromEvoM!W525=7,(FromEvoM!AR525),\"\"))","v":""},null,null,{"$f":"IF(ISBLANK(FromEvoM!A525),\"\",IF(FromEvoM!AK525=\"y\",\"Y\",\"N\"))","v":""},{"$f":"IF(ISBLANK(FromEvoM!A525),\"\",Category_ID)","v":""},null,null,null,{"$f":"IF(ISBLANK(FromEvoM!AK525),\"\",FromEvoM!AK525)","v":""},{"$f":"IF(ISBLANK(FromEvoM!AM525),\"\",FromEvoM!AM525)","v":""},{"$f":"IF(ISBLANK(FromEvoM!AN525),\"\",FromEvoM!AN525)","v":""},{"$f":"IF(ISBLANK(FromEvoM!AL525),\"\",FromEvoM!AL525)","v":""},{"$f":"IF(ISBLANK(FromEvoM!A525),\"\",IF(AND(AF525=\"y\",AI525=1),\"Y\",\"N\"))","v":""},{"$f":"IF(ISBLANK(FromEvoM!A525),\"\",IF(FromEvoM!AS525=\"Yes\",2,1))","v":""},{"$f":"IF(FromEvoM!W525=1,\"M\",IF(FromEvoM!W525=7,\"W\",\"\"))","v":""},{"$f":"IF(AJ525=\"Y\",0,IF(AJ525=\"N\",FromEvoM!AF525+FromEvoM!AT525,\"\"))","v":""},{"$f":"IF(AJ525=\"Y\",(FromEvoM!AE525+FromEvoM!AF525-FromEvoM!AT525),IF(AJ525=\"N\",FromEvoM!AE525,\"\"))","v":""}]
[{"$f":"IF(ISBLANK(FromEvoM!A526),\"\",Group_Code)","v":""},{"$f":"IF(ISBLANK(FromEvoM!A526),\"\",SUBSTITUTE(FromEvoM!A526,\" \",\"\"))","v":""},{"$f":"IF(ISBLANK(FromEvoM!C526),\"\",SUBSTITUTE(FromEvoM!G526,\" \",\"\"))","v":""},{"$f":"IF(ISBLANK(FromEvoM!D526),\"\",FromEvoM!B526)","v":""},{"$f":"IF(ISBLANK(FromEvoM!D526),\"\",FromEvoM!D526)","v":""},{"$f":"IF(ISBLANK(FromEvoM!C526),\"\",FromEvoM!C526)","v":""},{"$f":"REPLACE(FromEvoM!F526,2,6, )","v":""},{"$f":"IF(ISNUMBER(FromEvoM!E526),FromEvoM!E526,\"\")","v":""},{"$f":"IF(ISBLANK(FromEvoM!I526),\"\",FromEvoM!I526)","v":""},{"$f":"IF(ISBLANK(FromEvoM!J526),\"\",FromEvoM!J526)","v":""},{"$f":"IF(ISBLANK(FromEvoM!K526),\"\",FromEvoM!K526)","v":""},{"$f":"IF(ISBLANK(FromEvoM!L526),\"\",FromEvoM!L526)","v":""},{"$f":"IF(ISBLANK(FromEvoM!M526),\"\",FromEvoM!M526)","v":""},{"$f":"IF(ISBLANK(FromEvoM!P526),\"\",FromEvoM!P526)","v":""},null,{"$f":"IF(ISNUMBER(FromEvoM!X526),FromEvoM!X526,\"\")","v":""},{"$f":"IF(ISNUMBER(FromEvoM!AB526),FromEvoM!AB526,\"\")","v":""},{"$f":"IF(ISNUMBER(FromEvoM!AA526),FromEvoM!AA526,\"\")","v":""},null,"","",null,null,{"$f":"IF(FromEvoM!W526=1,(FromEvoM!AB526*12),IF(FromEvoM!W526=7,(FromEvoM!AR526),\"\"))","v":""},null,null,{"$f":"IF(ISBLANK(FromEvoM!A526),\"\",IF(FromEvoM!AK526=\"y\",\"Y\",\"N\"))","v":""},{"$f":"IF(ISBLANK(FromEvoM!A526),\"\",Category_ID)","v":""},null,null,null,{"$f":"IF(ISBLANK(FromEvoM!AK526),\"\",FromEvoM!AK526)","v":""},{"$f":"IF(ISBLANK(FromEvoM!AM526),\"\",FromEvoM!AM526)","v":""},{"$f":"IF(ISBLANK(FromEvoM!AN526),\"\",FromEvoM!AN526)","v":""},{"$f":"IF(ISBLANK(FromEvoM!AL526),\"\",FromEvoM!AL526)","v":""},{"$f":"IF(ISBLANK(FromEvoM!A526),\"\",IF(AND(AF526=\"y\",AI526=1),\"Y\",\"N\"))","v":""},{"$f":"IF(ISBLANK(FromEvoM!A526),\"\",IF(FromEvoM!AS526=\"Yes\",2,1))","v":""},{"$f":"IF(FromEvoM!W526=1,\"M\",IF(FromEvoM!W526=7,\"W\",\"\"))","v":""},{"$f":"IF(AJ526=\"Y\",0,IF(AJ526=\"N\",FromEvoM!AF526+FromEvoM!AT526,\"\"))","v":""},{"$f":"IF(AJ526=\"Y\",(FromEvoM!AE526+FromEvoM!AF526-FromEvoM!AT526),IF(AJ526=\"N\",FromEvoM!AE526,\"\"))","v":""}]
[{"$f":"IF(ISBLANK(FromEvoM!A527),\"\",Group_Code)","v":""},{"$f":"IF(ISBLANK(FromEvoM!A527),\"\",SUBSTITUTE(FromEvoM!A527,\" \",\"\"))","v":""},{"$f":"IF(ISBLANK(FromEvoM!C527),\"\",SUBSTITUTE(FromEvoM!G527,\" \",\"\"))","v":""},{"$f":"IF(ISBLANK(FromEvoM!D527),\"\",FromEvoM!B527)","v":""},{"$f":"IF(ISBLANK(FromEvoM!D527),\"\",FromEvoM!D527)","v":""},{"$f":"IF(ISBLANK(FromEvoM!C527),\"\",FromEvoM!C527)","v":""},{"$f":"REPLACE(FromEvoM!F527,2,6, )","v":""},{"$f":"IF(ISNUMBER(FromEvoM!E527),FromEvoM!E527,\"\")","v":""},{"$f":"IF(ISBLANK(FromEvoM!I527),\"\",FromEvoM!I527)","v":""},{"$f":"IF(ISBLANK(FromEvoM!J527),\"\",FromEvoM!J527)","v":""},{"$f":"IF(ISBLANK(FromEvoM!K527),\"\",FromEvoM!K527)","v":""},{"$f":"IF(ISBLANK(FromEvoM!L527),\"\",FromEvoM!L527)","v":""},{"$f":"IF(ISBLANK(FromEvoM!M527),\"\",FromEvoM!M527)","v":""},{"$f":"IF(ISBLANK(FromEvoM!P527),\"\",FromEvoM!P527)","v":""},null,{"$f":"IF(ISNUMBER(FromEvoM!X527),FromEvoM!X527,\"\")","v":""},{"$f":"IF(ISNUMBER(FromEvoM!AB527),FromEvoM!AB527,\"\")","v":""},{"$f":"IF(ISNUMBER(FromEvoM!AA527),FromEvoM!AA527,\"\")","v":""},null,"","",null,null,{"$f":"IF(FromEvoM!W527=1,(FromEvoM!AB527*12),IF(FromEvoM!W527=7,(FromEvoM!AR527),\"\"))","v":""},null,null,{"$f":"IF(ISBLANK(FromEvoM!A527),\"\",IF(FromEvoM!AK527=\"y\",\"Y\",\"N\"))","v":""},{"$f":"IF(ISBLANK(FromEvoM!A527),\"\",Category_ID)","v":""},null,null,null,{"$f":"IF(ISBLANK(FromEvoM!AK527),\"\",FromEvoM!AK527)","v":""},{"$f":"IF(ISBLANK(FromEvoM!AM527),\"\",FromEvoM!AM527)","v":""},{"$f":"IF(ISBLANK(FromEvoM!AN527),\"\",FromEvoM!AN527)","v":""},{"$f":"IF(ISBLANK(FromEvoM!AL527),\"\",FromEvoM!AL527)","v":""},{"$f":"IF(ISBLANK(FromEvoM!A527),\"\",IF(AND(AF527=\"y\",AI527=1),\"Y\",\"N\"))","v":""},{"$f":"IF(ISBLANK(FromEvoM!A527),\"\",IF(FromEvoM!AS527=\"Yes\",2,1))","v":""},{"$f":"IF(FromEvoM!W527=1,\"M\",IF(FromEvoM!W527=7,\"W\",\"\"))","v":""},{"$f":"IF(AJ527=\"Y\",0,IF(AJ527=\"N\",FromEvoM!AF527+FromEvoM!AT527,\"\"))","v":""},{"$f":"IF(AJ527=\"Y\",(FromEvoM!AE527+FromEvoM!AF527-FromEvoM!AT527),IF(AJ527=\"N\",FromEvoM!AE527,\"\"))","v":""}]
[{"$f":"IF(ISBLANK(FromEvoM!A528),\"\",Group_Code)","v":""},{"$f":"IF(ISBLANK(FromEvoM!A528),\"\",SUBSTITUTE(FromEvoM!A528,\" \",\"\"))","v":""},{"$f":"IF(ISBLANK(FromEvoM!C528),\"\",SUBSTITUTE(FromEvoM!G528,\" \",\"\"))","v":""},{"$f":"IF(ISBLANK(FromEvoM!D528),\"\",FromEvoM!B528)","v":""},{"$f":"IF(ISBLANK(FromEvoM!D528),\"\",FromEvoM!D528)","v":""},{"$f":"IF(ISBLANK(FromEvoM!C528),\"\",FromEvoM!C528)","v":""},{"$f":"REPLACE(FromEvoM!F528,2,6, )","v":""},{"$f":"IF(ISNUMBER(FromEvoM!E528),FromEvoM!E528,\"\")","v":""},{"$f":"IF(ISBLANK(FromEvoM!I528),\"\",FromEvoM!I528)","v":""},{"$f":"IF(ISBLANK(FromEvoM!J528),\"\",FromEvoM!J528)","v":""},{"$f":"IF(ISBLANK(FromEvoM!K528),\"\",FromEvoM!K528)","v":""},{"$f":"IF(ISBLANK(FromEvoM!L528),\"\",FromEvoM!L528)","v":""},{"$f":"IF(ISBLANK(FromEvoM!M528),\"\",FromEvoM!M528)","v":""},{"$f":"IF(ISBLANK(FromEvoM!P528),\"\",FromEvoM!P528)","v":""},null,{"$f":"IF(ISNUMBER(FromEvoM!X528),FromEvoM!X528,\"\")","v":""},{"$f":"IF(ISNUMBER(FromEvoM!AB528),FromEvoM!AB528,\"\")","v":""},{"$f":"IF(ISNUMBER(FromEvoM!AA528),FromEvoM!AA528,\"\")","v":""},null,"","",null,null,{"$f":"IF(FromEvoM!W528=1,(FromEvoM!AB528*12),IF(FromEvoM!W528=7,(FromEvoM!AR528),\"\"))","v":""},null,null,{"$f":"IF(ISBLANK(FromEvoM!A528),\"\",IF(FromEvoM!AK528=\"y\",\"Y\",\"N\"))","v":""},{"$f":"IF(ISBLANK(FromEvoM!A528),\"\",Category_ID)","v":""},null,null,null,{"$f":"IF(ISBLANK(FromEvoM!AK528),\"\",FromEvoM!AK528)","v":""},{"$f":"IF(ISBLANK(FromEvoM!AM528),\"\",FromEvoM!AM528)","v":""},{"$f":"IF(ISBLANK(FromEvoM!AN528),\"\",FromEvoM!AN528)","v":""},{"$f":"IF(ISBLANK(FromEvoM!AL528),\"\",FromEvoM!AL528)","v":""},{"$f":"IF(ISBLANK(FromEvoM!A528),\"\",IF(AND(AF528=\"y\",AI528=1),\"Y\",\"N\"))","v":""},{"$f":"IF(ISBLANK(FromEvoM!A528),\"\",IF(FromEvoM!AS528=\"Yes\",2,1))","v":""},{"$f":"IF(FromEvoM!W528=1,\"M\",IF(FromEvoM!W528=7,\"W\",\"\"))","v":""},{"$f":"IF(AJ528=\"Y\",0,IF(AJ528=\"N\",FromEvoM!AF528+FromEvoM!AT528,\"\"))","v":""},{"$f":"IF(AJ528=\"Y\",(FromEvoM!AE528+FromEvoM!AF528-FromEvoM!AT528),IF(AJ528=\"N\",FromEvoM!AE528,\"\"))","v":""}]
[{"$f":"IF(ISBLANK(FromEvoM!A529),\"\",Group_Code)","v":""},{"$f":"IF(ISBLANK(FromEvoM!A529),\"\",SUBSTITUTE(FromEvoM!A529,\" \",\"\"))","v":""},{"$f":"IF(ISBLANK(FromEvoM!C529),\"\",SUBSTITUTE(FromEvoM!G529,\" \",\"\"))","v":""},{"$f":"IF(ISBLANK(FromEvoM!D529),\"\",FromEvoM!B529)","v":""},{"$f":"IF(ISBLANK(FromEvoM!D529),\"\",FromEvoM!D529)","v":""},{"$f":"IF(ISBLANK(FromEvoM!C529),\"\",FromEvoM!C529)","v":""},{"$f":"REPLACE(FromEvoM!F529,2,6, )","v":""},{"$f":"IF(ISNUMBER(FromEvoM!E529),FromEvoM!E529,\"\")","v":""},{"$f":"IF(ISBLANK(FromEvoM!I529),\"\",FromEvoM!I529)","v":""},{"$f":"IF(ISBLANK(FromEvoM!J529),\"\",FromEvoM!J529)","v":""},{"$f":"IF(ISBLANK(FromEvoM!K529),\"\",FromEvoM!K529)","v":""},{"$f":"IF(ISBLANK(FromEvoM!L529),\"\",FromEvoM!L529)","v":""},{"$f":"IF(ISBLANK(FromEvoM!M529),\"\",FromEvoM!M529)","v":""},{"$f":"IF(ISBLANK(FromEvoM!P529),\"\",FromEvoM!P529)","v":""},null,{"$f":"IF(ISNUMBER(FromEvoM!X529),FromEvoM!X529,\"\")","v":""},{"$f":"IF(ISNUMBER(FromEvoM!AB529),FromEvoM!AB529,\"\")","v":""},{"$f":"IF(ISNUMBER(FromEvoM!AA529),FromEvoM!AA529,\"\")","v":""},null,"","",null,null,{"$f":"IF(FromEvoM!W529=1,(FromEvoM!AB529*12),IF(FromEvoM!W529=7,(FromEvoM!AR529),\"\"))","v":""},null,null,{"$f":"IF(ISBLANK(FromEvoM!A529),\"\",IF(FromEvoM!AK529=\"y\",\"Y\",\"N\"))","v":""},{"$f":"IF(ISBLANK(FromEvoM!A529),\"\",Category_ID)","v":""},null,null,null,{"$f":"IF(ISBLANK(FromEvoM!AK529),\"\",FromEvoM!AK529)","v":""},{"$f":"IF(ISBLANK(FromEvoM!AM529),\"\",FromEvoM!AM529)","v":""},{"$f":"IF(ISBLANK(FromEvoM!AN529),\"\",FromEvoM!AN529)","v":""},{"$f":"IF(ISBLANK(FromEvoM!AL529),\"\",FromEvoM!AL529)","v":""},{"$f":"IF(ISBLANK(FromEvoM!A529),\"\",IF(AND(AF529=\"y\",AI529=1),\"Y\",\"N\"))","v":""},{"$f":"IF(ISBLANK(FromEvoM!A529),\"\",IF(FromEvoM!AS529=\"Yes\",2,1))","v":""},{"$f":"IF(FromEvoM!W529=1,\"M\",IF(FromEvoM!W529=7,\"W\",\"\"))","v":""},{"$f":"IF(AJ529=\"Y\",0,IF(AJ529=\"N\",FromEvoM!AF529+FromEvoM!AT529,\"\"))","v":""},{"$f":"IF(AJ529=\"Y\",(FromEvoM!AE529+FromEvoM!AF529-FromEvoM!AT529),IF(AJ529=\"N\",FromEvoM!AE529,\"\"))","v":""}]
[{"$f":"IF(ISBLANK(FromEvoM!A530),\"\",Group_Code)","v":""},{"$f":"IF(ISBLANK(FromEvoM!A530),\"\",SUBSTITUTE(FromEvoM!A530,\" \",\"\"))","v":""},{"$f":"IF(ISBLANK(FromEvoM!C530),\"\",SUBSTITUTE(FromEvoM!G530,\" \",\"\"))","v":""},{"$f":"IF(ISBLANK(FromEvoM!D530),\"\",FromEvoM!B530)","v":""},{"$f":"IF(ISBLANK(FromEvoM!D530),\"\",FromEvoM!D530)","v":""},{"$f":"IF(ISBLANK(FromEvoM!C530),\"\",FromEvoM!C530)","v":""},{"$f":"REPLACE(FromEvoM!F530,2,6, )","v":""},{"$f":"IF(ISNUMBER(FromEvoM!E530),FromEvoM!E530,\"\")","v":""},{"$f":"IF(ISBLANK(FromEvoM!I530),\"\",FromEvoM!I530)","v":""},{"$f":"IF(ISBLANK(FromEvoM!J530),\"\",FromEvoM!J530)","v":""},{"$f":"IF(ISBLANK(FromEvoM!K530),\"\",FromEvoM!K530)","v":""},{"$f":"IF(ISBLANK(FromEvoM!L530),\"\",FromEvoM!L530)","v":""},{"$f":"IF(ISBLANK(FromEvoM!M530),\"\",FromEvoM!M530)","v":""},{"$f":"IF(ISBLANK(FromEvoM!P530),\"\",FromEvoM!P530)","v":""},null,{"$f":"IF(ISNUMBER(FromEvoM!X530),FromEvoM!X530,\"\")","v":""},{"$f":"IF(ISNUMBER(FromEvoM!AB530),FromEvoM!AB530,\"\")","v":""},{"$f":"IF(ISNUMBER(FromEvoM!AA530),FromEvoM!AA530,\"\")","v":""},null,"","",null,null,{"$f":"IF(FromEvoM!W530=1,(FromEvoM!AB530*12),IF(FromEvoM!W530=7,(FromEvoM!AR530),\"\"))","v":""},null,null,{"$f":"IF(ISBLANK(FromEvoM!A530),\"\",IF(FromEvoM!AK530=\"y\",\"Y\",\"N\"))","v":""},{"$f":"IF(ISBLANK(FromEvoM!A530),\"\",Category_ID)","v":""},null,null,null,{"$f":"IF(ISBLANK(FromEvoM!AK530),\"\",FromEvoM!AK530)","v":""},{"$f":"IF(ISBLANK(FromEvoM!AM530),\"\",FromEvoM!AM530)","v":""},{"$f":"IF(ISBLANK(FromEvoM!AN530),\"\",FromEvoM!AN530)","v":""},{"$f":"IF(ISBLANK(FromEvoM!AL530),\"\",FromEvoM!AL530)","v":""},{"$f":"IF(ISBLANK(FromEvoM!A530),\"\",IF(AND(AF530=\"y\",AI530=1),\"Y\",\"N\"))","v":""},{"$f":"IF(ISBLANK(FromEvoM!A530),\"\",IF(FromEvoM!AS530=\"Yes\",2,1))","v":""},{"$f":"IF(FromEvoM!W530=1,\"M\",IF(FromEvoM!W530=7,\"W\",\"\"))","v":""},{"$f":"IF(AJ530=\"Y\",0,IF(AJ530=\"N\",FromEvoM!AF530+FromEvoM!AT530,\"\"))","v":""},{"$f":"IF(AJ530=\"Y\",(FromEvoM!AE530+FromEvoM!AF530-FromEvoM!AT530),IF(AJ530=\"N\",FromEvoM!AE530,\"\"))","v":""}]
[{"$f":"IF(ISBLANK(FromEvoM!A531),\"\",Group_Code)","v":""},{"$f":"IF(ISBLANK(FromEvoM!A531),\"\",SUBSTITUTE(FromEvoM!A531,\" \",\"\"))","v":""},{"$f":"IF(ISBLANK(FromEvoM!C531),\"\",SUBSTITUTE(FromEvoM!G531,\" \",\"\"))","v":""},{"$f":"IF(ISBLANK(FromEvoM!D531),\"\",FromEvoM!B531)","v":""},{"$f":"IF(ISBLANK(FromEvoM!D531),\"\",FromEvoM!D531)","v":""},{"$f":"IF(ISBLANK(FromEvoM!C531),\"\",FromEvoM!C531)","v":""},{"$f":"REPLACE(FromEvoM!F531,2,6, )","v":""},{"$f":"IF(ISNUMBER(FromEvoM!E531),FromEvoM!E531,\"\")","v":""},{"$f":"IF(ISBLANK(FromEvoM!I531),\"\",FromEvoM!I531)","v":""},{"$f":"IF(ISBLANK(FromEvoM!J531),\"\",FromEvoM!J531)","v":""},{"$f":"IF(ISBLANK(FromEvoM!K531),\"\",FromEvoM!K531)","v":""},{"$f":"IF(ISBLANK(FromEvoM!L531),\"\",FromEvoM!L531)","v":""},{"$f":"IF(ISBLANK(FromEvoM!M531),\"\",FromEvoM!M531)","v":""},{"$f":"IF(ISBLANK(FromEvoM!P531),\"\",FromEvoM!P531)","v":""},null,{"$f":"IF(ISNUMBER(FromEvoM!X531),FromEvoM!X531,\"\")","v":""},{"$f":"IF(ISNUMBER(FromEvoM!AB531),FromEvoM!AB531,\"\")","v":""},{"$f":"IF(ISNUMBER(FromEvoM!AA531),FromEvoM!AA531,\"\")","v":""},null,"","",null,null,{"$f":"IF(FromEvoM!W531=1,(FromEvoM!AB531*12),IF(FromEvoM!W531=7,(FromEvoM!AR531),\"\"))","v":""},null,null,{"$f":"IF(ISBLANK(FromEvoM!A531),\"\",IF(FromEvoM!AK531=\"y\",\"Y\",\"N\"))","v":""},{"$f":"IF(ISBLANK(FromEvoM!A531),\"\",Category_ID)","v":""},null,null,null,{"$f":"IF(ISBLANK(FromEvoM!AK531),\"\",FromEvoM!AK531)","v":""},{"$f":"IF(ISBLANK(FromEvoM!AM531),\"\",FromEvoM!AM531)","v":""},{"$f":"IF(ISBLANK(FromEvoM!AN531),\"\",FromEvoM!AN531)","v":""},{"$f":"IF(ISBLANK(FromEvoM!AL531),\"\",FromEvoM!AL531)","v":""},{"$f":"IF(ISBLANK(FromEvoM!A531),\"\",IF(AND(AF531=\"y\",AI531=1),\"Y\",\"N\"))","v":""},{"$f":"IF(ISBLANK(FromEvoM!A531),\"\",IF(FromEvoM!AS531=\"Yes\",2,1))","v":""},{"$f":"IF(FromEvoM!W531=1,\"M\",IF(FromEvoM!W531=7,\"W\",\"\"))","v":""},{"$f":"IF(AJ531=\"Y\",0,IF(AJ531=\"N\",FromEvoM!AF531+FromEvoM!AT531,\"\"))","v":""},{"$f":"IF(AJ531=\"Y\",(FromEvoM!AE531+FromEvoM!AF531-FromEvoM!AT531),IF(AJ531=\"N\",FromEvoM!AE531,\"\"))","v":""}]
[{"$f":"IF(ISBLANK(FromEvoM!A532),\"\",Group_Code)","v":""},{"$f":"IF(ISBLANK(FromEvoM!A532),\"\",SUBSTITUTE(FromEvoM!A532,\" \",\"\"))","v":""},{"$f":"IF(ISBLANK(FromEvoM!C532),\"\",SUBSTITUTE(FromEvoM!G532,\" \",\"\"))","v":""},{"$f":"IF(ISBLANK(FromEvoM!D532),\"\",FromEvoM!B532)","v":""},{"$f":"IF(ISBLANK(FromEvoM!D532),\"\",FromEvoM!D532)","v":""},{"$f":"IF(ISBLANK(FromEvoM!C532),\"\",FromEvoM!C532)","v":""},{"$f":"REPLACE(FromEvoM!F532,2,6, )","v":""},{"$f":"IF(ISNUMBER(FromEvoM!E532),FromEvoM!E532,\"\")","v":""},{"$f":"IF(ISBLANK(FromEvoM!I532),\"\",FromEvoM!I532)","v":""},{"$f":"IF(ISBLANK(FromEvoM!J532),\"\",FromEvoM!J532)","v":""},{"$f":"IF(ISBLANK(FromEvoM!K532),\"\",FromEvoM!K532)","v":""},{"$f":"IF(ISBLANK(FromEvoM!L532),\"\",FromEvoM!L532)","v":""},{"$f":"IF(ISBLANK(FromEvoM!M532),\"\",FromEvoM!M532)","v":""},{"$f":"IF(ISBLANK(FromEvoM!P532),\"\",FromEvoM!P532)","v":""},null,{"$f":"IF(ISNUMBER(FromEvoM!X532),FromEvoM!X532,\"\")","v":""},{"$f":"IF(ISNUMBER(FromEvoM!AB532),FromEvoM!AB532,\"\")","v":""},{"$f":"IF(ISNUMBER(FromEvoM!AA532),FromEvoM!AA532,\"\")","v":""},null,"","",null,null,{"$f":"IF(FromEvoM!W532=1,(FromEvoM!AB532*12),IF(FromEvoM!W532=7,(FromEvoM!AR532),\"\"))","v":""},null,null,{"$f":"IF(ISBLANK(FromEvoM!A532),\"\",IF(FromEvoM!AK532=\"y\",\"Y\",\"N\"))","v":""},{"$f":"IF(ISBLANK(FromEvoM!A532),\"\",Category_ID)","v":""},null,null,null,{"$f":"IF(ISBLANK(FromEvoM!AK532),\"\",FromEvoM!AK532)","v":""},{"$f":"IF(ISBLANK(FromEvoM!AM532),\"\",FromEvoM!AM532)","v":""},{"$f":"IF(ISBLANK(FromEvoM!AN532),\"\",FromEvoM!AN532)","v":""},{"$f":"IF(ISBLANK(FromEvoM!AL532),\"\",FromEvoM!AL532)","v":""},{"$f":"IF(ISBLANK(FromEvoM!A532),\"\",IF(AND(AF532=\"y\",AI532=1),\"Y\",\"N\"))","v":""},{"$f":"IF(ISBLANK(FromEvoM!A532),\"\",IF(FromEvoM!AS532=\"Yes\",2,1))","v":""},{"$f":"IF(FromEvoM!W532=1,\"M\",IF(FromEvoM!W532=7,\"W\",\"\"))","v":""},{"$f":"IF(AJ532=\"Y\",0,IF(AJ532=\"N\",FromEvoM!AF532+FromEvoM!AT532,\"\"))","v":""},{"$f":"IF(AJ532=\"Y\",(FromEvoM!AE532+FromEvoM!AF532-FromEvoM!AT532),IF(AJ532=\"N\",FromEvoM!AE532,\"\"))","v":""}]
[{"$f":"IF(ISBLANK(FromEvoM!A533),\"\",Group_Code)","v":""},{"$f":"IF(ISBLANK(FromEvoM!A533),\"\",SUBSTITUTE(FromEvoM!A533,\" \",\"\"))","v":""},{"$f":"IF(ISBLANK(FromEvoM!C533),\"\",SUBSTITUTE(FromEvoM!G533,\" \",\"\"))","v":""},{"$f":"IF(ISBLANK(FromEvoM!D533),\"\",FromEvoM!B533)","v":""},{"$f":"IF(ISBLANK(FromEvoM!D533),\"\",FromEvoM!D533)","v":""},{"$f":"IF(ISBLANK(FromEvoM!C533),\"\",FromEvoM!C533)","v":""},{"$f":"REPLACE(FromEvoM!F533,2,6, )","v":""},{"$f":"IF(ISNUMBER(FromEvoM!E533),FromEvoM!E533,\"\")","v":""},{"$f":"IF(ISBLANK(FromEvoM!I533),\"\",FromEvoM!I533)","v":""},{"$f":"IF(ISBLANK(FromEvoM!J533),\"\",FromEvoM!J533)","v":""},{"$f":"IF(ISBLANK(FromEvoM!K533),\"\",FromEvoM!K533)","v":""},{"$f":"IF(ISBLANK(FromEvoM!L533),\"\",FromEvoM!L533)","v":""},{"$f":"IF(ISBLANK(FromEvoM!M533),\"\",FromEvoM!M533)","v":""},{"$f":"IF(ISBLANK(FromEvoM!P533),\"\",FromEvoM!P533)","v":""},null,{"$f":"IF(ISNUMBER(FromEvoM!X533),FromEvoM!X533,\"\")","v":""},{"$f":"IF(ISNUMBER(FromEvoM!AB533),FromEvoM!AB533,\"\")","v":""},{"$f":"IF(ISNUMBER(FromEvoM!AA533),FromEvoM!AA533,\"\")","v":""},null,"","",null,null,{"$f":"IF(FromEvoM!W533=1,(FromEvoM!AB533*12),IF(FromEvoM!W533=7,(FromEvoM!AR533),\"\"))","v":""},null,null,{"$f":"IF(ISBLANK(FromEvoM!A533),\"\",IF(FromEvoM!AK533=\"y\",\"Y\",\"N\"))","v":""},{"$f":"IF(ISBLANK(FromEvoM!A533),\"\",Category_ID)","v":""},null,null,null,{"$f":"IF(ISBLANK(FromEvoM!AK533),\"\",FromEvoM!AK533)","v":""},{"$f":"IF(ISBLANK(FromEvoM!AM533),\"\",FromEvoM!AM533)","v":""},{"$f":"IF(ISBLANK(FromEvoM!AN533),\"\",FromEvoM!AN533)","v":""},{"$f":"IF(ISBLANK(FromEvoM!AL533),\"\",FromEvoM!AL533)","v":""},{"$f":"IF(ISBLANK(FromEvoM!A533),\"\",IF(AND(AF533=\"y\",AI533=1),\"Y\",\"N\"))","v":""},{"$f":"IF(ISBLANK(FromEvoM!A533),\"\",IF(FromEvoM!AS533=\"Yes\",2,1))","v":""},{"$f":"IF(FromEvoM!W533=1,\"M\",IF(FromEvoM!W533=7,\"W\",\"\"))","v":""},{"$f":"IF(AJ533=\"Y\",0,IF(AJ533=\"N\",FromEvoM!AF533+FromEvoM!AT533,\"\"))","v":""},{"$f":"IF(AJ533=\"Y\",(FromEvoM!AE533+FromEvoM!AF533-FromEvoM!AT533),IF(AJ533=\"N\",FromEvoM!AE533,\"\"))","v":""}]
[{"$f":"IF(ISBLANK(FromEvoM!A534),\"\",Group_Code)","v":""},{"$f":"IF(ISBLANK(FromEvoM!A534),\"\",SUBSTITUTE(FromEvoM!A534,\" \",\"\"))","v":""},{"$f":"IF(ISBLANK(FromEvoM!C534),\"\",SUBSTITUTE(FromEvoM!G534,\" \",\"\"))","v":""},{"$f":"IF(ISBLANK(FromEvoM!D534),\"\",FromEvoM!B534)","v":""},{"$f":"IF(ISBLANK(FromEvoM!D534),\"\",FromEvoM!D534)","v":""},{"$f":"IF(ISBLANK(FromEvoM!C534),\"\",FromEvoM!C534)","v":""},{"$f":"REPLACE(FromEvoM!F534,2,6, )","v":""},{"$f":"IF(ISNUMBER(FromEvoM!E534),FromEvoM!E534,\"\")","v":""},{"$f":"IF(ISBLANK(FromEvoM!I534),\"\",FromEvoM!I534)","v":""},{"$f":"IF(ISBLANK(FromEvoM!J534),\"\",FromEvoM!J534)","v":""},{"$f":"IF(ISBLANK(FromEvoM!K534),\"\",FromEvoM!K534)","v":""},{"$f":"IF(ISBLANK(FromEvoM!L534),\"\",FromEvoM!L534)","v":""},{"$f":"IF(ISBLANK(FromEvoM!M534),\"\",FromEvoM!M534)","v":""},{"$f":"IF(ISBLANK(FromEvoM!P534),\"\",FromEvoM!P534)","v":""},null,{"$f":"IF(ISNUMBER(FromEvoM!X534),FromEvoM!X534,\"\")","v":""},{"$f":"IF(ISNUMBER(FromEvoM!AB534),FromEvoM!AB534,\"\")","v":""},{"$f":"IF(ISNUMBER(FromEvoM!AA534),FromEvoM!AA534,\"\")","v":""},null,"","",null,null,{"$f":"IF(FromEvoM!W534=1,(FromEvoM!AB534*12),IF(FromEvoM!W534=7,(FromEvoM!AR534),\"\"))","v":""},null,null,{"$f":"IF(ISBLANK(FromEvoM!A534),\"\",IF(FromEvoM!AK534=\"y\",\"Y\",\"N\"))","v":""},{"$f":"IF(ISBLANK(FromEvoM!A534),\"\",Category_ID)","v":""},null,null,null,{"$f":"IF(ISBLANK(FromEvoM!AK534),\"\",FromEvoM!AK534)","v":""},{"$f":"IF(ISBLANK(FromEvoM!AM534),\"\",FromEvoM!AM534)","v":""},{"$f":"IF(ISBLANK(FromEvoM!AN534),\"\",FromEvoM!AN534)","v":""},{"$f":"IF(ISBLANK(FromEvoM!AL534),\"\",FromEvoM!AL534)","v":""},{"$f":"IF(ISBLANK(FromEvoM!A534),\"\",IF(AND(AF534=\"y\",AI534=1),\"Y\",\"N\"))","v":""},{"$f":"IF(ISBLANK(FromEvoM!A534),\"\",IF(FromEvoM!AS534=\"Yes\",2,1))","v":""},{"$f":"IF(FromEvoM!W534=1,\"M\",IF(FromEvoM!W534=7,\"W\",\"\"))","v":""},{"$f":"IF(AJ534=\"Y\",0,IF(AJ534=\"N\",FromEvoM!AF534+FromEvoM!AT534,\"\"))","v":""},{"$f":"IF(AJ534=\"Y\",(FromEvoM!AE534+FromEvoM!AF534-FromEvoM!AT534),IF(AJ534=\"N\",FromEvoM!AE534,\"\"))","v":""}]
[{"$f":"IF(ISBLANK(FromEvoM!A535),\"\",Group_Code)","v":""},{"$f":"IF(ISBLANK(FromEvoM!A535),\"\",SUBSTITUTE(FromEvoM!A535,\" \",\"\"))","v":""},{"$f":"IF(ISBLANK(FromEvoM!C535),\"\",SUBSTITUTE(FromEvoM!G535,\" \",\"\"))","v":""},{"$f":"IF(ISBLANK(FromEvoM!D535),\"\",FromEvoM!B535)","v":""},{"$f":"IF(ISBLANK(FromEvoM!D535),\"\",FromEvoM!D535)","v":""},{"$f":"IF(ISBLANK(FromEvoM!C535),\"\",FromEvoM!C535)","v":""},{"$f":"REPLACE(FromEvoM!F535,2,6, )","v":""},{"$f":"IF(ISNUMBER(FromEvoM!E535),FromEvoM!E535,\"\")","v":""},{"$f":"IF(ISBLANK(FromEvoM!I535),\"\",FromEvoM!I535)","v":""},{"$f":"IF(ISBLANK(FromEvoM!J535),\"\",FromEvoM!J535)","v":""},{"$f":"IF(ISBLANK(FromEvoM!K535),\"\",FromEvoM!K535)","v":""},{"$f":"IF(ISBLANK(FromEvoM!L535),\"\",FromEvoM!L535)","v":""},{"$f":"IF(ISBLANK(FromEvoM!M535),\"\",FromEvoM!M535)","v":""},{"$f":"IF(ISBLANK(FromEvoM!P535),\"\",FromEvoM!P535)","v":""},null,{"$f":"IF(ISNUMBER(FromEvoM!X535),FromEvoM!X535,\"\")","v":""},{"$f":"IF(ISNUMBER(FromEvoM!AB535),FromEvoM!AB535,\"\")","v":""},{"$f":"IF(ISNUMBER(FromEvoM!AA535),FromEvoM!AA535,\"\")","v":""},null,"","",null,null,{"$f":"IF(FromEvoM!W535=1,(FromEvoM!AB535*12),IF(FromEvoM!W535=7,(FromEvoM!AR535),\"\"))","v":""},null,null,{"$f":"IF(ISBLANK(FromEvoM!A535),\"\",IF(FromEvoM!AK535=\"y\",\"Y\",\"N\"))","v":""},{"$f":"IF(ISBLANK(FromEvoM!A535),\"\",Category_ID)","v":""},null,null,null,{"$f":"IF(ISBLANK(FromEvoM!AK535),\"\",FromEvoM!AK535)","v":""},{"$f":"IF(ISBLANK(FromEvoM!AM535),\"\",FromEvoM!AM535)","v":""},{"$f":"IF(ISBLANK(FromEvoM!AN535),\"\",FromEvoM!AN535)","v":""},{"$f":"IF(ISBLANK(FromEvoM!AL535),\"\",FromEvoM!AL535)","v":""},{"$f":"IF(ISBLANK(FromEvoM!A535),\"\",IF(AND(AF535=\"y\",AI535=1),\"Y\",\"N\"))","v":""},{"$f":"IF(ISBLANK(FromEvoM!A535),\"\",IF(FromEvoM!AS535=\"Yes\",2,1))","v":""},{"$f":"IF(FromEvoM!W535=1,\"M\",IF(FromEvoM!W535=7,\"W\",\"\"))","v":""},{"$f":"IF(AJ535=\"Y\",0,IF(AJ535=\"N\",FromEvoM!AF535+FromEvoM!AT535,\"\"))","v":""},{"$f":"IF(AJ535=\"Y\",(FromEvoM!AE535+FromEvoM!AF535-FromEvoM!AT535),IF(AJ535=\"N\",FromEvoM!AE535,\"\"))","v":""}]
[{"$f":"IF(ISBLANK(FromEvoM!A536),\"\",Group_Code)","v":""},{"$f":"IF(ISBLANK(FromEvoM!A536),\"\",SUBSTITUTE(FromEvoM!A536,\" \",\"\"))","v":""},{"$f":"IF(ISBLANK(FromEvoM!C536),\"\",SUBSTITUTE(FromEvoM!G536,\" \",\"\"))","v":""},{"$f":"IF(ISBLANK(FromEvoM!D536),\"\",FromEvoM!B536)","v":""},{"$f":"IF(ISBLANK(FromEvoM!D536),\"\",FromEvoM!D536)","v":""},{"$f":"IF(ISBLANK(FromEvoM!C536),\"\",FromEvoM!C536)","v":""},{"$f":"REPLACE(FromEvoM!F536,2,6, )","v":""},{"$f":"IF(ISNUMBER(FromEvoM!E536),FromEvoM!E536,\"\")","v":""},{"$f":"IF(ISBLANK(FromEvoM!I536),\"\",FromEvoM!I536)","v":""},{"$f":"IF(ISBLANK(FromEvoM!J536),\"\",FromEvoM!J536)","v":""},{"$f":"IF(ISBLANK(FromEvoM!K536),\"\",FromEvoM!K536)","v":""},{"$f":"IF(ISBLANK(FromEvoM!L536),\"\",FromEvoM!L536)","v":""},{"$f":"IF(ISBLANK(FromEvoM!M536),\"\",FromEvoM!M536)","v":""},{"$f":"IF(ISBLANK(FromEvoM!P536),\"\",FromEvoM!P536)","v":""},null,{"$f":"IF(ISNUMBER(FromEvoM!X536),FromEvoM!X536,\"\")","v":""},{"$f":"IF(ISNUMBER(FromEvoM!AB536),FromEvoM!AB536,\"\")","v":""},{"$f":"IF(ISNUMBER(FromEvoM!AA536),FromEvoM!AA536,\"\")","v":""},null,"","",null,null,{"$f":"IF(FromEvoM!W536=1,(FromEvoM!AB536*12),IF(FromEvoM!W536=7,(FromEvoM!AR536),\"\"))","v":""},null,null,{"$f":"IF(ISBLANK(FromEvoM!A536),\"\",IF(FromEvoM!AK536=\"y\",\"Y\",\"N\"))","v":""},{"$f":"IF(ISBLANK(FromEvoM!A536),\"\",Category_ID)","v":""},null,null,null,{"$f":"IF(ISBLANK(FromEvoM!AK536),\"\",FromEvoM!AK536)","v":""},{"$f":"IF(ISBLANK(FromEvoM!AM536),\"\",FromEvoM!AM536)","v":""},{"$f":"IF(ISBLANK(FromEvoM!AN536),\"\",FromEvoM!AN536)","v":""},{"$f":"IF(ISBLANK(FromEvoM!AL536),\"\",FromEvoM!AL536)","v":""},{"$f":"IF(ISBLANK(FromEvoM!A536),\"\",IF(AND(AF536=\"y\",AI536=1),\"Y\",\"N\"))","v":""},{"$f":"IF(ISBLANK(FromEvoM!A536),\"\",IF(FromEvoM!AS536=\"Yes\",2,1))","v":""},{"$f":"IF(FromEvoM!W536=1,\"M\",IF(FromEvoM!W536=7,\"W\",\"\"))","v":""},{"$f":"IF(AJ536=\"Y\",0,IF(AJ536=\"N\",FromEvoM!AF536+FromEvoM!AT536,\"\"))","v":""},{"$f":"IF(AJ536=\"Y\",(FromEvoM!AE536+FromEvoM!AF536-FromEvoM!AT536),IF(AJ536=\"N\",FromEvoM!AE536,\"\"))","v":""}]
[{"$f":"IF(ISBLANK(FromEvoM!A537),\"\",Group_Code)","v":""},{"$f":"IF(ISBLANK(FromEvoM!A537),\"\",SUBSTITUTE(FromEvoM!A537,\" \",\"\"))","v":""},{"$f":"IF(ISBLANK(FromEvoM!C537),\"\",SUBSTITUTE(FromEvoM!G537,\" \",\"\"))","v":""},{"$f":"IF(ISBLANK(FromEvoM!D537),\"\",FromEvoM!B537)","v":""},{"$f":"IF(ISBLANK(FromEvoM!D537),\"\",FromEvoM!D537)","v":""},{"$f":"IF(ISBLANK(FromEvoM!C537),\"\",FromEvoM!C537)","v":""},{"$f":"REPLACE(FromEvoM!F537,2,6, )","v":""},{"$f":"IF(ISNUMBER(FromEvoM!E537),FromEvoM!E537,\"\")","v":""},{"$f":"IF(ISBLANK(FromEvoM!I537),\"\",FromEvoM!I537)","v":""},{"$f":"IF(ISBLANK(FromEvoM!J537),\"\",FromEvoM!J537)","v":""},{"$f":"IF(ISBLANK(FromEvoM!K537),\"\",FromEvoM!K537)","v":""},{"$f":"IF(ISBLANK(FromEvoM!L537),\"\",FromEvoM!L537)","v":""},{"$f":"IF(ISBLANK(FromEvoM!M537),\"\",FromEvoM!M537)","v":""},{"$f":"IF(ISBLANK(FromEvoM!P537),\"\",FromEvoM!P537)","v":""},null,{"$f":"IF(ISNUMBER(FromEvoM!X537),FromEvoM!X537,\"\")","v":""},{"$f":"IF(ISNUMBER(FromEvoM!AB537),FromEvoM!AB537,\"\")","v":""},{"$f":"IF(ISNUMBER(FromEvoM!AA537),FromEvoM!AA537,\"\")","v":""},null,"","",null,null,{"$f":"IF(FromEvoM!W537=1,(FromEvoM!AB537*12),IF(FromEvoM!W537=7,(FromEvoM!AR537),\"\"))","v":""},null,null,{"$f":"IF(ISBLANK(FromEvoM!A537),\"\",IF(FromEvoM!AK537=\"y\",\"Y\",\"N\"))","v":""},{"$f":"IF(ISBLANK(FromEvoM!A537),\"\",Category_ID)","v":""},null,null,null,{"$f":"IF(ISBLANK(FromEvoM!AK537),\"\",FromEvoM!AK537)","v":""},{"$f":"IF(ISBLANK(FromEvoM!AM537),\"\",FromEvoM!AM537)","v":""},{"$f":"IF(ISBLANK(FromEvoM!AN537),\"\",FromEvoM!AN537)","v":""},{"$f":"IF(ISBLANK(FromEvoM!AL537),\"\",FromEvoM!AL537)","v":""},{"$f":"IF(ISBLANK(FromEvoM!A537),\"\",IF(AND(AF537=\"y\",AI537=1),\"Y\",\"N\"))","v":""},{"$f":"IF(ISBLANK(FromEvoM!A537),\"\",IF(FromEvoM!AS537=\"Yes\",2,1))","v":""},{"$f":"IF(FromEvoM!W537=1,\"M\",IF(FromEvoM!W537=7,\"W\",\"\"))","v":""},{"$f":"IF(AJ537=\"Y\",0,IF(AJ537=\"N\",FromEvoM!AF537+FromEvoM!AT537,\"\"))","v":""},{"$f":"IF(AJ537=\"Y\",(FromEvoM!AE537+FromEvoM!AF537-FromEvoM!AT537),IF(AJ537=\"N\",FromEvoM!AE537,\"\"))","v":""}]
[{"$f":"IF(ISBLANK(FromEvoM!A538),\"\",Group_Code)","v":""},{"$f":"IF(ISBLANK(FromEvoM!A538),\"\",SUBSTITUTE(FromEvoM!A538,\" \",\"\"))","v":""},{"$f":"IF(ISBLANK(FromEvoM!C538),\"\",SUBSTITUTE(FromEvoM!G538,\" \",\"\"))","v":""},{"$f":"IF(ISBLANK(FromEvoM!D538),\"\",FromEvoM!B538)","v":""},{"$f":"IF(ISBLANK(FromEvoM!D538),\"\",FromEvoM!D538)","v":""},{"$f":"IF(ISBLANK(FromEvoM!C538),\"\",FromEvoM!C538)","v":""},{"$f":"REPLACE(FromEvoM!F538,2,6, )","v":""},{"$f":"IF(ISNUMBER(FromEvoM!E538),FromEvoM!E538,\"\")","v":""},{"$f":"IF(ISBLANK(FromEvoM!I538),\"\",FromEvoM!I538)","v":""},{"$f":"IF(ISBLANK(FromEvoM!J538),\"\",FromEvoM!J538)","v":""},{"$f":"IF(ISBLANK(FromEvoM!K538),\"\",FromEvoM!K538)","v":""},{"$f":"IF(ISBLANK(FromEvoM!L538),\"\",FromEvoM!L538)","v":""},{"$f":"IF(ISBLANK(FromEvoM!M538),\"\",FromEvoM!M538)","v":""},{"$f":"IF(ISBLANK(FromEvoM!P538),\"\",FromEvoM!P538)","v":""},null,{"$f":"IF(ISNUMBER(FromEvoM!X538),FromEvoM!X538,\"\")","v":""},{"$f":"IF(ISNUMBER(FromEvoM!AB538),FromEvoM!AB538,\"\")","v":""},{"$f":"IF(ISNUMBER(FromEvoM!AA538),FromEvoM!AA538,\"\")","v":""},null,"","",null,null,{"$f":"IF(FromEvoM!W538=1,(FromEvoM!AB538*12),IF(FromEvoM!W538=7,(FromEvoM!AR538),\"\"))","v":""},null,null,{"$f":"IF(ISBLANK(FromEvoM!A538),\"\",IF(FromEvoM!AK538=\"y\",\"Y\",\"N\"))","v":""},{"$f":"IF(ISBLANK(FromEvoM!A538),\"\",Category_ID)","v":""},null,null,null,{"$f":"IF(ISBLANK(FromEvoM!AK538),\"\",FromEvoM!AK538)","v":""},{"$f":"IF(ISBLANK(FromEvoM!AM538),\"\",FromEvoM!AM538)","v":""},{"$f":"IF(ISBLANK(FromEvoM!AN538),\"\",FromEvoM!AN538)","v":""},{"$f":"IF(ISBLANK(FromEvoM!AL538),\"\",FromEvoM!AL538)","v":""},{"$f":"IF(ISBLANK(FromEvoM!A538),\"\",IF(AND(AF538=\"y\",AI538=1),\"Y\",\"N\"))","v":""},{"$f":"IF(ISBLANK(FromEvoM!A538),\"\",IF(FromEvoM!AS538=\"Yes\",2,1))","v":""},{"$f":"IF(FromEvoM!W538=1,\"M\",IF(FromEvoM!W538=7,\"W\",\"\"))","v":""},{"$f":"IF(AJ538=\"Y\",0,IF(AJ538=\"N\",FromEvoM!AF538+FromEvoM!AT538,\"\"))","v":""},{"$f":"IF(AJ538=\"Y\",(FromEvoM!AE538+FromEvoM!AF538-FromEvoM!AT538),IF(AJ538=\"N\",FromEvoM!AE538,\"\"))","v":""}]
[{"$f":"IF(ISBLANK(FromEvoM!A539),\"\",Group_Code)","v":""},{"$f":"IF(ISBLANK(FromEvoM!A539),\"\",SUBSTITUTE(FromEvoM!A539,\" \",\"\"))","v":""},{"$f":"IF(ISBLANK(FromEvoM!C539),\"\",SUBSTITUTE(FromEvoM!G539,\" \",\"\"))","v":""},{"$f":"IF(ISBLANK(FromEvoM!D539),\"\",FromEvoM!B539)","v":""},{"$f":"IF(ISBLANK(FromEvoM!D539),\"\",FromEvoM!D539)","v":""},{"$f":"IF(ISBLANK(FromEvoM!C539),\"\",FromEvoM!C539)","v":""},{"$f":"REPLACE(FromEvoM!F539,2,6, )","v":""},{"$f":"IF(ISNUMBER(FromEvoM!E539),FromEvoM!E539,\"\")","v":""},{"$f":"IF(ISBLANK(FromEvoM!I539),\"\",FromEvoM!I539)","v":""},{"$f":"IF(ISBLANK(FromEvoM!J539),\"\",FromEvoM!J539)","v":""},{"$f":"IF(ISBLANK(FromEvoM!K539),\"\",FromEvoM!K539)","v":""},{"$f":"IF(ISBLANK(FromEvoM!L539),\"\",FromEvoM!L539)","v":""},{"$f":"IF(ISBLANK(FromEvoM!M539),\"\",FromEvoM!M539)","v":""},{"$f":"IF(ISBLANK(FromEvoM!P539),\"\",FromEvoM!P539)","v":""},null,{"$f":"IF(ISNUMBER(FromEvoM!X539),FromEvoM!X539,\"\")","v":""},{"$f":"IF(ISNUMBER(FromEvoM!AB539),FromEvoM!AB539,\"\")","v":""},{"$f":"IF(ISNUMBER(FromEvoM!AA539),FromEvoM!AA539,\"\")","v":""},null,"","",null,null,{"$f":"IF(FromEvoM!W539=1,(FromEvoM!AB539*12),IF(FromEvoM!W539=7,(FromEvoM!AR539),\"\"))","v":""},null,null,{"$f":"IF(ISBLANK(FromEvoM!A539),\"\",IF(FromEvoM!AK539=\"y\",\"Y\",\"N\"))","v":""},{"$f":"IF(ISBLANK(FromEvoM!A539),\"\",Category_ID)","v":""},null,null,null,{"$f":"IF(ISBLANK(FromEvoM!AK539),\"\",FromEvoM!AK539)","v":""},{"$f":"IF(ISBLANK(FromEvoM!AM539),\"\",FromEvoM!AM539)","v":""},{"$f":"IF(ISBLANK(FromEvoM!AN539),\"\",FromEvoM!AN539)","v":""},{"$f":"IF(ISBLANK(FromEvoM!AL539),\"\",FromEvoM!AL539)","v":""},{"$f":"IF(ISBLANK(FromEvoM!A539),\"\",IF(AND(AF539=\"y\",AI539=1),\"Y\",\"N\"))","v":""},{"$f":"IF(ISBLANK(FromEvoM!A539),\"\",IF(FromEvoM!AS539=\"Yes\",2,1))","v":""},{"$f":"IF(FromEvoM!W539=1,\"M\",IF(FromEvoM!W539=7,\"W\",\"\"))","v":""},{"$f":"IF(AJ539=\"Y\",0,IF(AJ539=\"N\",FromEvoM!AF539+FromEvoM!AT539,\"\"))","v":""},{"$f":"IF(AJ539=\"Y\",(FromEvoM!AE539+FromEvoM!AF539-FromEvoM!AT539),IF(AJ539=\"N\",FromEvoM!AE539,\"\"))","v":""}]
[{"$f":"IF(ISBLANK(FromEvoM!A540),\"\",Group_Code)","v":""},{"$f":"IF(ISBLANK(FromEvoM!A540),\"\",SUBSTITUTE(FromEvoM!A540,\" \",\"\"))","v":""},{"$f":"IF(ISBLANK(FromEvoM!C540),\"\",SUBSTITUTE(FromEvoM!G540,\" \",\"\"))","v":""},{"$f":"IF(ISBLANK(FromEvoM!D540),\"\",FromEvoM!B540)","v":""},{"$f":"IF(ISBLANK(FromEvoM!D540),\"\",FromEvoM!D540)","v":""},{"$f":"IF(ISBLANK(FromEvoM!C540),\"\",FromEvoM!C540)","v":""},{"$f":"REPLACE(FromEvoM!F540,2,6, )","v":""},{"$f":"IF(ISNUMBER(FromEvoM!E540),FromEvoM!E540,\"\")","v":""},{"$f":"IF(ISBLANK(FromEvoM!I540),\"\",FromEvoM!I540)","v":""},{"$f":"IF(ISBLANK(FromEvoM!J540),\"\",FromEvoM!J540)","v":""},{"$f":"IF(ISBLANK(FromEvoM!K540),\"\",FromEvoM!K540)","v":""},{"$f":"IF(ISBLANK(FromEvoM!L540),\"\",FromEvoM!L540)","v":""},{"$f":"IF(ISBLANK(FromEvoM!M540),\"\",FromEvoM!M540)","v":""},{"$f":"IF(ISBLANK(FromEvoM!P540),\"\",FromEvoM!P540)","v":""},null,{"$f":"IF(ISNUMBER(FromEvoM!X540),FromEvoM!X540,\"\")","v":""},{"$f":"IF(ISNUMBER(FromEvoM!AB540),FromEvoM!AB540,\"\")","v":""},{"$f":"IF(ISNUMBER(FromEvoM!AA540),FromEvoM!AA540,\"\")","v":""},null,"","",null,null,{"$f":"IF(FromEvoM!W540=1,(FromEvoM!AB540*12),IF(FromEvoM!W540=7,(FromEvoM!AR540),\"\"))","v":""},null,null,{"$f":"IF(ISBLANK(FromEvoM!A540),\"\",IF(FromEvoM!AK540=\"y\",\"Y\",\"N\"))","v":""},{"$f":"IF(ISBLANK(FromEvoM!A540),\"\",Category_ID)","v":""},null,null,null,{"$f":"IF(ISBLANK(FromEvoM!AK540),\"\",FromEvoM!AK540)","v":""},{"$f":"IF(ISBLANK(FromEvoM!AM540),\"\",FromEvoM!AM540)","v":""},{"$f":"IF(ISBLANK(FromEvoM!AN540),\"\",FromEvoM!AN540)","v":""},{"$f":"IF(ISBLANK(FromEvoM!AL540),\"\",FromEvoM!AL540)","v":""},{"$f":"IF(ISBLANK(FromEvoM!A540),\"\",IF(AND(AF540=\"y\",AI540=1),\"Y\",\"N\"))","v":""},{"$f":"IF(ISBLANK(FromEvoM!A540),\"\",IF(FromEvoM!AS540=\"Yes\",2,1))","v":""},{"$f":"IF(FromEvoM!W540=1,\"M\",IF(FromEvoM!W540=7,\"W\",\"\"))","v":""},{"$f":"IF(AJ540=\"Y\",0,IF(AJ540=\"N\",FromEvoM!AF540+FromEvoM!AT540,\"\"))","v":""},{"$f":"IF(AJ540=\"Y\",(FromEvoM!AE540+FromEvoM!AF540-FromEvoM!AT540),IF(AJ540=\"N\",FromEvoM!AE540,\"\"))","v":""}]
[{"$f":"IF(ISBLANK(FromEvoM!A541),\"\",Group_Code)","v":""},{"$f":"IF(ISBLANK(FromEvoM!A541),\"\",SUBSTITUTE(FromEvoM!A541,\" \",\"\"))","v":""},{"$f":"IF(ISBLANK(FromEvoM!C541),\"\",SUBSTITUTE(FromEvoM!G541,\" \",\"\"))","v":""},{"$f":"IF(ISBLANK(FromEvoM!D541),\"\",FromEvoM!B541)","v":""},{"$f":"IF(ISBLANK(FromEvoM!D541),\"\",FromEvoM!D541)","v":""},{"$f":"IF(ISBLANK(FromEvoM!C541),\"\",FromEvoM!C541)","v":""},{"$f":"REPLACE(FromEvoM!F541,2,6, )","v":""},{"$f":"IF(ISNUMBER(FromEvoM!E541),FromEvoM!E541,\"\")","v":""},{"$f":"IF(ISBLANK(FromEvoM!I541),\"\",FromEvoM!I541)","v":""},{"$f":"IF(ISBLANK(FromEvoM!J541),\"\",FromEvoM!J541)","v":""},{"$f":"IF(ISBLANK(FromEvoM!K541),\"\",FromEvoM!K541)","v":""},{"$f":"IF(ISBLANK(FromEvoM!L541),\"\",FromEvoM!L541)","v":""},{"$f":"IF(ISBLANK(FromEvoM!M541),\"\",FromEvoM!M541)","v":""},{"$f":"IF(ISBLANK(FromEvoM!P541),\"\",FromEvoM!P541)","v":""},null,{"$f":"IF(ISNUMBER(FromEvoM!X541),FromEvoM!X541,\"\")","v":""},{"$f":"IF(ISNUMBER(FromEvoM!AB541),FromEvoM!AB541,\"\")","v":""},{"$f":"IF(ISNUMBER(FromEvoM!AA541),FromEvoM!AA541,\"\")","v":""},null,"","",null,null,{"$f":"IF(FromEvoM!W541=1,(FromEvoM!AB541*12),IF(FromEvoM!W541=7,(FromEvoM!AR541),\"\"))","v":""},null,null,{"$f":"IF(ISBLANK(FromEvoM!A541),\"\",IF(FromEvoM!AK541=\"y\",\"Y\",\"N\"))","v":""},{"$f":"IF(ISBLANK(FromEvoM!A541),\"\",Category_ID)","v":""},null,null,null,{"$f":"IF(ISBLANK(FromEvoM!AK541),\"\",FromEvoM!AK541)","v":""},{"$f":"IF(ISBLANK(FromEvoM!AM541),\"\",FromEvoM!AM541)","v":""},{"$f":"IF(ISBLANK(FromEvoM!AN541),\"\",FromEvoM!AN541)","v":""},{"$f":"IF(ISBLANK(FromEvoM!AL541),\"\",FromEvoM!AL541)","v":""},{"$f":"IF(ISBLANK(FromEvoM!A541),\"\",IF(AND(AF541=\"y\",AI541=1),\"Y\",\"N\"))","v":""},{"$f":"IF(ISBLANK(FromEvoM!A541),\"\",IF(FromEvoM!AS541=\"Yes\",2,1))","v":""},{"$f":"IF(FromEvoM!W541=1,\"M\",IF(FromEvoM!W541=7,\"W\",\"\"))","v":""},{"$f":"IF(AJ541=\"Y\",0,IF(AJ541=\"N\",FromEvoM!AF541+FromEvoM!AT541,\"\"))","v":""},{"$f":"IF(AJ541=\"Y\",(FromEvoM!AE541+FromEvoM!AF541-FromEvoM!AT541),IF(AJ541=\"N\",FromEvoM!AE541,\"\"))","v":""}]
[{"$f":"IF(ISBLANK(FromEvoM!A542),\"\",Group_Code)","v":""},{"$f":"IF(ISBLANK(FromEvoM!A542),\"\",SUBSTITUTE(FromEvoM!A542,\" \",\"\"))","v":""},{"$f":"IF(ISBLANK(FromEvoM!C542),\"\",SUBSTITUTE(FromEvoM!G542,\" \",\"\"))","v":""},{"$f":"IF(ISBLANK(FromEvoM!D542),\"\",FromEvoM!B542)","v":""},{"$f":"IF(ISBLANK(FromEvoM!D542),\"\",FromEvoM!D542)","v":""},{"$f":"IF(ISBLANK(FromEvoM!C542),\"\",FromEvoM!C542)","v":""},{"$f":"REPLACE(FromEvoM!F542,2,6, )","v":""},{"$f":"IF(ISNUMBER(FromEvoM!E542),FromEvoM!E542,\"\")","v":""},{"$f":"IF(ISBLANK(FromEvoM!I542),\"\",FromEvoM!I542)","v":""},{"$f":"IF(ISBLANK(FromEvoM!J542),\"\",FromEvoM!J542)","v":""},{"$f":"IF(ISBLANK(FromEvoM!K542),\"\",FromEvoM!K542)","v":""},{"$f":"IF(ISBLANK(FromEvoM!L542),\"\",FromEvoM!L542)","v":""},{"$f":"IF(ISBLANK(FromEvoM!M542),\"\",FromEvoM!M542)","v":""},{"$f":"IF(ISBLANK(FromEvoM!P542),\"\",FromEvoM!P542)","v":""},null,{"$f":"IF(ISNUMBER(FromEvoM!X542),FromEvoM!X542,\"\")","v":""},{"$f":"IF(ISNUMBER(FromEvoM!AB542),FromEvoM!AB542,\"\")","v":""},{"$f":"IF(ISNUMBER(FromEvoM!AA542),FromEvoM!AA542,\"\")","v":""},null,"","",null,null,{"$f":"IF(FromEvoM!W542=1,(FromEvoM!AB542*12),IF(FromEvoM!W542=7,(FromEvoM!AR542),\"\"))","v":""},null,null,{"$f":"IF(ISBLANK(FromEvoM!A542),\"\",IF(FromEvoM!AK542=\"y\",\"Y\",\"N\"))","v":""},{"$f":"IF(ISBLANK(FromEvoM!A542),\"\",Category_ID)","v":""},null,null,null,{"$f":"IF(ISBLANK(FromEvoM!AK542),\"\",FromEvoM!AK542)","v":""},{"$f":"IF(ISBLANK(FromEvoM!AM542),\"\",FromEvoM!AM542)","v":""},{"$f":"IF(ISBLANK(FromEvoM!AN542),\"\",FromEvoM!AN542)","v":""},{"$f":"IF(ISBLANK(FromEvoM!AL542),\"\",FromEvoM!AL542)","v":""},{"$f":"IF(ISBLANK(FromEvoM!A542),\"\",IF(AND(AF542=\"y\",AI542=1),\"Y\",\"N\"))","v":""},{"$f":"IF(ISBLANK(FromEvoM!A542),\"\",IF(FromEvoM!AS542=\"Yes\",2,1))","v":""},{"$f":"IF(FromEvoM!W542=1,\"M\",IF(FromEvoM!W542=7,\"W\",\"\"))","v":""},{"$f":"IF(AJ542=\"Y\",0,IF(AJ542=\"N\",FromEvoM!AF542+FromEvoM!AT542,\"\"))","v":""},{"$f":"IF(AJ542=\"Y\",(FromEvoM!AE542+FromEvoM!AF542-FromEvoM!AT542),IF(AJ542=\"N\",FromEvoM!AE542,\"\"))","v":""}]
[{"$f":"IF(ISBLANK(FromEvoM!A543),\"\",Group_Code)","v":""},{"$f":"IF(ISBLANK(FromEvoM!A543),\"\",SUBSTITUTE(FromEvoM!A543,\" \",\"\"))","v":""},{"$f":"IF(ISBLANK(FromEvoM!C543),\"\",SUBSTITUTE(FromEvoM!G543,\" \",\"\"))","v":""},{"$f":"IF(ISBLANK(FromEvoM!D543),\"\",FromEvoM!B543)","v":""},{"$f":"IF(ISBLANK(FromEvoM!D543),\"\",FromEvoM!D543)","v":""},{"$f":"IF(ISBLANK(FromEvoM!C543),\"\",FromEvoM!C543)","v":""},{"$f":"REPLACE(FromEvoM!F543,2,6, )","v":""},{"$f":"IF(ISNUMBER(FromEvoM!E543),FromEvoM!E543,\"\")","v":""},{"$f":"IF(ISBLANK(FromEvoM!I543),\"\",FromEvoM!I543)","v":""},{"$f":"IF(ISBLANK(FromEvoM!J543),\"\",FromEvoM!J543)","v":""},{"$f":"IF(ISBLANK(FromEvoM!K543),\"\",FromEvoM!K543)","v":""},{"$f":"IF(ISBLANK(FromEvoM!L543),\"\",FromEvoM!L543)","v":""},{"$f":"IF(ISBLANK(FromEvoM!M543),\"\",FromEvoM!M543)","v":""},{"$f":"IF(ISBLANK(FromEvoM!P543),\"\",FromEvoM!P543)","v":""},null,{"$f":"IF(ISNUMBER(FromEvoM!X543),FromEvoM!X543,\"\")","v":""},{"$f":"IF(ISNUMBER(FromEvoM!AB543),FromEvoM!AB543,\"\")","v":""},{"$f":"IF(ISNUMBER(FromEvoM!AA543),FromEvoM!AA543,\"\")","v":""},null,"","",null,null,{"$f":"IF(FromEvoM!W543=1,(FromEvoM!AB543*12),IF(FromEvoM!W543=7,(FromEvoM!AR543),\"\"))","v":""},null,null,{"$f":"IF(ISBLANK(FromEvoM!A543),\"\",IF(FromEvoM!AK543=\"y\",\"Y\",\"N\"))","v":""},{"$f":"IF(ISBLANK(FromEvoM!A543),\"\",Category_ID)","v":""},null,null,null,{"$f":"IF(ISBLANK(FromEvoM!AK543),\"\",FromEvoM!AK543)","v":""},{"$f":"IF(ISBLANK(FromEvoM!AM543),\"\",FromEvoM!AM543)","v":""},{"$f":"IF(ISBLANK(FromEvoM!AN543),\"\",FromEvoM!AN543)","v":""},{"$f":"IF(ISBLANK(FromEvoM!AL543),\"\",FromEvoM!AL543)","v":""},{"$f":"IF(ISBLANK(FromEvoM!A543),\"\",IF(AND(AF543=\"y\",AI543=1),\"Y\",\"N\"))","v":""},{"$f":"IF(ISBLANK(FromEvoM!A543),\"\",IF(FromEvoM!AS543=\"Yes\",2,1))","v":""},{"$f":"IF(FromEvoM!W543=1,\"M\",IF(FromEvoM!W543=7,\"W\",\"\"))","v":""},{"$f":"IF(AJ543=\"Y\",0,IF(AJ543=\"N\",FromEvoM!AF543+FromEvoM!AT543,\"\"))","v":""},{"$f":"IF(AJ543=\"Y\",(FromEvoM!AE543+FromEvoM!AF543-FromEvoM!AT543),IF(AJ543=\"N\",FromEvoM!AE543,\"\"))","v":""}]
[{"$f":"IF(ISBLANK(FromEvoM!A544),\"\",Group_Code)","v":""},{"$f":"IF(ISBLANK(FromEvoM!A544),\"\",SUBSTITUTE(FromEvoM!A544,\" \",\"\"))","v":""},{"$f":"IF(ISBLANK(FromEvoM!C544),\"\",SUBSTITUTE(FromEvoM!G544,\" \",\"\"))","v":""},{"$f":"IF(ISBLANK(FromEvoM!D544),\"\",FromEvoM!B544)","v":""},{"$f":"IF(ISBLANK(FromEvoM!D544),\"\",FromEvoM!D544)","v":""},{"$f":"IF(ISBLANK(FromEvoM!C544),\"\",FromEvoM!C544)","v":""},{"$f":"REPLACE(FromEvoM!F544,2,6, )","v":""},{"$f":"IF(ISNUMBER(FromEvoM!E544),FromEvoM!E544,\"\")","v":""},{"$f":"IF(ISBLANK(FromEvoM!I544),\"\",FromEvoM!I544)","v":""},{"$f":"IF(ISBLANK(FromEvoM!J544),\"\",FromEvoM!J544)","v":""},{"$f":"IF(ISBLANK(FromEvoM!K544),\"\",FromEvoM!K544)","v":""},{"$f":"IF(ISBLANK(FromEvoM!L544),\"\",FromEvoM!L544)","v":""},{"$f":"IF(ISBLANK(FromEvoM!M544),\"\",FromEvoM!M544)","v":""},{"$f":"IF(ISBLANK(FromEvoM!P544),\"\",FromEvoM!P544)","v":""},null,{"$f":"IF(ISNUMBER(FromEvoM!X544),FromEvoM!X544,\"\")","v":""},{"$f":"IF(ISNUMBER(FromEvoM!AB544),FromEvoM!AB544,\"\")","v":""},{"$f":"IF(ISNUMBER(FromEvoM!AA544),FromEvoM!AA544,\"\")","v":""},null,"","",null,null,{"$f":"IF(FromEvoM!W544=1,(FromEvoM!AB544*12),IF(FromEvoM!W544=7,(FromEvoM!AR544),\"\"))","v":""},null,null,{"$f":"IF(ISBLANK(FromEvoM!A544),\"\",IF(FromEvoM!AK544=\"y\",\"Y\",\"N\"))","v":""},{"$f":"IF(ISBLANK(FromEvoM!A544),\"\",Category_ID)","v":""},null,null,null,{"$f":"IF(ISBLANK(FromEvoM!AK544),\"\",FromEvoM!AK544)","v":""},{"$f":"IF(ISBLANK(FromEvoM!AM544),\"\",FromEvoM!AM544)","v":""},{"$f":"IF(ISBLANK(FromEvoM!AN544),\"\",FromEvoM!AN544)","v":""},{"$f":"IF(ISBLANK(FromEvoM!AL544),\"\",FromEvoM!AL544)","v":""},{"$f":"IF(ISBLANK(FromEvoM!A544),\"\",IF(AND(AF544=\"y\",AI544=1),\"Y\",\"N\"))","v":""},{"$f":"IF(ISBLANK(FromEvoM!A544),\"\",IF(FromEvoM!AS544=\"Yes\",2,1))","v":""},{"$f":"IF(FromEvoM!W544=1,\"M\",IF(FromEvoM!W544=7,\"W\",\"\"))","v":""},{"$f":"IF(AJ544=\"Y\",0,IF(AJ544=\"N\",FromEvoM!AF544+FromEvoM!AT544,\"\"))","v":""},{"$f":"IF(AJ544=\"Y\",(FromEvoM!AE544+FromEvoM!AF544-FromEvoM!AT544),IF(AJ544=\"N\",FromEvoM!AE544,\"\"))","v":""}]
[{"$f":"IF(ISBLANK(FromEvoM!A545),\"\",Group_Code)","v":""},{"$f":"IF(ISBLANK(FromEvoM!A545),\"\",SUBSTITUTE(FromEvoM!A545,\" \",\"\"))","v":""},{"$f":"IF(ISBLANK(FromEvoM!C545),\"\",SUBSTITUTE(FromEvoM!G545,\" \",\"\"))","v":""},{"$f":"IF(ISBLANK(FromEvoM!D545),\"\",FromEvoM!B545)","v":""},{"$f":"IF(ISBLANK(FromEvoM!D545),\"\",FromEvoM!D545)","v":""},{"$f":"IF(ISBLANK(FromEvoM!C545),\"\",FromEvoM!C545)","v":""},{"$f":"REPLACE(FromEvoM!F545,2,6, )","v":""},{"$f":"IF(ISNUMBER(FromEvoM!E545),FromEvoM!E545,\"\")","v":""},{"$f":"IF(ISBLANK(FromEvoM!I545),\"\",FromEvoM!I545)","v":""},{"$f":"IF(ISBLANK(FromEvoM!J545),\"\",FromEvoM!J545)","v":""},{"$f":"IF(ISBLANK(FromEvoM!K545),\"\",FromEvoM!K545)","v":""},{"$f":"IF(ISBLANK(FromEvoM!L545),\"\",FromEvoM!L545)","v":""},{"$f":"IF(ISBLANK(FromEvoM!M545),\"\",FromEvoM!M545)","v":""},{"$f":"IF(ISBLANK(FromEvoM!P545),\"\",FromEvoM!P545)","v":""},null,{"$f":"IF(ISNUMBER(FromEvoM!X545),FromEvoM!X545,\"\")","v":""},{"$f":"IF(ISNUMBER(FromEvoM!AB545),FromEvoM!AB545,\"\")","v":""},{"$f":"IF(ISNUMBER(FromEvoM!AA545),FromEvoM!AA545,\"\")","v":""},null,"","",null,null,{"$f":"IF(FromEvoM!W545=1,(FromEvoM!AB545*12),IF(FromEvoM!W545=7,(FromEvoM!AR545),\"\"))","v":""},null,null,{"$f":"IF(ISBLANK(FromEvoM!A545),\"\",IF(FromEvoM!AK545=\"y\",\"Y\",\"N\"))","v":""},{"$f":"IF(ISBLANK(FromEvoM!A545),\"\",Category_ID)","v":""},null,null,null,{"$f":"IF(ISBLANK(FromEvoM!AK545),\"\",FromEvoM!AK545)","v":""},{"$f":"IF(ISBLANK(FromEvoM!AM545),\"\",FromEvoM!AM545)","v":""},{"$f":"IF(ISBLANK(FromEvoM!AN545),\"\",FromEvoM!AN545)","v":""},{"$f":"IF(ISBLANK(FromEvoM!AL545),\"\",FromEvoM!AL545)","v":""},{"$f":"IF(ISBLANK(FromEvoM!A545),\"\",IF(AND(AF545=\"y\",AI545=1),\"Y\",\"N\"))","v":""},{"$f":"IF(ISBLANK(FromEvoM!A545),\"\",IF(FromEvoM!AS545=\"Yes\",2,1))","v":""},{"$f":"IF(FromEvoM!W545=1,\"M\",IF(FromEvoM!W545=7,\"W\",\"\"))","v":""},{"$f":"IF(AJ545=\"Y\",0,IF(AJ545=\"N\",FromEvoM!AF545+FromEvoM!AT545,\"\"))","v":""},{"$f":"IF(AJ545=\"Y\",(FromEvoM!AE545+FromEvoM!AF545-FromEvoM!AT545),IF(AJ545=\"N\",FromEvoM!AE545,\"\"))","v":""}]
[{"$f":"IF(ISBLANK(FromEvoM!A546),\"\",Group_Code)","v":""},{"$f":"IF(ISBLANK(FromEvoM!A546),\"\",SUBSTITUTE(FromEvoM!A546,\" \",\"\"))","v":""},{"$f":"IF(ISBLANK(FromEvoM!C546),\"\",SUBSTITUTE(FromEvoM!G546,\" \",\"\"))","v":""},{"$f":"IF(ISBLANK(FromEvoM!D546),\"\",FromEvoM!B546)","v":""},{"$f":"IF(ISBLANK(FromEvoM!D546),\"\",FromEvoM!D546)","v":""},{"$f":"IF(ISBLANK(FromEvoM!C546),\"\",FromEvoM!C546)","v":""},{"$f":"REPLACE(FromEvoM!F546,2,6, )","v":""},{"$f":"IF(ISNUMBER(FromEvoM!E546),FromEvoM!E546,\"\")","v":""},{"$f":"IF(ISBLANK(FromEvoM!I546),\"\",FromEvoM!I546)","v":""},{"$f":"IF(ISBLANK(FromEvoM!J546),\"\",FromEvoM!J546)","v":""},{"$f":"IF(ISBLANK(FromEvoM!K546),\"\",FromEvoM!K546)","v":""},{"$f":"IF(ISBLANK(FromEvoM!L546),\"\",FromEvoM!L546)","v":""},{"$f":"IF(ISBLANK(FromEvoM!M546),\"\",FromEvoM!M546)","v":""},{"$f":"IF(ISBLANK(FromEvoM!P546),\"\",FromEvoM!P546)","v":""},null,{"$f":"IF(ISNUMBER(FromEvoM!X546),FromEvoM!X546,\"\")","v":""},{"$f":"IF(ISNUMBER(FromEvoM!AB546),FromEvoM!AB546,\"\")","v":""},{"$f":"IF(ISNUMBER(FromEvoM!AA546),FromEvoM!AA546,\"\")","v":""},null,"","",null,null,{"$f":"IF(FromEvoM!W546=1,(FromEvoM!AB546*12),IF(FromEvoM!W546=7,(FromEvoM!AR546),\"\"))","v":""},null,null,{"$f":"IF(ISBLANK(FromEvoM!A546),\"\",IF(FromEvoM!AK546=\"y\",\"Y\",\"N\"))","v":""},{"$f":"IF(ISBLANK(FromEvoM!A546),\"\",Category_ID)","v":""},null,null,null,{"$f":"IF(ISBLANK(FromEvoM!AK546),\"\",FromEvoM!AK546)","v":""},{"$f":"IF(ISBLANK(FromEvoM!AM546),\"\",FromEvoM!AM546)","v":""},{"$f":"IF(ISBLANK(FromEvoM!AN546),\"\",FromEvoM!AN546)","v":""},{"$f":"IF(ISBLANK(FromEvoM!AL546),\"\",FromEvoM!AL546)","v":""},{"$f":"IF(ISBLANK(FromEvoM!A546),\"\",IF(AND(AF546=\"y\",AI546=1),\"Y\",\"N\"))","v":""},{"$f":"IF(ISBLANK(FromEvoM!A546),\"\",IF(FromEvoM!AS546=\"Yes\",2,1))","v":""},{"$f":"IF(FromEvoM!W546=1,\"M\",IF(FromEvoM!W546=7,\"W\",\"\"))","v":""},{"$f":"IF(AJ546=\"Y\",0,IF(AJ546=\"N\",FromEvoM!AF546+FromEvoM!AT546,\"\"))","v":""},{"$f":"IF(AJ546=\"Y\",(FromEvoM!AE546+FromEvoM!AF546-FromEvoM!AT546),IF(AJ546=\"N\",FromEvoM!AE546,\"\"))","v":""}]
[{"$f":"IF(ISBLANK(FromEvoM!A547),\"\",Group_Code)","v":""},{"$f":"IF(ISBLANK(FromEvoM!A547),\"\",SUBSTITUTE(FromEvoM!A547,\" \",\"\"))","v":""},{"$f":"IF(ISBLANK(FromEvoM!C547),\"\",SUBSTITUTE(FromEvoM!G547,\" \",\"\"))","v":""},{"$f":"IF(ISBLANK(FromEvoM!D547),\"\",FromEvoM!B547)","v":""},{"$f":"IF(ISBLANK(FromEvoM!D547),\"\",FromEvoM!D547)","v":""},{"$f":"IF(ISBLANK(FromEvoM!C547),\"\",FromEvoM!C547)","v":""},{"$f":"REPLACE(FromEvoM!F547,2,6, )","v":""},{"$f":"IF(ISNUMBER(FromEvoM!E547),FromEvoM!E547,\"\")","v":""},{"$f":"IF(ISBLANK(FromEvoM!I547),\"\",FromEvoM!I547)","v":""},{"$f":"IF(ISBLANK(FromEvoM!J547),\"\",FromEvoM!J547)","v":""},{"$f":"IF(ISBLANK(FromEvoM!K547),\"\",FromEvoM!K547)","v":""},{"$f":"IF(ISBLANK(FromEvoM!L547),\"\",FromEvoM!L547)","v":""},{"$f":"IF(ISBLANK(FromEvoM!M547),\"\",FromEvoM!M547)","v":""},{"$f":"IF(ISBLANK(FromEvoM!P547),\"\",FromEvoM!P547)","v":""},null,{"$f":"IF(ISNUMBER(FromEvoM!X547),FromEvoM!X547,\"\")","v":""},{"$f":"IF(ISNUMBER(FromEvoM!AB547),FromEvoM!AB547,\"\")","v":""},{"$f":"IF(ISNUMBER(FromEvoM!AA547),FromEvoM!AA547,\"\")","v":""},null,"","",null,null,{"$f":"IF(FromEvoM!W547=1,(FromEvoM!AB547*12),IF(FromEvoM!W547=7,(FromEvoM!AR547),\"\"))","v":""},null,null,{"$f":"IF(ISBLANK(FromEvoM!A547),\"\",IF(FromEvoM!AK547=\"y\",\"Y\",\"N\"))","v":""},{"$f":"IF(ISBLANK(FromEvoM!A547),\"\",Category_ID)","v":""},null,null,null,{"$f":"IF(ISBLANK(FromEvoM!AK547),\"\",FromEvoM!AK547)","v":""},{"$f":"IF(ISBLANK(FromEvoM!AM547),\"\",FromEvoM!AM547)","v":""},{"$f":"IF(ISBLANK(FromEvoM!AN547),\"\",FromEvoM!AN547)","v":""},{"$f":"IF(ISBLANK(FromEvoM!AL547),\"\",FromEvoM!AL547)","v":""},{"$f":"IF(ISBLANK(FromEvoM!A547),\"\",IF(AND(AF547=\"y\",AI547=1),\"Y\",\"N\"))","v":""},{"$f":"IF(ISBLANK(FromEvoM!A547),\"\",IF(FromEvoM!AS547=\"Yes\",2,1))","v":""},{"$f":"IF(FromEvoM!W547=1,\"M\",IF(FromEvoM!W547=7,\"W\",\"\"))","v":""},{"$f":"IF(AJ547=\"Y\",0,IF(AJ547=\"N\",FromEvoM!AF547+FromEvoM!AT547,\"\"))","v":""},{"$f":"IF(AJ547=\"Y\",(FromEvoM!AE547+FromEvoM!AF547-FromEvoM!AT547),IF(AJ547=\"N\",FromEvoM!AE547,\"\"))","v":""}]
[{"$f":"IF(ISBLANK(FromEvoM!A548),\"\",Group_Code)","v":""},{"$f":"IF(ISBLANK(FromEvoM!A548),\"\",SUBSTITUTE(FromEvoM!A548,\" \",\"\"))","v":""},{"$f":"IF(ISBLANK(FromEvoM!C548),\"\",SUBSTITUTE(FromEvoM!G548,\" \",\"\"))","v":""},{"$f":"IF(ISBLANK(FromEvoM!D548),\"\",FromEvoM!B548)","v":""},{"$f":"IF(ISBLANK(FromEvoM!D548),\"\",FromEvoM!D548)","v":""},{"$f":"IF(ISBLANK(FromEvoM!C548),\"\",FromEvoM!C548)","v":""},{"$f":"REPLACE(FromEvoM!F548,2,6, )","v":""},{"$f":"IF(ISNUMBER(FromEvoM!E548),FromEvoM!E548,\"\")","v":""},{"$f":"IF(ISBLANK(FromEvoM!I548),\"\",FromEvoM!I548)","v":""},{"$f":"IF(ISBLANK(FromEvoM!J548),\"\",FromEvoM!J548)","v":""},{"$f":"IF(ISBLANK(FromEvoM!K548),\"\",FromEvoM!K548)","v":""},{"$f":"IF(ISBLANK(FromEvoM!L548),\"\",FromEvoM!L548)","v":""},{"$f":"IF(ISBLANK(FromEvoM!M548),\"\",FromEvoM!M548)","v":""},{"$f":"IF(ISBLANK(FromEvoM!P548),\"\",FromEvoM!P548)","v":""},null,{"$f":"IF(ISNUMBER(FromEvoM!X548),FromEvoM!X548,\"\")","v":""},{"$f":"IF(ISNUMBER(FromEvoM!AB548),FromEvoM!AB548,\"\")","v":""},{"$f":"IF(ISNUMBER(FromEvoM!AA548),FromEvoM!AA548,\"\")","v":""},null,"","",null,null,{"$f":"IF(FromEvoM!W548=1,(FromEvoM!AB548*12),IF(FromEvoM!W548=7,(FromEvoM!AR548),\"\"))","v":""},null,null,{"$f":"IF(ISBLANK(FromEvoM!A548),\"\",IF(FromEvoM!AK548=\"y\",\"Y\",\"N\"))","v":""},{"$f":"IF(ISBLANK(FromEvoM!A548),\"\",Category_ID)","v":""},null,null,null,{"$f":"IF(ISBLANK(FromEvoM!AK548),\"\",FromEvoM!AK548)","v":""},{"$f":"IF(ISBLANK(FromEvoM!AM548),\"\",FromEvoM!AM548)","v":""},{"$f":"IF(ISBLANK(FromEvoM!AN548),\"\",FromEvoM!AN548)","v":""},{"$f":"IF(ISBLANK(FromEvoM!AL548),\"\",FromEvoM!AL548)","v":""},{"$f":"IF(ISBLANK(FromEvoM!A548),\"\",IF(AND(AF548=\"y\",AI548=1),\"Y\",\"N\"))","v":""},{"$f":"IF(ISBLANK(FromEvoM!A548),\"\",IF(FromEvoM!AS548=\"Yes\",2,1))","v":""},{"$f":"IF(FromEvoM!W548=1,\"M\",IF(FromEvoM!W548=7,\"W\",\"\"))","v":""},{"$f":"IF(AJ548=\"Y\",0,IF(AJ548=\"N\",FromEvoM!AF548+FromEvoM!AT548,\"\"))","v":""},{"$f":"IF(AJ548=\"Y\",(FromEvoM!AE548+FromEvoM!AF548-FromEvoM!AT548),IF(AJ548=\"N\",FromEvoM!AE548,\"\"))","v":""}]
[{"$f":"IF(ISBLANK(FromEvoM!A549),\"\",Group_Code)","v":""},{"$f":"IF(ISBLANK(FromEvoM!A549),\"\",SUBSTITUTE(FromEvoM!A549,\" \",\"\"))","v":""},{"$f":"IF(ISBLANK(FromEvoM!C549),\"\",SUBSTITUTE(FromEvoM!G549,\" \",\"\"))","v":""},{"$f":"IF(ISBLANK(FromEvoM!D549),\"\",FromEvoM!B549)","v":""},{"$f":"IF(ISBLANK(FromEvoM!D549),\"\",FromEvoM!D549)","v":""},{"$f":"IF(ISBLANK(FromEvoM!C549),\"\",FromEvoM!C549)","v":""},{"$f":"REPLACE(FromEvoM!F549,2,6, )","v":""},{"$f":"IF(ISNUMBER(FromEvoM!E549),FromEvoM!E549,\"\")","v":""},{"$f":"IF(ISBLANK(FromEvoM!I549),\"\",FromEvoM!I549)","v":""},{"$f":"IF(ISBLANK(FromEvoM!J549),\"\",FromEvoM!J549)","v":""},{"$f":"IF(ISBLANK(FromEvoM!K549),\"\",FromEvoM!K549)","v":""},{"$f":"IF(ISBLANK(FromEvoM!L549),\"\",FromEvoM!L549)","v":""},{"$f":"IF(ISBLANK(FromEvoM!M549),\"\",FromEvoM!M549)","v":""},{"$f":"IF(ISBLANK(FromEvoM!P549),\"\",FromEvoM!P549)","v":""},null,{"$f":"IF(ISNUMBER(FromEvoM!X549),FromEvoM!X549,\"\")","v":""},{"$f":"IF(ISNUMBER(FromEvoM!AB549),FromEvoM!AB549,\"\")","v":""},{"$f":"IF(ISNUMBER(FromEvoM!AA549),FromEvoM!AA549,\"\")","v":""},null,"","",null,null,{"$f":"IF(FromEvoM!W549=1,(FromEvoM!AB549*12),IF(FromEvoM!W549=7,(FromEvoM!AR549),\"\"))","v":""},null,null,{"$f":"IF(ISBLANK(FromEvoM!A549),\"\",IF(FromEvoM!AK549=\"y\",\"Y\",\"N\"))","v":""},{"$f":"IF(ISBLANK(FromEvoM!A549),\"\",Category_ID)","v":""},null,null,null,{"$f":"IF(ISBLANK(FromEvoM!AK549),\"\",FromEvoM!AK549)","v":""},{"$f":"IF(ISBLANK(FromEvoM!AM549),\"\",FromEvoM!AM549)","v":""},{"$f":"IF(ISBLANK(FromEvoM!AN549),\"\",FromEvoM!AN549)","v":""},{"$f":"IF(ISBLANK(FromEvoM!AL549),\"\",FromEvoM!AL549)","v":""},{"$f":"IF(ISBLANK(FromEvoM!A549),\"\",IF(AND(AF549=\"y\",AI549=1),\"Y\",\"N\"))","v":""},{"$f":"IF(ISBLANK(FromEvoM!A549),\"\",IF(FromEvoM!AS549=\"Yes\",2,1))","v":""},{"$f":"IF(FromEvoM!W549=1,\"M\",IF(FromEvoM!W549=7,\"W\",\"\"))","v":""},{"$f":"IF(AJ549=\"Y\",0,IF(AJ549=\"N\",FromEvoM!AF549+FromEvoM!AT549,\"\"))","v":""},{"$f":"IF(AJ549=\"Y\",(FromEvoM!AE549+FromEvoM!AF549-FromEvoM!AT549),IF(AJ549=\"N\",FromEvoM!AE549,\"\"))","v":""}]
[{"$f":"IF(ISBLANK(FromEvoM!A550),\"\",Group_Code)","v":""},{"$f":"IF(ISBLANK(FromEvoM!A550),\"\",SUBSTITUTE(FromEvoM!A550,\" \",\"\"))","v":""},{"$f":"IF(ISBLANK(FromEvoM!C550),\"\",SUBSTITUTE(FromEvoM!G550,\" \",\"\"))","v":""},{"$f":"IF(ISBLANK(FromEvoM!D550),\"\",FromEvoM!B550)","v":""},{"$f":"IF(ISBLANK(FromEvoM!D550),\"\",FromEvoM!D550)","v":""},{"$f":"IF(ISBLANK(FromEvoM!C550),\"\",FromEvoM!C550)","v":""},{"$f":"REPLACE(FromEvoM!F550,2,6, )","v":""},{"$f":"IF(ISNUMBER(FromEvoM!E550),FromEvoM!E550,\"\")","v":""},{"$f":"IF(ISBLANK(FromEvoM!I550),\"\",FromEvoM!I550)","v":""},{"$f":"IF(ISBLANK(FromEvoM!J550),\"\",FromEvoM!J550)","v":""},{"$f":"IF(ISBLANK(FromEvoM!K550),\"\",FromEvoM!K550)","v":""},{"$f":"IF(ISBLANK(FromEvoM!L550),\"\",FromEvoM!L550)","v":""},{"$f":"IF(ISBLANK(FromEvoM!M550),\"\",FromEvoM!M550)","v":""},{"$f":"IF(ISBLANK(FromEvoM!P550),\"\",FromEvoM!P550)","v":""},null,{"$f":"IF(ISNUMBER(FromEvoM!X550),FromEvoM!X550,\"\")","v":""},{"$f":"IF(ISNUMBER(FromEvoM!AB550),FromEvoM!AB550,\"\")","v":""},{"$f":"IF(ISNUMBER(FromEvoM!AA550),FromEvoM!AA550,\"\")","v":""},null,"","",null,null,{"$f":"IF(FromEvoM!W550=1,(FromEvoM!AB550*12),IF(FromEvoM!W550=7,(FromEvoM!AR550),\"\"))","v":""},null,null,{"$f":"IF(ISBLANK(FromEvoM!A550),\"\",IF(FromEvoM!AK550=\"y\",\"Y\",\"N\"))","v":""},{"$f":"IF(ISBLANK(FromEvoM!A550),\"\",Category_ID)","v":""},null,null,null,{"$f":"IF(ISBLANK(FromEvoM!AK550),\"\",FromEvoM!AK550)","v":""},{"$f":"IF(ISBLANK(FromEvoM!AM550),\"\",FromEvoM!AM550)","v":""},{"$f":"IF(ISBLANK(FromEvoM!AN550),\"\",FromEvoM!AN550)","v":""},{"$f":"IF(ISBLANK(FromEvoM!AL550),\"\",FromEvoM!AL550)","v":""},{"$f":"IF(ISBLANK(FromEvoM!A550),\"\",IF(AND(AF550=\"y\",AI550=1),\"Y\",\"N\"))","v":""},{"$f":"IF(ISBLANK(FromEvoM!A550),\"\",IF(FromEvoM!AS550=\"Yes\",2,1))","v":""},{"$f":"IF(FromEvoM!W550=1,\"M\",IF(FromEvoM!W550=7,\"W\",\"\"))","v":""},{"$f":"IF(AJ550=\"Y\",0,IF(AJ550=\"N\",FromEvoM!AF550+FromEvoM!AT550,\"\"))","v":""},{"$f":"IF(AJ550=\"Y\",(FromEvoM!AE550+FromEvoM!AF550-FromEvoM!AT550),IF(AJ550=\"N\",FromEvoM!AE550,\"\"))","v":""}]
[{"$f":"IF(ISBLANK(FromEvoM!A551),\"\",Group_Code)","v":""},{"$f":"IF(ISBLANK(FromEvoM!A551),\"\",SUBSTITUTE(FromEvoM!A551,\" \",\"\"))","v":""},{"$f":"IF(ISBLANK(FromEvoM!C551),\"\",SUBSTITUTE(FromEvoM!G551,\" \",\"\"))","v":""},{"$f":"IF(ISBLANK(FromEvoM!D551),\"\",FromEvoM!B551)","v":""},{"$f":"IF(ISBLANK(FromEvoM!D551),\"\",FromEvoM!D551)","v":""},{"$f":"IF(ISBLANK(FromEvoM!C551),\"\",FromEvoM!C551)","v":""},{"$f":"REPLACE(FromEvoM!F551,2,6, )","v":""},{"$f":"IF(ISNUMBER(FromEvoM!E551),FromEvoM!E551,\"\")","v":""},{"$f":"IF(ISBLANK(FromEvoM!I551),\"\",FromEvoM!I551)","v":""},{"$f":"IF(ISBLANK(FromEvoM!J551),\"\",FromEvoM!J551)","v":""},{"$f":"IF(ISBLANK(FromEvoM!K551),\"\",FromEvoM!K551)","v":""},{"$f":"IF(ISBLANK(FromEvoM!L551),\"\",FromEvoM!L551)","v":""},{"$f":"IF(ISBLANK(FromEvoM!M551),\"\",FromEvoM!M551)","v":""},{"$f":"IF(ISBLANK(FromEvoM!P551),\"\",FromEvoM!P551)","v":""},null,{"$f":"IF(ISNUMBER(FromEvoM!X551),FromEvoM!X551,\"\")","v":""},{"$f":"IF(ISNUMBER(FromEvoM!AB551),FromEvoM!AB551,\"\")","v":""},{"$f":"IF(ISNUMBER(FromEvoM!AA551),FromEvoM!AA551,\"\")","v":""},null,"","",null,null,{"$f":"IF(FromEvoM!W551=1,(FromEvoM!AB551*12),IF(FromEvoM!W551=7,(FromEvoM!AR551),\"\"))","v":""},null,null,{"$f":"IF(ISBLANK(FromEvoM!A551),\"\",IF(FromEvoM!AK551=\"y\",\"Y\",\"N\"))","v":""},{"$f":"IF(ISBLANK(FromEvoM!A551),\"\",Category_ID)","v":""},null,null,null,{"$f":"IF(ISBLANK(FromEvoM!AK551),\"\",FromEvoM!AK551)","v":""},{"$f":"IF(ISBLANK(FromEvoM!AM551),\"\",FromEvoM!AM551)","v":""},{"$f":"IF(ISBLANK(FromEvoM!AN551),\"\",FromEvoM!AN551)","v":""},{"$f":"IF(ISBLANK(FromEvoM!AL551),\"\",FromEvoM!AL551)","v":""},{"$f":"IF(ISBLANK(FromEvoM!A551),\"\",IF(AND(AF551=\"y\",AI551=1),\"Y\",\"N\"))","v":""},{"$f":"IF(ISBLANK(FromEvoM!A551),\"\",IF(FromEvoM!AS551=\"Yes\",2,1))","v":""},{"$f":"IF(FromEvoM!W551=1,\"M\",IF(FromEvoM!W551=7,\"W\",\"\"))","v":""},{"$f":"IF(AJ551=\"Y\",0,IF(AJ551=\"N\",FromEvoM!AF551+FromEvoM!AT551,\"\"))","v":""},{"$f":"IF(AJ551=\"Y\",(FromEvoM!AE551+FromEvoM!AF551-FromEvoM!AT551),IF(AJ551=\"N\",FromEvoM!AE551,\"\"))","v":""}]
[{"$f":"IF(ISBLANK(FromEvoM!A552),\"\",Group_Code)","v":""},{"$f":"IF(ISBLANK(FromEvoM!A552),\"\",SUBSTITUTE(FromEvoM!A552,\" \",\"\"))","v":""},{"$f":"IF(ISBLANK(FromEvoM!C552),\"\",SUBSTITUTE(FromEvoM!G552,\" \",\"\"))","v":""},{"$f":"IF(ISBLANK(FromEvoM!D552),\"\",FromEvoM!B552)","v":""},{"$f":"IF(ISBLANK(FromEvoM!D552),\"\",FromEvoM!D552)","v":""},{"$f":"IF(ISBLANK(FromEvoM!C552),\"\",FromEvoM!C552)","v":""},{"$f":"REPLACE(FromEvoM!F552,2,6, )","v":""},{"$f":"IF(ISNUMBER(FromEvoM!E552),FromEvoM!E552,\"\")","v":""},{"$f":"IF(ISBLANK(FromEvoM!I552),\"\",FromEvoM!I552)","v":""},{"$f":"IF(ISBLANK(FromEvoM!J552),\"\",FromEvoM!J552)","v":""},{"$f":"IF(ISBLANK(FromEvoM!K552),\"\",FromEvoM!K552)","v":""},{"$f":"IF(ISBLANK(FromEvoM!L552),\"\",FromEvoM!L552)","v":""},{"$f":"IF(ISBLANK(FromEvoM!M552),\"\",FromEvoM!M552)","v":""},{"$f":"IF(ISBLANK(FromEvoM!P552),\"\",FromEvoM!P552)","v":""},null,{"$f":"IF(ISNUMBER(FromEvoM!X552),FromEvoM!X552,\"\")","v":""},{"$f":"IF(ISNUMBER(FromEvoM!AB552),FromEvoM!AB552,\"\")","v":""},{"$f":"IF(ISNUMBER(FromEvoM!AA552),FromEvoM!AA552,\"\")","v":""},null,"","",null,null,{"$f":"IF(FromEvoM!W552=1,(FromEvoM!AB552*12),IF(FromEvoM!W552=7,(FromEvoM!AR552),\"\"))","v":""},null,null,{"$f":"IF(ISBLANK(FromEvoM!A552),\"\",IF(FromEvoM!AK552=\"y\",\"Y\",\"N\"))","v":""},{"$f":"IF(ISBLANK(FromEvoM!A552),\"\",Category_ID)","v":""},null,null,null,{"$f":"IF(ISBLANK(FromEvoM!AK552),\"\",FromEvoM!AK552)","v":""},{"$f":"IF(ISBLANK(FromEvoM!AM552),\"\",FromEvoM!AM552)","v":""},{"$f":"IF(ISBLANK(FromEvoM!AN552),\"\",FromEvoM!AN552)","v":""},{"$f":"IF(ISBLANK(FromEvoM!AL552),\"\",FromEvoM!AL552)","v":""},{"$f":"IF(ISBLANK(FromEvoM!A552),\"\",IF(AND(AF552=\"y\",AI552=1),\"Y\",\"N\"))","v":""},{"$f":"IF(ISBLANK(FromEvoM!A552),\"\",IF(FromEvoM!AS552=\"Yes\",2,1))","v":""},{"$f":"IF(FromEvoM!W552=1,\"M\",IF(FromEvoM!W552=7,\"W\",\"\"))","v":""},{"$f":"IF(AJ552=\"Y\",0,IF(AJ552=\"N\",FromEvoM!AF552+FromEvoM!AT552,\"\"))","v":""},{"$f":"IF(AJ552=\"Y\",(FromEvoM!AE552+FromEvoM!AF552-FromEvoM!AT552),IF(AJ552=\"N\",FromEvoM!AE552,\"\"))","v":""}]
[{"$f":"IF(ISBLANK(FromEvoM!A553),\"\",Group_Code)","v":""},{"$f":"IF(ISBLANK(FromEvoM!A553),\"\",SUBSTITUTE(FromEvoM!A553,\" \",\"\"))","v":""},{"$f":"IF(ISBLANK(FromEvoM!C553),\"\",SUBSTITUTE(FromEvoM!G553,\" \",\"\"))","v":""},{"$f":"IF(ISBLANK(FromEvoM!D553),\"\",FromEvoM!B553)","v":""},{"$f":"IF(ISBLANK(FromEvoM!D553),\"\",FromEvoM!D553)","v":""},{"$f":"IF(ISBLANK(FromEvoM!C553),\"\",FromEvoM!C553)","v":""},{"$f":"REPLACE(FromEvoM!F553,2,6, )","v":""},{"$f":"IF(ISNUMBER(FromEvoM!E553),FromEvoM!E553,\"\")","v":""},{"$f":"IF(ISBLANK(FromEvoM!I553),\"\",FromEvoM!I553)","v":""},{"$f":"IF(ISBLANK(FromEvoM!J553),\"\",FromEvoM!J553)","v":""},{"$f":"IF(ISBLANK(FromEvoM!K553),\"\",FromEvoM!K553)","v":""},{"$f":"IF(ISBLANK(FromEvoM!L553),\"\",FromEvoM!L553)","v":""},{"$f":"IF(ISBLANK(FromEvoM!M553),\"\",FromEvoM!M553)","v":""},{"$f":"IF(ISBLANK(FromEvoM!P553),\"\",FromEvoM!P553)","v":""},null,{"$f":"IF(ISNUMBER(FromEvoM!X553),FromEvoM!X553,\"\")","v":""},{"$f":"IF(ISNUMBER(FromEvoM!AB553),FromEvoM!AB553,\"\")","v":""},{"$f":"IF(ISNUMBER(FromEvoM!AA553),FromEvoM!AA553,\"\")","v":""},null,"","",null,null,{"$f":"IF(FromEvoM!W553=1,(FromEvoM!AB553*12),IF(FromEvoM!W553=7,(FromEvoM!AR553),\"\"))","v":""},null,null,{"$f":"IF(ISBLANK(FromEvoM!A553),\"\",IF(FromEvoM!AK553=\"y\",\"Y\",\"N\"))","v":""},{"$f":"IF(ISBLANK(FromEvoM!A553),\"\",Category_ID)","v":""},null,null,null,{"$f":"IF(ISBLANK(FromEvoM!AK553),\"\",FromEvoM!AK553)","v":""},{"$f":"IF(ISBLANK(FromEvoM!AM553),\"\",FromEvoM!AM553)","v":""},{"$f":"IF(ISBLANK(FromEvoM!AN553),\"\",FromEvoM!AN553)","v":""},{"$f":"IF(ISBLANK(FromEvoM!AL553),\"\",FromEvoM!AL553)","v":""},{"$f":"IF(ISBLANK(FromEvoM!A553),\"\",IF(AND(AF553=\"y\",AI553=1),\"Y\",\"N\"))","v":""},{"$f":"IF(ISBLANK(FromEvoM!A553),\"\",IF(FromEvoM!AS553=\"Yes\",2,1))","v":""},{"$f":"IF(FromEvoM!W553=1,\"M\",IF(FromEvoM!W553=7,\"W\",\"\"))","v":""},{"$f":"IF(AJ553=\"Y\",0,IF(AJ553=\"N\",FromEvoM!AF553+FromEvoM!AT553,\"\"))","v":""},{"$f":"IF(AJ553=\"Y\",(FromEvoM!AE553+FromEvoM!AF553-FromEvoM!AT553),IF(AJ553=\"N\",FromEvoM!AE553,\"\"))","v":""}]
[{"$f":"IF(ISBLANK(FromEvoM!A554),\"\",Group_Code)","v":""},{"$f":"IF(ISBLANK(FromEvoM!A554),\"\",SUBSTITUTE(FromEvoM!A554,\" \",\"\"))","v":""},{"$f":"IF(ISBLANK(FromEvoM!C554),\"\",SUBSTITUTE(FromEvoM!G554,\" \",\"\"))","v":""},{"$f":"IF(ISBLANK(FromEvoM!D554),\"\",FromEvoM!B554)","v":""},{"$f":"IF(ISBLANK(FromEvoM!D554),\"\",FromEvoM!D554)","v":""},{"$f":"IF(ISBLANK(FromEvoM!C554),\"\",FromEvoM!C554)","v":""},{"$f":"REPLACE(FromEvoM!F554,2,6, )","v":""},{"$f":"IF(ISNUMBER(FromEvoM!E554),FromEvoM!E554,\"\")","v":""},{"$f":"IF(ISBLANK(FromEvoM!I554),\"\",FromEvoM!I554)","v":""},{"$f":"IF(ISBLANK(FromEvoM!J554),\"\",FromEvoM!J554)","v":""},{"$f":"IF(ISBLANK(FromEvoM!K554),\"\",FromEvoM!K554)","v":""},{"$f":"IF(ISBLANK(FromEvoM!L554),\"\",FromEvoM!L554)","v":""},{"$f":"IF(ISBLANK(FromEvoM!M554),\"\",FromEvoM!M554)","v":""},{"$f":"IF(ISBLANK(FromEvoM!P554),\"\",FromEvoM!P554)","v":""},null,{"$f":"IF(ISNUMBER(FromEvoM!X554),FromEvoM!X554,\"\")","v":""},{"$f":"IF(ISNUMBER(FromEvoM!AB554),FromEvoM!AB554,\"\")","v":""},{"$f":"IF(ISNUMBER(FromEvoM!AA554),FromEvoM!AA554,\"\")","v":""},null,"","",null,null,{"$f":"IF(FromEvoM!W554=1,(FromEvoM!AB554*12),IF(FromEvoM!W554=7,(FromEvoM!AR554),\"\"))","v":""},null,null,{"$f":"IF(ISBLANK(FromEvoM!A554),\"\",IF(FromEvoM!AK554=\"y\",\"Y\",\"N\"))","v":""},{"$f":"IF(ISBLANK(FromEvoM!A554),\"\",Category_ID)","v":""},null,null,null,{"$f":"IF(ISBLANK(FromEvoM!AK554),\"\",FromEvoM!AK554)","v":""},{"$f":"IF(ISBLANK(FromEvoM!AM554),\"\",FromEvoM!AM554)","v":""},{"$f":"IF(ISBLANK(FromEvoM!AN554),\"\",FromEvoM!AN554)","v":""},{"$f":"IF(ISBLANK(FromEvoM!AL554),\"\",FromEvoM!AL554)","v":""},{"$f":"IF(ISBLANK(FromEvoM!A554),\"\",IF(AND(AF554=\"y\",AI554=1),\"Y\",\"N\"))","v":""},{"$f":"IF(ISBLANK(FromEvoM!A554),\"\",IF(FromEvoM!AS554=\"Yes\",2,1))","v":""},{"$f":"IF(FromEvoM!W554=1,\"M\",IF(FromEvoM!W554=7,\"W\",\"\"))","v":""},{"$f":"IF(AJ554=\"Y\",0,IF(AJ554=\"N\",FromEvoM!AF554+FromEvoM!AT554,\"\"))","v":""},{"$f":"IF(AJ554=\"Y\",(FromEvoM!AE554+FromEvoM!AF554-FromEvoM!AT554),IF(AJ554=\"N\",FromEvoM!AE554,\"\"))","v":""}]
[{"$f":"IF(ISBLANK(FromEvoM!A555),\"\",Group_Code)","v":""},{"$f":"IF(ISBLANK(FromEvoM!A555),\"\",SUBSTITUTE(FromEvoM!A555,\" \",\"\"))","v":""},{"$f":"IF(ISBLANK(FromEvoM!C555),\"\",SUBSTITUTE(FromEvoM!G555,\" \",\"\"))","v":""},{"$f":"IF(ISBLANK(FromEvoM!D555),\"\",FromEvoM!B555)","v":""},{"$f":"IF(ISBLANK(FromEvoM!D555),\"\",FromEvoM!D555)","v":""},{"$f":"IF(ISBLANK(FromEvoM!C555),\"\",FromEvoM!C555)","v":""},{"$f":"REPLACE(FromEvoM!F555,2,6, )","v":""},{"$f":"IF(ISNUMBER(FromEvoM!E555),FromEvoM!E555,\"\")","v":""},{"$f":"IF(ISBLANK(FromEvoM!I555),\"\",FromEvoM!I555)","v":""},{"$f":"IF(ISBLANK(FromEvoM!J555),\"\",FromEvoM!J555)","v":""},{"$f":"IF(ISBLANK(FromEvoM!K555),\"\",FromEvoM!K555)","v":""},{"$f":"IF(ISBLANK(FromEvoM!L555),\"\",FromEvoM!L555)","v":""},{"$f":"IF(ISBLANK(FromEvoM!M555),\"\",FromEvoM!M555)","v":""},{"$f":"IF(ISBLANK(FromEvoM!P555),\"\",FromEvoM!P555)","v":""},null,{"$f":"IF(ISNUMBER(FromEvoM!X555),FromEvoM!X555,\"\")","v":""},{"$f":"IF(ISNUMBER(FromEvoM!AB555),FromEvoM!AB555,\"\")","v":""},{"$f":"IF(ISNUMBER(FromEvoM!AA555),FromEvoM!AA555,\"\")","v":""},null,"","",null,null,{"$f":"IF(FromEvoM!W555=1,(FromEvoM!AB555*12),IF(FromEvoM!W555=7,(FromEvoM!AR555),\"\"))","v":""},null,null,{"$f":"IF(ISBLANK(FromEvoM!A555),\"\",IF(FromEvoM!AK555=\"y\",\"Y\",\"N\"))","v":""},{"$f":"IF(ISBLANK(FromEvoM!A555),\"\",Category_ID)","v":""},null,null,null,{"$f":"IF(ISBLANK(FromEvoM!AK555),\"\",FromEvoM!AK555)","v":""},{"$f":"IF(ISBLANK(FromEvoM!AM555),\"\",FromEvoM!AM555)","v":""},{"$f":"IF(ISBLANK(FromEvoM!AN555),\"\",FromEvoM!AN555)","v":""},{"$f":"IF(ISBLANK(FromEvoM!AL555),\"\",FromEvoM!AL555)","v":""},{"$f":"IF(ISBLANK(FromEvoM!A555),\"\",IF(AND(AF555=\"y\",AI555=1),\"Y\",\"N\"))","v":""},{"$f":"IF(ISBLANK(FromEvoM!A555),\"\",IF(FromEvoM!AS555=\"Yes\",2,1))","v":""},{"$f":"IF(FromEvoM!W555=1,\"M\",IF(FromEvoM!W555=7,\"W\",\"\"))","v":""},{"$f":"IF(AJ555=\"Y\",0,IF(AJ555=\"N\",FromEvoM!AF555+FromEvoM!AT555,\"\"))","v":""},{"$f":"IF(AJ555=\"Y\",(FromEvoM!AE555+FromEvoM!AF555-FromEvoM!AT555),IF(AJ555=\"N\",FromEvoM!AE555,\"\"))","v":""}]
[{"$f":"IF(ISBLANK(FromEvoM!A556),\"\",Group_Code)","v":""},{"$f":"IF(ISBLANK(FromEvoM!A556),\"\",SUBSTITUTE(FromEvoM!A556,\" \",\"\"))","v":""},{"$f":"IF(ISBLANK(FromEvoM!C556),\"\",SUBSTITUTE(FromEvoM!G556,\" \",\"\"))","v":""},{"$f":"IF(ISBLANK(FromEvoM!D556),\"\",FromEvoM!B556)","v":""},{"$f":"IF(ISBLANK(FromEvoM!D556),\"\",FromEvoM!D556)","v":""},{"$f":"IF(ISBLANK(FromEvoM!C556),\"\",FromEvoM!C556)","v":""},{"$f":"REPLACE(FromEvoM!F556,2,6, )","v":""},{"$f":"IF(ISNUMBER(FromEvoM!E556),FromEvoM!E556,\"\")","v":""},{"$f":"IF(ISBLANK(FromEvoM!I556),\"\",FromEvoM!I556)","v":""},{"$f":"IF(ISBLANK(FromEvoM!J556),\"\",FromEvoM!J556)","v":""},{"$f":"IF(ISBLANK(FromEvoM!K556),\"\",FromEvoM!K556)","v":""},{"$f":"IF(ISBLANK(FromEvoM!L556),\"\",FromEvoM!L556)","v":""},{"$f":"IF(ISBLANK(FromEvoM!M556),\"\",FromEvoM!M556)","v":""},{"$f":"IF(ISBLANK(FromEvoM!P556),\"\",FromEvoM!P556)","v":""},null,{"$f":"IF(ISNUMBER(FromEvoM!X556),FromEvoM!X556,\"\")","v":""},{"$f":"IF(ISNUMBER(FromEvoM!AB556),FromEvoM!AB556,\"\")","v":""},{"$f":"IF(ISNUMBER(FromEvoM!AA556),FromEvoM!AA556,\"\")","v":""},null,"","",null,null,{"$f":"IF(FromEvoM!W556=1,(FromEvoM!AB556*12),IF(FromEvoM!W556=7,(FromEvoM!AR556),\"\"))","v":""},null,null,{"$f":"IF(ISBLANK(FromEvoM!A556),\"\",IF(FromEvoM!AK556=\"y\",\"Y\",\"N\"))","v":""},{"$f":"IF(ISBLANK(FromEvoM!A556),\"\",Category_ID)","v":""},null,null,null,{"$f":"IF(ISBLANK(FromEvoM!AK556),\"\",FromEvoM!AK556)","v":""},{"$f":"IF(ISBLANK(FromEvoM!AM556),\"\",FromEvoM!AM556)","v":""},{"$f":"IF(ISBLANK(FromEvoM!AN556),\"\",FromEvoM!AN556)","v":""},{"$f":"IF(ISBLANK(FromEvoM!AL556),\"\",FromEvoM!AL556)","v":""},{"$f":"IF(ISBLANK(FromEvoM!A556),\"\",IF(AND(AF556=\"y\",AI556=1),\"Y\",\"N\"))","v":""},{"$f":"IF(ISBLANK(FromEvoM!A556),\"\",IF(FromEvoM!AS556=\"Yes\",2,1))","v":""},{"$f":"IF(FromEvoM!W556=1,\"M\",IF(FromEvoM!W556=7,\"W\",\"\"))","v":""},{"$f":"IF(AJ556=\"Y\",0,IF(AJ556=\"N\",FromEvoM!AF556+FromEvoM!AT556,\"\"))","v":""},{"$f":"IF(AJ556=\"Y\",(FromEvoM!AE556+FromEvoM!AF556-FromEvoM!AT556),IF(AJ556=\"N\",FromEvoM!AE556,\"\"))","v":""}]
[{"$f":"IF(ISBLANK(FromEvoM!A557),\"\",Group_Code)","v":""},{"$f":"IF(ISBLANK(FromEvoM!A557),\"\",SUBSTITUTE(FromEvoM!A557,\" \",\"\"))","v":""},{"$f":"IF(ISBLANK(FromEvoM!C557),\"\",SUBSTITUTE(FromEvoM!G557,\" \",\"\"))","v":""},{"$f":"IF(ISBLANK(FromEvoM!D557),\"\",FromEvoM!B557)","v":""},{"$f":"IF(ISBLANK(FromEvoM!D557),\"\",FromEvoM!D557)","v":""},{"$f":"IF(ISBLANK(FromEvoM!C557),\"\",FromEvoM!C557)","v":""},{"$f":"REPLACE(FromEvoM!F557,2,6, )","v":""},{"$f":"IF(ISNUMBER(FromEvoM!E557),FromEvoM!E557,\"\")","v":""},{"$f":"IF(ISBLANK(FromEvoM!I557),\"\",FromEvoM!I557)","v":""},{"$f":"IF(ISBLANK(FromEvoM!J557),\"\",FromEvoM!J557)","v":""},{"$f":"IF(ISBLANK(FromEvoM!K557),\"\",FromEvoM!K557)","v":""},{"$f":"IF(ISBLANK(FromEvoM!L557),\"\",FromEvoM!L557)","v":""},{"$f":"IF(ISBLANK(FromEvoM!M557),\"\",FromEvoM!M557)","v":""},{"$f":"IF(ISBLANK(FromEvoM!P557),\"\",FromEvoM!P557)","v":""},null,{"$f":"IF(ISNUMBER(FromEvoM!X557),FromEvoM!X557,\"\")","v":""},{"$f":"IF(ISNUMBER(FromEvoM!AB557),FromEvoM!AB557,\"\")","v":""},{"$f":"IF(ISNUMBER(FromEvoM!AA557),FromEvoM!AA557,\"\")","v":""},null,"","",null,null,{"$f":"IF(FromEvoM!W557=1,(FromEvoM!AB557*12),IF(FromEvoM!W557=7,(FromEvoM!AR557),\"\"))","v":""},null,null,{"$f":"IF(ISBLANK(FromEvoM!A557),\"\",IF(FromEvoM!AK557=\"y\",\"Y\",\"N\"))","v":""},{"$f":"IF(ISBLANK(FromEvoM!A557),\"\",Category_ID)","v":""},null,null,null,{"$f":"IF(ISBLANK(FromEvoM!AK557),\"\",FromEvoM!AK557)","v":""},{"$f":"IF(ISBLANK(FromEvoM!AM557),\"\",FromEvoM!AM557)","v":""},{"$f":"IF(ISBLANK(FromEvoM!AN557),\"\",FromEvoM!AN557)","v":""},{"$f":"IF(ISBLANK(FromEvoM!AL557),\"\",FromEvoM!AL557)","v":""},{"$f":"IF(ISBLANK(FromEvoM!A557),\"\",IF(AND(AF557=\"y\",AI557=1),\"Y\",\"N\"))","v":""},{"$f":"IF(ISBLANK(FromEvoM!A557),\"\",IF(FromEvoM!AS557=\"Yes\",2,1))","v":""},{"$f":"IF(FromEvoM!W557=1,\"M\",IF(FromEvoM!W557=7,\"W\",\"\"))","v":""},{"$f":"IF(AJ557=\"Y\",0,IF(AJ557=\"N\",FromEvoM!AF557+FromEvoM!AT557,\"\"))","v":""},{"$f":"IF(AJ557=\"Y\",(FromEvoM!AE557+FromEvoM!AF557-FromEvoM!AT557),IF(AJ557=\"N\",FromEvoM!AE557,\"\"))","v":""}]
[{"$f":"IF(ISBLANK(FromEvoM!A558),\"\",Group_Code)","v":""},{"$f":"IF(ISBLANK(FromEvoM!A558),\"\",SUBSTITUTE(FromEvoM!A558,\" \",\"\"))","v":""},{"$f":"IF(ISBLANK(FromEvoM!C558),\"\",SUBSTITUTE(FromEvoM!G558,\" \",\"\"))","v":""},{"$f":"IF(ISBLANK(FromEvoM!D558),\"\",FromEvoM!B558)","v":""},{"$f":"IF(ISBLANK(FromEvoM!D558),\"\",FromEvoM!D558)","v":""},{"$f":"IF(ISBLANK(FromEvoM!C558),\"\",FromEvoM!C558)","v":""},{"$f":"REPLACE(FromEvoM!F558,2,6, )","v":""},{"$f":"IF(ISNUMBER(FromEvoM!E558),FromEvoM!E558,\"\")","v":""},{"$f":"IF(ISBLANK(FromEvoM!I558),\"\",FromEvoM!I558)","v":""},{"$f":"IF(ISBLANK(FromEvoM!J558),\"\",FromEvoM!J558)","v":""},{"$f":"IF(ISBLANK(FromEvoM!K558),\"\",FromEvoM!K558)","v":""},{"$f":"IF(ISBLANK(FromEvoM!L558),\"\",FromEvoM!L558)","v":""},{"$f":"IF(ISBLANK(FromEvoM!M558),\"\",FromEvoM!M558)","v":""},{"$f":"IF(ISBLANK(FromEvoM!P558),\"\",FromEvoM!P558)","v":""},null,{"$f":"IF(ISNUMBER(FromEvoM!X558),FromEvoM!X558,\"\")","v":""},{"$f":"IF(ISNUMBER(FromEvoM!AB558),FromEvoM!AB558,\"\")","v":""},{"$f":"IF(ISNUMBER(FromEvoM!AA558),FromEvoM!AA558,\"\")","v":""},null,"","",null,null,{"$f":"IF(FromEvoM!W558=1,(FromEvoM!AB558*12),IF(FromEvoM!W558=7,(FromEvoM!AR558),\"\"))","v":""},null,null,{"$f":"IF(ISBLANK(FromEvoM!A558),\"\",IF(FromEvoM!AK558=\"y\",\"Y\",\"N\"))","v":""},{"$f":"IF(ISBLANK(FromEvoM!A558),\"\",Category_ID)","v":""},null,null,null,{"$f":"IF(ISBLANK(FromEvoM!AK558),\"\",FromEvoM!AK558)","v":""},{"$f":"IF(ISBLANK(FromEvoM!AM558),\"\",FromEvoM!AM558)","v":""},{"$f":"IF(ISBLANK(FromEvoM!AN558),\"\",FromEvoM!AN558)","v":""},{"$f":"IF(ISBLANK(FromEvoM!AL558),\"\",FromEvoM!AL558)","v":""},{"$f":"IF(ISBLANK(FromEvoM!A558),\"\",IF(AND(AF558=\"y\",AI558=1),\"Y\",\"N\"))","v":""},{"$f":"IF(ISBLANK(FromEvoM!A558),\"\",IF(FromEvoM!AS558=\"Yes\",2,1))","v":""},{"$f":"IF(FromEvoM!W558=1,\"M\",IF(FromEvoM!W558=7,\"W\",\"\"))","v":""},{"$f":"IF(AJ558=\"Y\",0,IF(AJ558=\"N\",FromEvoM!AF558+FromEvoM!AT558,\"\"))","v":""},{"$f":"IF(AJ558=\"Y\",(FromEvoM!AE558+FromEvoM!AF558-FromEvoM!AT558),IF(AJ558=\"N\",FromEvoM!AE558,\"\"))","v":""}]
[{"$f":"IF(ISBLANK(FromEvoM!A559),\"\",Group_Code)","v":""},{"$f":"IF(ISBLANK(FromEvoM!A559),\"\",SUBSTITUTE(FromEvoM!A559,\" \",\"\"))","v":""},{"$f":"IF(ISBLANK(FromEvoM!C559),\"\",SUBSTITUTE(FromEvoM!G559,\" \",\"\"))","v":""},{"$f":"IF(ISBLANK(FromEvoM!D559),\"\",FromEvoM!B559)","v":""},{"$f":"IF(ISBLANK(FromEvoM!D559),\"\",FromEvoM!D559)","v":""},{"$f":"IF(ISBLANK(FromEvoM!C559),\"\",FromEvoM!C559)","v":""},{"$f":"REPLACE(FromEvoM!F559,2,6, )","v":""},{"$f":"IF(ISNUMBER(FromEvoM!E559),FromEvoM!E559,\"\")","v":""},{"$f":"IF(ISBLANK(FromEvoM!I559),\"\",FromEvoM!I559)","v":""},{"$f":"IF(ISBLANK(FromEvoM!J559),\"\",FromEvoM!J559)","v":""},{"$f":"IF(ISBLANK(FromEvoM!K559),\"\",FromEvoM!K559)","v":""},{"$f":"IF(ISBLANK(FromEvoM!L559),\"\",FromEvoM!L559)","v":""},{"$f":"IF(ISBLANK(FromEvoM!M559),\"\",FromEvoM!M559)","v":""},{"$f":"IF(ISBLANK(FromEvoM!P559),\"\",FromEvoM!P559)","v":""},null,{"$f":"IF(ISNUMBER(FromEvoM!X559),FromEvoM!X559,\"\")","v":""},{"$f":"IF(ISNUMBER(FromEvoM!AB559),FromEvoM!AB559,\"\")","v":""},{"$f":"IF(ISNUMBER(FromEvoM!AA559),FromEvoM!AA559,\"\")","v":""},null,"","",null,null,{"$f":"IF(FromEvoM!W559=1,(FromEvoM!AB559*12),IF(FromEvoM!W559=7,(FromEvoM!AR559),\"\"))","v":""},null,null,{"$f":"IF(ISBLANK(FromEvoM!A559),\"\",IF(FromEvoM!AK559=\"y\",\"Y\",\"N\"))","v":""},{"$f":"IF(ISBLANK(FromEvoM!A559),\"\",Category_ID)","v":""},null,null,null,{"$f":"IF(ISBLANK(FromEvoM!AK559),\"\",FromEvoM!AK559)","v":""},{"$f":"IF(ISBLANK(FromEvoM!AM559),\"\",FromEvoM!AM559)","v":""},{"$f":"IF(ISBLANK(FromEvoM!AN559),\"\",FromEvoM!AN559)","v":""},{"$f":"IF(ISBLANK(FromEvoM!AL559),\"\",FromEvoM!AL559)","v":""},{"$f":"IF(ISBLANK(FromEvoM!A559),\"\",IF(AND(AF559=\"y\",AI559=1),\"Y\",\"N\"))","v":""},{"$f":"IF(ISBLANK(FromEvoM!A559),\"\",IF(FromEvoM!AS559=\"Yes\",2,1))","v":""},{"$f":"IF(FromEvoM!W559=1,\"M\",IF(FromEvoM!W559=7,\"W\",\"\"))","v":""},{"$f":"IF(AJ559=\"Y\",0,IF(AJ559=\"N\",FromEvoM!AF559+FromEvoM!AT559,\"\"))","v":""},{"$f":"IF(AJ559=\"Y\",(FromEvoM!AE559+FromEvoM!AF559-FromEvoM!AT559),IF(AJ559=\"N\",FromEvoM!AE559,\"\"))","v":""}]
[{"$f":"IF(ISBLANK(FromEvoM!A560),\"\",Group_Code)","v":""},{"$f":"IF(ISBLANK(FromEvoM!A560),\"\",SUBSTITUTE(FromEvoM!A560,\" \",\"\"))","v":""},{"$f":"IF(ISBLANK(FromEvoM!C560),\"\",SUBSTITUTE(FromEvoM!G560,\" \",\"\"))","v":""},{"$f":"IF(ISBLANK(FromEvoM!D560),\"\",FromEvoM!B560)","v":""},{"$f":"IF(ISBLANK(FromEvoM!D560),\"\",FromEvoM!D560)","v":""},{"$f":"IF(ISBLANK(FromEvoM!C560),\"\",FromEvoM!C560)","v":""},{"$f":"REPLACE(FromEvoM!F560,2,6, )","v":""},{"$f":"IF(ISNUMBER(FromEvoM!E560),FromEvoM!E560,\"\")","v":""},{"$f":"IF(ISBLANK(FromEvoM!I560),\"\",FromEvoM!I560)","v":""},{"$f":"IF(ISBLANK(FromEvoM!J560),\"\",FromEvoM!J560)","v":""},{"$f":"IF(ISBLANK(FromEvoM!K560),\"\",FromEvoM!K560)","v":""},{"$f":"IF(ISBLANK(FromEvoM!L560),\"\",FromEvoM!L560)","v":""},{"$f":"IF(ISBLANK(FromEvoM!M560),\"\",FromEvoM!M560)","v":""},{"$f":"IF(ISBLANK(FromEvoM!P560),\"\",FromEvoM!P560)","v":""},null,{"$f":"IF(ISNUMBER(FromEvoM!X560),FromEvoM!X560,\"\")","v":""},{"$f":"IF(ISNUMBER(FromEvoM!AB560),FromEvoM!AB560,\"\")","v":""},{"$f":"IF(ISNUMBER(FromEvoM!AA560),FromEvoM!AA560,\"\")","v":""},null,"","",null,null,{"$f":"IF(FromEvoM!W560=1,(FromEvoM!AB560*12),IF(FromEvoM!W560=7,(FromEvoM!AR560),\"\"))","v":""},null,null,{"$f":"IF(ISBLANK(FromEvoM!A560),\"\",IF(FromEvoM!AK560=\"y\",\"Y\",\"N\"))","v":""},{"$f":"IF(ISBLANK(FromEvoM!A560),\"\",Category_ID)","v":""},null,null,null,{"$f":"IF(ISBLANK(FromEvoM!AK560),\"\",FromEvoM!AK560)","v":""},{"$f":"IF(ISBLANK(FromEvoM!AM560),\"\",FromEvoM!AM560)","v":""},{"$f":"IF(ISBLANK(FromEvoM!AN560),\"\",FromEvoM!AN560)","v":""},{"$f":"IF(ISBLANK(FromEvoM!AL560),\"\",FromEvoM!AL560)","v":""},{"$f":"IF(ISBLANK(FromEvoM!A560),\"\",IF(AND(AF560=\"y\",AI560=1),\"Y\",\"N\"))","v":""},{"$f":"IF(ISBLANK(FromEvoM!A560),\"\",IF(FromEvoM!AS560=\"Yes\",2,1))","v":""},{"$f":"IF(FromEvoM!W560=1,\"M\",IF(FromEvoM!W560=7,\"W\",\"\"))","v":""},{"$f":"IF(AJ560=\"Y\",0,IF(AJ560=\"N\",FromEvoM!AF560+FromEvoM!AT560,\"\"))","v":""},{"$f":"IF(AJ560=\"Y\",(FromEvoM!AE560+FromEvoM!AF560-FromEvoM!AT560),IF(AJ560=\"N\",FromEvoM!AE560,\"\"))","v":""}]
[{"$f":"IF(ISBLANK(FromEvoM!A561),\"\",Group_Code)","v":""},{"$f":"IF(ISBLANK(FromEvoM!A561),\"\",SUBSTITUTE(FromEvoM!A561,\" \",\"\"))","v":""},{"$f":"IF(ISBLANK(FromEvoM!C561),\"\",SUBSTITUTE(FromEvoM!G561,\" \",\"\"))","v":""},{"$f":"IF(ISBLANK(FromEvoM!D561),\"\",FromEvoM!B561)","v":""},{"$f":"IF(ISBLANK(FromEvoM!D561),\"\",FromEvoM!D561)","v":""},{"$f":"IF(ISBLANK(FromEvoM!C561),\"\",FromEvoM!C561)","v":""},{"$f":"REPLACE(FromEvoM!F561,2,6, )","v":""},{"$f":"IF(ISNUMBER(FromEvoM!E561),FromEvoM!E561,\"\")","v":""},{"$f":"IF(ISBLANK(FromEvoM!I561),\"\",FromEvoM!I561)","v":""},{"$f":"IF(ISBLANK(FromEvoM!J561),\"\",FromEvoM!J561)","v":""},{"$f":"IF(ISBLANK(FromEvoM!K561),\"\",FromEvoM!K561)","v":""},{"$f":"IF(ISBLANK(FromEvoM!L561),\"\",FromEvoM!L561)","v":""},{"$f":"IF(ISBLANK(FromEvoM!M561),\"\",FromEvoM!M561)","v":""},{"$f":"IF(ISBLANK(FromEvoM!P561),\"\",FromEvoM!P561)","v":""},null,{"$f":"IF(ISNUMBER(FromEvoM!X561),FromEvoM!X561,\"\")","v":""},{"$f":"IF(ISNUMBER(FromEvoM!AB561),FromEvoM!AB561,\"\")","v":""},{"$f":"IF(ISNUMBER(FromEvoM!AA561),FromEvoM!AA561,\"\")","v":""},null,"","",null,null,{"$f":"IF(FromEvoM!W561=1,(FromEvoM!AB561*12),IF(FromEvoM!W561=7,(FromEvoM!AR561),\"\"))","v":""},null,null,{"$f":"IF(ISBLANK(FromEvoM!A561),\"\",IF(FromEvoM!AK561=\"y\",\"Y\",\"N\"))","v":""},{"$f":"IF(ISBLANK(FromEvoM!A561),\"\",Category_ID)","v":""},null,null,null,{"$f":"IF(ISBLANK(FromEvoM!AK561),\"\",FromEvoM!AK561)","v":""},{"$f":"IF(ISBLANK(FromEvoM!AM561),\"\",FromEvoM!AM561)","v":""},{"$f":"IF(ISBLANK(FromEvoM!AN561),\"\",FromEvoM!AN561)","v":""},{"$f":"IF(ISBLANK(FromEvoM!AL561),\"\",FromEvoM!AL561)","v":""},{"$f":"IF(ISBLANK(FromEvoM!A561),\"\",IF(AND(AF561=\"y\",AI561=1),\"Y\",\"N\"))","v":""},{"$f":"IF(ISBLANK(FromEvoM!A561),\"\",IF(FromEvoM!AS561=\"Yes\",2,1))","v":""},{"$f":"IF(FromEvoM!W561=1,\"M\",IF(FromEvoM!W561=7,\"W\",\"\"))","v":""},{"$f":"IF(AJ561=\"Y\",0,IF(AJ561=\"N\",FromEvoM!AF561+FromEvoM!AT561,\"\"))","v":""},{"$f":"IF(AJ561=\"Y\",(FromEvoM!AE561+FromEvoM!AF561-FromEvoM!AT561),IF(AJ561=\"N\",FromEvoM!AE561,\"\"))","v":""}]
[{"$f":"IF(ISBLANK(FromEvoM!A562),\"\",Group_Code)","v":""},{"$f":"IF(ISBLANK(FromEvoM!A562),\"\",SUBSTITUTE(FromEvoM!A562,\" \",\"\"))","v":""},{"$f":"IF(ISBLANK(FromEvoM!C562),\"\",SUBSTITUTE(FromEvoM!G562,\" \",\"\"))","v":""},{"$f":"IF(ISBLANK(FromEvoM!D562),\"\",FromEvoM!B562)","v":""},{"$f":"IF(ISBLANK(FromEvoM!D562),\"\",FromEvoM!D562)","v":""},{"$f":"IF(ISBLANK(FromEvoM!C562),\"\",FromEvoM!C562)","v":""},{"$f":"REPLACE(FromEvoM!F562,2,6, )","v":""},{"$f":"IF(ISNUMBER(FromEvoM!E562),FromEvoM!E562,\"\")","v":""},{"$f":"IF(ISBLANK(FromEvoM!I562),\"\",FromEvoM!I562)","v":""},{"$f":"IF(ISBLANK(FromEvoM!J562),\"\",FromEvoM!J562)","v":""},{"$f":"IF(ISBLANK(FromEvoM!K562),\"\",FromEvoM!K562)","v":""},{"$f":"IF(ISBLANK(FromEvoM!L562),\"\",FromEvoM!L562)","v":""},{"$f":"IF(ISBLANK(FromEvoM!M562),\"\",FromEvoM!M562)","v":""},{"$f":"IF(ISBLANK(FromEvoM!P562),\"\",FromEvoM!P562)","v":""},null,{"$f":"IF(ISNUMBER(FromEvoM!X562),FromEvoM!X562,\"\")","v":""},{"$f":"IF(ISNUMBER(FromEvoM!AB562),FromEvoM!AB562,\"\")","v":""},{"$f":"IF(ISNUMBER(FromEvoM!AA562),FromEvoM!AA562,\"\")","v":""},null,"","",null,null,{"$f":"IF(FromEvoM!W562=1,(FromEvoM!AB562*12),IF(FromEvoM!W562=7,(FromEvoM!AR562),\"\"))","v":""},null,null,{"$f":"IF(ISBLANK(FromEvoM!A562),\"\",IF(FromEvoM!AK562=\"y\",\"Y\",\"N\"))","v":""},{"$f":"IF(ISBLANK(FromEvoM!A562),\"\",Category_ID)","v":""},null,null,null,{"$f":"IF(ISBLANK(FromEvoM!AK562),\"\",FromEvoM!AK562)","v":""},{"$f":"IF(ISBLANK(FromEvoM!AM562),\"\",FromEvoM!AM562)","v":""},{"$f":"IF(ISBLANK(FromEvoM!AN562),\"\",FromEvoM!AN562)","v":""},{"$f":"IF(ISBLANK(FromEvoM!AL562),\"\",FromEvoM!AL562)","v":""},{"$f":"IF(ISBLANK(FromEvoM!A562),\"\",IF(AND(AF562=\"y\",AI562=1),\"Y\",\"N\"))","v":""},{"$f":"IF(ISBLANK(FromEvoM!A562),\"\",IF(FromEvoM!AS562=\"Yes\",2,1))","v":""},{"$f":"IF(FromEvoM!W562=1,\"M\",IF(FromEvoM!W562=7,\"W\",\"\"))","v":""},{"$f":"IF(AJ562=\"Y\",0,IF(AJ562=\"N\",FromEvoM!AF562+FromEvoM!AT562,\"\"))","v":""},{"$f":"IF(AJ562=\"Y\",(FromEvoM!AE562+FromEvoM!AF562-FromEvoM!AT562),IF(AJ562=\"N\",FromEvoM!AE562,\"\"))","v":""}]
[{"$f":"IF(ISBLANK(FromEvoM!A563),\"\",Group_Code)","v":""},{"$f":"IF(ISBLANK(FromEvoM!A563),\"\",SUBSTITUTE(FromEvoM!A563,\" \",\"\"))","v":""},{"$f":"IF(ISBLANK(FromEvoM!C563),\"\",SUBSTITUTE(FromEvoM!G563,\" \",\"\"))","v":""},{"$f":"IF(ISBLANK(FromEvoM!D563),\"\",FromEvoM!B563)","v":""},{"$f":"IF(ISBLANK(FromEvoM!D563),\"\",FromEvoM!D563)","v":""},{"$f":"IF(ISBLANK(FromEvoM!C563),\"\",FromEvoM!C563)","v":""},{"$f":"REPLACE(FromEvoM!F563,2,6, )","v":""},{"$f":"IF(ISNUMBER(FromEvoM!E563),FromEvoM!E563,\"\")","v":""},{"$f":"IF(ISBLANK(FromEvoM!I563),\"\",FromEvoM!I563)","v":""},{"$f":"IF(ISBLANK(FromEvoM!J563),\"\",FromEvoM!J563)","v":""},{"$f":"IF(ISBLANK(FromEvoM!K563),\"\",FromEvoM!K563)","v":""},{"$f":"IF(ISBLANK(FromEvoM!L563),\"\",FromEvoM!L563)","v":""},{"$f":"IF(ISBLANK(FromEvoM!M563),\"\",FromEvoM!M563)","v":""},{"$f":"IF(ISBLANK(FromEvoM!P563),\"\",FromEvoM!P563)","v":""},null,{"$f":"IF(ISNUMBER(FromEvoM!X563),FromEvoM!X563,\"\")","v":""},{"$f":"IF(ISNUMBER(FromEvoM!AB563),FromEvoM!AB563,\"\")","v":""},{"$f":"IF(ISNUMBER(FromEvoM!AA563),FromEvoM!AA563,\"\")","v":""},null,"","",null,null,{"$f":"IF(FromEvoM!W563=1,(FromEvoM!AB563*12),IF(FromEvoM!W563=7,(FromEvoM!AR563),\"\"))","v":""},null,null,{"$f":"IF(ISBLANK(FromEvoM!A563),\"\",IF(FromEvoM!AK563=\"y\",\"Y\",\"N\"))","v":""},{"$f":"IF(ISBLANK(FromEvoM!A563),\"\",Category_ID)","v":""},null,null,null,{"$f":"IF(ISBLANK(FromEvoM!AK563),\"\",FromEvoM!AK563)","v":""},{"$f":"IF(ISBLANK(FromEvoM!AM563),\"\",FromEvoM!AM563)","v":""},{"$f":"IF(ISBLANK(FromEvoM!AN563),\"\",FromEvoM!AN563)","v":""},{"$f":"IF(ISBLANK(FromEvoM!AL563),\"\",FromEvoM!AL563)","v":""},{"$f":"IF(ISBLANK(FromEvoM!A563),\"\",IF(AND(AF563=\"y\",AI563=1),\"Y\",\"N\"))","v":""},{"$f":"IF(ISBLANK(FromEvoM!A563),\"\",IF(FromEvoM!AS563=\"Yes\",2,1))","v":""},{"$f":"IF(FromEvoM!W563=1,\"M\",IF(FromEvoM!W563=7,\"W\",\"\"))","v":""},{"$f":"IF(AJ563=\"Y\",0,IF(AJ563=\"N\",FromEvoM!AF563+FromEvoM!AT563,\"\"))","v":""},{"$f":"IF(AJ563=\"Y\",(FromEvoM!AE563+FromEvoM!AF563-FromEvoM!AT563),IF(AJ563=\"N\",FromEvoM!AE563,\"\"))","v":""}]
[{"$f":"IF(ISBLANK(FromEvoM!A564),\"\",Group_Code)","v":""},{"$f":"IF(ISBLANK(FromEvoM!A564),\"\",SUBSTITUTE(FromEvoM!A564,\" \",\"\"))","v":""},{"$f":"IF(ISBLANK(FromEvoM!C564),\"\",SUBSTITUTE(FromEvoM!G564,\" \",\"\"))","v":""},{"$f":"IF(ISBLANK(FromEvoM!D564),\"\",FromEvoM!B564)","v":""},{"$f":"IF(ISBLANK(FromEvoM!D564),\"\",FromEvoM!D564)","v":""},{"$f":"IF(ISBLANK(FromEvoM!C564),\"\",FromEvoM!C564)","v":""},{"$f":"REPLACE(FromEvoM!F564,2,6, )","v":""},{"$f":"IF(ISNUMBER(FromEvoM!E564),FromEvoM!E564,\"\")","v":""},{"$f":"IF(ISBLANK(FromEvoM!I564),\"\",FromEvoM!I564)","v":""},{"$f":"IF(ISBLANK(FromEvoM!J564),\"\",FromEvoM!J564)","v":""},{"$f":"IF(ISBLANK(FromEvoM!K564),\"\",FromEvoM!K564)","v":""},{"$f":"IF(ISBLANK(FromEvoM!L564),\"\",FromEvoM!L564)","v":""},{"$f":"IF(ISBLANK(FromEvoM!M564),\"\",FromEvoM!M564)","v":""},{"$f":"IF(ISBLANK(FromEvoM!P564),\"\",FromEvoM!P564)","v":""},null,{"$f":"IF(ISNUMBER(FromEvoM!X564),FromEvoM!X564,\"\")","v":""},{"$f":"IF(ISNUMBER(FromEvoM!AB564),FromEvoM!AB564,\"\")","v":""},{"$f":"IF(ISNUMBER(FromEvoM!AA564),FromEvoM!AA564,\"\")","v":""},null,"","",null,null,{"$f":"IF(FromEvoM!W564=1,(FromEvoM!AB564*12),IF(FromEvoM!W564=7,(FromEvoM!AR564),\"\"))","v":""},null,null,{"$f":"IF(ISBLANK(FromEvoM!A564),\"\",IF(FromEvoM!AK564=\"y\",\"Y\",\"N\"))","v":""},{"$f":"IF(ISBLANK(FromEvoM!A564),\"\",Category_ID)","v":""},null,null,null,{"$f":"IF(ISBLANK(FromEvoM!AK564),\"\",FromEvoM!AK564)","v":""},{"$f":"IF(ISBLANK(FromEvoM!AM564),\"\",FromEvoM!AM564)","v":""},{"$f":"IF(ISBLANK(FromEvoM!AN564),\"\",FromEvoM!AN564)","v":""},{"$f":"IF(ISBLANK(FromEvoM!AL564),\"\",FromEvoM!AL564)","v":""},{"$f":"IF(ISBLANK(FromEvoM!A564),\"\",IF(AND(AF564=\"y\",AI564=1),\"Y\",\"N\"))","v":""},{"$f":"IF(ISBLANK(FromEvoM!A564),\"\",IF(FromEvoM!AS564=\"Yes\",2,1))","v":""},{"$f":"IF(FromEvoM!W564=1,\"M\",IF(FromEvoM!W564=7,\"W\",\"\"))","v":""},{"$f":"IF(AJ564=\"Y\",0,IF(AJ564=\"N\",FromEvoM!AF564+FromEvoM!AT564,\"\"))","v":""},{"$f":"IF(AJ564=\"Y\",(FromEvoM!AE564+FromEvoM!AF564-FromEvoM!AT564),IF(AJ564=\"N\",FromEvoM!AE564,\"\"))","v":""}]
[{"$f":"IF(ISBLANK(FromEvoM!A565),\"\",Group_Code)","v":""},{"$f":"IF(ISBLANK(FromEvoM!A565),\"\",SUBSTITUTE(FromEvoM!A565,\" \",\"\"))","v":""},{"$f":"IF(ISBLANK(FromEvoM!C565),\"\",SUBSTITUTE(FromEvoM!G565,\" \",\"\"))","v":""},{"$f":"IF(ISBLANK(FromEvoM!D565),\"\",FromEvoM!B565)","v":""},{"$f":"IF(ISBLANK(FromEvoM!D565),\"\",FromEvoM!D565)","v":""},{"$f":"IF(ISBLANK(FromEvoM!C565),\"\",FromEvoM!C565)","v":""},{"$f":"REPLACE(FromEvoM!F565,2,6, )","v":""},{"$f":"IF(ISNUMBER(FromEvoM!E565),FromEvoM!E565,\"\")","v":""},{"$f":"IF(ISBLANK(FromEvoM!I565),\"\",FromEvoM!I565)","v":""},{"$f":"IF(ISBLANK(FromEvoM!J565),\"\",FromEvoM!J565)","v":""},{"$f":"IF(ISBLANK(FromEvoM!K565),\"\",FromEvoM!K565)","v":""},{"$f":"IF(ISBLANK(FromEvoM!L565),\"\",FromEvoM!L565)","v":""},{"$f":"IF(ISBLANK(FromEvoM!M565),\"\",FromEvoM!M565)","v":""},{"$f":"IF(ISBLANK(FromEvoM!P565),\"\",FromEvoM!P565)","v":""},null,{"$f":"IF(ISNUMBER(FromEvoM!X565),FromEvoM!X565,\"\")","v":""},{"$f":"IF(ISNUMBER(FromEvoM!AB565),FromEvoM!AB565,\"\")","v":""},{"$f":"IF(ISNUMBER(FromEvoM!AA565),FromEvoM!AA565,\"\")","v":""},null,"","",null,null,{"$f":"IF(FromEvoM!W565=1,(FromEvoM!AB565*12),IF(FromEvoM!W565=7,(FromEvoM!AR565),\"\"))","v":""},null,null,{"$f":"IF(ISBLANK(FromEvoM!A565),\"\",IF(FromEvoM!AK565=\"y\",\"Y\",\"N\"))","v":""},{"$f":"IF(ISBLANK(FromEvoM!A565),\"\",Category_ID)","v":""},null,null,null,{"$f":"IF(ISBLANK(FromEvoM!AK565),\"\",FromEvoM!AK565)","v":""},{"$f":"IF(ISBLANK(FromEvoM!AM565),\"\",FromEvoM!AM565)","v":""},{"$f":"IF(ISBLANK(FromEvoM!AN565),\"\",FromEvoM!AN565)","v":""},{"$f":"IF(ISBLANK(FromEvoM!AL565),\"\",FromEvoM!AL565)","v":""},{"$f":"IF(ISBLANK(FromEvoM!A565),\"\",IF(AND(AF565=\"y\",AI565=1),\"Y\",\"N\"))","v":""},{"$f":"IF(ISBLANK(FromEvoM!A565),\"\",IF(FromEvoM!AS565=\"Yes\",2,1))","v":""},{"$f":"IF(FromEvoM!W565=1,\"M\",IF(FromEvoM!W565=7,\"W\",\"\"))","v":""},{"$f":"IF(AJ565=\"Y\",0,IF(AJ565=\"N\",FromEvoM!AF565+FromEvoM!AT565,\"\"))","v":""},{"$f":"IF(AJ565=\"Y\",(FromEvoM!AE565+FromEvoM!AF565-FromEvoM!AT565),IF(AJ565=\"N\",FromEvoM!AE565,\"\"))","v":""}]
[{"$f":"IF(ISBLANK(FromEvoM!A566),\"\",Group_Code)","v":""},{"$f":"IF(ISBLANK(FromEvoM!A566),\"\",SUBSTITUTE(FromEvoM!A566,\" \",\"\"))","v":""},{"$f":"IF(ISBLANK(FromEvoM!C566),\"\",SUBSTITUTE(FromEvoM!G566,\" \",\"\"))","v":""},{"$f":"IF(ISBLANK(FromEvoM!D566),\"\",FromEvoM!B566)","v":""},{"$f":"IF(ISBLANK(FromEvoM!D566),\"\",FromEvoM!D566)","v":""},{"$f":"IF(ISBLANK(FromEvoM!C566),\"\",FromEvoM!C566)","v":""},{"$f":"REPLACE(FromEvoM!F566,2,6, )","v":""},{"$f":"IF(ISNUMBER(FromEvoM!E566),FromEvoM!E566,\"\")","v":""},{"$f":"IF(ISBLANK(FromEvoM!I566),\"\",FromEvoM!I566)","v":""},{"$f":"IF(ISBLANK(FromEvoM!J566),\"\",FromEvoM!J566)","v":""},{"$f":"IF(ISBLANK(FromEvoM!K566),\"\",FromEvoM!K566)","v":""},{"$f":"IF(ISBLANK(FromEvoM!L566),\"\",FromEvoM!L566)","v":""},{"$f":"IF(ISBLANK(FromEvoM!M566),\"\",FromEvoM!M566)","v":""},{"$f":"IF(ISBLANK(FromEvoM!P566),\"\",FromEvoM!P566)","v":""},null,{"$f":"IF(ISNUMBER(FromEvoM!X566),FromEvoM!X566,\"\")","v":""},{"$f":"IF(ISNUMBER(FromEvoM!AB566),FromEvoM!AB566,\"\")","v":""},{"$f":"IF(ISNUMBER(FromEvoM!AA566),FromEvoM!AA566,\"\")","v":""},null,"","",null,null,{"$f":"IF(FromEvoM!W566=1,(FromEvoM!AB566*12),IF(FromEvoM!W566=7,(FromEvoM!AR566),\"\"))","v":""},null,null,{"$f":"IF(ISBLANK(FromEvoM!A566),\"\",IF(FromEvoM!AK566=\"y\",\"Y\",\"N\"))","v":""},{"$f":"IF(ISBLANK(FromEvoM!A566),\"\",Category_ID)","v":""},null,null,null,{"$f":"IF(ISBLANK(FromEvoM!AK566),\"\",FromEvoM!AK566)","v":""},{"$f":"IF(ISBLANK(FromEvoM!AM566),\"\",FromEvoM!AM566)","v":""},{"$f":"IF(ISBLANK(FromEvoM!AN566),\"\",FromEvoM!AN566)","v":""},{"$f":"IF(ISBLANK(FromEvoM!AL566),\"\",FromEvoM!AL566)","v":""},{"$f":"IF(ISBLANK(FromEvoM!A566),\"\",IF(AND(AF566=\"y\",AI566=1),\"Y\",\"N\"))","v":""},{"$f":"IF(ISBLANK(FromEvoM!A566),\"\",IF(FromEvoM!AS566=\"Yes\",2,1))","v":""},{"$f":"IF(FromEvoM!W566=1,\"M\",IF(FromEvoM!W566=7,\"W\",\"\"))","v":""},{"$f":"IF(AJ566=\"Y\",0,IF(AJ566=\"N\",FromEvoM!AF566+FromEvoM!AT566,\"\"))","v":""},{"$f":"IF(AJ566=\"Y\",(FromEvoM!AE566+FromEvoM!AF566-FromEvoM!AT566),IF(AJ566=\"N\",FromEvoM!AE566,\"\"))","v":""}]
[{"$f":"IF(ISBLANK(FromEvoM!A567),\"\",Group_Code)","v":""},{"$f":"IF(ISBLANK(FromEvoM!A567),\"\",SUBSTITUTE(FromEvoM!A567,\" \",\"\"))","v":""},{"$f":"IF(ISBLANK(FromEvoM!C567),\"\",SUBSTITUTE(FromEvoM!G567,\" \",\"\"))","v":""},{"$f":"IF(ISBLANK(FromEvoM!D567),\"\",FromEvoM!B567)","v":""},{"$f":"IF(ISBLANK(FromEvoM!D567),\"\",FromEvoM!D567)","v":""},{"$f":"IF(ISBLANK(FromEvoM!C567),\"\",FromEvoM!C567)","v":""},{"$f":"REPLACE(FromEvoM!F567,2,6, )","v":""},{"$f":"IF(ISNUMBER(FromEvoM!E567),FromEvoM!E567,\"\")","v":""},{"$f":"IF(ISBLANK(FromEvoM!I567),\"\",FromEvoM!I567)","v":""},{"$f":"IF(ISBLANK(FromEvoM!J567),\"\",FromEvoM!J567)","v":""},{"$f":"IF(ISBLANK(FromEvoM!K567),\"\",FromEvoM!K567)","v":""},{"$f":"IF(ISBLANK(FromEvoM!L567),\"\",FromEvoM!L567)","v":""},{"$f":"IF(ISBLANK(FromEvoM!M567),\"\",FromEvoM!M567)","v":""},{"$f":"IF(ISBLANK(FromEvoM!P567),\"\",FromEvoM!P567)","v":""},null,{"$f":"IF(ISNUMBER(FromEvoM!X567),FromEvoM!X567,\"\")","v":""},{"$f":"IF(ISNUMBER(FromEvoM!AB567),FromEvoM!AB567,\"\")","v":""},{"$f":"IF(ISNUMBER(FromEvoM!AA567),FromEvoM!AA567,\"\")","v":""},null,"","",null,null,{"$f":"IF(FromEvoM!W567=1,(FromEvoM!AB567*12),IF(FromEvoM!W567=7,(FromEvoM!AR567),\"\"))","v":""},null,null,{"$f":"IF(ISBLANK(FromEvoM!A567),\"\",IF(FromEvoM!AK567=\"y\",\"Y\",\"N\"))","v":""},{"$f":"IF(ISBLANK(FromEvoM!A567),\"\",Category_ID)","v":""},null,null,null,{"$f":"IF(ISBLANK(FromEvoM!AK567),\"\",FromEvoM!AK567)","v":""},{"$f":"IF(ISBLANK(FromEvoM!AM567),\"\",FromEvoM!AM567)","v":""},{"$f":"IF(ISBLANK(FromEvoM!AN567),\"\",FromEvoM!AN567)","v":""},{"$f":"IF(ISBLANK(FromEvoM!AL567),\"\",FromEvoM!AL567)","v":""},{"$f":"IF(ISBLANK(FromEvoM!A567),\"\",IF(AND(AF567=\"y\",AI567=1),\"Y\",\"N\"))","v":""},{"$f":"IF(ISBLANK(FromEvoM!A567),\"\",IF(FromEvoM!AS567=\"Yes\",2,1))","v":""},{"$f":"IF(FromEvoM!W567=1,\"M\",IF(FromEvoM!W567=7,\"W\",\"\"))","v":""},{"$f":"IF(AJ567=\"Y\",0,IF(AJ567=\"N\",FromEvoM!AF567+FromEvoM!AT567,\"\"))","v":""},{"$f":"IF(AJ567=\"Y\",(FromEvoM!AE567+FromEvoM!AF567-FromEvoM!AT567),IF(AJ567=\"N\",FromEvoM!AE567,\"\"))","v":""}]
[{"$f":"IF(ISBLANK(FromEvoM!A568),\"\",Group_Code)","v":""},{"$f":"IF(ISBLANK(FromEvoM!A568),\"\",SUBSTITUTE(FromEvoM!A568,\" \",\"\"))","v":""},{"$f":"IF(ISBLANK(FromEvoM!C568),\"\",SUBSTITUTE(FromEvoM!G568,\" \",\"\"))","v":""},{"$f":"IF(ISBLANK(FromEvoM!D568),\"\",FromEvoM!B568)","v":""},{"$f":"IF(ISBLANK(FromEvoM!D568),\"\",FromEvoM!D568)","v":""},{"$f":"IF(ISBLANK(FromEvoM!C568),\"\",FromEvoM!C568)","v":""},{"$f":"REPLACE(FromEvoM!F568,2,6, )","v":""},{"$f":"IF(ISNUMBER(FromEvoM!E568),FromEvoM!E568,\"\")","v":""},{"$f":"IF(ISBLANK(FromEvoM!I568),\"\",FromEvoM!I568)","v":""},{"$f":"IF(ISBLANK(FromEvoM!J568),\"\",FromEvoM!J568)","v":""},{"$f":"IF(ISBLANK(FromEvoM!K568),\"\",FromEvoM!K568)","v":""},{"$f":"IF(ISBLANK(FromEvoM!L568),\"\",FromEvoM!L568)","v":""},{"$f":"IF(ISBLANK(FromEvoM!M568),\"\",FromEvoM!M568)","v":""},{"$f":"IF(ISBLANK(FromEvoM!P568),\"\",FromEvoM!P568)","v":""},null,{"$f":"IF(ISNUMBER(FromEvoM!X568),FromEvoM!X568,\"\")","v":""},{"$f":"IF(ISNUMBER(FromEvoM!AB568),FromEvoM!AB568,\"\")","v":""},{"$f":"IF(ISNUMBER(FromEvoM!AA568),FromEvoM!AA568,\"\")","v":""},null,"","",null,null,{"$f":"IF(FromEvoM!W568=1,(FromEvoM!AB568*12),IF(FromEvoM!W568=7,(FromEvoM!AR568),\"\"))","v":""},null,null,{"$f":"IF(ISBLANK(FromEvoM!A568),\"\",IF(FromEvoM!AK568=\"y\",\"Y\",\"N\"))","v":""},{"$f":"IF(ISBLANK(FromEvoM!A568),\"\",Category_ID)","v":""},null,null,null,{"$f":"IF(ISBLANK(FromEvoM!AK568),\"\",FromEvoM!AK568)","v":""},{"$f":"IF(ISBLANK(FromEvoM!AM568),\"\",FromEvoM!AM568)","v":""},{"$f":"IF(ISBLANK(FromEvoM!AN568),\"\",FromEvoM!AN568)","v":""},{"$f":"IF(ISBLANK(FromEvoM!AL568),\"\",FromEvoM!AL568)","v":""},{"$f":"IF(ISBLANK(FromEvoM!A568),\"\",IF(AND(AF568=\"y\",AI568=1),\"Y\",\"N\"))","v":""},{"$f":"IF(ISBLANK(FromEvoM!A568),\"\",IF(FromEvoM!AS568=\"Yes\",2,1))","v":""},{"$f":"IF(FromEvoM!W568=1,\"M\",IF(FromEvoM!W568=7,\"W\",\"\"))","v":""},{"$f":"IF(AJ568=\"Y\",0,IF(AJ568=\"N\",FromEvoM!AF568+FromEvoM!AT568,\"\"))","v":""},{"$f":"IF(AJ568=\"Y\",(FromEvoM!AE568+FromEvoM!AF568-FromEvoM!AT568),IF(AJ568=\"N\",FromEvoM!AE568,\"\"))","v":""}]
[{"$f":"IF(ISBLANK(FromEvoM!A569),\"\",Group_Code)","v":""},{"$f":"IF(ISBLANK(FromEvoM!A569),\"\",SUBSTITUTE(FromEvoM!A569,\" \",\"\"))","v":""},{"$f":"IF(ISBLANK(FromEvoM!C569),\"\",SUBSTITUTE(FromEvoM!G569,\" \",\"\"))","v":""},{"$f":"IF(ISBLANK(FromEvoM!D569),\"\",FromEvoM!B569)","v":""},{"$f":"IF(ISBLANK(FromEvoM!D569),\"\",FromEvoM!D569)","v":""},{"$f":"IF(ISBLANK(FromEvoM!C569),\"\",FromEvoM!C569)","v":""},{"$f":"REPLACE(FromEvoM!F569,2,6, )","v":""},{"$f":"IF(ISNUMBER(FromEvoM!E569),FromEvoM!E569,\"\")","v":""},{"$f":"IF(ISBLANK(FromEvoM!I569),\"\",FromEvoM!I569)","v":""},{"$f":"IF(ISBLANK(FromEvoM!J569),\"\",FromEvoM!J569)","v":""},{"$f":"IF(ISBLANK(FromEvoM!K569),\"\",FromEvoM!K569)","v":""},{"$f":"IF(ISBLANK(FromEvoM!L569),\"\",FromEvoM!L569)","v":""},{"$f":"IF(ISBLANK(FromEvoM!M569),\"\",FromEvoM!M569)","v":""},{"$f":"IF(ISBLANK(FromEvoM!P569),\"\",FromEvoM!P569)","v":""},null,{"$f":"IF(ISNUMBER(FromEvoM!X569),FromEvoM!X569,\"\")","v":""},{"$f":"IF(ISNUMBER(FromEvoM!AB569),FromEvoM!AB569,\"\")","v":""},{"$f":"IF(ISNUMBER(FromEvoM!AA569),FromEvoM!AA569,\"\")","v":""},null,"","",null,null,{"$f":"IF(FromEvoM!W569=1,(FromEvoM!AB569*12),IF(FromEvoM!W569=7,(FromEvoM!AR569),\"\"))","v":""},null,null,{"$f":"IF(ISBLANK(FromEvoM!A569),\"\",IF(FromEvoM!AK569=\"y\",\"Y\",\"N\"))","v":""},{"$f":"IF(ISBLANK(FromEvoM!A569),\"\",Category_ID)","v":""},null,null,null,{"$f":"IF(ISBLANK(FromEvoM!AK569),\"\",FromEvoM!AK569)","v":""},{"$f":"IF(ISBLANK(FromEvoM!AM569),\"\",FromEvoM!AM569)","v":""},{"$f":"IF(ISBLANK(FromEvoM!AN569),\"\",FromEvoM!AN569)","v":""},{"$f":"IF(ISBLANK(FromEvoM!AL569),\"\",FromEvoM!AL569)","v":""},{"$f":"IF(ISBLANK(FromEvoM!A569),\"\",IF(AND(AF569=\"y\",AI569=1),\"Y\",\"N\"))","v":""},{"$f":"IF(ISBLANK(FromEvoM!A569),\"\",IF(FromEvoM!AS569=\"Yes\",2,1))","v":""},{"$f":"IF(FromEvoM!W569=1,\"M\",IF(FromEvoM!W569=7,\"W\",\"\"))","v":""},{"$f":"IF(AJ569=\"Y\",0,IF(AJ569=\"N\",FromEvoM!AF569+FromEvoM!AT569,\"\"))","v":""},{"$f":"IF(AJ569=\"Y\",(FromEvoM!AE569+FromEvoM!AF569-FromEvoM!AT569),IF(AJ569=\"N\",FromEvoM!AE569,\"\"))","v":""}]
[{"$f":"IF(ISBLANK(FromEvoM!A570),\"\",Group_Code)","v":""},{"$f":"IF(ISBLANK(FromEvoM!A570),\"\",SUBSTITUTE(FromEvoM!A570,\" \",\"\"))","v":""},{"$f":"IF(ISBLANK(FromEvoM!C570),\"\",SUBSTITUTE(FromEvoM!G570,\" \",\"\"))","v":""},{"$f":"IF(ISBLANK(FromEvoM!D570),\"\",FromEvoM!B570)","v":""},{"$f":"IF(ISBLANK(FromEvoM!D570),\"\",FromEvoM!D570)","v":""},{"$f":"IF(ISBLANK(FromEvoM!C570),\"\",FromEvoM!C570)","v":""},{"$f":"REPLACE(FromEvoM!F570,2,6, )","v":""},{"$f":"IF(ISNUMBER(FromEvoM!E570),FromEvoM!E570,\"\")","v":""},{"$f":"IF(ISBLANK(FromEvoM!I570),\"\",FromEvoM!I570)","v":""},{"$f":"IF(ISBLANK(FromEvoM!J570),\"\",FromEvoM!J570)","v":""},{"$f":"IF(ISBLANK(FromEvoM!K570),\"\",FromEvoM!K570)","v":""},{"$f":"IF(ISBLANK(FromEvoM!L570),\"\",FromEvoM!L570)","v":""},{"$f":"IF(ISBLANK(FromEvoM!M570),\"\",FromEvoM!M570)","v":""},{"$f":"IF(ISBLANK(FromEvoM!P570),\"\",FromEvoM!P570)","v":""},null,{"$f":"IF(ISNUMBER(FromEvoM!X570),FromEvoM!X570,\"\")","v":""},{"$f":"IF(ISNUMBER(FromEvoM!AB570),FromEvoM!AB570,\"\")","v":""},{"$f":"IF(ISNUMBER(FromEvoM!AA570),FromEvoM!AA570,\"\")","v":""},null,"","",null,null,{"$f":"IF(FromEvoM!W570=1,(FromEvoM!AB570*12),IF(FromEvoM!W570=7,(FromEvoM!AR570),\"\"))","v":""},null,null,{"$f":"IF(ISBLANK(FromEvoM!A570),\"\",IF(FromEvoM!AK570=\"y\",\"Y\",\"N\"))","v":""},{"$f":"IF(ISBLANK(FromEvoM!A570),\"\",Category_ID)","v":""},null,null,null,{"$f":"IF(ISBLANK(FromEvoM!AK570),\"\",FromEvoM!AK570)","v":""},{"$f":"IF(ISBLANK(FromEvoM!AM570),\"\",FromEvoM!AM570)","v":""},{"$f":"IF(ISBLANK(FromEvoM!AN570),\"\",FromEvoM!AN570)","v":""},{"$f":"IF(ISBLANK(FromEvoM!AL570),\"\",FromEvoM!AL570)","v":""},{"$f":"IF(ISBLANK(FromEvoM!A570),\"\",IF(AND(AF570=\"y\",AI570=1),\"Y\",\"N\"))","v":""},{"$f":"IF(ISBLANK(FromEvoM!A570),\"\",IF(FromEvoM!AS570=\"Yes\",2,1))","v":""},{"$f":"IF(FromEvoM!W570=1,\"M\",IF(FromEvoM!W570=7,\"W\",\"\"))","v":""},{"$f":"IF(AJ570=\"Y\",0,IF(AJ570=\"N\",FromEvoM!AF570+FromEvoM!AT570,\"\"))","v":""},{"$f":"IF(AJ570=\"Y\",(FromEvoM!AE570+FromEvoM!AF570-FromEvoM!AT570),IF(AJ570=\"N\",FromEvoM!AE570,\"\"))","v":""}]
[{"$f":"IF(ISBLANK(FromEvoM!A571),\"\",Group_Code)","v":""},{"$f":"IF(ISBLANK(FromEvoM!A571),\"\",SUBSTITUTE(FromEvoM!A571,\" \",\"\"))","v":""},{"$f":"IF(ISBLANK(FromEvoM!C571),\"\",SUBSTITUTE(FromEvoM!G571,\" \",\"\"))","v":""},{"$f":"IF(ISBLANK(FromEvoM!D571),\"\",FromEvoM!B571)","v":""},{"$f":"IF(ISBLANK(FromEvoM!D571),\"\",FromEvoM!D571)","v":""},{"$f":"IF(ISBLANK(FromEvoM!C571),\"\",FromEvoM!C571)","v":""},{"$f":"REPLACE(FromEvoM!F571,2,6, )","v":""},{"$f":"IF(ISNUMBER(FromEvoM!E571),FromEvoM!E571,\"\")","v":""},{"$f":"IF(ISBLANK(FromEvoM!I571),\"\",FromEvoM!I571)","v":""},{"$f":"IF(ISBLANK(FromEvoM!J571),\"\",FromEvoM!J571)","v":""},{"$f":"IF(ISBLANK(FromEvoM!K571),\"\",FromEvoM!K571)","v":""},{"$f":"IF(ISBLANK(FromEvoM!L571),\"\",FromEvoM!L571)","v":""},{"$f":"IF(ISBLANK(FromEvoM!M571),\"\",FromEvoM!M571)","v":""},{"$f":"IF(ISBLANK(FromEvoM!P571),\"\",FromEvoM!P571)","v":""},null,{"$f":"IF(ISNUMBER(FromEvoM!X571),FromEvoM!X571,\"\")","v":""},{"$f":"IF(ISNUMBER(FromEvoM!AB571),FromEvoM!AB571,\"\")","v":""},{"$f":"IF(ISNUMBER(FromEvoM!AA571),FromEvoM!AA571,\"\")","v":""},null,"","",null,null,{"$f":"IF(FromEvoM!W571=1,(FromEvoM!AB571*12),IF(FromEvoM!W571=7,(FromEvoM!AR571),\"\"))","v":""},null,null,{"$f":"IF(ISBLANK(FromEvoM!A571),\"\",IF(FromEvoM!AK571=\"y\",\"Y\",\"N\"))","v":""},{"$f":"IF(ISBLANK(FromEvoM!A571),\"\",Category_ID)","v":""},null,null,null,{"$f":"IF(ISBLANK(FromEvoM!AK571),\"\",FromEvoM!AK571)","v":""},{"$f":"IF(ISBLANK(FromEvoM!AM571),\"\",FromEvoM!AM571)","v":""},{"$f":"IF(ISBLANK(FromEvoM!AN571),\"\",FromEvoM!AN571)","v":""},{"$f":"IF(ISBLANK(FromEvoM!AL571),\"\",FromEvoM!AL571)","v":""},{"$f":"IF(ISBLANK(FromEvoM!A571),\"\",IF(AND(AF571=\"y\",AI571=1),\"Y\",\"N\"))","v":""},{"$f":"IF(ISBLANK(FromEvoM!A571),\"\",IF(FromEvoM!AS571=\"Yes\",2,1))","v":""},{"$f":"IF(FromEvoM!W571=1,\"M\",IF(FromEvoM!W571=7,\"W\",\"\"))","v":""},{"$f":"IF(AJ571=\"Y\",0,IF(AJ571=\"N\",FromEvoM!AF571+FromEvoM!AT571,\"\"))","v":""},{"$f":"IF(AJ571=\"Y\",(FromEvoM!AE571+FromEvoM!AF571-FromEvoM!AT571),IF(AJ571=\"N\",FromEvoM!AE571,\"\"))","v":""}]
[{"$f":"IF(ISBLANK(FromEvoM!A572),\"\",Group_Code)","v":""},{"$f":"IF(ISBLANK(FromEvoM!A572),\"\",SUBSTITUTE(FromEvoM!A572,\" \",\"\"))","v":""},{"$f":"IF(ISBLANK(FromEvoM!C572),\"\",SUBSTITUTE(FromEvoM!G572,\" \",\"\"))","v":""},{"$f":"IF(ISBLANK(FromEvoM!D572),\"\",FromEvoM!B572)","v":""},{"$f":"IF(ISBLANK(FromEvoM!D572),\"\",FromEvoM!D572)","v":""},{"$f":"IF(ISBLANK(FromEvoM!C572),\"\",FromEvoM!C572)","v":""},{"$f":"REPLACE(FromEvoM!F572,2,6, )","v":""},{"$f":"IF(ISNUMBER(FromEvoM!E572),FromEvoM!E572,\"\")","v":""},{"$f":"IF(ISBLANK(FromEvoM!I572),\"\",FromEvoM!I572)","v":""},{"$f":"IF(ISBLANK(FromEvoM!J572),\"\",FromEvoM!J572)","v":""},{"$f":"IF(ISBLANK(FromEvoM!K572),\"\",FromEvoM!K572)","v":""},{"$f":"IF(ISBLANK(FromEvoM!L572),\"\",FromEvoM!L572)","v":""},{"$f":"IF(ISBLANK(FromEvoM!M572),\"\",FromEvoM!M572)","v":""},{"$f":"IF(ISBLANK(FromEvoM!P572),\"\",FromEvoM!P572)","v":""},null,{"$f":"IF(ISNUMBER(FromEvoM!X572),FromEvoM!X572,\"\")","v":""},{"$f":"IF(ISNUMBER(FromEvoM!AB572),FromEvoM!AB572,\"\")","v":""},{"$f":"IF(ISNUMBER(FromEvoM!AA572),FromEvoM!AA572,\"\")","v":""},null,"","",null,null,{"$f":"IF(FromEvoM!W572=1,(FromEvoM!AB572*12),IF(FromEvoM!W572=7,(FromEvoM!AR572),\"\"))","v":""},null,null,{"$f":"IF(ISBLANK(FromEvoM!A572),\"\",IF(FromEvoM!AK572=\"y\",\"Y\",\"N\"))","v":""},{"$f":"IF(ISBLANK(FromEvoM!A572),\"\",Category_ID)","v":""},null,null,null,{"$f":"IF(ISBLANK(FromEvoM!AK572),\"\",FromEvoM!AK572)","v":""},{"$f":"IF(ISBLANK(FromEvoM!AM572),\"\",FromEvoM!AM572)","v":""},{"$f":"IF(ISBLANK(FromEvoM!AN572),\"\",FromEvoM!AN572)","v":""},{"$f":"IF(ISBLANK(FromEvoM!AL572),\"\",FromEvoM!AL572)","v":""},{"$f":"IF(ISBLANK(FromEvoM!A572),\"\",IF(AND(AF572=\"y\",AI572=1),\"Y\",\"N\"))","v":""},{"$f":"IF(ISBLANK(FromEvoM!A572),\"\",IF(FromEvoM!AS572=\"Yes\",2,1))","v":""},{"$f":"IF(FromEvoM!W572=1,\"M\",IF(FromEvoM!W572=7,\"W\",\"\"))","v":""},{"$f":"IF(AJ572=\"Y\",0,IF(AJ572=\"N\",FromEvoM!AF572+FromEvoM!AT572,\"\"))","v":""},{"$f":"IF(AJ572=\"Y\",(FromEvoM!AE572+FromEvoM!AF572-FromEvoM!AT572),IF(AJ572=\"N\",FromEvoM!AE572,\"\"))","v":""}]
[{"$f":"IF(ISBLANK(FromEvoM!A573),\"\",Group_Code)","v":""},{"$f":"IF(ISBLANK(FromEvoM!A573),\"\",SUBSTITUTE(FromEvoM!A573,\" \",\"\"))","v":""},{"$f":"IF(ISBLANK(FromEvoM!C573),\"\",SUBSTITUTE(FromEvoM!G573,\" \",\"\"))","v":""},{"$f":"IF(ISBLANK(FromEvoM!D573),\"\",FromEvoM!B573)","v":""},{"$f":"IF(ISBLANK(FromEvoM!D573),\"\",FromEvoM!D573)","v":""},{"$f":"IF(ISBLANK(FromEvoM!C573),\"\",FromEvoM!C573)","v":""},{"$f":"REPLACE(FromEvoM!F573,2,6, )","v":""},{"$f":"IF(ISNUMBER(FromEvoM!E573),FromEvoM!E573,\"\")","v":""},{"$f":"IF(ISBLANK(FromEvoM!I573),\"\",FromEvoM!I573)","v":""},{"$f":"IF(ISBLANK(FromEvoM!J573),\"\",FromEvoM!J573)","v":""},{"$f":"IF(ISBLANK(FromEvoM!K573),\"\",FromEvoM!K573)","v":""},{"$f":"IF(ISBLANK(FromEvoM!L573),\"\",FromEvoM!L573)","v":""},{"$f":"IF(ISBLANK(FromEvoM!M573),\"\",FromEvoM!M573)","v":""},{"$f":"IF(ISBLANK(FromEvoM!P573),\"\",FromEvoM!P573)","v":""},null,{"$f":"IF(ISNUMBER(FromEvoM!X573),FromEvoM!X573,\"\")","v":""},{"$f":"IF(ISNUMBER(FromEvoM!AB573),FromEvoM!AB573,\"\")","v":""},{"$f":"IF(ISNUMBER(FromEvoM!AA573),FromEvoM!AA573,\"\")","v":""},null,"","",null,null,{"$f":"IF(FromEvoM!W573=1,(FromEvoM!AB573*12),IF(FromEvoM!W573=7,(FromEvoM!AR573),\"\"))","v":""},null,null,{"$f":"IF(ISBLANK(FromEvoM!A573),\"\",IF(FromEvoM!AK573=\"y\",\"Y\",\"N\"))","v":""},{"$f":"IF(ISBLANK(FromEvoM!A573),\"\",Category_ID)","v":""},null,null,null,{"$f":"IF(ISBLANK(FromEvoM!AK573),\"\",FromEvoM!AK573)","v":""},{"$f":"IF(ISBLANK(FromEvoM!AM573),\"\",FromEvoM!AM573)","v":""},{"$f":"IF(ISBLANK(FromEvoM!AN573),\"\",FromEvoM!AN573)","v":""},{"$f":"IF(ISBLANK(FromEvoM!AL573),\"\",FromEvoM!AL573)","v":""},{"$f":"IF(ISBLANK(FromEvoM!A573),\"\",IF(AND(AF573=\"y\",AI573=1),\"Y\",\"N\"))","v":""},{"$f":"IF(ISBLANK(FromEvoM!A573),\"\",IF(FromEvoM!AS573=\"Yes\",2,1))","v":""},{"$f":"IF(FromEvoM!W573=1,\"M\",IF(FromEvoM!W573=7,\"W\",\"\"))","v":""},{"$f":"IF(AJ573=\"Y\",0,IF(AJ573=\"N\",FromEvoM!AF573+FromEvoM!AT573,\"\"))","v":""},{"$f":"IF(AJ573=\"Y\",(FromEvoM!AE573+FromEvoM!AF573-FromEvoM!AT573),IF(AJ573=\"N\",FromEvoM!AE573,\"\"))","v":""}]
[{"$f":"IF(ISBLANK(FromEvoM!A574),\"\",Group_Code)","v":""},{"$f":"IF(ISBLANK(FromEvoM!A574),\"\",SUBSTITUTE(FromEvoM!A574,\" \",\"\"))","v":""},{"$f":"IF(ISBLANK(FromEvoM!C574),\"\",SUBSTITUTE(FromEvoM!G574,\" \",\"\"))","v":""},{"$f":"IF(ISBLANK(FromEvoM!D574),\"\",FromEvoM!B574)","v":""},{"$f":"IF(ISBLANK(FromEvoM!D574),\"\",FromEvoM!D574)","v":""},{"$f":"IF(ISBLANK(FromEvoM!C574),\"\",FromEvoM!C574)","v":""},{"$f":"REPLACE(FromEvoM!F574,2,6, )","v":""},{"$f":"IF(ISNUMBER(FromEvoM!E574),FromEvoM!E574,\"\")","v":""},{"$f":"IF(ISBLANK(FromEvoM!I574),\"\",FromEvoM!I574)","v":""},{"$f":"IF(ISBLANK(FromEvoM!J574),\"\",FromEvoM!J574)","v":""},{"$f":"IF(ISBLANK(FromEvoM!K574),\"\",FromEvoM!K574)","v":""},{"$f":"IF(ISBLANK(FromEvoM!L574),\"\",FromEvoM!L574)","v":""},{"$f":"IF(ISBLANK(FromEvoM!M574),\"\",FromEvoM!M574)","v":""},{"$f":"IF(ISBLANK(FromEvoM!P574),\"\",FromEvoM!P574)","v":""},null,{"$f":"IF(ISNUMBER(FromEvoM!X574),FromEvoM!X574,\"\")","v":""},{"$f":"IF(ISNUMBER(FromEvoM!AB574),FromEvoM!AB574,\"\")","v":""},{"$f":"IF(ISNUMBER(FromEvoM!AA574),FromEvoM!AA574,\"\")","v":""},null,"","",null,null,{"$f":"IF(FromEvoM!W574=1,(FromEvoM!AB574*12),IF(FromEvoM!W574=7,(FromEvoM!AR574),\"\"))","v":""},null,null,{"$f":"IF(ISBLANK(FromEvoM!A574),\"\",IF(FromEvoM!AK574=\"y\",\"Y\",\"N\"))","v":""},{"$f":"IF(ISBLANK(FromEvoM!A574),\"\",Category_ID)","v":""},null,null,null,{"$f":"IF(ISBLANK(FromEvoM!AK574),\"\",FromEvoM!AK574)","v":""},{"$f":"IF(ISBLANK(FromEvoM!AM574),\"\",FromEvoM!AM574)","v":""},{"$f":"IF(ISBLANK(FromEvoM!AN574),\"\",FromEvoM!AN574)","v":""},{"$f":"IF(ISBLANK(FromEvoM!AL574),\"\",FromEvoM!AL574)","v":""},{"$f":"IF(ISBLANK(FromEvoM!A574),\"\",IF(AND(AF574=\"y\",AI574=1),\"Y\",\"N\"))","v":""},{"$f":"IF(ISBLANK(FromEvoM!A574),\"\",IF(FromEvoM!AS574=\"Yes\",2,1))","v":""},{"$f":"IF(FromEvoM!W574=1,\"M\",IF(FromEvoM!W574=7,\"W\",\"\"))","v":""},{"$f":"IF(AJ574=\"Y\",0,IF(AJ574=\"N\",FromEvoM!AF574+FromEvoM!AT574,\"\"))","v":""},{"$f":"IF(AJ574=\"Y\",(FromEvoM!AE574+FromEvoM!AF574-FromEvoM!AT574),IF(AJ574=\"N\",FromEvoM!AE574,\"\"))","v":""}]
[{"$f":"IF(ISBLANK(FromEvoM!A575),\"\",Group_Code)","v":""},{"$f":"IF(ISBLANK(FromEvoM!A575),\"\",SUBSTITUTE(FromEvoM!A575,\" \",\"\"))","v":""},{"$f":"IF(ISBLANK(FromEvoM!C575),\"\",SUBSTITUTE(FromEvoM!G575,\" \",\"\"))","v":""},{"$f":"IF(ISBLANK(FromEvoM!D575),\"\",FromEvoM!B575)","v":""},{"$f":"IF(ISBLANK(FromEvoM!D575),\"\",FromEvoM!D575)","v":""},{"$f":"IF(ISBLANK(FromEvoM!C575),\"\",FromEvoM!C575)","v":""},{"$f":"REPLACE(FromEvoM!F575,2,6, )","v":""},{"$f":"IF(ISNUMBER(FromEvoM!E575),FromEvoM!E575,\"\")","v":""},{"$f":"IF(ISBLANK(FromEvoM!I575),\"\",FromEvoM!I575)","v":""},{"$f":"IF(ISBLANK(FromEvoM!J575),\"\",FromEvoM!J575)","v":""},{"$f":"IF(ISBLANK(FromEvoM!K575),\"\",FromEvoM!K575)","v":""},{"$f":"IF(ISBLANK(FromEvoM!L575),\"\",FromEvoM!L575)","v":""},{"$f":"IF(ISBLANK(FromEvoM!M575),\"\",FromEvoM!M575)","v":""},{"$f":"IF(ISBLANK(FromEvoM!P575),\"\",FromEvoM!P575)","v":""},null,{"$f":"IF(ISNUMBER(FromEvoM!X575),FromEvoM!X575,\"\")","v":""},{"$f":"IF(ISNUMBER(FromEvoM!AB575),FromEvoM!AB575,\"\")","v":""},{"$f":"IF(ISNUMBER(FromEvoM!AA575),FromEvoM!AA575,\"\")","v":""},null,"","",null,null,{"$f":"IF(FromEvoM!W575=1,(FromEvoM!AB575*12),IF(FromEvoM!W575=7,(FromEvoM!AR575),\"\"))","v":""},null,null,{"$f":"IF(ISBLANK(FromEvoM!A575),\"\",IF(FromEvoM!AK575=\"y\",\"Y\",\"N\"))","v":""},{"$f":"IF(ISBLANK(FromEvoM!A575),\"\",Category_ID)","v":""},null,null,null,{"$f":"IF(ISBLANK(FromEvoM!AK575),\"\",FromEvoM!AK575)","v":""},{"$f":"IF(ISBLANK(FromEvoM!AM575),\"\",FromEvoM!AM575)","v":""},{"$f":"IF(ISBLANK(FromEvoM!AN575),\"\",FromEvoM!AN575)","v":""},{"$f":"IF(ISBLANK(FromEvoM!AL575),\"\",FromEvoM!AL575)","v":""},{"$f":"IF(ISBLANK(FromEvoM!A575),\"\",IF(AND(AF575=\"y\",AI575=1),\"Y\",\"N\"))","v":""},{"$f":"IF(ISBLANK(FromEvoM!A575),\"\",IF(FromEvoM!AS575=\"Yes\",2,1))","v":""},{"$f":"IF(FromEvoM!W575=1,\"M\",IF(FromEvoM!W575=7,\"W\",\"\"))","v":""},{"$f":"IF(AJ575=\"Y\",0,IF(AJ575=\"N\",FromEvoM!AF575+FromEvoM!AT575,\"\"))","v":""},{"$f":"IF(AJ575=\"Y\",(FromEvoM!AE575+FromEvoM!AF575-FromEvoM!AT575),IF(AJ575=\"N\",FromEvoM!AE575,\"\"))","v":""}]
[{"$f":"IF(ISBLANK(FromEvoM!A576),\"\",Group_Code)","v":""},{"$f":"IF(ISBLANK(FromEvoM!A576),\"\",SUBSTITUTE(FromEvoM!A576,\" \",\"\"))","v":""},{"$f":"IF(ISBLANK(FromEvoM!C576),\"\",SUBSTITUTE(FromEvoM!G576,\" \",\"\"))","v":""},{"$f":"IF(ISBLANK(FromEvoM!D576),\"\",FromEvoM!B576)","v":""},{"$f":"IF(ISBLANK(FromEvoM!D576),\"\",FromEvoM!D576)","v":""},{"$f":"IF(ISBLANK(FromEvoM!C576),\"\",FromEvoM!C576)","v":""},{"$f":"REPLACE(FromEvoM!F576,2,6, )","v":""},{"$f":"IF(ISNUMBER(FromEvoM!E576),FromEvoM!E576,\"\")","v":""},{"$f":"IF(ISBLANK(FromEvoM!I576),\"\",FromEvoM!I576)","v":""},{"$f":"IF(ISBLANK(FromEvoM!J576),\"\",FromEvoM!J576)","v":""},{"$f":"IF(ISBLANK(FromEvoM!K576),\"\",FromEvoM!K576)","v":""},{"$f":"IF(ISBLANK(FromEvoM!L576),\"\",FromEvoM!L576)","v":""},{"$f":"IF(ISBLANK(FromEvoM!M576),\"\",FromEvoM!M576)","v":""},{"$f":"IF(ISBLANK(FromEvoM!P576),\"\",FromEvoM!P576)","v":""},null,{"$f":"IF(ISNUMBER(FromEvoM!X576),FromEvoM!X576,\"\")","v":""},{"$f":"IF(ISNUMBER(FromEvoM!AB576),FromEvoM!AB576,\"\")","v":""},{"$f":"IF(ISNUMBER(FromEvoM!AA576),FromEvoM!AA576,\"\")","v":""},null,"","",null,null,{"$f":"IF(FromEvoM!W576=1,(FromEvoM!AB576*12),IF(FromEvoM!W576=7,(FromEvoM!AR576),\"\"))","v":""},null,null,{"$f":"IF(ISBLANK(FromEvoM!A576),\"\",IF(FromEvoM!AK576=\"y\",\"Y\",\"N\"))","v":""},{"$f":"IF(ISBLANK(FromEvoM!A576),\"\",Category_ID)","v":""},null,null,null,{"$f":"IF(ISBLANK(FromEvoM!AK576),\"\",FromEvoM!AK576)","v":""},{"$f":"IF(ISBLANK(FromEvoM!AM576),\"\",FromEvoM!AM576)","v":""},{"$f":"IF(ISBLANK(FromEvoM!AN576),\"\",FromEvoM!AN576)","v":""},{"$f":"IF(ISBLANK(FromEvoM!AL576),\"\",FromEvoM!AL576)","v":""},{"$f":"IF(ISBLANK(FromEvoM!A576),\"\",IF(AND(AF576=\"y\",AI576=1),\"Y\",\"N\"))","v":""},{"$f":"IF(ISBLANK(FromEvoM!A576),\"\",IF(FromEvoM!AS576=\"Yes\",2,1))","v":""},{"$f":"IF(FromEvoM!W576=1,\"M\",IF(FromEvoM!W576=7,\"W\",\"\"))","v":""},{"$f":"IF(AJ576=\"Y\",0,IF(AJ576=\"N\",FromEvoM!AF576+FromEvoM!AT576,\"\"))","v":""},{"$f":"IF(AJ576=\"Y\",(FromEvoM!AE576+FromEvoM!AF576-FromEvoM!AT576),IF(AJ576=\"N\",FromEvoM!AE576,\"\"))","v":""}]
[{"$f":"IF(ISBLANK(FromEvoM!A577),\"\",Group_Code)","v":""},{"$f":"IF(ISBLANK(FromEvoM!A577),\"\",SUBSTITUTE(FromEvoM!A577,\" \",\"\"))","v":""},{"$f":"IF(ISBLANK(FromEvoM!C577),\"\",SUBSTITUTE(FromEvoM!G577,\" \",\"\"))","v":""},{"$f":"IF(ISBLANK(FromEvoM!D577),\"\",FromEvoM!B577)","v":""},{"$f":"IF(ISBLANK(FromEvoM!D577),\"\",FromEvoM!D577)","v":""},{"$f":"IF(ISBLANK(FromEvoM!C577),\"\",FromEvoM!C577)","v":""},{"$f":"REPLACE(FromEvoM!F577,2,6, )","v":""},{"$f":"IF(ISNUMBER(FromEvoM!E577),FromEvoM!E577,\"\")","v":""},{"$f":"IF(ISBLANK(FromEvoM!I577),\"\",FromEvoM!I577)","v":""},{"$f":"IF(ISBLANK(FromEvoM!J577),\"\",FromEvoM!J577)","v":""},{"$f":"IF(ISBLANK(FromEvoM!K577),\"\",FromEvoM!K577)","v":""},{"$f":"IF(ISBLANK(FromEvoM!L577),\"\",FromEvoM!L577)","v":""},{"$f":"IF(ISBLANK(FromEvoM!M577),\"\",FromEvoM!M577)","v":""},{"$f":"IF(ISBLANK(FromEvoM!P577),\"\",FromEvoM!P577)","v":""},null,{"$f":"IF(ISNUMBER(FromEvoM!X577),FromEvoM!X577,\"\")","v":""},{"$f":"IF(ISNUMBER(FromEvoM!AB577),FromEvoM!AB577,\"\")","v":""},{"$f":"IF(ISNUMBER(FromEvoM!AA577),FromEvoM!AA577,\"\")","v":""},null,"","",null,null,{"$f":"IF(FromEvoM!W577=1,(FromEvoM!AB577*12),IF(FromEvoM!W577=7,(FromEvoM!AR577),\"\"))","v":""},null,null,{"$f":"IF(ISBLANK(FromEvoM!A577),\"\",IF(FromEvoM!AK577=\"y\",\"Y\",\"N\"))","v":""},{"$f":"IF(ISBLANK(FromEvoM!A577),\"\",Category_ID)","v":""},null,null,null,{"$f":"IF(ISBLANK(FromEvoM!AK577),\"\",FromEvoM!AK577)","v":""},{"$f":"IF(ISBLANK(FromEvoM!AM577),\"\",FromEvoM!AM577)","v":""},{"$f":"IF(ISBLANK(FromEvoM!AN577),\"\",FromEvoM!AN577)","v":""},{"$f":"IF(ISBLANK(FromEvoM!AL577),\"\",FromEvoM!AL577)","v":""},{"$f":"IF(ISBLANK(FromEvoM!A577),\"\",IF(AND(AF577=\"y\",AI577=1),\"Y\",\"N\"))","v":""},{"$f":"IF(ISBLANK(FromEvoM!A577),\"\",IF(FromEvoM!AS577=\"Yes\",2,1))","v":""},{"$f":"IF(FromEvoM!W577=1,\"M\",IF(FromEvoM!W577=7,\"W\",\"\"))","v":""},{"$f":"IF(AJ577=\"Y\",0,IF(AJ577=\"N\",FromEvoM!AF577+FromEvoM!AT577,\"\"))","v":""},{"$f":"IF(AJ577=\"Y\",(FromEvoM!AE577+FromEvoM!AF577-FromEvoM!AT577),IF(AJ577=\"N\",FromEvoM!AE577,\"\"))","v":""}]
[{"$f":"IF(ISBLANK(FromEvoM!A578),\"\",Group_Code)","v":""},{"$f":"IF(ISBLANK(FromEvoM!A578),\"\",SUBSTITUTE(FromEvoM!A578,\" \",\"\"))","v":""},{"$f":"IF(ISBLANK(FromEvoM!C578),\"\",SUBSTITUTE(FromEvoM!G578,\" \",\"\"))","v":""},{"$f":"IF(ISBLANK(FromEvoM!D578),\"\",FromEvoM!B578)","v":""},{"$f":"IF(ISBLANK(FromEvoM!D578),\"\",FromEvoM!D578)","v":""},{"$f":"IF(ISBLANK(FromEvoM!C578),\"\",FromEvoM!C578)","v":""},{"$f":"REPLACE(FromEvoM!F578,2,6, )","v":""},{"$f":"IF(ISNUMBER(FromEvoM!E578),FromEvoM!E578,\"\")","v":""},{"$f":"IF(ISBLANK(FromEvoM!I578),\"\",FromEvoM!I578)","v":""},{"$f":"IF(ISBLANK(FromEvoM!J578),\"\",FromEvoM!J578)","v":""},{"$f":"IF(ISBLANK(FromEvoM!K578),\"\",FromEvoM!K578)","v":""},{"$f":"IF(ISBLANK(FromEvoM!L578),\"\",FromEvoM!L578)","v":""},{"$f":"IF(ISBLANK(FromEvoM!M578),\"\",FromEvoM!M578)","v":""},{"$f":"IF(ISBLANK(FromEvoM!P578),\"\",FromEvoM!P578)","v":""},null,{"$f":"IF(ISNUMBER(FromEvoM!X578),FromEvoM!X578,\"\")","v":""},{"$f":"IF(ISNUMBER(FromEvoM!AB578),FromEvoM!AB578,\"\")","v":""},{"$f":"IF(ISNUMBER(FromEvoM!AA578),FromEvoM!AA578,\"\")","v":""},null,"","",null,null,{"$f":"IF(FromEvoM!W578=1,(FromEvoM!AB578*12),IF(FromEvoM!W578=7,(FromEvoM!AR578),\"\"))","v":""},null,null,{"$f":"IF(ISBLANK(FromEvoM!A578),\"\",IF(FromEvoM!AK578=\"y\",\"Y\",\"N\"))","v":""},{"$f":"IF(ISBLANK(FromEvoM!A578),\"\",Category_ID)","v":""},null,null,null,{"$f":"IF(ISBLANK(FromEvoM!AK578),\"\",FromEvoM!AK578)","v":""},{"$f":"IF(ISBLANK(FromEvoM!AM578),\"\",FromEvoM!AM578)","v":""},{"$f":"IF(ISBLANK(FromEvoM!AN578),\"\",FromEvoM!AN578)","v":""},{"$f":"IF(ISBLANK(FromEvoM!AL578),\"\",FromEvoM!AL578)","v":""},{"$f":"IF(ISBLANK(FromEvoM!A578),\"\",IF(AND(AF578=\"y\",AI578=1),\"Y\",\"N\"))","v":""},{"$f":"IF(ISBLANK(FromEvoM!A578),\"\",IF(FromEvoM!AS578=\"Yes\",2,1))","v":""},{"$f":"IF(FromEvoM!W578=1,\"M\",IF(FromEvoM!W578=7,\"W\",\"\"))","v":""},{"$f":"IF(AJ578=\"Y\",0,IF(AJ578=\"N\",FromEvoM!AF578+FromEvoM!AT578,\"\"))","v":""},{"$f":"IF(AJ578=\"Y\",(FromEvoM!AE578+FromEvoM!AF578-FromEvoM!AT578),IF(AJ578=\"N\",FromEvoM!AE578,\"\"))","v":""}]
[{"$f":"IF(ISBLANK(FromEvoM!A579),\"\",Group_Code)","v":""},{"$f":"IF(ISBLANK(FromEvoM!A579),\"\",SUBSTITUTE(FromEvoM!A579,\" \",\"\"))","v":""},{"$f":"IF(ISBLANK(FromEvoM!C579),\"\",SUBSTITUTE(FromEvoM!G579,\" \",\"\"))","v":""},{"$f":"IF(ISBLANK(FromEvoM!D579),\"\",FromEvoM!B579)","v":""},{"$f":"IF(ISBLANK(FromEvoM!D579),\"\",FromEvoM!D579)","v":""},{"$f":"IF(ISBLANK(FromEvoM!C579),\"\",FromEvoM!C579)","v":""},{"$f":"REPLACE(FromEvoM!F579,2,6, )","v":""},{"$f":"IF(ISNUMBER(FromEvoM!E579),FromEvoM!E579,\"\")","v":""},{"$f":"IF(ISBLANK(FromEvoM!I579),\"\",FromEvoM!I579)","v":""},{"$f":"IF(ISBLANK(FromEvoM!J579),\"\",FromEvoM!J579)","v":""},{"$f":"IF(ISBLANK(FromEvoM!K579),\"\",FromEvoM!K579)","v":""},{"$f":"IF(ISBLANK(FromEvoM!L579),\"\",FromEvoM!L579)","v":""},{"$f":"IF(ISBLANK(FromEvoM!M579),\"\",FromEvoM!M579)","v":""},{"$f":"IF(ISBLANK(FromEvoM!P579),\"\",FromEvoM!P579)","v":""},null,{"$f":"IF(ISNUMBER(FromEvoM!X579),FromEvoM!X579,\"\")","v":""},{"$f":"IF(ISNUMBER(FromEvoM!AB579),FromEvoM!AB579,\"\")","v":""},{"$f":"IF(ISNUMBER(FromEvoM!AA579),FromEvoM!AA579,\"\")","v":""},null,{"$f":"AM579","v":""},{"$f":"AN579","v":""},null,null,{"$f":"IF(FromEvoM!W579=1,(FromEvoM!AB579*12),IF(FromEvoM!W579=7,(FromEvoM!AR579),\"\"))","v":""},null,null,{"$f":"IF(ISBLANK(FromEvoM!A579),\"\",IF(FromEvoM!AK579=\"y\",\"Y\",\"N\"))","v":""},{"$f":"IF(ISBLANK(FromEvoM!A579),\"\",Category_ID)","v":""},null,null,null,{"$f":"IF(ISBLANK(FromEvoM!AK579),\"\",FromEvoM!AK579)","v":""},{"$f":"IF(ISBLANK(FromEvoM!AM579),\"\",FromEvoM!AM579)","v":""},{"$f":"IF(ISBLANK(FromEvoM!AN579),\"\",FromEvoM!AN579)","v":""},{"$f":"IF(ISBLANK(FromEvoM!AL579),\"\",FromEvoM!AL579)","v":""},{"$f":"IF(ISBLANK(FromEvoM!A579),\"\",IF(AND(AF579=\"y\",AI579=1),\"Y\",\"N\"))","v":""},{"$f":"IF(ISBLANK(FromEvoM!A579),\"\",IF(FromEvoM!AS579=\"Yes\",2,1))","v":""},{"$f":"IF(FromEvoM!W579=1,\"M\",IF(FromEvoM!W579=7,\"W\",\"\"))","v":""},{"$f":"IF(AJ579=\"Y\",0,IF(AJ579=\"N\",FromEvoM!AF579+FromEvoM!AT579,\"\"))","v":""},{"$f":"IF(AJ579=\"Y\",(FromEvoM!AE579+FromEvoM!AF579-FromEvoM!AT579),IF(AJ579=\"N\",FromEvoM!AE579,\"\"))","v":""}]
[{"$f":"IF(ISBLANK(FromEvoM!A580),\"\",Group_Code)","v":""},{"$f":"IF(ISBLANK(FromEvoM!A580),\"\",SUBSTITUTE(FromEvoM!A580,\" \",\"\"))","v":""},{"$f":"IF(ISBLANK(FromEvoM!C580),\"\",SUBSTITUTE(FromEvoM!G580,\" \",\"\"))","v":""},{"$f":"IF(ISBLANK(FromEvoM!D580),\"\",FromEvoM!B580)","v":""},{"$f":"IF(ISBLANK(FromEvoM!D580),\"\",FromEvoM!D580)","v":""},{"$f":"IF(ISBLANK(FromEvoM!C580),\"\",FromEvoM!C580)","v":""},{"$f":"REPLACE(FromEvoM!F580,2,6, )","v":""},{"$f":"IF(ISNUMBER(FromEvoM!E580),FromEvoM!E580,\"\")","v":""},{"$f":"IF(ISBLANK(FromEvoM!I580),\"\",FromEvoM!I580)","v":""},{"$f":"IF(ISBLANK(FromEvoM!J580),\"\",FromEvoM!J580)","v":""},{"$f":"IF(ISBLANK(FromEvoM!K580),\"\",FromEvoM!K580)","v":""},{"$f":"IF(ISBLANK(FromEvoM!L580),\"\",FromEvoM!L580)","v":""},{"$f":"IF(ISBLANK(FromEvoM!M580),\"\",FromEvoM!M580)","v":""},{"$f":"IF(ISBLANK(FromEvoM!P580),\"\",FromEvoM!P580)","v":""},null,{"$f":"IF(ISNUMBER(FromEvoM!X580),FromEvoM!X580,\"\")","v":""},{"$f":"IF(ISNUMBER(FromEvoM!AB580),FromEvoM!AB580,\"\")","v":""},{"$f":"IF(ISNUMBER(FromEvoM!AA580),FromEvoM!AA580,\"\")","v":""},null,"","",null,null,{"$f":"IF(FromEvoM!W580=1,(FromEvoM!AB580*12),IF(FromEvoM!W580=7,(FromEvoM!AR580),\"\"))","v":""},null,null,{"$f":"IF(ISBLANK(FromEvoM!A580),\"\",IF(FromEvoM!AK580=\"y\",\"Y\",\"N\"))","v":""},{"$f":"IF(ISBLANK(FromEvoM!A580),\"\",Category_ID)","v":""},null,null,null,{"$f":"IF(ISBLANK(FromEvoM!AK580),\"\",FromEvoM!AK580)","v":""},{"$f":"IF(ISBLANK(FromEvoM!AM580),\"\",FromEvoM!AM580)","v":""},{"$f":"IF(ISBLANK(FromEvoM!AN580),\"\",FromEvoM!AN580)","v":""},{"$f":"IF(ISBLANK(FromEvoM!AL580),\"\",FromEvoM!AL580)","v":""},{"$f":"IF(ISBLANK(FromEvoM!A580),\"\",IF(AND(AF580=\"y\",AI580=1),\"Y\",\"N\"))","v":""},{"$f":"IF(ISBLANK(FromEvoM!A580),\"\",IF(FromEvoM!AS580=\"Yes\",2,1))","v":""},{"$f":"IF(FromEvoM!W580=1,\"M\",IF(FromEvoM!W580=7,\"W\",\"\"))","v":""},{"$f":"IF(AJ580=\"Y\",0,IF(AJ580=\"N\",FromEvoM!AF580+FromEvoM!AT580,\"\"))","v":""},{"$f":"IF(AJ580=\"Y\",(FromEvoM!AE580+FromEvoM!AF580-FromEvoM!AT580),IF(AJ580=\"N\",FromEvoM!AE580,\"\"))","v":""}]
[{"$f":"IF(ISBLANK(FromEvoM!A581),\"\",Group_Code)","v":""},{"$f":"IF(ISBLANK(FromEvoM!A581),\"\",SUBSTITUTE(FromEvoM!A581,\" \",\"\"))","v":""},{"$f":"IF(ISBLANK(FromEvoM!C581),\"\",SUBSTITUTE(FromEvoM!G581,\" \",\"\"))","v":""},{"$f":"IF(ISBLANK(FromEvoM!D581),\"\",FromEvoM!B581)","v":""},{"$f":"IF(ISBLANK(FromEvoM!D581),\"\",FromEvoM!D581)","v":""},{"$f":"IF(ISBLANK(FromEvoM!C581),\"\",FromEvoM!C581)","v":""},{"$f":"REPLACE(FromEvoM!F581,2,6, )","v":""},{"$f":"IF(ISNUMBER(FromEvoM!E581),FromEvoM!E581,\"\")","v":""},{"$f":"IF(ISBLANK(FromEvoM!I581),\"\",FromEvoM!I581)","v":""},{"$f":"IF(ISBLANK(FromEvoM!J581),\"\",FromEvoM!J581)","v":""},{"$f":"IF(ISBLANK(FromEvoM!K581),\"\",FromEvoM!K581)","v":""},{"$f":"IF(ISBLANK(FromEvoM!L581),\"\",FromEvoM!L581)","v":""},{"$f":"IF(ISBLANK(FromEvoM!M581),\"\",FromEvoM!M581)","v":""},{"$f":"IF(ISBLANK(FromEvoM!P581),\"\",FromEvoM!P581)","v":""},null,{"$f":"IF(ISNUMBER(FromEvoM!X581),FromEvoM!X581,\"\")","v":""},{"$f":"IF(ISNUMBER(FromEvoM!AB581),FromEvoM!AB581,\"\")","v":""},{"$f":"IF(ISNUMBER(FromEvoM!AA581),FromEvoM!AA581,\"\")","v":""},null,"","",null,null,{"$f":"IF(FromEvoM!W581=1,(FromEvoM!AB581*12),IF(FromEvoM!W581=7,(FromEvoM!AR581),\"\"))","v":""},null,null,{"$f":"IF(ISBLANK(FromEvoM!A581),\"\",IF(FromEvoM!AK581=\"y\",\"Y\",\"N\"))","v":""},{"$f":"IF(ISBLANK(FromEvoM!A581),\"\",Category_ID)","v":""},null,null,null,{"$f":"IF(ISBLANK(FromEvoM!AK581),\"\",FromEvoM!AK581)","v":""},{"$f":"IF(ISBLANK(FromEvoM!AM581),\"\",FromEvoM!AM581)","v":""},{"$f":"IF(ISBLANK(FromEvoM!AN581),\"\",FromEvoM!AN581)","v":""},{"$f":"IF(ISBLANK(FromEvoM!AL581),\"\",FromEvoM!AL581)","v":""},{"$f":"IF(ISBLANK(FromEvoM!A581),\"\",IF(AND(AF581=\"y\",AI581=1),\"Y\",\"N\"))","v":""},{"$f":"IF(ISBLANK(FromEvoM!A581),\"\",IF(FromEvoM!AS581=\"Yes\",2,1))","v":""},{"$f":"IF(FromEvoM!W581=1,\"M\",IF(FromEvoM!W581=7,\"W\",\"\"))","v":""},{"$f":"IF(AJ581=\"Y\",0,IF(AJ581=\"N\",FromEvoM!AF581+FromEvoM!AT581,\"\"))","v":""},{"$f":"IF(AJ581=\"Y\",(FromEvoM!AE581+FromEvoM!AF581-FromEvoM!AT581),IF(AJ581=\"N\",FromEvoM!AE581,\"\"))","v":""}]
[{"$f":"IF(ISBLANK(FromEvoM!A582),\"\",Group_Code)","v":""},{"$f":"IF(ISBLANK(FromEvoM!A582),\"\",SUBSTITUTE(FromEvoM!A582,\" \",\"\"))","v":""},{"$f":"IF(ISBLANK(FromEvoM!C582),\"\",SUBSTITUTE(FromEvoM!G582,\" \",\"\"))","v":""},{"$f":"IF(ISBLANK(FromEvoM!D582),\"\",FromEvoM!B582)","v":""},{"$f":"IF(ISBLANK(FromEvoM!D582),\"\",FromEvoM!D582)","v":""},{"$f":"IF(ISBLANK(FromEvoM!C582),\"\",FromEvoM!C582)","v":""},{"$f":"REPLACE(FromEvoM!F582,2,6, )","v":""},{"$f":"IF(ISNUMBER(FromEvoM!E582),FromEvoM!E582,\"\")","v":""},{"$f":"IF(ISBLANK(FromEvoM!I582),\"\",FromEvoM!I582)","v":""},{"$f":"IF(ISBLANK(FromEvoM!J582),\"\",FromEvoM!J582)","v":""},{"$f":"IF(ISBLANK(FromEvoM!K582),\"\",FromEvoM!K582)","v":""},{"$f":"IF(ISBLANK(FromEvoM!L582),\"\",FromEvoM!L582)","v":""},{"$f":"IF(ISBLANK(FromEvoM!M582),\"\",FromEvoM!M582)","v":""},{"$f":"IF(ISBLANK(FromEvoM!P582),\"\",FromEvoM!P582)","v":""},null,{"$f":"IF(ISNUMBER(FromEvoM!X582),FromEvoM!X582,\"\")","v":""},{"$f":"IF(ISNUMBER(FromEvoM!AB582),FromEvoM!AB582,\"\")","v":""},{"$f":"IF(ISNUMBER(FromEvoM!AA582),FromEvoM!AA582,\"\")","v":""},null,"","",null,null,{"$f":"IF(FromEvoM!W582=1,(FromEvoM!AB582*12),IF(FromEvoM!W582=7,(FromEvoM!AR582),\"\"))","v":""},null,null,{"$f":"IF(ISBLANK(FromEvoM!A582),\"\",IF(FromEvoM!AK582=\"y\",\"Y\",\"N\"))","v":""},{"$f":"IF(ISBLANK(FromEvoM!A582),\"\",Category_ID)","v":""},null,null,null,{"$f":"IF(ISBLANK(FromEvoM!AK582),\"\",FromEvoM!AK582)","v":""},{"$f":"IF(ISBLANK(FromEvoM!AM582),\"\",FromEvoM!AM582)","v":""},{"$f":"IF(ISBLANK(FromEvoM!AN582),\"\",FromEvoM!AN582)","v":""},{"$f":"IF(ISBLANK(FromEvoM!AL582),\"\",FromEvoM!AL582)","v":""},{"$f":"IF(ISBLANK(FromEvoM!A582),\"\",IF(AND(AF582=\"y\",AI582=1),\"Y\",\"N\"))","v":""},{"$f":"IF(ISBLANK(FromEvoM!A582),\"\",IF(FromEvoM!AS582=\"Yes\",2,1))","v":""},{"$f":"IF(FromEvoM!W582=1,\"M\",IF(FromEvoM!W582=7,\"W\",\"\"))","v":""},{"$f":"IF(AJ582=\"Y\",0,IF(AJ582=\"N\",FromEvoM!AF582+FromEvoM!AT582,\"\"))","v":""},{"$f":"IF(AJ582=\"Y\",(FromEvoM!AE582+FromEvoM!AF582-FromEvoM!AT582),IF(AJ582=\"N\",FromEvoM!AE582,\"\"))","v":""}]
[{"$f":"IF(ISBLANK(FromEvoM!A583),\"\",Group_Code)","v":""},{"$f":"IF(ISBLANK(FromEvoM!A583),\"\",SUBSTITUTE(FromEvoM!A583,\" \",\"\"))","v":""},{"$f":"IF(ISBLANK(FromEvoM!C583),\"\",SUBSTITUTE(FromEvoM!G583,\" \",\"\"))","v":""},{"$f":"IF(ISBLANK(FromEvoM!D583),\"\",FromEvoM!B583)","v":""},{"$f":"IF(ISBLANK(FromEvoM!D583),\"\",FromEvoM!D583)","v":""},{"$f":"IF(ISBLANK(FromEvoM!C583),\"\",FromEvoM!C583)","v":""},{"$f":"REPLACE(FromEvoM!F583,2,6, )","v":""},{"$f":"IF(ISNUMBER(FromEvoM!E583),FromEvoM!E583,\"\")","v":""},{"$f":"IF(ISBLANK(FromEvoM!I583),\"\",FromEvoM!I583)","v":""},{"$f":"IF(ISBLANK(FromEvoM!J583),\"\",FromEvoM!J583)","v":""},{"$f":"IF(ISBLANK(FromEvoM!K583),\"\",FromEvoM!K583)","v":""},{"$f":"IF(ISBLANK(FromEvoM!L583),\"\",FromEvoM!L583)","v":""},{"$f":"IF(ISBLANK(FromEvoM!M583),\"\",FromEvoM!M583)","v":""},{"$f":"IF(ISBLANK(FromEvoM!P583),\"\",FromEvoM!P583)","v":""},null,{"$f":"IF(ISNUMBER(FromEvoM!X583),FromEvoM!X583,\"\")","v":""},{"$f":"IF(ISNUMBER(FromEvoM!AB583),FromEvoM!AB583,\"\")","v":""},{"$f":"IF(ISNUMBER(FromEvoM!AA583),FromEvoM!AA583,\"\")","v":""},null,"","",null,null,{"$f":"IF(FromEvoM!W583=1,(FromEvoM!AB583*12),IF(FromEvoM!W583=7,(FromEvoM!AR583),\"\"))","v":""},null,null,{"$f":"IF(ISBLANK(FromEvoM!A583),\"\",IF(FromEvoM!AK583=\"y\",\"Y\",\"N\"))","v":""},{"$f":"IF(ISBLANK(FromEvoM!A583),\"\",Category_ID)","v":""},null,null,null,{"$f":"IF(ISBLANK(FromEvoM!AK583),\"\",FromEvoM!AK583)","v":""},{"$f":"IF(ISBLANK(FromEvoM!AM583),\"\",FromEvoM!AM583)","v":""},{"$f":"IF(ISBLANK(FromEvoM!AN583),\"\",FromEvoM!AN583)","v":""},{"$f":"IF(ISBLANK(FromEvoM!AL583),\"\",FromEvoM!AL583)","v":""},{"$f":"IF(ISBLANK(FromEvoM!A583),\"\",IF(AND(AF583=\"y\",AI583=1),\"Y\",\"N\"))","v":""},{"$f":"IF(ISBLANK(FromEvoM!A583),\"\",IF(FromEvoM!AS583=\"Yes\",2,1))","v":""},{"$f":"IF(FromEvoM!W583=1,\"M\",IF(FromEvoM!W583=7,\"W\",\"\"))","v":""},{"$f":"IF(AJ583=\"Y\",0,IF(AJ583=\"N\",FromEvoM!AF583+FromEvoM!AT583,\"\"))","v":""},{"$f":"IF(AJ583=\"Y\",(FromEvoM!AE583+FromEvoM!AF583-FromEvoM!AT583),IF(AJ583=\"N\",FromEvoM!AE583,\"\"))","v":""}]
[{"$f":"IF(ISBLANK(FromEvoM!A584),\"\",Group_Code)","v":""},{"$f":"IF(ISBLANK(FromEvoM!A584),\"\",SUBSTITUTE(FromEvoM!A584,\" \",\"\"))","v":""},{"$f":"IF(ISBLANK(FromEvoM!C584),\"\",SUBSTITUTE(FromEvoM!G584,\" \",\"\"))","v":""},{"$f":"IF(ISBLANK(FromEvoM!D584),\"\",FromEvoM!B584)","v":""},{"$f":"IF(ISBLANK(FromEvoM!D584),\"\",FromEvoM!D584)","v":""},{"$f":"IF(ISBLANK(FromEvoM!C584),\"\",FromEvoM!C584)","v":""},{"$f":"REPLACE(FromEvoM!F584,2,6, )","v":""},{"$f":"IF(ISNUMBER(FromEvoM!E584),FromEvoM!E584,\"\")","v":""},{"$f":"IF(ISBLANK(FromEvoM!I584),\"\",FromEvoM!I584)","v":""},{"$f":"IF(ISBLANK(FromEvoM!J584),\"\",FromEvoM!J584)","v":""},{"$f":"IF(ISBLANK(FromEvoM!K584),\"\",FromEvoM!K584)","v":""},{"$f":"IF(ISBLANK(FromEvoM!L584),\"\",FromEvoM!L584)","v":""},{"$f":"IF(ISBLANK(FromEvoM!M584),\"\",FromEvoM!M584)","v":""},{"$f":"IF(ISBLANK(FromEvoM!P584),\"\",FromEvoM!P584)","v":""},null,{"$f":"IF(ISNUMBER(FromEvoM!X584),FromEvoM!X584,\"\")","v":""},{"$f":"IF(ISNUMBER(FromEvoM!AB584),FromEvoM!AB584,\"\")","v":""},{"$f":"IF(ISNUMBER(FromEvoM!AA584),FromEvoM!AA584,\"\")","v":""},null,"","",null,null,{"$f":"IF(FromEvoM!W584=1,(FromEvoM!AB584*12),IF(FromEvoM!W584=7,(FromEvoM!AR584),\"\"))","v":""},null,null,{"$f":"IF(ISBLANK(FromEvoM!A584),\"\",IF(FromEvoM!AK584=\"y\",\"Y\",\"N\"))","v":""},{"$f":"IF(ISBLANK(FromEvoM!A584),\"\",Category_ID)","v":""},null,null,null,{"$f":"IF(ISBLANK(FromEvoM!AK584),\"\",FromEvoM!AK584)","v":""},{"$f":"IF(ISBLANK(FromEvoM!AM584),\"\",FromEvoM!AM584)","v":""},{"$f":"IF(ISBLANK(FromEvoM!AN584),\"\",FromEvoM!AN584)","v":""},{"$f":"IF(ISBLANK(FromEvoM!AL584),\"\",FromEvoM!AL584)","v":""},{"$f":"IF(ISBLANK(FromEvoM!A584),\"\",IF(AND(AF584=\"y\",AI584=1),\"Y\",\"N\"))","v":""},{"$f":"IF(ISBLANK(FromEvoM!A584),\"\",IF(FromEvoM!AS584=\"Yes\",2,1))","v":""},{"$f":"IF(FromEvoM!W584=1,\"M\",IF(FromEvoM!W584=7,\"W\",\"\"))","v":""},{"$f":"IF(AJ584=\"Y\",0,IF(AJ584=\"N\",FromEvoM!AF584+FromEvoM!AT584,\"\"))","v":""},{"$f":"IF(AJ584=\"Y\",(FromEvoM!AE584+FromEvoM!AF584-FromEvoM!AT584),IF(AJ584=\"N\",FromEvoM!AE584,\"\"))","v":""}]
[{"$f":"IF(ISBLANK(FromEvoM!A585),\"\",Group_Code)","v":""},{"$f":"IF(ISBLANK(FromEvoM!A585),\"\",SUBSTITUTE(FromEvoM!A585,\" \",\"\"))","v":""},{"$f":"IF(ISBLANK(FromEvoM!C585),\"\",SUBSTITUTE(FromEvoM!G585,\" \",\"\"))","v":""},{"$f":"IF(ISBLANK(FromEvoM!D585),\"\",FromEvoM!B585)","v":""},{"$f":"IF(ISBLANK(FromEvoM!D585),\"\",FromEvoM!D585)","v":""},{"$f":"IF(ISBLANK(FromEvoM!C585),\"\",FromEvoM!C585)","v":""},{"$f":"REPLACE(FromEvoM!F585,2,6, )","v":""},{"$f":"IF(ISNUMBER(FromEvoM!E585),FromEvoM!E585,\"\")","v":""},{"$f":"IF(ISBLANK(FromEvoM!I585),\"\",FromEvoM!I585)","v":""},{"$f":"IF(ISBLANK(FromEvoM!J585),\"\",FromEvoM!J585)","v":""},{"$f":"IF(ISBLANK(FromEvoM!K585),\"\",FromEvoM!K585)","v":""},{"$f":"IF(ISBLANK(FromEvoM!L585),\"\",FromEvoM!L585)","v":""},{"$f":"IF(ISBLANK(FromEvoM!M585),\"\",FromEvoM!M585)","v":""},{"$f":"IF(ISBLANK(FromEvoM!P585),\"\",FromEvoM!P585)","v":""},null,{"$f":"IF(ISNUMBER(FromEvoM!X585),FromEvoM!X585,\"\")","v":""},{"$f":"IF(ISNUMBER(FromEvoM!AB585),FromEvoM!AB585,\"\")","v":""},{"$f":"IF(ISNUMBER(FromEvoM!AA585),FromEvoM!AA585,\"\")","v":""},null,"","",null,null,{"$f":"IF(FromEvoM!W585=1,(FromEvoM!AB585*12),IF(FromEvoM!W585=7,(FromEvoM!AR585),\"\"))","v":""},null,null,{"$f":"IF(ISBLANK(FromEvoM!A585),\"\",IF(FromEvoM!AK585=\"y\",\"Y\",\"N\"))","v":""},{"$f":"IF(ISBLANK(FromEvoM!A585),\"\",Category_ID)","v":""},null,null,null,{"$f":"IF(ISBLANK(FromEvoM!AK585),\"\",FromEvoM!AK585)","v":""},{"$f":"IF(ISBLANK(FromEvoM!AM585),\"\",FromEvoM!AM585)","v":""},{"$f":"IF(ISBLANK(FromEvoM!AN585),\"\",FromEvoM!AN585)","v":""},{"$f":"IF(ISBLANK(FromEvoM!AL585),\"\",FromEvoM!AL585)","v":""},{"$f":"IF(ISBLANK(FromEvoM!A585),\"\",IF(AND(AF585=\"y\",AI585=1),\"Y\",\"N\"))","v":""},{"$f":"IF(ISBLANK(FromEvoM!A585),\"\",IF(FromEvoM!AS585=\"Yes\",2,1))","v":""},{"$f":"IF(FromEvoM!W585=1,\"M\",IF(FromEvoM!W585=7,\"W\",\"\"))","v":""},{"$f":"IF(AJ585=\"Y\",0,IF(AJ585=\"N\",FromEvoM!AF585+FromEvoM!AT585,\"\"))","v":""},{"$f":"IF(AJ585=\"Y\",(FromEvoM!AE585+FromEvoM!AF585-FromEvoM!AT585),IF(AJ585=\"N\",FromEvoM!AE585,\"\"))","v":""}]
[{"$f":"IF(ISBLANK(FromEvoM!A586),\"\",Group_Code)","v":""},{"$f":"IF(ISBLANK(FromEvoM!A586),\"\",SUBSTITUTE(FromEvoM!A586,\" \",\"\"))","v":""},{"$f":"IF(ISBLANK(FromEvoM!C586),\"\",SUBSTITUTE(FromEvoM!G586,\" \",\"\"))","v":""},{"$f":"IF(ISBLANK(FromEvoM!D586),\"\",FromEvoM!B586)","v":""},{"$f":"IF(ISBLANK(FromEvoM!D586),\"\",FromEvoM!D586)","v":""},{"$f":"IF(ISBLANK(FromEvoM!C586),\"\",FromEvoM!C586)","v":""},{"$f":"REPLACE(FromEvoM!F586,2,6, )","v":""},{"$f":"IF(ISNUMBER(FromEvoM!E586),FromEvoM!E586,\"\")","v":""},{"$f":"IF(ISBLANK(FromEvoM!I586),\"\",FromEvoM!I586)","v":""},{"$f":"IF(ISBLANK(FromEvoM!J586),\"\",FromEvoM!J586)","v":""},{"$f":"IF(ISBLANK(FromEvoM!K586),\"\",FromEvoM!K586)","v":""},{"$f":"IF(ISBLANK(FromEvoM!L586),\"\",FromEvoM!L586)","v":""},{"$f":"IF(ISBLANK(FromEvoM!M586),\"\",FromEvoM!M586)","v":""},{"$f":"IF(ISBLANK(FromEvoM!P586),\"\",FromEvoM!P586)","v":""},null,{"$f":"IF(ISNUMBER(FromEvoM!X586),FromEvoM!X586,\"\")","v":""},{"$f":"IF(ISNUMBER(FromEvoM!AB586),FromEvoM!AB586,\"\")","v":""},{"$f":"IF(ISNUMBER(FromEvoM!AA586),FromEvoM!AA586,\"\")","v":""},null,"","",null,null,{"$f":"IF(FromEvoM!W586=1,(FromEvoM!AB586*12),IF(FromEvoM!W586=7,(FromEvoM!AR586),\"\"))","v":""},null,null,{"$f":"IF(ISBLANK(FromEvoM!A586),\"\",IF(FromEvoM!AK586=\"y\",\"Y\",\"N\"))","v":""},{"$f":"IF(ISBLANK(FromEvoM!A586),\"\",Category_ID)","v":""},null,null,null,{"$f":"IF(ISBLANK(FromEvoM!AK586),\"\",FromEvoM!AK586)","v":""},{"$f":"IF(ISBLANK(FromEvoM!AM586),\"\",FromEvoM!AM586)","v":""},{"$f":"IF(ISBLANK(FromEvoM!AN586),\"\",FromEvoM!AN586)","v":""},{"$f":"IF(ISBLANK(FromEvoM!AL586),\"\",FromEvoM!AL586)","v":""},{"$f":"IF(ISBLANK(FromEvoM!A586),\"\",IF(AND(AF586=\"y\",AI586=1),\"Y\",\"N\"))","v":""},{"$f":"IF(ISBLANK(FromEvoM!A586),\"\",IF(FromEvoM!AS586=\"Yes\",2,1))","v":""},{"$f":"IF(FromEvoM!W586=1,\"M\",IF(FromEvoM!W586=7,\"W\",\"\"))","v":""},{"$f":"IF(AJ586=\"Y\",0,IF(AJ586=\"N\",FromEvoM!AF586+FromEvoM!AT586,\"\"))","v":""},{"$f":"IF(AJ586=\"Y\",(FromEvoM!AE586+FromEvoM!AF586-FromEvoM!AT586),IF(AJ586=\"N\",FromEvoM!AE586,\"\"))","v":""}]
[{"$f":"IF(ISBLANK(FromEvoM!A587),\"\",Group_Code)","v":""},{"$f":"IF(ISBLANK(FromEvoM!A587),\"\",SUBSTITUTE(FromEvoM!A587,\" \",\"\"))","v":""},{"$f":"IF(ISBLANK(FromEvoM!C587),\"\",SUBSTITUTE(FromEvoM!G587,\" \",\"\"))","v":""},{"$f":"IF(ISBLANK(FromEvoM!D587),\"\",FromEvoM!B587)","v":""},{"$f":"IF(ISBLANK(FromEvoM!D587),\"\",FromEvoM!D587)","v":""},{"$f":"IF(ISBLANK(FromEvoM!C587),\"\",FromEvoM!C587)","v":""},{"$f":"REPLACE(FromEvoM!F587,2,6, )","v":""},{"$f":"IF(ISNUMBER(FromEvoM!E587),FromEvoM!E587,\"\")","v":""},{"$f":"IF(ISBLANK(FromEvoM!I587),\"\",FromEvoM!I587)","v":""},{"$f":"IF(ISBLANK(FromEvoM!J587),\"\",FromEvoM!J587)","v":""},{"$f":"IF(ISBLANK(FromEvoM!K587),\"\",FromEvoM!K587)","v":""},{"$f":"IF(ISBLANK(FromEvoM!L587),\"\",FromEvoM!L587)","v":""},{"$f":"IF(ISBLANK(FromEvoM!M587),\"\",FromEvoM!M587)","v":""},{"$f":"IF(ISBLANK(FromEvoM!P587),\"\",FromEvoM!P587)","v":""},null,{"$f":"IF(ISNUMBER(FromEvoM!X587),FromEvoM!X587,\"\")","v":""},{"$f":"IF(ISNUMBER(FromEvoM!AB587),FromEvoM!AB587,\"\")","v":""},{"$f":"IF(ISNUMBER(FromEvoM!AA587),FromEvoM!AA587,\"\")","v":""},null,"","",null,null,{"$f":"IF(FromEvoM!W587=1,(FromEvoM!AB587*12),IF(FromEvoM!W587=7,(FromEvoM!AR587),\"\"))","v":""},null,null,{"$f":"IF(ISBLANK(FromEvoM!A587),\"\",IF(FromEvoM!AK587=\"y\",\"Y\",\"N\"))","v":""},{"$f":"IF(ISBLANK(FromEvoM!A587),\"\",Category_ID)","v":""},null,null,null,{"$f":"IF(ISBLANK(FromEvoM!AK587),\"\",FromEvoM!AK587)","v":""},{"$f":"IF(ISBLANK(FromEvoM!AM587),\"\",FromEvoM!AM587)","v":""},{"$f":"IF(ISBLANK(FromEvoM!AN587),\"\",FromEvoM!AN587)","v":""},{"$f":"IF(ISBLANK(FromEvoM!AL587),\"\",FromEvoM!AL587)","v":""},{"$f":"IF(ISBLANK(FromEvoM!A587),\"\",IF(AND(AF587=\"y\",AI587=1),\"Y\",\"N\"))","v":""},{"$f":"IF(ISBLANK(FromEvoM!A587),\"\",IF(FromEvoM!AS587=\"Yes\",2,1))","v":""},{"$f":"IF(FromEvoM!W587=1,\"M\",IF(FromEvoM!W587=7,\"W\",\"\"))","v":""},{"$f":"IF(AJ587=\"Y\",0,IF(AJ587=\"N\",FromEvoM!AF587+FromEvoM!AT587,\"\"))","v":""},{"$f":"IF(AJ587=\"Y\",(FromEvoM!AE587+FromEvoM!AF587-FromEvoM!AT587),IF(AJ587=\"N\",FromEvoM!AE587,\"\"))","v":""}]
[{"$f":"IF(ISBLANK(FromEvoM!A588),\"\",Group_Code)","v":""},{"$f":"IF(ISBLANK(FromEvoM!A588),\"\",SUBSTITUTE(FromEvoM!A588,\" \",\"\"))","v":""},{"$f":"IF(ISBLANK(FromEvoM!C588),\"\",SUBSTITUTE(FromEvoM!G588,\" \",\"\"))","v":""},{"$f":"IF(ISBLANK(FromEvoM!D588),\"\",FromEvoM!B588)","v":""},{"$f":"IF(ISBLANK(FromEvoM!D588),\"\",FromEvoM!D588)","v":""},{"$f":"IF(ISBLANK(FromEvoM!C588),\"\",FromEvoM!C588)","v":""},{"$f":"REPLACE(FromEvoM!F588,2,6, )","v":""},{"$f":"IF(ISNUMBER(FromEvoM!E588),FromEvoM!E588,\"\")","v":""},{"$f":"IF(ISBLANK(FromEvoM!I588),\"\",FromEvoM!I588)","v":""},{"$f":"IF(ISBLANK(FromEvoM!J588),\"\",FromEvoM!J588)","v":""},{"$f":"IF(ISBLANK(FromEvoM!K588),\"\",FromEvoM!K588)","v":""},{"$f":"IF(ISBLANK(FromEvoM!L588),\"\",FromEvoM!L588)","v":""},{"$f":"IF(ISBLANK(FromEvoM!M588),\"\",FromEvoM!M588)","v":""},{"$f":"IF(ISBLANK(FromEvoM!P588),\"\",FromEvoM!P588)","v":""},null,{"$f":"IF(ISNUMBER(FromEvoM!X588),FromEvoM!X588,\"\")","v":""},{"$f":"IF(ISNUMBER(FromEvoM!AB588),FromEvoM!AB588,\"\")","v":""},{"$f":"IF(ISNUMBER(FromEvoM!AA588),FromEvoM!AA588,\"\")","v":""},null,"","",null,null,{"$f":"IF(FromEvoM!W588=1,(FromEvoM!AB588*12),IF(FromEvoM!W588=7,(FromEvoM!AR588),\"\"))","v":""},null,null,{"$f":"IF(ISBLANK(FromEvoM!A588),\"\",IF(FromEvoM!AK588=\"y\",\"Y\",\"N\"))","v":""},{"$f":"IF(ISBLANK(FromEvoM!A588),\"\",Category_ID)","v":""},null,null,null,{"$f":"IF(ISBLANK(FromEvoM!AK588),\"\",FromEvoM!AK588)","v":""},{"$f":"IF(ISBLANK(FromEvoM!AM588),\"\",FromEvoM!AM588)","v":""},{"$f":"IF(ISBLANK(FromEvoM!AN588),\"\",FromEvoM!AN588)","v":""},{"$f":"IF(ISBLANK(FromEvoM!AL588),\"\",FromEvoM!AL588)","v":""},{"$f":"IF(ISBLANK(FromEvoM!A588),\"\",IF(AND(AF588=\"y\",AI588=1),\"Y\",\"N\"))","v":""},{"$f":"IF(ISBLANK(FromEvoM!A588),\"\",IF(FromEvoM!AS588=\"Yes\",2,1))","v":""},{"$f":"IF(FromEvoM!W588=1,\"M\",IF(FromEvoM!W588=7,\"W\",\"\"))","v":""},{"$f":"IF(AJ588=\"Y\",0,IF(AJ588=\"N\",FromEvoM!AF588+FromEvoM!AT588,\"\"))","v":""},{"$f":"IF(AJ588=\"Y\",(FromEvoM!AE588+FromEvoM!AF588-FromEvoM!AT588),IF(AJ588=\"N\",FromEvoM!AE588,\"\"))","v":""}]
[{"$f":"IF(ISBLANK(FromEvoM!A589),\"\",Group_Code)","v":""},{"$f":"IF(ISBLANK(FromEvoM!A589),\"\",SUBSTITUTE(FromEvoM!A589,\" \",\"\"))","v":""},{"$f":"IF(ISBLANK(FromEvoM!C589),\"\",SUBSTITUTE(FromEvoM!G589,\" \",\"\"))","v":""},{"$f":"IF(ISBLANK(FromEvoM!D589),\"\",FromEvoM!B589)","v":""},{"$f":"IF(ISBLANK(FromEvoM!D589),\"\",FromEvoM!D589)","v":""},{"$f":"IF(ISBLANK(FromEvoM!C589),\"\",FromEvoM!C589)","v":""},{"$f":"REPLACE(FromEvoM!F589,2,6, )","v":""},{"$f":"IF(ISNUMBER(FromEvoM!E589),FromEvoM!E589,\"\")","v":""},{"$f":"IF(ISBLANK(FromEvoM!I589),\"\",FromEvoM!I589)","v":""},{"$f":"IF(ISBLANK(FromEvoM!J589),\"\",FromEvoM!J589)","v":""},{"$f":"IF(ISBLANK(FromEvoM!K589),\"\",FromEvoM!K589)","v":""},{"$f":"IF(ISBLANK(FromEvoM!L589),\"\",FromEvoM!L589)","v":""},{"$f":"IF(ISBLANK(FromEvoM!M589),\"\",FromEvoM!M589)","v":""},{"$f":"IF(ISBLANK(FromEvoM!P589),\"\",FromEvoM!P589)","v":""},null,{"$f":"IF(ISNUMBER(FromEvoM!X589),FromEvoM!X589,\"\")","v":""},{"$f":"IF(ISNUMBER(FromEvoM!AB589),FromEvoM!AB589,\"\")","v":""},{"$f":"IF(ISNUMBER(FromEvoM!AA589),FromEvoM!AA589,\"\")","v":""},null,"","",null,null,{"$f":"IF(FromEvoM!W589=1,(FromEvoM!AB589*12),IF(FromEvoM!W589=7,(FromEvoM!AR589),\"\"))","v":""},null,null,{"$f":"IF(ISBLANK(FromEvoM!A589),\"\",IF(FromEvoM!AK589=\"y\",\"Y\",\"N\"))","v":""},{"$f":"IF(ISBLANK(FromEvoM!A589),\"\",Category_ID)","v":""},null,null,null,{"$f":"IF(ISBLANK(FromEvoM!AK589),\"\",FromEvoM!AK589)","v":""},{"$f":"IF(ISBLANK(FromEvoM!AM589),\"\",FromEvoM!AM589)","v":""},{"$f":"IF(ISBLANK(FromEvoM!AN589),\"\",FromEvoM!AN589)","v":""},{"$f":"IF(ISBLANK(FromEvoM!AL589),\"\",FromEvoM!AL589)","v":""},{"$f":"IF(ISBLANK(FromEvoM!A589),\"\",IF(AND(AF589=\"y\",AI589=1),\"Y\",\"N\"))","v":""},{"$f":"IF(ISBLANK(FromEvoM!A589),\"\",IF(FromEvoM!AS589=\"Yes\",2,1))","v":""},{"$f":"IF(FromEvoM!W589=1,\"M\",IF(FromEvoM!W589=7,\"W\",\"\"))","v":""},{"$f":"IF(AJ589=\"Y\",0,IF(AJ589=\"N\",FromEvoM!AF589+FromEvoM!AT589,\"\"))","v":""},{"$f":"IF(AJ589=\"Y\",(FromEvoM!AE589+FromEvoM!AF589-FromEvoM!AT589),IF(AJ589=\"N\",FromEvoM!AE589,\"\"))","v":""}]
[{"$f":"IF(ISBLANK(FromEvoM!A590),\"\",Group_Code)","v":""},{"$f":"IF(ISBLANK(FromEvoM!A590),\"\",SUBSTITUTE(FromEvoM!A590,\" \",\"\"))","v":""},{"$f":"IF(ISBLANK(FromEvoM!C590),\"\",SUBSTITUTE(FromEvoM!G590,\" \",\"\"))","v":""},{"$f":"IF(ISBLANK(FromEvoM!D590),\"\",FromEvoM!B590)","v":""},{"$f":"IF(ISBLANK(FromEvoM!D590),\"\",FromEvoM!D590)","v":""},{"$f":"IF(ISBLANK(FromEvoM!C590),\"\",FromEvoM!C590)","v":""},{"$f":"REPLACE(FromEvoM!F590,2,6, )","v":""},{"$f":"IF(ISNUMBER(FromEvoM!E590),FromEvoM!E590,\"\")","v":""},{"$f":"IF(ISBLANK(FromEvoM!I590),\"\",FromEvoM!I590)","v":""},{"$f":"IF(ISBLANK(FromEvoM!J590),\"\",FromEvoM!J590)","v":""},{"$f":"IF(ISBLANK(FromEvoM!K590),\"\",FromEvoM!K590)","v":""},{"$f":"IF(ISBLANK(FromEvoM!L590),\"\",FromEvoM!L590)","v":""},{"$f":"IF(ISBLANK(FromEvoM!M590),\"\",FromEvoM!M590)","v":""},{"$f":"IF(ISBLANK(FromEvoM!P590),\"\",FromEvoM!P590)","v":""},null,{"$f":"IF(ISNUMBER(FromEvoM!X590),FromEvoM!X590,\"\")","v":""},{"$f":"IF(ISNUMBER(FromEvoM!AB590),FromEvoM!AB590,\"\")","v":""},{"$f":"IF(ISNUMBER(FromEvoM!AA590),FromEvoM!AA590,\"\")","v":""},null,"","",null,null,{"$f":"IF(FromEvoM!W590=1,(FromEvoM!AB590*12),IF(FromEvoM!W590=7,(FromEvoM!AR590),\"\"))","v":""},null,null,{"$f":"IF(ISBLANK(FromEvoM!A590),\"\",IF(FromEvoM!AK590=\"y\",\"Y\",\"N\"))","v":""},{"$f":"IF(ISBLANK(FromEvoM!A590),\"\",Category_ID)","v":""},null,null,null,{"$f":"IF(ISBLANK(FromEvoM!AK590),\"\",FromEvoM!AK590)","v":""},{"$f":"IF(ISBLANK(FromEvoM!AM590),\"\",FromEvoM!AM590)","v":""},{"$f":"IF(ISBLANK(FromEvoM!AN590),\"\",FromEvoM!AN590)","v":""},{"$f":"IF(ISBLANK(FromEvoM!AL590),\"\",FromEvoM!AL590)","v":""},{"$f":"IF(ISBLANK(FromEvoM!A590),\"\",IF(AND(AF590=\"y\",AI590=1),\"Y\",\"N\"))","v":""},{"$f":"IF(ISBLANK(FromEvoM!A590),\"\",IF(FromEvoM!AS590=\"Yes\",2,1))","v":""},{"$f":"IF(FromEvoM!W590=1,\"M\",IF(FromEvoM!W590=7,\"W\",\"\"))","v":""},{"$f":"IF(AJ590=\"Y\",0,IF(AJ590=\"N\",FromEvoM!AF590+FromEvoM!AT590,\"\"))","v":""},{"$f":"IF(AJ590=\"Y\",(FromEvoM!AE590+FromEvoM!AF590-FromEvoM!AT590),IF(AJ590=\"N\",FromEvoM!AE590,\"\"))","v":""}]
[{"$f":"IF(ISBLANK(FromEvoM!A591),\"\",Group_Code)","v":""},{"$f":"IF(ISBLANK(FromEvoM!A591),\"\",SUBSTITUTE(FromEvoM!A591,\" \",\"\"))","v":""},{"$f":"IF(ISBLANK(FromEvoM!C591),\"\",SUBSTITUTE(FromEvoM!G591,\" \",\"\"))","v":""},{"$f":"IF(ISBLANK(FromEvoM!D591),\"\",FromEvoM!B591)","v":""},{"$f":"IF(ISBLANK(FromEvoM!D591),\"\",FromEvoM!D591)","v":""},{"$f":"IF(ISBLANK(FromEvoM!C591),\"\",FromEvoM!C591)","v":""},{"$f":"REPLACE(FromEvoM!F591,2,6, )","v":""},{"$f":"IF(ISNUMBER(FromEvoM!E591),FromEvoM!E591,\"\")","v":""},{"$f":"IF(ISBLANK(FromEvoM!I591),\"\",FromEvoM!I591)","v":""},{"$f":"IF(ISBLANK(FromEvoM!J591),\"\",FromEvoM!J591)","v":""},{"$f":"IF(ISBLANK(FromEvoM!K591),\"\",FromEvoM!K591)","v":""},{"$f":"IF(ISBLANK(FromEvoM!L591),\"\",FromEvoM!L591)","v":""},{"$f":"IF(ISBLANK(FromEvoM!M591),\"\",FromEvoM!M591)","v":""},{"$f":"IF(ISBLANK(FromEvoM!P591),\"\",FromEvoM!P591)","v":""},null,{"$f":"IF(ISNUMBER(FromEvoM!X591),FromEvoM!X591,\"\")","v":""},{"$f":"IF(ISNUMBER(FromEvoM!AB591),FromEvoM!AB591,\"\")","v":""},{"$f":"IF(ISNUMBER(FromEvoM!AA591),FromEvoM!AA591,\"\")","v":""},null,"","",null,null,{"$f":"IF(FromEvoM!W591=1,(FromEvoM!AB591*12),IF(FromEvoM!W591=7,(FromEvoM!AR591),\"\"))","v":""},null,null,{"$f":"IF(ISBLANK(FromEvoM!A591),\"\",IF(FromEvoM!AK591=\"y\",\"Y\",\"N\"))","v":""},{"$f":"IF(ISBLANK(FromEvoM!A591),\"\",Category_ID)","v":""},null,null,null,{"$f":"IF(ISBLANK(FromEvoM!AK591),\"\",FromEvoM!AK591)","v":""},{"$f":"IF(ISBLANK(FromEvoM!AM591),\"\",FromEvoM!AM591)","v":""},{"$f":"IF(ISBLANK(FromEvoM!AN591),\"\",FromEvoM!AN591)","v":""},{"$f":"IF(ISBLANK(FromEvoM!AL591),\"\",FromEvoM!AL591)","v":""},{"$f":"IF(ISBLANK(FromEvoM!A591),\"\",IF(AND(AF591=\"y\",AI591=1),\"Y\",\"N\"))","v":""},{"$f":"IF(ISBLANK(FromEvoM!A591),\"\",IF(FromEvoM!AS591=\"Yes\",2,1))","v":""},{"$f":"IF(FromEvoM!W591=1,\"M\",IF(FromEvoM!W591=7,\"W\",\"\"))","v":""},{"$f":"IF(AJ591=\"Y\",0,IF(AJ591=\"N\",FromEvoM!AF591+FromEvoM!AT591,\"\"))","v":""},{"$f":"IF(AJ591=\"Y\",(FromEvoM!AE591+FromEvoM!AF591-FromEvoM!AT591),IF(AJ591=\"N\",FromEvoM!AE591,\"\"))","v":""}]
[{"$f":"IF(ISBLANK(FromEvoM!A592),\"\",Group_Code)","v":""},{"$f":"IF(ISBLANK(FromEvoM!A592),\"\",SUBSTITUTE(FromEvoM!A592,\" \",\"\"))","v":""},{"$f":"IF(ISBLANK(FromEvoM!C592),\"\",SUBSTITUTE(FromEvoM!G592,\" \",\"\"))","v":""},{"$f":"IF(ISBLANK(FromEvoM!D592),\"\",FromEvoM!B592)","v":""},{"$f":"IF(ISBLANK(FromEvoM!D592),\"\",FromEvoM!D592)","v":""},{"$f":"IF(ISBLANK(FromEvoM!C592),\"\",FromEvoM!C592)","v":""},{"$f":"REPLACE(FromEvoM!F592,2,6, )","v":""},{"$f":"IF(ISNUMBER(FromEvoM!E592),FromEvoM!E592,\"\")","v":""},{"$f":"IF(ISBLANK(FromEvoM!I592),\"\",FromEvoM!I592)","v":""},{"$f":"IF(ISBLANK(FromEvoM!J592),\"\",FromEvoM!J592)","v":""},{"$f":"IF(ISBLANK(FromEvoM!K592),\"\",FromEvoM!K592)","v":""},{"$f":"IF(ISBLANK(FromEvoM!L592),\"\",FromEvoM!L592)","v":""},{"$f":"IF(ISBLANK(FromEvoM!M592),\"\",FromEvoM!M592)","v":""},{"$f":"IF(ISBLANK(FromEvoM!P592),\"\",FromEvoM!P592)","v":""},null,{"$f":"IF(ISNUMBER(FromEvoM!X592),FromEvoM!X592,\"\")","v":""},{"$f":"IF(ISNUMBER(FromEvoM!AB592),FromEvoM!AB592,\"\")","v":""},{"$f":"IF(ISNUMBER(FromEvoM!AA592),FromEvoM!AA592,\"\")","v":""},null,"","",null,null,{"$f":"IF(FromEvoM!W592=1,(FromEvoM!AB592*12),IF(FromEvoM!W592=7,(FromEvoM!AR592),\"\"))","v":""},null,null,{"$f":"IF(ISBLANK(FromEvoM!A592),\"\",IF(FromEvoM!AK592=\"y\",\"Y\",\"N\"))","v":""},{"$f":"IF(ISBLANK(FromEvoM!A592),\"\",Category_ID)","v":""},null,null,null,{"$f":"IF(ISBLANK(FromEvoM!AK592),\"\",FromEvoM!AK592)","v":""},{"$f":"IF(ISBLANK(FromEvoM!AM592),\"\",FromEvoM!AM592)","v":""},{"$f":"IF(ISBLANK(FromEvoM!AN592),\"\",FromEvoM!AN592)","v":""},{"$f":"IF(ISBLANK(FromEvoM!AL592),\"\",FromEvoM!AL592)","v":""},{"$f":"IF(ISBLANK(FromEvoM!A592),\"\",IF(AND(AF592=\"y\",AI592=1),\"Y\",\"N\"))","v":""},{"$f":"IF(ISBLANK(FromEvoM!A592),\"\",IF(FromEvoM!AS592=\"Yes\",2,1))","v":""},{"$f":"IF(FromEvoM!W592=1,\"M\",IF(FromEvoM!W592=7,\"W\",\"\"))","v":""},{"$f":"IF(AJ592=\"Y\",0,IF(AJ592=\"N\",FromEvoM!AF592+FromEvoM!AT592,\"\"))","v":""},{"$f":"IF(AJ592=\"Y\",(FromEvoM!AE592+FromEvoM!AF592-FromEvoM!AT592),IF(AJ592=\"N\",FromEvoM!AE592,\"\"))","v":""}]
[{"$f":"IF(ISBLANK(FromEvoM!A593),\"\",Group_Code)","v":""},{"$f":"IF(ISBLANK(FromEvoM!A593),\"\",SUBSTITUTE(FromEvoM!A593,\" \",\"\"))","v":""},{"$f":"IF(ISBLANK(FromEvoM!C593),\"\",SUBSTITUTE(FromEvoM!G593,\" \",\"\"))","v":""},{"$f":"IF(ISBLANK(FromEvoM!D593),\"\",FromEvoM!B593)","v":""},{"$f":"IF(ISBLANK(FromEvoM!D593),\"\",FromEvoM!D593)","v":""},{"$f":"IF(ISBLANK(FromEvoM!C593),\"\",FromEvoM!C593)","v":""},{"$f":"REPLACE(FromEvoM!F593,2,6, )","v":""},{"$f":"IF(ISNUMBER(FromEvoM!E593),FromEvoM!E593,\"\")","v":""},{"$f":"IF(ISBLANK(FromEvoM!I593),\"\",FromEvoM!I593)","v":""},{"$f":"IF(ISBLANK(FromEvoM!J593),\"\",FromEvoM!J593)","v":""},{"$f":"IF(ISBLANK(FromEvoM!K593),\"\",FromEvoM!K593)","v":""},{"$f":"IF(ISBLANK(FromEvoM!L593),\"\",FromEvoM!L593)","v":""},{"$f":"IF(ISBLANK(FromEvoM!M593),\"\",FromEvoM!M593)","v":""},{"$f":"IF(ISBLANK(FromEvoM!P593),\"\",FromEvoM!P593)","v":""},null,{"$f":"IF(ISNUMBER(FromEvoM!X593),FromEvoM!X593,\"\")","v":""},{"$f":"IF(ISNUMBER(FromEvoM!AB593),FromEvoM!AB593,\"\")","v":""},{"$f":"IF(ISNUMBER(FromEvoM!AA593),FromEvoM!AA593,\"\")","v":""},null,"","",null,null,{"$f":"IF(FromEvoM!W593=1,(FromEvoM!AB593*12),IF(FromEvoM!W593=7,(FromEvoM!AR593),\"\"))","v":""},null,null,{"$f":"IF(ISBLANK(FromEvoM!A593),\"\",IF(FromEvoM!AK593=\"y\",\"Y\",\"N\"))","v":""},{"$f":"IF(ISBLANK(FromEvoM!A593),\"\",Category_ID)","v":""},null,null,null,{"$f":"IF(ISBLANK(FromEvoM!AK593),\"\",FromEvoM!AK593)","v":""},{"$f":"IF(ISBLANK(FromEvoM!AM593),\"\",FromEvoM!AM593)","v":""},{"$f":"IF(ISBLANK(FromEvoM!AN593),\"\",FromEvoM!AN593)","v":""},{"$f":"IF(ISBLANK(FromEvoM!AL593),\"\",FromEvoM!AL593)","v":""},{"$f":"IF(ISBLANK(FromEvoM!A593),\"\",IF(AND(AF593=\"y\",AI593=1),\"Y\",\"N\"))","v":""},{"$f":"IF(ISBLANK(FromEvoM!A593),\"\",IF(FromEvoM!AS593=\"Yes\",2,1))","v":""},{"$f":"IF(FromEvoM!W593=1,\"M\",IF(FromEvoM!W593=7,\"W\",\"\"))","v":""},{"$f":"IF(AJ593=\"Y\",0,IF(AJ593=\"N\",FromEvoM!AF593+FromEvoM!AT593,\"\"))","v":""},{"$f":"IF(AJ593=\"Y\",(FromEvoM!AE593+FromEvoM!AF593-FromEvoM!AT593),IF(AJ593=\"N\",FromEvoM!AE593,\"\"))","v":""}]
[{"$f":"IF(ISBLANK(FromEvoM!A594),\"\",Group_Code)","v":""},{"$f":"IF(ISBLANK(FromEvoM!A594),\"\",SUBSTITUTE(FromEvoM!A594,\" \",\"\"))","v":""},{"$f":"IF(ISBLANK(FromEvoM!C594),\"\",SUBSTITUTE(FromEvoM!G594,\" \",\"\"))","v":""},{"$f":"IF(ISBLANK(FromEvoM!D594),\"\",FromEvoM!B594)","v":""},{"$f":"IF(ISBLANK(FromEvoM!D594),\"\",FromEvoM!D594)","v":""},{"$f":"IF(ISBLANK(FromEvoM!C594),\"\",FromEvoM!C594)","v":""},{"$f":"REPLACE(FromEvoM!F594,2,6, )","v":""},{"$f":"IF(ISNUMBER(FromEvoM!E594),FromEvoM!E594,\"\")","v":""},{"$f":"IF(ISBLANK(FromEvoM!I594),\"\",FromEvoM!I594)","v":""},{"$f":"IF(ISBLANK(FromEvoM!J594),\"\",FromEvoM!J594)","v":""},{"$f":"IF(ISBLANK(FromEvoM!K594),\"\",FromEvoM!K594)","v":""},{"$f":"IF(ISBLANK(FromEvoM!L594),\"\",FromEvoM!L594)","v":""},{"$f":"IF(ISBLANK(FromEvoM!M594),\"\",FromEvoM!M594)","v":""},{"$f":"IF(ISBLANK(FromEvoM!P594),\"\",FromEvoM!P594)","v":""},null,{"$f":"IF(ISNUMBER(FromEvoM!X594),FromEvoM!X594,\"\")","v":""},{"$f":"IF(ISNUMBER(FromEvoM!AB594),FromEvoM!AB594,\"\")","v":""},{"$f":"IF(ISNUMBER(FromEvoM!AA594),FromEvoM!AA594,\"\")","v":""},null,"","",null,null,{"$f":"IF(FromEvoM!W594=1,(FromEvoM!AB594*12),IF(FromEvoM!W594=7,(FromEvoM!AR594),\"\"))","v":""},null,null,{"$f":"IF(ISBLANK(FromEvoM!A594),\"\",IF(FromEvoM!AK594=\"y\",\"Y\",\"N\"))","v":""},{"$f":"IF(ISBLANK(FromEvoM!A594),\"\",Category_ID)","v":""},null,null,null,{"$f":"IF(ISBLANK(FromEvoM!AK594),\"\",FromEvoM!AK594)","v":""},{"$f":"IF(ISBLANK(FromEvoM!AM594),\"\",FromEvoM!AM594)","v":""},{"$f":"IF(ISBLANK(FromEvoM!AN594),\"\",FromEvoM!AN594)","v":""},{"$f":"IF(ISBLANK(FromEvoM!AL594),\"\",FromEvoM!AL594)","v":""},{"$f":"IF(ISBLANK(FromEvoM!A594),\"\",IF(AND(AF594=\"y\",AI594=1),\"Y\",\"N\"))","v":""},{"$f":"IF(ISBLANK(FromEvoM!A594),\"\",IF(FromEvoM!AS594=\"Yes\",2,1))","v":""},{"$f":"IF(FromEvoM!W594=1,\"M\",IF(FromEvoM!W594=7,\"W\",\"\"))","v":""},{"$f":"IF(AJ594=\"Y\",0,IF(AJ594=\"N\",FromEvoM!AF594+FromEvoM!AT594,\"\"))","v":""},{"$f":"IF(AJ594=\"Y\",(FromEvoM!AE594+FromEvoM!AF594-FromEvoM!AT594),IF(AJ594=\"N\",FromEvoM!AE594,\"\"))","v":""}]
[{"$f":"IF(ISBLANK(FromEvoM!A595),\"\",Group_Code)","v":""},{"$f":"IF(ISBLANK(FromEvoM!A595),\"\",SUBSTITUTE(FromEvoM!A595,\" \",\"\"))","v":""},{"$f":"IF(ISBLANK(FromEvoM!C595),\"\",SUBSTITUTE(FromEvoM!G595,\" \",\"\"))","v":""},{"$f":"IF(ISBLANK(FromEvoM!D595),\"\",FromEvoM!B595)","v":""},{"$f":"IF(ISBLANK(FromEvoM!D595),\"\",FromEvoM!D595)","v":""},{"$f":"IF(ISBLANK(FromEvoM!C595),\"\",FromEvoM!C595)","v":""},{"$f":"REPLACE(FromEvoM!F595,2,6, )","v":""},{"$f":"IF(ISNUMBER(FromEvoM!E595),FromEvoM!E595,\"\")","v":""},{"$f":"IF(ISBLANK(FromEvoM!I595),\"\",FromEvoM!I595)","v":""},{"$f":"IF(ISBLANK(FromEvoM!J595),\"\",FromEvoM!J595)","v":""},{"$f":"IF(ISBLANK(FromEvoM!K595),\"\",FromEvoM!K595)","v":""},{"$f":"IF(ISBLANK(FromEvoM!L595),\"\",FromEvoM!L595)","v":""},{"$f":"IF(ISBLANK(FromEvoM!M595),\"\",FromEvoM!M595)","v":""},{"$f":"IF(ISBLANK(FromEvoM!P595),\"\",FromEvoM!P595)","v":""},null,{"$f":"IF(ISNUMBER(FromEvoM!X595),FromEvoM!X595,\"\")","v":""},{"$f":"IF(ISNUMBER(FromEvoM!AB595),FromEvoM!AB595,\"\")","v":""},{"$f":"IF(ISNUMBER(FromEvoM!AA595),FromEvoM!AA595,\"\")","v":""},null,"","",null,null,{"$f":"IF(FromEvoM!W595=1,(FromEvoM!AB595*12),IF(FromEvoM!W595=7,(FromEvoM!AR595),\"\"))","v":""},null,null,{"$f":"IF(ISBLANK(FromEvoM!A595),\"\",IF(FromEvoM!AK595=\"y\",\"Y\",\"N\"))","v":""},{"$f":"IF(ISBLANK(FromEvoM!A595),\"\",Category_ID)","v":""},null,null,null,{"$f":"IF(ISBLANK(FromEvoM!AK595),\"\",FromEvoM!AK595)","v":""},{"$f":"IF(ISBLANK(FromEvoM!AM595),\"\",FromEvoM!AM595)","v":""},{"$f":"IF(ISBLANK(FromEvoM!AN595),\"\",FromEvoM!AN595)","v":""},{"$f":"IF(ISBLANK(FromEvoM!AL595),\"\",FromEvoM!AL595)","v":""},{"$f":"IF(ISBLANK(FromEvoM!A595),\"\",IF(AND(AF595=\"y\",AI595=1),\"Y\",\"N\"))","v":""},{"$f":"IF(ISBLANK(FromEvoM!A595),\"\",IF(FromEvoM!AS595=\"Yes\",2,1))","v":""},{"$f":"IF(FromEvoM!W595=1,\"M\",IF(FromEvoM!W595=7,\"W\",\"\"))","v":""},{"$f":"IF(AJ595=\"Y\",0,IF(AJ595=\"N\",FromEvoM!AF595+FromEvoM!AT595,\"\"))","v":""},{"$f":"IF(AJ595=\"Y\",(FromEvoM!AE595+FromEvoM!AF595-FromEvoM!AT595),IF(AJ595=\"N\",FromEvoM!AE595,\"\"))","v":""}]
[{"$f":"IF(ISBLANK(FromEvoM!A596),\"\",Group_Code)","v":""},{"$f":"IF(ISBLANK(FromEvoM!A596),\"\",SUBSTITUTE(FromEvoM!A596,\" \",\"\"))","v":""},{"$f":"IF(ISBLANK(FromEvoM!C596),\"\",SUBSTITUTE(FromEvoM!G596,\" \",\"\"))","v":""},{"$f":"IF(ISBLANK(FromEvoM!D596),\"\",FromEvoM!B596)","v":""},{"$f":"IF(ISBLANK(FromEvoM!D596),\"\",FromEvoM!D596)","v":""},{"$f":"IF(ISBLANK(FromEvoM!C596),\"\",FromEvoM!C596)","v":""},{"$f":"REPLACE(FromEvoM!F596,2,6, )","v":""},{"$f":"IF(ISNUMBER(FromEvoM!E596),FromEvoM!E596,\"\")","v":""},{"$f":"IF(ISBLANK(FromEvoM!I596),\"\",FromEvoM!I596)","v":""},{"$f":"IF(ISBLANK(FromEvoM!J596),\"\",FromEvoM!J596)","v":""},{"$f":"IF(ISBLANK(FromEvoM!K596),\"\",FromEvoM!K596)","v":""},{"$f":"IF(ISBLANK(FromEvoM!L596),\"\",FromEvoM!L596)","v":""},{"$f":"IF(ISBLANK(FromEvoM!M596),\"\",FromEvoM!M596)","v":""},{"$f":"IF(ISBLANK(FromEvoM!P596),\"\",FromEvoM!P596)","v":""},null,{"$f":"IF(ISNUMBER(FromEvoM!X596),FromEvoM!X596,\"\")","v":""},{"$f":"IF(ISNUMBER(FromEvoM!AB596),FromEvoM!AB596,\"\")","v":""},{"$f":"IF(ISNUMBER(FromEvoM!AA596),FromEvoM!AA596,\"\")","v":""},null,"","",null,null,{"$f":"IF(FromEvoM!W596=1,(FromEvoM!AB596*12),IF(FromEvoM!W596=7,(FromEvoM!AR596),\"\"))","v":""},null,null,{"$f":"IF(ISBLANK(FromEvoM!A596),\"\",IF(FromEvoM!AK596=\"y\",\"Y\",\"N\"))","v":""},{"$f":"IF(ISBLANK(FromEvoM!A596),\"\",Category_ID)","v":""},null,null,null,{"$f":"IF(ISBLANK(FromEvoM!AK596),\"\",FromEvoM!AK596)","v":""},{"$f":"IF(ISBLANK(FromEvoM!AM596),\"\",FromEvoM!AM596)","v":""},{"$f":"IF(ISBLANK(FromEvoM!AN596),\"\",FromEvoM!AN596)","v":""},{"$f":"IF(ISBLANK(FromEvoM!AL596),\"\",FromEvoM!AL596)","v":""},{"$f":"IF(ISBLANK(FromEvoM!A596),\"\",IF(AND(AF596=\"y\",AI596=1),\"Y\",\"N\"))","v":""},{"$f":"IF(ISBLANK(FromEvoM!A596),\"\",IF(FromEvoM!AS596=\"Yes\",2,1))","v":""},{"$f":"IF(FromEvoM!W596=1,\"M\",IF(FromEvoM!W596=7,\"W\",\"\"))","v":""},{"$f":"IF(AJ596=\"Y\",0,IF(AJ596=\"N\",FromEvoM!AF596+FromEvoM!AT596,\"\"))","v":""},{"$f":"IF(AJ596=\"Y\",(FromEvoM!AE596+FromEvoM!AF596-FromEvoM!AT596),IF(AJ596=\"N\",FromEvoM!AE596,\"\"))","v":""}]
[{"$f":"IF(ISBLANK(FromEvoM!A597),\"\",Group_Code)","v":""},{"$f":"IF(ISBLANK(FromEvoM!A597),\"\",SUBSTITUTE(FromEvoM!A597,\" \",\"\"))","v":""},{"$f":"IF(ISBLANK(FromEvoM!C597),\"\",SUBSTITUTE(FromEvoM!G597,\" \",\"\"))","v":""},{"$f":"IF(ISBLANK(FromEvoM!D597),\"\",FromEvoM!B597)","v":""},{"$f":"IF(ISBLANK(FromEvoM!D597),\"\",FromEvoM!D597)","v":""},{"$f":"IF(ISBLANK(FromEvoM!C597),\"\",FromEvoM!C597)","v":""},{"$f":"REPLACE(FromEvoM!F597,2,6, )","v":""},{"$f":"IF(ISNUMBER(FromEvoM!E597),FromEvoM!E597,\"\")","v":""},{"$f":"IF(ISBLANK(FromEvoM!I597),\"\",FromEvoM!I597)","v":""},{"$f":"IF(ISBLANK(FromEvoM!J597),\"\",FromEvoM!J597)","v":""},{"$f":"IF(ISBLANK(FromEvoM!K597),\"\",FromEvoM!K597)","v":""},{"$f":"IF(ISBLANK(FromEvoM!L597),\"\",FromEvoM!L597)","v":""},{"$f":"IF(ISBLANK(FromEvoM!M597),\"\",FromEvoM!M597)","v":""},{"$f":"IF(ISBLANK(FromEvoM!P597),\"\",FromEvoM!P597)","v":""},null,{"$f":"IF(ISNUMBER(FromEvoM!X597),FromEvoM!X597,\"\")","v":""},{"$f":"IF(ISNUMBER(FromEvoM!AB597),FromEvoM!AB597,\"\")","v":""},{"$f":"IF(ISNUMBER(FromEvoM!AA597),FromEvoM!AA597,\"\")","v":""},null,"","",null,null,{"$f":"IF(FromEvoM!W597=1,(FromEvoM!AB597*12),IF(FromEvoM!W597=7,(FromEvoM!AR597),\"\"))","v":""},null,null,{"$f":"IF(ISBLANK(FromEvoM!A597),\"\",IF(FromEvoM!AK597=\"y\",\"Y\",\"N\"))","v":""},{"$f":"IF(ISBLANK(FromEvoM!A597),\"\",Category_ID)","v":""},null,null,null,{"$f":"IF(ISBLANK(FromEvoM!AK597),\"\",FromEvoM!AK597)","v":""},{"$f":"IF(ISBLANK(FromEvoM!AM597),\"\",FromEvoM!AM597)","v":""},{"$f":"IF(ISBLANK(FromEvoM!AN597),\"\",FromEvoM!AN597)","v":""},{"$f":"IF(ISBLANK(FromEvoM!AL597),\"\",FromEvoM!AL597)","v":""},{"$f":"IF(ISBLANK(FromEvoM!A597),\"\",IF(AND(AF597=\"y\",AI597=1),\"Y\",\"N\"))","v":""},{"$f":"IF(ISBLANK(FromEvoM!A597),\"\",IF(FromEvoM!AS597=\"Yes\",2,1))","v":""},{"$f":"IF(FromEvoM!W597=1,\"M\",IF(FromEvoM!W597=7,\"W\",\"\"))","v":""},{"$f":"IF(AJ597=\"Y\",0,IF(AJ597=\"N\",FromEvoM!AF597+FromEvoM!AT597,\"\"))","v":""},{"$f":"IF(AJ597=\"Y\",(FromEvoM!AE597+FromEvoM!AF597-FromEvoM!AT597),IF(AJ597=\"N\",FromEvoM!AE597,\"\"))","v":""}]
[{"$f":"IF(ISBLANK(FromEvoM!A598),\"\",Group_Code)","v":""},{"$f":"IF(ISBLANK(FromEvoM!A598),\"\",SUBSTITUTE(FromEvoM!A598,\" \",\"\"))","v":""},{"$f":"IF(ISBLANK(FromEvoM!C598),\"\",SUBSTITUTE(FromEvoM!G598,\" \",\"\"))","v":""},{"$f":"IF(ISBLANK(FromEvoM!D598),\"\",FromEvoM!B598)","v":""},{"$f":"IF(ISBLANK(FromEvoM!D598),\"\",FromEvoM!D598)","v":""},{"$f":"IF(ISBLANK(FromEvoM!C598),\"\",FromEvoM!C598)","v":""},{"$f":"REPLACE(FromEvoM!F598,2,6, )","v":""},{"$f":"IF(ISNUMBER(FromEvoM!E598),FromEvoM!E598,\"\")","v":""},{"$f":"IF(ISBLANK(FromEvoM!I598),\"\",FromEvoM!I598)","v":""},{"$f":"IF(ISBLANK(FromEvoM!J598),\"\",FromEvoM!J598)","v":""},{"$f":"IF(ISBLANK(FromEvoM!K598),\"\",FromEvoM!K598)","v":""},{"$f":"IF(ISBLANK(FromEvoM!L598),\"\",FromEvoM!L598)","v":""},{"$f":"IF(ISBLANK(FromEvoM!M598),\"\",FromEvoM!M598)","v":""},{"$f":"IF(ISBLANK(FromEvoM!P598),\"\",FromEvoM!P598)","v":""},null,{"$f":"IF(ISNUMBER(FromEvoM!X598),FromEvoM!X598,\"\")","v":""},{"$f":"IF(ISNUMBER(FromEvoM!AB598),FromEvoM!AB598,\"\")","v":""},{"$f":"IF(ISNUMBER(FromEvoM!AA598),FromEvoM!AA598,\"\")","v":""},null,"","",null,null,{"$f":"IF(FromEvoM!W598=1,(FromEvoM!AB598*12),IF(FromEvoM!W598=7,(FromEvoM!AR598),\"\"))","v":""},null,null,{"$f":"IF(ISBLANK(FromEvoM!A598),\"\",IF(FromEvoM!AK598=\"y\",\"Y\",\"N\"))","v":""},{"$f":"IF(ISBLANK(FromEvoM!A598),\"\",Category_ID)","v":""},null,null,null,{"$f":"IF(ISBLANK(FromEvoM!AK598),\"\",FromEvoM!AK598)","v":""},{"$f":"IF(ISBLANK(FromEvoM!AM598),\"\",FromEvoM!AM598)","v":""},{"$f":"IF(ISBLANK(FromEvoM!AN598),\"\",FromEvoM!AN598)","v":""},{"$f":"IF(ISBLANK(FromEvoM!AL598),\"\",FromEvoM!AL598)","v":""},{"$f":"IF(ISBLANK(FromEvoM!A598),\"\",IF(AND(AF598=\"y\",AI598=1),\"Y\",\"N\"))","v":""},{"$f":"IF(ISBLANK(FromEvoM!A598),\"\",IF(FromEvoM!AS598=\"Yes\",2,1))","v":""},{"$f":"IF(FromEvoM!W598=1,\"M\",IF(FromEvoM!W598=7,\"W\",\"\"))","v":""},{"$f":"IF(AJ598=\"Y\",0,IF(AJ598=\"N\",FromEvoM!AF598+FromEvoM!AT598,\"\"))","v":""},{"$f":"IF(AJ598=\"Y\",(FromEvoM!AE598+FromEvoM!AF598-FromEvoM!AT598),IF(AJ598=\"N\",FromEvoM!AE598,\"\"))","v":""}]
[{"$f":"IF(ISBLANK(FromEvoM!A599),\"\",Group_Code)","v":""},{"$f":"IF(ISBLANK(FromEvoM!A599),\"\",SUBSTITUTE(FromEvoM!A599,\" \",\"\"))","v":""},{"$f":"IF(ISBLANK(FromEvoM!C599),\"\",SUBSTITUTE(FromEvoM!G599,\" \",\"\"))","v":""},{"$f":"IF(ISBLANK(FromEvoM!D599),\"\",FromEvoM!B599)","v":""},{"$f":"IF(ISBLANK(FromEvoM!D599),\"\",FromEvoM!D599)","v":""},{"$f":"IF(ISBLANK(FromEvoM!C599),\"\",FromEvoM!C599)","v":""},{"$f":"REPLACE(FromEvoM!F599,2,6, )","v":""},{"$f":"IF(ISNUMBER(FromEvoM!E599),FromEvoM!E599,\"\")","v":""},{"$f":"IF(ISBLANK(FromEvoM!I599),\"\",FromEvoM!I599)","v":""},{"$f":"IF(ISBLANK(FromEvoM!J599),\"\",FromEvoM!J599)","v":""},{"$f":"IF(ISBLANK(FromEvoM!K599),\"\",FromEvoM!K599)","v":""},{"$f":"IF(ISBLANK(FromEvoM!L599),\"\",FromEvoM!L599)","v":""},{"$f":"IF(ISBLANK(FromEvoM!M599),\"\",FromEvoM!M599)","v":""},{"$f":"IF(ISBLANK(FromEvoM!P599),\"\",FromEvoM!P599)","v":""},null,{"$f":"IF(ISNUMBER(FromEvoM!X599),FromEvoM!X599,\"\")","v":""},{"$f":"IF(ISNUMBER(FromEvoM!AB599),FromEvoM!AB599,\"\")","v":""},{"$f":"IF(ISNUMBER(FromEvoM!AA599),FromEvoM!AA599,\"\")","v":""},null,"","",null,null,{"$f":"IF(FromEvoM!W599=1,(FromEvoM!AB599*12),IF(FromEvoM!W599=7,(FromEvoM!AR599),\"\"))","v":""},null,null,{"$f":"IF(ISBLANK(FromEvoM!A599),\"\",IF(FromEvoM!AK599=\"y\",\"Y\",\"N\"))","v":""},{"$f":"IF(ISBLANK(FromEvoM!A599),\"\",Category_ID)","v":""},null,null,null,{"$f":"IF(ISBLANK(FromEvoM!AK599),\"\",FromEvoM!AK599)","v":""},{"$f":"IF(ISBLANK(FromEvoM!AM599),\"\",FromEvoM!AM599)","v":""},{"$f":"IF(ISBLANK(FromEvoM!AN599),\"\",FromEvoM!AN599)","v":""},{"$f":"IF(ISBLANK(FromEvoM!AL599),\"\",FromEvoM!AL599)","v":""},{"$f":"IF(ISBLANK(FromEvoM!A599),\"\",IF(AND(AF599=\"y\",AI599=1),\"Y\",\"N\"))","v":""},{"$f":"IF(ISBLANK(FromEvoM!A599),\"\",IF(FromEvoM!AS599=\"Yes\",2,1))","v":""},{"$f":"IF(FromEvoM!W599=1,\"M\",IF(FromEvoM!W599=7,\"W\",\"\"))","v":""},{"$f":"IF(AJ599=\"Y\",0,IF(AJ599=\"N\",FromEvoM!AF599+FromEvoM!AT599,\"\"))","v":""},{"$f":"IF(AJ599=\"Y\",(FromEvoM!AE599+FromEvoM!AF599-FromEvoM!AT599),IF(AJ599=\"N\",FromEvoM!AE599,\"\"))","v":""}]
[{"$f":"IF(ISBLANK(FromEvoM!A600),\"\",Group_Code)","v":""},{"$f":"IF(ISBLANK(FromEvoM!A600),\"\",SUBSTITUTE(FromEvoM!A600,\" \",\"\"))","v":""},{"$f":"IF(ISBLANK(FromEvoM!C600),\"\",SUBSTITUTE(FromEvoM!G600,\" \",\"\"))","v":""},{"$f":"IF(ISBLANK(FromEvoM!D600),\"\",FromEvoM!B600)","v":""},{"$f":"IF(ISBLANK(FromEvoM!D600),\"\",FromEvoM!D600)","v":""},{"$f":"IF(ISBLANK(FromEvoM!C600),\"\",FromEvoM!C600)","v":""},{"$f":"REPLACE(FromEvoM!F600,2,6, )","v":""},{"$f":"IF(ISNUMBER(FromEvoM!E600),FromEvoM!E600,\"\")","v":""},{"$f":"IF(ISBLANK(FromEvoM!I600),\"\",FromEvoM!I600)","v":""},{"$f":"IF(ISBLANK(FromEvoM!J600),\"\",FromEvoM!J600)","v":""},{"$f":"IF(ISBLANK(FromEvoM!K600),\"\",FromEvoM!K600)","v":""},{"$f":"IF(ISBLANK(FromEvoM!L600),\"\",FromEvoM!L600)","v":""},{"$f":"IF(ISBLANK(FromEvoM!M600),\"\",FromEvoM!M600)","v":""},{"$f":"IF(ISBLANK(FromEvoM!P600),\"\",FromEvoM!P600)","v":""},null,{"$f":"IF(ISNUMBER(FromEvoM!X600),FromEvoM!X600,\"\")","v":""},{"$f":"IF(ISNUMBER(FromEvoM!AB600),FromEvoM!AB600,\"\")","v":""},{"$f":"IF(ISNUMBER(FromEvoM!AA600),FromEvoM!AA600,\"\")","v":""},null,"","",null,null,{"$f":"IF(FromEvoM!W600=1,(FromEvoM!AB600*12),IF(FromEvoM!W600=7,(FromEvoM!AR600),\"\"))","v":""},null,null,{"$f":"IF(ISBLANK(FromEvoM!A600),\"\",IF(FromEvoM!AK600=\"y\",\"Y\",\"N\"))","v":""},{"$f":"IF(ISBLANK(FromEvoM!A600),\"\",Category_ID)","v":""},null,null,null,{"$f":"IF(ISBLANK(FromEvoM!AK600),\"\",FromEvoM!AK600)","v":""},{"$f":"IF(ISBLANK(FromEvoM!AM600),\"\",FromEvoM!AM600)","v":""},{"$f":"IF(ISBLANK(FromEvoM!AN600),\"\",FromEvoM!AN600)","v":""},{"$f":"IF(ISBLANK(FromEvoM!AL600),\"\",FromEvoM!AL600)","v":""},{"$f":"IF(ISBLANK(FromEvoM!A600),\"\",IF(AND(AF600=\"y\",AI600=1),\"Y\",\"N\"))","v":""},{"$f":"IF(ISBLANK(FromEvoM!A600),\"\",IF(FromEvoM!AS600=\"Yes\",2,1))","v":""},{"$f":"IF(FromEvoM!W600=1,\"M\",IF(FromEvoM!W600=7,\"W\",\"\"))","v":""},{"$f":"IF(AJ600=\"Y\",0,IF(AJ600=\"N\",FromEvoM!AF600+FromEvoM!AT600,\"\"))","v":""},{"$f":"IF(AJ600=\"Y\",(FromEvoM!AE600+FromEvoM!AF600-FromEvoM!AT600),IF(AJ600=\"N\",FromEvoM!AE600,\"\"))","v":""}]
[{"$f":"IF(ISBLANK(FromEvoM!A601),\"\",Group_Code)","v":""},{"$f":"IF(ISBLANK(FromEvoM!A601),\"\",SUBSTITUTE(FromEvoM!A601,\" \",\"\"))","v":""},{"$f":"IF(ISBLANK(FromEvoM!C601),\"\",SUBSTITUTE(FromEvoM!G601,\" \",\"\"))","v":""},{"$f":"IF(ISBLANK(FromEvoM!D601),\"\",FromEvoM!B601)","v":""},{"$f":"IF(ISBLANK(FromEvoM!D601),\"\",FromEvoM!D601)","v":""},{"$f":"IF(ISBLANK(FromEvoM!C601),\"\",FromEvoM!C601)","v":""},{"$f":"REPLACE(FromEvoM!F601,2,6, )","v":""},{"$f":"IF(ISNUMBER(FromEvoM!E601),FromEvoM!E601,\"\")","v":""},{"$f":"IF(ISBLANK(FromEvoM!I601),\"\",FromEvoM!I601)","v":""},{"$f":"IF(ISBLANK(FromEvoM!J601),\"\",FromEvoM!J601)","v":""},{"$f":"IF(ISBLANK(FromEvoM!K601),\"\",FromEvoM!K601)","v":""},{"$f":"IF(ISBLANK(FromEvoM!L601),\"\",FromEvoM!L601)","v":""},{"$f":"IF(ISBLANK(FromEvoM!M601),\"\",FromEvoM!M601)","v":""},{"$f":"IF(ISBLANK(FromEvoM!P601),\"\",FromEvoM!P601)","v":""},null,{"$f":"IF(ISNUMBER(FromEvoM!X601),FromEvoM!X601,\"\")","v":""},{"$f":"IF(ISNUMBER(FromEvoM!AB601),FromEvoM!AB601,\"\")","v":""},{"$f":"IF(ISNUMBER(FromEvoM!AA601),FromEvoM!AA601,\"\")","v":""},null,"","",null,null,{"$f":"IF(FromEvoM!W601=1,(FromEvoM!AB601*12),IF(FromEvoM!W601=7,(FromEvoM!AR601),\"\"))","v":""},null,null,{"$f":"IF(ISBLANK(FromEvoM!A601),\"\",IF(FromEvoM!AK601=\"y\",\"Y\",\"N\"))","v":""},{"$f":"IF(ISBLANK(FromEvoM!A601),\"\",Category_ID)","v":""},null,null,null,{"$f":"IF(ISBLANK(FromEvoM!AK601),\"\",FromEvoM!AK601)","v":""},{"$f":"IF(ISBLANK(FromEvoM!AM601),\"\",FromEvoM!AM601)","v":""},{"$f":"IF(ISBLANK(FromEvoM!AN601),\"\",FromEvoM!AN601)","v":""},{"$f":"IF(ISBLANK(FromEvoM!AL601),\"\",FromEvoM!AL601)","v":""},{"$f":"IF(ISBLANK(FromEvoM!A601),\"\",IF(AND(AF601=\"y\",AI601=1),\"Y\",\"N\"))","v":""},{"$f":"IF(ISBLANK(FromEvoM!A601),\"\",IF(FromEvoM!AS601=\"Yes\",2,1))","v":""},{"$f":"IF(FromEvoM!W601=1,\"M\",IF(FromEvoM!W601=7,\"W\",\"\"))","v":""},{"$f":"IF(AJ601=\"Y\",0,IF(AJ601=\"N\",FromEvoM!AF601+FromEvoM!AT601,\"\"))","v":""},{"$f":"IF(AJ601=\"Y\",(FromEvoM!AE601+FromEvoM!AF601-FromEvoM!AT601),IF(AJ601=\"N\",FromEvoM!AE601,\"\"))","v":""}]
[{"$f":"IF(ISBLANK(FromEvoM!A602),\"\",Group_Code)","v":""},{"$f":"IF(ISBLANK(FromEvoM!A602),\"\",SUBSTITUTE(FromEvoM!A602,\" \",\"\"))","v":""},{"$f":"IF(ISBLANK(FromEvoM!C602),\"\",SUBSTITUTE(FromEvoM!G602,\" \",\"\"))","v":""},{"$f":"IF(ISBLANK(FromEvoM!D602),\"\",FromEvoM!B602)","v":""},{"$f":"IF(ISBLANK(FromEvoM!D602),\"\",FromEvoM!D602)","v":""},{"$f":"IF(ISBLANK(FromEvoM!C602),\"\",FromEvoM!C602)","v":""},{"$f":"REPLACE(FromEvoM!F602,2,6, )","v":""},{"$f":"IF(ISNUMBER(FromEvoM!E602),FromEvoM!E602,\"\")","v":""},{"$f":"IF(ISBLANK(FromEvoM!I602),\"\",FromEvoM!I602)","v":""},{"$f":"IF(ISBLANK(FromEvoM!J602),\"\",FromEvoM!J602)","v":""},{"$f":"IF(ISBLANK(FromEvoM!K602),\"\",FromEvoM!K602)","v":""},{"$f":"IF(ISBLANK(FromEvoM!L602),\"\",FromEvoM!L602)","v":""},{"$f":"IF(ISBLANK(FromEvoM!M602),\"\",FromEvoM!M602)","v":""},{"$f":"IF(ISBLANK(FromEvoM!P602),\"\",FromEvoM!P602)","v":""},null,{"$f":"IF(ISNUMBER(FromEvoM!X602),FromEvoM!X602,\"\")","v":""},{"$f":"IF(ISNUMBER(FromEvoM!AB602),FromEvoM!AB602,\"\")","v":""},{"$f":"IF(ISNUMBER(FromEvoM!AA602),FromEvoM!AA602,\"\")","v":""},null,"","",null,null,{"$f":"IF(FromEvoM!W602=1,(FromEvoM!AB602*12),IF(FromEvoM!W602=7,(FromEvoM!AR602),\"\"))","v":""},null,null,{"$f":"IF(ISBLANK(FromEvoM!A602),\"\",IF(FromEvoM!AK602=\"y\",\"Y\",\"N\"))","v":""},{"$f":"IF(ISBLANK(FromEvoM!A602),\"\",Category_ID)","v":""},null,null,null,{"$f":"IF(ISBLANK(FromEvoM!AK602),\"\",FromEvoM!AK602)","v":""},{"$f":"IF(ISBLANK(FromEvoM!AM602),\"\",FromEvoM!AM602)","v":""},{"$f":"IF(ISBLANK(FromEvoM!AN602),\"\",FromEvoM!AN602)","v":""},{"$f":"IF(ISBLANK(FromEvoM!AL602),\"\",FromEvoM!AL602)","v":""},{"$f":"IF(ISBLANK(FromEvoM!A602),\"\",IF(AND(AF602=\"y\",AI602=1),\"Y\",\"N\"))","v":""},{"$f":"IF(ISBLANK(FromEvoM!A602),\"\",IF(FromEvoM!AS602=\"Yes\",2,1))","v":""},{"$f":"IF(FromEvoM!W602=1,\"M\",IF(FromEvoM!W602=7,\"W\",\"\"))","v":""},{"$f":"IF(AJ602=\"Y\",0,IF(AJ602=\"N\",FromEvoM!AF602+FromEvoM!AT602,\"\"))","v":""},{"$f":"IF(AJ602=\"Y\",(FromEvoM!AE602+FromEvoM!AF602-FromEvoM!AT602),IF(AJ602=\"N\",FromEvoM!AE602,\"\"))","v":""}]
[{"$f":"IF(ISBLANK(FromEvoM!A603),\"\",Group_Code)","v":""},{"$f":"IF(ISBLANK(FromEvoM!A603),\"\",SUBSTITUTE(FromEvoM!A603,\" \",\"\"))","v":""},{"$f":"IF(ISBLANK(FromEvoM!C603),\"\",SUBSTITUTE(FromEvoM!G603,\" \",\"\"))","v":""},{"$f":"IF(ISBLANK(FromEvoM!D603),\"\",FromEvoM!B603)","v":""},{"$f":"IF(ISBLANK(FromEvoM!D603),\"\",FromEvoM!D603)","v":""},{"$f":"IF(ISBLANK(FromEvoM!C603),\"\",FromEvoM!C603)","v":""},{"$f":"REPLACE(FromEvoM!F603,2,6, )","v":""},{"$f":"IF(ISNUMBER(FromEvoM!E603),FromEvoM!E603,\"\")","v":""},{"$f":"IF(ISBLANK(FromEvoM!I603),\"\",FromEvoM!I603)","v":""},{"$f":"IF(ISBLANK(FromEvoM!J603),\"\",FromEvoM!J603)","v":""},{"$f":"IF(ISBLANK(FromEvoM!K603),\"\",FromEvoM!K603)","v":""},{"$f":"IF(ISBLANK(FromEvoM!L603),\"\",FromEvoM!L603)","v":""},{"$f":"IF(ISBLANK(FromEvoM!M603),\"\",FromEvoM!M603)","v":""},{"$f":"IF(ISBLANK(FromEvoM!P603),\"\",FromEvoM!P603)","v":""},null,{"$f":"IF(ISNUMBER(FromEvoM!X603),FromEvoM!X603,\"\")","v":""},{"$f":"IF(ISNUMBER(FromEvoM!AB603),FromEvoM!AB603,\"\")","v":""},{"$f":"IF(ISNUMBER(FromEvoM!AA603),FromEvoM!AA603,\"\")","v":""},null,"","",null,null,{"$f":"IF(FromEvoM!W603=1,(FromEvoM!AB603*12),IF(FromEvoM!W603=7,(FromEvoM!AR603),\"\"))","v":""},null,null,{"$f":"IF(ISBLANK(FromEvoM!A603),\"\",IF(FromEvoM!AK603=\"y\",\"Y\",\"N\"))","v":""},{"$f":"IF(ISBLANK(FromEvoM!A603),\"\",Category_ID)","v":""},null,null,null,{"$f":"IF(ISBLANK(FromEvoM!AK603),\"\",FromEvoM!AK603)","v":""},{"$f":"IF(ISBLANK(FromEvoM!AM603),\"\",FromEvoM!AM603)","v":""},{"$f":"IF(ISBLANK(FromEvoM!AN603),\"\",FromEvoM!AN603)","v":""},{"$f":"IF(ISBLANK(FromEvoM!AL603),\"\",FromEvoM!AL603)","v":""},{"$f":"IF(ISBLANK(FromEvoM!A603),\"\",IF(AND(AF603=\"y\",AI603=1),\"Y\",\"N\"))","v":""},{"$f":"IF(ISBLANK(FromEvoM!A603),\"\",IF(FromEvoM!AS603=\"Yes\",2,1))","v":""},{"$f":"IF(FromEvoM!W603=1,\"M\",IF(FromEvoM!W603=7,\"W\",\"\"))","v":""},{"$f":"IF(AJ603=\"Y\",0,IF(AJ603=\"N\",FromEvoM!AF603+FromEvoM!AT603,\"\"))","v":""},{"$f":"IF(AJ603=\"Y\",(FromEvoM!AE603+FromEvoM!AF603-FromEvoM!AT603),IF(AJ603=\"N\",FromEvoM!AE603,\"\"))","v":""}]
[{"$f":"IF(ISBLANK(FromEvoM!A604),\"\",Group_Code)","v":""},{"$f":"IF(ISBLANK(FromEvoM!A604),\"\",SUBSTITUTE(FromEvoM!A604,\" \",\"\"))","v":""},{"$f":"IF(ISBLANK(FromEvoM!C604),\"\",SUBSTITUTE(FromEvoM!G604,\" \",\"\"))","v":""},{"$f":"IF(ISBLANK(FromEvoM!D604),\"\",FromEvoM!B604)","v":""},{"$f":"IF(ISBLANK(FromEvoM!D604),\"\",FromEvoM!D604)","v":""},{"$f":"IF(ISBLANK(FromEvoM!C604),\"\",FromEvoM!C604)","v":""},{"$f":"REPLACE(FromEvoM!F604,2,6, )","v":""},{"$f":"IF(ISNUMBER(FromEvoM!E604),FromEvoM!E604,\"\")","v":""},{"$f":"IF(ISBLANK(FromEvoM!I604),\"\",FromEvoM!I604)","v":""},{"$f":"IF(ISBLANK(FromEvoM!J604),\"\",FromEvoM!J604)","v":""},{"$f":"IF(ISBLANK(FromEvoM!K604),\"\",FromEvoM!K604)","v":""},{"$f":"IF(ISBLANK(FromEvoM!L604),\"\",FromEvoM!L604)","v":""},{"$f":"IF(ISBLANK(FromEvoM!M604),\"\",FromEvoM!M604)","v":""},{"$f":"IF(ISBLANK(FromEvoM!P604),\"\",FromEvoM!P604)","v":""},null,{"$f":"IF(ISNUMBER(FromEvoM!X604),FromEvoM!X604,\"\")","v":""},{"$f":"IF(ISNUMBER(FromEvoM!AB604),FromEvoM!AB604,\"\")","v":""},{"$f":"IF(ISNUMBER(FromEvoM!AA604),FromEvoM!AA604,\"\")","v":""},null,"","",null,null,{"$f":"IF(FromEvoM!W604=1,(FromEvoM!AB604*12),IF(FromEvoM!W604=7,(FromEvoM!AR604),\"\"))","v":""},null,null,{"$f":"IF(ISBLANK(FromEvoM!A604),\"\",IF(FromEvoM!AK604=\"y\",\"Y\",\"N\"))","v":""},{"$f":"IF(ISBLANK(FromEvoM!A604),\"\",Category_ID)","v":""},null,null,null,{"$f":"IF(ISBLANK(FromEvoM!AK604),\"\",FromEvoM!AK604)","v":""},{"$f":"IF(ISBLANK(FromEvoM!AM604),\"\",FromEvoM!AM604)","v":""},{"$f":"IF(ISBLANK(FromEvoM!AN604),\"\",FromEvoM!AN604)","v":""},{"$f":"IF(ISBLANK(FromEvoM!AL604),\"\",FromEvoM!AL604)","v":""},{"$f":"IF(ISBLANK(FromEvoM!A604),\"\",IF(AND(AF604=\"y\",AI604=1),\"Y\",\"N\"))","v":""},{"$f":"IF(ISBLANK(FromEvoM!A604),\"\",IF(FromEvoM!AS604=\"Yes\",2,1))","v":""},{"$f":"IF(FromEvoM!W604=1,\"M\",IF(FromEvoM!W604=7,\"W\",\"\"))","v":""},{"$f":"IF(AJ604=\"Y\",0,IF(AJ604=\"N\",FromEvoM!AF604+FromEvoM!AT604,\"\"))","v":""},{"$f":"IF(AJ604=\"Y\",(FromEvoM!AE604+FromEvoM!AF604-FromEvoM!AT604),IF(AJ604=\"N\",FromEvoM!AE604,\"\"))","v":""}]
[{"$f":"IF(ISBLANK(FromEvoM!A605),\"\",Group_Code)","v":""},{"$f":"IF(ISBLANK(FromEvoM!A605),\"\",SUBSTITUTE(FromEvoM!A605,\" \",\"\"))","v":""},{"$f":"IF(ISBLANK(FromEvoM!C605),\"\",SUBSTITUTE(FromEvoM!G605,\" \",\"\"))","v":""},{"$f":"IF(ISBLANK(FromEvoM!D605),\"\",FromEvoM!B605)","v":""},{"$f":"IF(ISBLANK(FromEvoM!D605),\"\",FromEvoM!D605)","v":""},{"$f":"IF(ISBLANK(FromEvoM!C605),\"\",FromEvoM!C605)","v":""},{"$f":"REPLACE(FromEvoM!F605,2,6, )","v":""},{"$f":"IF(ISNUMBER(FromEvoM!E605),FromEvoM!E605,\"\")","v":""},{"$f":"IF(ISBLANK(FromEvoM!I605),\"\",FromEvoM!I605)","v":""},{"$f":"IF(ISBLANK(FromEvoM!J605),\"\",FromEvoM!J605)","v":""},{"$f":"IF(ISBLANK(FromEvoM!K605),\"\",FromEvoM!K605)","v":""},{"$f":"IF(ISBLANK(FromEvoM!L605),\"\",FromEvoM!L605)","v":""},{"$f":"IF(ISBLANK(FromEvoM!M605),\"\",FromEvoM!M605)","v":""},{"$f":"IF(ISBLANK(FromEvoM!P605),\"\",FromEvoM!P605)","v":""},null,{"$f":"IF(ISNUMBER(FromEvoM!X605),FromEvoM!X605,\"\")","v":""},{"$f":"IF(ISNUMBER(FromEvoM!AB605),FromEvoM!AB605,\"\")","v":""},{"$f":"IF(ISNUMBER(FromEvoM!AA605),FromEvoM!AA605,\"\")","v":""},null,"","",null,null,{"$f":"IF(FromEvoM!W605=1,(FromEvoM!AB605*12),IF(FromEvoM!W605=7,(FromEvoM!AR605),\"\"))","v":""},null,null,{"$f":"IF(ISBLANK(FromEvoM!A605),\"\",IF(FromEvoM!AK605=\"y\",\"Y\",\"N\"))","v":""},{"$f":"IF(ISBLANK(FromEvoM!A605),\"\",Category_ID)","v":""},null,null,null,{"$f":"IF(ISBLANK(FromEvoM!AK605),\"\",FromEvoM!AK605)","v":""},{"$f":"IF(ISBLANK(FromEvoM!AM605),\"\",FromEvoM!AM605)","v":""},{"$f":"IF(ISBLANK(FromEvoM!AN605),\"\",FromEvoM!AN605)","v":""},{"$f":"IF(ISBLANK(FromEvoM!AL605),\"\",FromEvoM!AL605)","v":""},{"$f":"IF(ISBLANK(FromEvoM!A605),\"\",IF(AND(AF605=\"y\",AI605=1),\"Y\",\"N\"))","v":""},{"$f":"IF(ISBLANK(FromEvoM!A605),\"\",IF(FromEvoM!AS605=\"Yes\",2,1))","v":""},{"$f":"IF(FromEvoM!W605=1,\"M\",IF(FromEvoM!W605=7,\"W\",\"\"))","v":""},{"$f":"IF(AJ605=\"Y\",0,IF(AJ605=\"N\",FromEvoM!AF605+FromEvoM!AT605,\"\"))","v":""},{"$f":"IF(AJ605=\"Y\",(FromEvoM!AE605+FromEvoM!AF605-FromEvoM!AT605),IF(AJ605=\"N\",FromEvoM!AE605,\"\"))","v":""}]
[{"$f":"IF(ISBLANK(FromEvoM!A606),\"\",Group_Code)","v":""},{"$f":"IF(ISBLANK(FromEvoM!A606),\"\",SUBSTITUTE(FromEvoM!A606,\" \",\"\"))","v":""},{"$f":"IF(ISBLANK(FromEvoM!C606),\"\",SUBSTITUTE(FromEvoM!G606,\" \",\"\"))","v":""},{"$f":"IF(ISBLANK(FromEvoM!D606),\"\",FromEvoM!B606)","v":""},{"$f":"IF(ISBLANK(FromEvoM!D606),\"\",FromEvoM!D606)","v":""},{"$f":"IF(ISBLANK(FromEvoM!C606),\"\",FromEvoM!C606)","v":""},{"$f":"REPLACE(FromEvoM!F606,2,6, )","v":""},{"$f":"IF(ISNUMBER(FromEvoM!E606),FromEvoM!E606,\"\")","v":""},{"$f":"IF(ISBLANK(FromEvoM!I606),\"\",FromEvoM!I606)","v":""},{"$f":"IF(ISBLANK(FromEvoM!J606),\"\",FromEvoM!J606)","v":""},{"$f":"IF(ISBLANK(FromEvoM!K606),\"\",FromEvoM!K606)","v":""},{"$f":"IF(ISBLANK(FromEvoM!L606),\"\",FromEvoM!L606)","v":""},{"$f":"IF(ISBLANK(FromEvoM!M606),\"\",FromEvoM!M606)","v":""},{"$f":"IF(ISBLANK(FromEvoM!P606),\"\",FromEvoM!P606)","v":""},null,{"$f":"IF(ISNUMBER(FromEvoM!X606),FromEvoM!X606,\"\")","v":""},{"$f":"IF(ISNUMBER(FromEvoM!AB606),FromEvoM!AB606,\"\")","v":""},{"$f":"IF(ISNUMBER(FromEvoM!AA606),FromEvoM!AA606,\"\")","v":""},null,"","",null,null,{"$f":"IF(FromEvoM!W606=1,(FromEvoM!AB606*12),IF(FromEvoM!W606=7,(FromEvoM!AR606),\"\"))","v":""},null,null,{"$f":"IF(ISBLANK(FromEvoM!A606),\"\",IF(FromEvoM!AK606=\"y\",\"Y\",\"N\"))","v":""},{"$f":"IF(ISBLANK(FromEvoM!A606),\"\",Category_ID)","v":""},null,null,null,{"$f":"IF(ISBLANK(FromEvoM!AK606),\"\",FromEvoM!AK606)","v":""},{"$f":"IF(ISBLANK(FromEvoM!AM606),\"\",FromEvoM!AM606)","v":""},{"$f":"IF(ISBLANK(FromEvoM!AN606),\"\",FromEvoM!AN606)","v":""},{"$f":"IF(ISBLANK(FromEvoM!AL606),\"\",FromEvoM!AL606)","v":""},{"$f":"IF(ISBLANK(FromEvoM!A606),\"\",IF(AND(AF606=\"y\",AI606=1),\"Y\",\"N\"))","v":""},{"$f":"IF(ISBLANK(FromEvoM!A606),\"\",IF(FromEvoM!AS606=\"Yes\",2,1))","v":""},{"$f":"IF(FromEvoM!W606=1,\"M\",IF(FromEvoM!W606=7,\"W\",\"\"))","v":""},{"$f":"IF(AJ606=\"Y\",0,IF(AJ606=\"N\",FromEvoM!AF606+FromEvoM!AT606,\"\"))","v":""},{"$f":"IF(AJ606=\"Y\",(FromEvoM!AE606+FromEvoM!AF606-FromEvoM!AT606),IF(AJ606=\"N\",FromEvoM!AE606,\"\"))","v":""}]
[{"$f":"IF(ISBLANK(FromEvoM!A607),\"\",Group_Code)","v":""},{"$f":"IF(ISBLANK(FromEvoM!A607),\"\",SUBSTITUTE(FromEvoM!A607,\" \",\"\"))","v":""},{"$f":"IF(ISBLANK(FromEvoM!C607),\"\",SUBSTITUTE(FromEvoM!G607,\" \",\"\"))","v":""},{"$f":"IF(ISBLANK(FromEvoM!D607),\"\",FromEvoM!B607)","v":""},{"$f":"IF(ISBLANK(FromEvoM!D607),\"\",FromEvoM!D607)","v":""},{"$f":"IF(ISBLANK(FromEvoM!C607),\"\",FromEvoM!C607)","v":""},{"$f":"REPLACE(FromEvoM!F607,2,6, )","v":""},{"$f":"IF(ISNUMBER(FromEvoM!E607),FromEvoM!E607,\"\")","v":""},{"$f":"IF(ISBLANK(FromEvoM!I607),\"\",FromEvoM!I607)","v":""},{"$f":"IF(ISBLANK(FromEvoM!J607),\"\",FromEvoM!J607)","v":""},{"$f":"IF(ISBLANK(FromEvoM!K607),\"\",FromEvoM!K607)","v":""},{"$f":"IF(ISBLANK(FromEvoM!L607),\"\",FromEvoM!L607)","v":""},{"$f":"IF(ISBLANK(FromEvoM!M607),\"\",FromEvoM!M607)","v":""},{"$f":"IF(ISBLANK(FromEvoM!P607),\"\",FromEvoM!P607)","v":""},null,{"$f":"IF(ISNUMBER(FromEvoM!X607),FromEvoM!X607,\"\")","v":""},{"$f":"IF(ISNUMBER(FromEvoM!AB607),FromEvoM!AB607,\"\")","v":""},{"$f":"IF(ISNUMBER(FromEvoM!AA607),FromEvoM!AA607,\"\")","v":""},null,"","",null,null,{"$f":"IF(FromEvoM!W607=1,(FromEvoM!AB607*12),IF(FromEvoM!W607=7,(FromEvoM!AR607),\"\"))","v":""},null,null,{"$f":"IF(ISBLANK(FromEvoM!A607),\"\",IF(FromEvoM!AK607=\"y\",\"Y\",\"N\"))","v":""},{"$f":"IF(ISBLANK(FromEvoM!A607),\"\",Category_ID)","v":""},null,null,null,{"$f":"IF(ISBLANK(FromEvoM!AK607),\"\",FromEvoM!AK607)","v":""},{"$f":"IF(ISBLANK(FromEvoM!AM607),\"\",FromEvoM!AM607)","v":""},{"$f":"IF(ISBLANK(FromEvoM!AN607),\"\",FromEvoM!AN607)","v":""},{"$f":"IF(ISBLANK(FromEvoM!AL607),\"\",FromEvoM!AL607)","v":""},{"$f":"IF(ISBLANK(FromEvoM!A607),\"\",IF(AND(AF607=\"y\",AI607=1),\"Y\",\"N\"))","v":""},{"$f":"IF(ISBLANK(FromEvoM!A607),\"\",IF(FromEvoM!AS607=\"Yes\",2,1))","v":""},{"$f":"IF(FromEvoM!W607=1,\"M\",IF(FromEvoM!W607=7,\"W\",\"\"))","v":""},{"$f":"IF(AJ607=\"Y\",0,IF(AJ607=\"N\",FromEvoM!AF607+FromEvoM!AT607,\"\"))","v":""},{"$f":"IF(AJ607=\"Y\",(FromEvoM!AE607+FromEvoM!AF607-FromEvoM!AT607),IF(AJ607=\"N\",FromEvoM!AE607,\"\"))","v":""}]
[{"$f":"IF(ISBLANK(FromEvoM!A608),\"\",Group_Code)","v":""},{"$f":"IF(ISBLANK(FromEvoM!A608),\"\",SUBSTITUTE(FromEvoM!A608,\" \",\"\"))","v":""},{"$f":"IF(ISBLANK(FromEvoM!C608),\"\",SUBSTITUTE(FromEvoM!G608,\" \",\"\"))","v":""},{"$f":"IF(ISBLANK(FromEvoM!D608),\"\",FromEvoM!B608)","v":""},{"$f":"IF(ISBLANK(FromEvoM!D608),\"\",FromEvoM!D608)","v":""},{"$f":"IF(ISBLANK(FromEvoM!C608),\"\",FromEvoM!C608)","v":""},{"$f":"REPLACE(FromEvoM!F608,2,6, )","v":""},{"$f":"IF(ISNUMBER(FromEvoM!E608),FromEvoM!E608,\"\")","v":""},{"$f":"IF(ISBLANK(FromEvoM!I608),\"\",FromEvoM!I608)","v":""},{"$f":"IF(ISBLANK(FromEvoM!J608),\"\",FromEvoM!J608)","v":""},{"$f":"IF(ISBLANK(FromEvoM!K608),\"\",FromEvoM!K608)","v":""},{"$f":"IF(ISBLANK(FromEvoM!L608),\"\",FromEvoM!L608)","v":""},{"$f":"IF(ISBLANK(FromEvoM!M608),\"\",FromEvoM!M608)","v":""},{"$f":"IF(ISBLANK(FromEvoM!P608),\"\",FromEvoM!P608)","v":""},null,{"$f":"IF(ISNUMBER(FromEvoM!X608),FromEvoM!X608,\"\")","v":""},{"$f":"IF(ISNUMBER(FromEvoM!AB608),FromEvoM!AB608,\"\")","v":""},{"$f":"IF(ISNUMBER(FromEvoM!AA608),FromEvoM!AA608,\"\")","v":""},null,"","",null,null,{"$f":"IF(FromEvoM!W608=1,(FromEvoM!AB608*12),IF(FromEvoM!W608=7,(FromEvoM!AR608),\"\"))","v":""},null,null,{"$f":"IF(ISBLANK(FromEvoM!A608),\"\",IF(FromEvoM!AK608=\"y\",\"Y\",\"N\"))","v":""},{"$f":"IF(ISBLANK(FromEvoM!A608),\"\",Category_ID)","v":""},null,null,null,{"$f":"IF(ISBLANK(FromEvoM!AK608),\"\",FromEvoM!AK608)","v":""},{"$f":"IF(ISBLANK(FromEvoM!AM608),\"\",FromEvoM!AM608)","v":""},{"$f":"IF(ISBLANK(FromEvoM!AN608),\"\",FromEvoM!AN608)","v":""},{"$f":"IF(ISBLANK(FromEvoM!AL608),\"\",FromEvoM!AL608)","v":""},{"$f":"IF(ISBLANK(FromEvoM!A608),\"\",IF(AND(AF608=\"y\",AI608=1),\"Y\",\"N\"))","v":""},{"$f":"IF(ISBLANK(FromEvoM!A608),\"\",IF(FromEvoM!AS608=\"Yes\",2,1))","v":""},{"$f":"IF(FromEvoM!W608=1,\"M\",IF(FromEvoM!W608=7,\"W\",\"\"))","v":""},{"$f":"IF(AJ608=\"Y\",0,IF(AJ608=\"N\",FromEvoM!AF608+FromEvoM!AT608,\"\"))","v":""},{"$f":"IF(AJ608=\"Y\",(FromEvoM!AE608+FromEvoM!AF608-FromEvoM!AT608),IF(AJ608=\"N\",FromEvoM!AE608,\"\"))","v":""}]
[{"$f":"IF(ISBLANK(FromEvoM!A609),\"\",Group_Code)","v":""},{"$f":"IF(ISBLANK(FromEvoM!A609),\"\",SUBSTITUTE(FromEvoM!A609,\" \",\"\"))","v":""},{"$f":"IF(ISBLANK(FromEvoM!C609),\"\",SUBSTITUTE(FromEvoM!G609,\" \",\"\"))","v":""},{"$f":"IF(ISBLANK(FromEvoM!D609),\"\",FromEvoM!B609)","v":""},{"$f":"IF(ISBLANK(FromEvoM!D609),\"\",FromEvoM!D609)","v":""},{"$f":"IF(ISBLANK(FromEvoM!C609),\"\",FromEvoM!C609)","v":""},{"$f":"REPLACE(FromEvoM!F609,2,6, )","v":""},{"$f":"IF(ISNUMBER(FromEvoM!E609),FromEvoM!E609,\"\")","v":""},{"$f":"IF(ISBLANK(FromEvoM!I609),\"\",FromEvoM!I609)","v":""},{"$f":"IF(ISBLANK(FromEvoM!J609),\"\",FromEvoM!J609)","v":""},{"$f":"IF(ISBLANK(FromEvoM!K609),\"\",FromEvoM!K609)","v":""},{"$f":"IF(ISBLANK(FromEvoM!L609),\"\",FromEvoM!L609)","v":""},{"$f":"IF(ISBLANK(FromEvoM!M609),\"\",FromEvoM!M609)","v":""},{"$f":"IF(ISBLANK(FromEvoM!P609),\"\",FromEvoM!P609)","v":""},null,{"$f":"IF(ISNUMBER(FromEvoM!X609),FromEvoM!X609,\"\")","v":""},{"$f":"IF(ISNUMBER(FromEvoM!AB609),FromEvoM!AB609,\"\")","v":""},{"$f":"IF(ISNUMBER(FromEvoM!AA609),FromEvoM!AA609,\"\")","v":""},null,"","",null,null,{"$f":"IF(FromEvoM!W609=1,(FromEvoM!AB609*12),IF(FromEvoM!W609=7,(FromEvoM!AR609),\"\"))","v":""},null,null,{"$f":"IF(ISBLANK(FromEvoM!A609),\"\",IF(FromEvoM!AK609=\"y\",\"Y\",\"N\"))","v":""},{"$f":"IF(ISBLANK(FromEvoM!A609),\"\",Category_ID)","v":""},null,null,null,{"$f":"IF(ISBLANK(FromEvoM!AK609),\"\",FromEvoM!AK609)","v":""},{"$f":"IF(ISBLANK(FromEvoM!AM609),\"\",FromEvoM!AM609)","v":""},{"$f":"IF(ISBLANK(FromEvoM!AN609),\"\",FromEvoM!AN609)","v":""},{"$f":"IF(ISBLANK(FromEvoM!AL609),\"\",FromEvoM!AL609)","v":""},{"$f":"IF(ISBLANK(FromEvoM!A609),\"\",IF(AND(AF609=\"y\",AI609=1),\"Y\",\"N\"))","v":""},{"$f":"IF(ISBLANK(FromEvoM!A609),\"\",IF(FromEvoM!AS609=\"Yes\",2,1))","v":""},{"$f":"IF(FromEvoM!W609=1,\"M\",IF(FromEvoM!W609=7,\"W\",\"\"))","v":""},{"$f":"IF(AJ609=\"Y\",0,IF(AJ609=\"N\",FromEvoM!AF609+FromEvoM!AT609,\"\"))","v":""},{"$f":"IF(AJ609=\"Y\",(FromEvoM!AE609+FromEvoM!AF609-FromEvoM!AT609),IF(AJ609=\"N\",FromEvoM!AE609,\"\"))","v":""}]
[{"$f":"IF(ISBLANK(FromEvoM!A610),\"\",Group_Code)","v":""},{"$f":"IF(ISBLANK(FromEvoM!A610),\"\",SUBSTITUTE(FromEvoM!A610,\" \",\"\"))","v":""},{"$f":"IF(ISBLANK(FromEvoM!C610),\"\",SUBSTITUTE(FromEvoM!G610,\" \",\"\"))","v":""},{"$f":"IF(ISBLANK(FromEvoM!D610),\"\",FromEvoM!B610)","v":""},{"$f":"IF(ISBLANK(FromEvoM!D610),\"\",FromEvoM!D610)","v":""},{"$f":"IF(ISBLANK(FromEvoM!C610),\"\",FromEvoM!C610)","v":""},{"$f":"REPLACE(FromEvoM!F610,2,6, )","v":""},{"$f":"IF(ISNUMBER(FromEvoM!E610),FromEvoM!E610,\"\")","v":""},{"$f":"IF(ISBLANK(FromEvoM!I610),\"\",FromEvoM!I610)","v":""},{"$f":"IF(ISBLANK(FromEvoM!J610),\"\",FromEvoM!J610)","v":""},{"$f":"IF(ISBLANK(FromEvoM!K610),\"\",FromEvoM!K610)","v":""},{"$f":"IF(ISBLANK(FromEvoM!L610),\"\",FromEvoM!L610)","v":""},{"$f":"IF(ISBLANK(FromEvoM!M610),\"\",FromEvoM!M610)","v":""},{"$f":"IF(ISBLANK(FromEvoM!P610),\"\",FromEvoM!P610)","v":""},null,{"$f":"IF(ISNUMBER(FromEvoM!X610),FromEvoM!X610,\"\")","v":""},{"$f":"IF(ISNUMBER(FromEvoM!AB610),FromEvoM!AB610,\"\")","v":""},{"$f":"IF(ISNUMBER(FromEvoM!AA610),FromEvoM!AA610,\"\")","v":""},null,"","",null,null,{"$f":"IF(FromEvoM!W610=1,(FromEvoM!AB610*12),IF(FromEvoM!W610=7,(FromEvoM!AR610),\"\"))","v":""},null,null,{"$f":"IF(ISBLANK(FromEvoM!A610),\"\",IF(FromEvoM!AK610=\"y\",\"Y\",\"N\"))","v":""},{"$f":"IF(ISBLANK(FromEvoM!A610),\"\",Category_ID)","v":""},null,null,null,{"$f":"IF(ISBLANK(FromEvoM!AK610),\"\",FromEvoM!AK610)","v":""},{"$f":"IF(ISBLANK(FromEvoM!AM610),\"\",FromEvoM!AM610)","v":""},{"$f":"IF(ISBLANK(FromEvoM!AN610),\"\",FromEvoM!AN610)","v":""},{"$f":"IF(ISBLANK(FromEvoM!AL610),\"\",FromEvoM!AL610)","v":""},{"$f":"IF(ISBLANK(FromEvoM!A610),\"\",IF(AND(AF610=\"y\",AI610=1),\"Y\",\"N\"))","v":""},{"$f":"IF(ISBLANK(FromEvoM!A610),\"\",IF(FromEvoM!AS610=\"Yes\",2,1))","v":""},{"$f":"IF(FromEvoM!W610=1,\"M\",IF(FromEvoM!W610=7,\"W\",\"\"))","v":""},{"$f":"IF(AJ610=\"Y\",0,IF(AJ610=\"N\",FromEvoM!AF610+FromEvoM!AT610,\"\"))","v":""},{"$f":"IF(AJ610=\"Y\",(FromEvoM!AE610+FromEvoM!AF610-FromEvoM!AT610),IF(AJ610=\"N\",FromEvoM!AE610,\"\"))","v":""}]
[{"$f":"IF(ISBLANK(FromEvoM!A611),\"\",Group_Code)","v":""},{"$f":"IF(ISBLANK(FromEvoM!A611),\"\",SUBSTITUTE(FromEvoM!A611,\" \",\"\"))","v":""},{"$f":"IF(ISBLANK(FromEvoM!C611),\"\",SUBSTITUTE(FromEvoM!G611,\" \",\"\"))","v":""},{"$f":"IF(ISBLANK(FromEvoM!D611),\"\",FromEvoM!B611)","v":""},{"$f":"IF(ISBLANK(FromEvoM!D611),\"\",FromEvoM!D611)","v":""},{"$f":"IF(ISBLANK(FromEvoM!C611),\"\",FromEvoM!C611)","v":""},{"$f":"REPLACE(FromEvoM!F611,2,6, )","v":""},{"$f":"IF(ISNUMBER(FromEvoM!E611),FromEvoM!E611,\"\")","v":""},{"$f":"IF(ISBLANK(FromEvoM!I611),\"\",FromEvoM!I611)","v":""},{"$f":"IF(ISBLANK(FromEvoM!J611),\"\",FromEvoM!J611)","v":""},{"$f":"IF(ISBLANK(FromEvoM!K611),\"\",FromEvoM!K611)","v":""},{"$f":"IF(ISBLANK(FromEvoM!L611),\"\",FromEvoM!L611)","v":""},{"$f":"IF(ISBLANK(FromEvoM!M611),\"\",FromEvoM!M611)","v":""},{"$f":"IF(ISBLANK(FromEvoM!P611),\"\",FromEvoM!P611)","v":""},null,{"$f":"IF(ISNUMBER(FromEvoM!X611),FromEvoM!X611,\"\")","v":""},{"$f":"IF(ISNUMBER(FromEvoM!AB611),FromEvoM!AB611,\"\")","v":""},{"$f":"IF(ISNUMBER(FromEvoM!AA611),FromEvoM!AA611,\"\")","v":""},null,"","",null,null,{"$f":"IF(FromEvoM!W611=1,(FromEvoM!AB611*12),IF(FromEvoM!W611=7,(FromEvoM!AR611),\"\"))","v":""},null,null,{"$f":"IF(ISBLANK(FromEvoM!A611),\"\",IF(FromEvoM!AK611=\"y\",\"Y\",\"N\"))","v":""},{"$f":"IF(ISBLANK(FromEvoM!A611),\"\",Category_ID)","v":""},null,null,null,{"$f":"IF(ISBLANK(FromEvoM!AK611),\"\",FromEvoM!AK611)","v":""},{"$f":"IF(ISBLANK(FromEvoM!AM611),\"\",FromEvoM!AM611)","v":""},{"$f":"IF(ISBLANK(FromEvoM!AN611),\"\",FromEvoM!AN611)","v":""},{"$f":"IF(ISBLANK(FromEvoM!AL611),\"\",FromEvoM!AL611)","v":""},{"$f":"IF(ISBLANK(FromEvoM!A611),\"\",IF(AND(AF611=\"y\",AI611=1),\"Y\",\"N\"))","v":""},{"$f":"IF(ISBLANK(FromEvoM!A611),\"\",IF(FromEvoM!AS611=\"Yes\",2,1))","v":""},{"$f":"IF(FromEvoM!W611=1,\"M\",IF(FromEvoM!W611=7,\"W\",\"\"))","v":""},{"$f":"IF(AJ611=\"Y\",0,IF(AJ611=\"N\",FromEvoM!AF611+FromEvoM!AT611,\"\"))","v":""},{"$f":"IF(AJ611=\"Y\",(FromEvoM!AE611+FromEvoM!AF611-FromEvoM!AT611),IF(AJ611=\"N\",FromEvoM!AE611,\"\"))","v":""}]
[{"$f":"IF(ISBLANK(FromEvoM!A612),\"\",Group_Code)","v":""},{"$f":"IF(ISBLANK(FromEvoM!A612),\"\",SUBSTITUTE(FromEvoM!A612,\" \",\"\"))","v":""},{"$f":"IF(ISBLANK(FromEvoM!C612),\"\",SUBSTITUTE(FromEvoM!G612,\" \",\"\"))","v":""},{"$f":"IF(ISBLANK(FromEvoM!D612),\"\",FromEvoM!B612)","v":""},{"$f":"IF(ISBLANK(FromEvoM!D612),\"\",FromEvoM!D612)","v":""},{"$f":"IF(ISBLANK(FromEvoM!C612),\"\",FromEvoM!C612)","v":""},{"$f":"REPLACE(FromEvoM!F612,2,6, )","v":""},{"$f":"IF(ISNUMBER(FromEvoM!E612),FromEvoM!E612,\"\")","v":""},{"$f":"IF(ISBLANK(FromEvoM!I612),\"\",FromEvoM!I612)","v":""},{"$f":"IF(ISBLANK(FromEvoM!J612),\"\",FromEvoM!J612)","v":""},{"$f":"IF(ISBLANK(FromEvoM!K612),\"\",FromEvoM!K612)","v":""},{"$f":"IF(ISBLANK(FromEvoM!L612),\"\",FromEvoM!L612)","v":""},{"$f":"IF(ISBLANK(FromEvoM!M612),\"\",FromEvoM!M612)","v":""},{"$f":"IF(ISBLANK(FromEvoM!P612),\"\",FromEvoM!P612)","v":""},null,{"$f":"IF(ISNUMBER(FromEvoM!X612),FromEvoM!X612,\"\")","v":""},{"$f":"IF(ISNUMBER(FromEvoM!AB612),FromEvoM!AB612,\"\")","v":""},{"$f":"IF(ISNUMBER(FromEvoM!AA612),FromEvoM!AA612,\"\")","v":""},null,"","",null,null,{"$f":"IF(FromEvoM!W612=1,(FromEvoM!AB612*12),IF(FromEvoM!W612=7,(FromEvoM!AR612),\"\"))","v":""},null,null,{"$f":"IF(ISBLANK(FromEvoM!A612),\"\",IF(FromEvoM!AK612=\"y\",\"Y\",\"N\"))","v":""},{"$f":"IF(ISBLANK(FromEvoM!A612),\"\",Category_ID)","v":""},null,null,null,{"$f":"IF(ISBLANK(FromEvoM!AK612),\"\",FromEvoM!AK612)","v":""},{"$f":"IF(ISBLANK(FromEvoM!AM612),\"\",FromEvoM!AM612)","v":""},{"$f":"IF(ISBLANK(FromEvoM!AN612),\"\",FromEvoM!AN612)","v":""},{"$f":"IF(ISBLANK(FromEvoM!AL612),\"\",FromEvoM!AL612)","v":""},{"$f":"IF(ISBLANK(FromEvoM!A612),\"\",IF(AND(AF612=\"y\",AI612=1),\"Y\",\"N\"))","v":""},{"$f":"IF(ISBLANK(FromEvoM!A612),\"\",IF(FromEvoM!AS612=\"Yes\",2,1))","v":""},{"$f":"IF(FromEvoM!W612=1,\"M\",IF(FromEvoM!W612=7,\"W\",\"\"))","v":""},{"$f":"IF(AJ612=\"Y\",0,IF(AJ612=\"N\",FromEvoM!AF612+FromEvoM!AT612,\"\"))","v":""},{"$f":"IF(AJ612=\"Y\",(FromEvoM!AE612+FromEvoM!AF612-FromEvoM!AT612),IF(AJ612=\"N\",FromEvoM!AE612,\"\"))","v":""}]
[{"$f":"IF(ISBLANK(FromEvoM!A613),\"\",Group_Code)","v":""},{"$f":"IF(ISBLANK(FromEvoM!A613),\"\",SUBSTITUTE(FromEvoM!A613,\" \",\"\"))","v":""},{"$f":"IF(ISBLANK(FromEvoM!C613),\"\",SUBSTITUTE(FromEvoM!G613,\" \",\"\"))","v":""},{"$f":"IF(ISBLANK(FromEvoM!D613),\"\",FromEvoM!B613)","v":""},{"$f":"IF(ISBLANK(FromEvoM!D613),\"\",FromEvoM!D613)","v":""},{"$f":"IF(ISBLANK(FromEvoM!C613),\"\",FromEvoM!C613)","v":""},{"$f":"REPLACE(FromEvoM!F613,2,6, )","v":""},{"$f":"IF(ISNUMBER(FromEvoM!E613),FromEvoM!E613,\"\")","v":""},{"$f":"IF(ISBLANK(FromEvoM!I613),\"\",FromEvoM!I613)","v":""},{"$f":"IF(ISBLANK(FromEvoM!J613),\"\",FromEvoM!J613)","v":""},{"$f":"IF(ISBLANK(FromEvoM!K613),\"\",FromEvoM!K613)","v":""},{"$f":"IF(ISBLANK(FromEvoM!L613),\"\",FromEvoM!L613)","v":""},{"$f":"IF(ISBLANK(FromEvoM!M613),\"\",FromEvoM!M613)","v":""},{"$f":"IF(ISBLANK(FromEvoM!P613),\"\",FromEvoM!P613)","v":""},null,{"$f":"IF(ISNUMBER(FromEvoM!X613),FromEvoM!X613,\"\")","v":""},{"$f":"IF(ISNUMBER(FromEvoM!AB613),FromEvoM!AB613,\"\")","v":""},{"$f":"IF(ISNUMBER(FromEvoM!AA613),FromEvoM!AA613,\"\")","v":""},null,"","",null,null,{"$f":"IF(FromEvoM!W613=1,(FromEvoM!AB613*12),IF(FromEvoM!W613=7,(FromEvoM!AR613),\"\"))","v":""},null,null,{"$f":"IF(ISBLANK(FromEvoM!A613),\"\",IF(FromEvoM!AK613=\"y\",\"Y\",\"N\"))","v":""},{"$f":"IF(ISBLANK(FromEvoM!A613),\"\",Category_ID)","v":""},null,null,null,{"$f":"IF(ISBLANK(FromEvoM!AK613),\"\",FromEvoM!AK613)","v":""},{"$f":"IF(ISBLANK(FromEvoM!AM613),\"\",FromEvoM!AM613)","v":""},{"$f":"IF(ISBLANK(FromEvoM!AN613),\"\",FromEvoM!AN613)","v":""},{"$f":"IF(ISBLANK(FromEvoM!AL613),\"\",FromEvoM!AL613)","v":""},{"$f":"IF(ISBLANK(FromEvoM!A613),\"\",IF(AND(AF613=\"y\",AI613=1),\"Y\",\"N\"))","v":""},{"$f":"IF(ISBLANK(FromEvoM!A613),\"\",IF(FromEvoM!AS613=\"Yes\",2,1))","v":""},{"$f":"IF(FromEvoM!W613=1,\"M\",IF(FromEvoM!W613=7,\"W\",\"\"))","v":""},{"$f":"IF(AJ613=\"Y\",0,IF(AJ613=\"N\",FromEvoM!AF613+FromEvoM!AT613,\"\"))","v":""},{"$f":"IF(AJ613=\"Y\",(FromEvoM!AE613+FromEvoM!AF613-FromEvoM!AT613),IF(AJ613=\"N\",FromEvoM!AE613,\"\"))","v":""}]
[{"$f":"IF(ISBLANK(FromEvoM!A614),\"\",Group_Code)","v":""},{"$f":"IF(ISBLANK(FromEvoM!A614),\"\",SUBSTITUTE(FromEvoM!A614,\" \",\"\"))","v":""},{"$f":"IF(ISBLANK(FromEvoM!C614),\"\",SUBSTITUTE(FromEvoM!G614,\" \",\"\"))","v":""},{"$f":"IF(ISBLANK(FromEvoM!D614),\"\",FromEvoM!B614)","v":""},{"$f":"IF(ISBLANK(FromEvoM!D614),\"\",FromEvoM!D614)","v":""},{"$f":"IF(ISBLANK(FromEvoM!C614),\"\",FromEvoM!C614)","v":""},{"$f":"REPLACE(FromEvoM!F614,2,6, )","v":""},{"$f":"IF(ISNUMBER(FromEvoM!E614),FromEvoM!E614,\"\")","v":""},{"$f":"IF(ISBLANK(FromEvoM!I614),\"\",FromEvoM!I614)","v":""},{"$f":"IF(ISBLANK(FromEvoM!J614),\"\",FromEvoM!J614)","v":""},{"$f":"IF(ISBLANK(FromEvoM!K614),\"\",FromEvoM!K614)","v":""},{"$f":"IF(ISBLANK(FromEvoM!L614),\"\",FromEvoM!L614)","v":""},{"$f":"IF(ISBLANK(FromEvoM!M614),\"\",FromEvoM!M614)","v":""},{"$f":"IF(ISBLANK(FromEvoM!P614),\"\",FromEvoM!P614)","v":""},null,{"$f":"IF(ISNUMBER(FromEvoM!X614),FromEvoM!X614,\"\")","v":""},{"$f":"IF(ISNUMBER(FromEvoM!AB614),FromEvoM!AB614,\"\")","v":""},{"$f":"IF(ISNUMBER(FromEvoM!AA614),FromEvoM!AA614,\"\")","v":""},null,"","",null,null,{"$f":"IF(FromEvoM!W614=1,(FromEvoM!AB614*12),IF(FromEvoM!W614=7,(FromEvoM!AR614),\"\"))","v":""},null,null,{"$f":"IF(ISBLANK(FromEvoM!A614),\"\",IF(FromEvoM!AK614=\"y\",\"Y\",\"N\"))","v":""},{"$f":"IF(ISBLANK(FromEvoM!A614),\"\",Category_ID)","v":""},null,null,null,{"$f":"IF(ISBLANK(FromEvoM!AK614),\"\",FromEvoM!AK614)","v":""},{"$f":"IF(ISBLANK(FromEvoM!AM614),\"\",FromEvoM!AM614)","v":""},{"$f":"IF(ISBLANK(FromEvoM!AN614),\"\",FromEvoM!AN614)","v":""},{"$f":"IF(ISBLANK(FromEvoM!AL614),\"\",FromEvoM!AL614)","v":""},{"$f":"IF(ISBLANK(FromEvoM!A614),\"\",IF(AND(AF614=\"y\",AI614=1),\"Y\",\"N\"))","v":""},{"$f":"IF(ISBLANK(FromEvoM!A614),\"\",IF(FromEvoM!AS614=\"Yes\",2,1))","v":""},{"$f":"IF(FromEvoM!W614=1,\"M\",IF(FromEvoM!W614=7,\"W\",\"\"))","v":""},{"$f":"IF(AJ614=\"Y\",0,IF(AJ614=\"N\",FromEvoM!AF614+FromEvoM!AT614,\"\"))","v":""},{"$f":"IF(AJ614=\"Y\",(FromEvoM!AE614+FromEvoM!AF614-FromEvoM!AT614),IF(AJ614=\"N\",FromEvoM!AE614,\"\"))","v":""}]
[{"$f":"IF(ISBLANK(FromEvoM!A615),\"\",Group_Code)","v":""},{"$f":"IF(ISBLANK(FromEvoM!A615),\"\",SUBSTITUTE(FromEvoM!A615,\" \",\"\"))","v":""},{"$f":"IF(ISBLANK(FromEvoM!C615),\"\",SUBSTITUTE(FromEvoM!G615,\" \",\"\"))","v":""},{"$f":"IF(ISBLANK(FromEvoM!D615),\"\",FromEvoM!B615)","v":""},{"$f":"IF(ISBLANK(FromEvoM!D615),\"\",FromEvoM!D615)","v":""},{"$f":"IF(ISBLANK(FromEvoM!C615),\"\",FromEvoM!C615)","v":""},{"$f":"REPLACE(FromEvoM!F615,2,6, )","v":""},{"$f":"IF(ISNUMBER(FromEvoM!E615),FromEvoM!E615,\"\")","v":""},{"$f":"IF(ISBLANK(FromEvoM!I615),\"\",FromEvoM!I615)","v":""},{"$f":"IF(ISBLANK(FromEvoM!J615),\"\",FromEvoM!J615)","v":""},{"$f":"IF(ISBLANK(FromEvoM!K615),\"\",FromEvoM!K615)","v":""},{"$f":"IF(ISBLANK(FromEvoM!L615),\"\",FromEvoM!L615)","v":""},{"$f":"IF(ISBLANK(FromEvoM!M615),\"\",FromEvoM!M615)","v":""},{"$f":"IF(ISBLANK(FromEvoM!P615),\"\",FromEvoM!P615)","v":""},null,{"$f":"IF(ISNUMBER(FromEvoM!X615),FromEvoM!X615,\"\")","v":""},{"$f":"IF(ISNUMBER(FromEvoM!AB615),FromEvoM!AB615,\"\")","v":""},{"$f":"IF(ISNUMBER(FromEvoM!AA615),FromEvoM!AA615,\"\")","v":""},null,"","",null,null,{"$f":"IF(FromEvoM!W615=1,(FromEvoM!AB615*12),IF(FromEvoM!W615=7,(FromEvoM!AR615),\"\"))","v":""},null,null,{"$f":"IF(ISBLANK(FromEvoM!A615),\"\",IF(FromEvoM!AK615=\"y\",\"Y\",\"N\"))","v":""},{"$f":"IF(ISBLANK(FromEvoM!A615),\"\",Category_ID)","v":""},null,null,null,{"$f":"IF(ISBLANK(FromEvoM!AK615),\"\",FromEvoM!AK615)","v":""},{"$f":"IF(ISBLANK(FromEvoM!AM615),\"\",FromEvoM!AM615)","v":""},{"$f":"IF(ISBLANK(FromEvoM!AN615),\"\",FromEvoM!AN615)","v":""},{"$f":"IF(ISBLANK(FromEvoM!AL615),\"\",FromEvoM!AL615)","v":""},{"$f":"IF(ISBLANK(FromEvoM!A615),\"\",IF(AND(AF615=\"y\",AI615=1),\"Y\",\"N\"))","v":""},{"$f":"IF(ISBLANK(FromEvoM!A615),\"\",IF(FromEvoM!AS615=\"Yes\",2,1))","v":""},{"$f":"IF(FromEvoM!W615=1,\"M\",IF(FromEvoM!W615=7,\"W\",\"\"))","v":""},{"$f":"IF(AJ615=\"Y\",0,IF(AJ615=\"N\",FromEvoM!AF615+FromEvoM!AT615,\"\"))","v":""},{"$f":"IF(AJ615=\"Y\",(FromEvoM!AE615+FromEvoM!AF615-FromEvoM!AT615),IF(AJ615=\"N\",FromEvoM!AE615,\"\"))","v":""}]
[{"$f":"IF(ISBLANK(FromEvoM!A616),\"\",Group_Code)","v":""},{"$f":"IF(ISBLANK(FromEvoM!A616),\"\",SUBSTITUTE(FromEvoM!A616,\" \",\"\"))","v":""},{"$f":"IF(ISBLANK(FromEvoM!C616),\"\",SUBSTITUTE(FromEvoM!G616,\" \",\"\"))","v":""},{"$f":"IF(ISBLANK(FromEvoM!D616),\"\",FromEvoM!B616)","v":""},{"$f":"IF(ISBLANK(FromEvoM!D616),\"\",FromEvoM!D616)","v":""},{"$f":"IF(ISBLANK(FromEvoM!C616),\"\",FromEvoM!C616)","v":""},{"$f":"REPLACE(FromEvoM!F616,2,6, )","v":""},{"$f":"IF(ISNUMBER(FromEvoM!E616),FromEvoM!E616,\"\")","v":""},{"$f":"IF(ISBLANK(FromEvoM!I616),\"\",FromEvoM!I616)","v":""},{"$f":"IF(ISBLANK(FromEvoM!J616),\"\",FromEvoM!J616)","v":""},{"$f":"IF(ISBLANK(FromEvoM!K616),\"\",FromEvoM!K616)","v":""},{"$f":"IF(ISBLANK(FromEvoM!L616),\"\",FromEvoM!L616)","v":""},{"$f":"IF(ISBLANK(FromEvoM!M616),\"\",FromEvoM!M616)","v":""},{"$f":"IF(ISBLANK(FromEvoM!P616),\"\",FromEvoM!P616)","v":""},null,{"$f":"IF(ISNUMBER(FromEvoM!X616),FromEvoM!X616,\"\")","v":""},{"$f":"IF(ISNUMBER(FromEvoM!AB616),FromEvoM!AB616,\"\")","v":""},{"$f":"IF(ISNUMBER(FromEvoM!AA616),FromEvoM!AA616,\"\")","v":""},null,"","",null,null,{"$f":"IF(FromEvoM!W616=1,(FromEvoM!AB616*12),IF(FromEvoM!W616=7,(FromEvoM!AR616),\"\"))","v":""},null,null,{"$f":"IF(ISBLANK(FromEvoM!A616),\"\",IF(FromEvoM!AK616=\"y\",\"Y\",\"N\"))","v":""},{"$f":"IF(ISBLANK(FromEvoM!A616),\"\",Category_ID)","v":""},null,null,null,{"$f":"IF(ISBLANK(FromEvoM!AK616),\"\",FromEvoM!AK616)","v":""},{"$f":"IF(ISBLANK(FromEvoM!AM616),\"\",FromEvoM!AM616)","v":""},{"$f":"IF(ISBLANK(FromEvoM!AN616),\"\",FromEvoM!AN616)","v":""},{"$f":"IF(ISBLANK(FromEvoM!AL616),\"\",FromEvoM!AL616)","v":""},{"$f":"IF(ISBLANK(FromEvoM!A616),\"\",IF(AND(AF616=\"y\",AI616=1),\"Y\",\"N\"))","v":""},{"$f":"IF(ISBLANK(FromEvoM!A616),\"\",IF(FromEvoM!AS616=\"Yes\",2,1))","v":""},{"$f":"IF(FromEvoM!W616=1,\"M\",IF(FromEvoM!W616=7,\"W\",\"\"))","v":""},{"$f":"IF(AJ616=\"Y\",0,IF(AJ616=\"N\",FromEvoM!AF616+FromEvoM!AT616,\"\"))","v":""},{"$f":"IF(AJ616=\"Y\",(FromEvoM!AE616+FromEvoM!AF616-FromEvoM!AT616),IF(AJ616=\"N\",FromEvoM!AE616,\"\"))","v":""}]
[{"$f":"IF(ISBLANK(FromEvoM!A617),\"\",Group_Code)","v":""},{"$f":"IF(ISBLANK(FromEvoM!A617),\"\",SUBSTITUTE(FromEvoM!A617,\" \",\"\"))","v":""},{"$f":"IF(ISBLANK(FromEvoM!C617),\"\",SUBSTITUTE(FromEvoM!G617,\" \",\"\"))","v":""},{"$f":"IF(ISBLANK(FromEvoM!D617),\"\",FromEvoM!B617)","v":""},{"$f":"IF(ISBLANK(FromEvoM!D617),\"\",FromEvoM!D617)","v":""},{"$f":"IF(ISBLANK(FromEvoM!C617),\"\",FromEvoM!C617)","v":""},{"$f":"REPLACE(FromEvoM!F617,2,6, )","v":""},{"$f":"IF(ISNUMBER(FromEvoM!E617),FromEvoM!E617,\"\")","v":""},{"$f":"IF(ISBLANK(FromEvoM!I617),\"\",FromEvoM!I617)","v":""},{"$f":"IF(ISBLANK(FromEvoM!J617),\"\",FromEvoM!J617)","v":""},{"$f":"IF(ISBLANK(FromEvoM!K617),\"\",FromEvoM!K617)","v":""},{"$f":"IF(ISBLANK(FromEvoM!L617),\"\",FromEvoM!L617)","v":""},{"$f":"IF(ISBLANK(FromEvoM!M617),\"\",FromEvoM!M617)","v":""},{"$f":"IF(ISBLANK(FromEvoM!P617),\"\",FromEvoM!P617)","v":""},null,{"$f":"IF(ISNUMBER(FromEvoM!X617),FromEvoM!X617,\"\")","v":""},{"$f":"IF(ISNUMBER(FromEvoM!AB617),FromEvoM!AB617,\"\")","v":""},{"$f":"IF(ISNUMBER(FromEvoM!AA617),FromEvoM!AA617,\"\")","v":""},null,"","",null,null,{"$f":"IF(FromEvoM!W617=1,(FromEvoM!AB617*12),IF(FromEvoM!W617=7,(FromEvoM!AR617),\"\"))","v":""},null,null,{"$f":"IF(ISBLANK(FromEvoM!A617),\"\",IF(FromEvoM!AK617=\"y\",\"Y\",\"N\"))","v":""},{"$f":"IF(ISBLANK(FromEvoM!A617),\"\",Category_ID)","v":""},null,null,null,{"$f":"IF(ISBLANK(FromEvoM!AK617),\"\",FromEvoM!AK617)","v":""},{"$f":"IF(ISBLANK(FromEvoM!AM617),\"\",FromEvoM!AM617)","v":""},{"$f":"IF(ISBLANK(FromEvoM!AN617),\"\",FromEvoM!AN617)","v":""},{"$f":"IF(ISBLANK(FromEvoM!AL617),\"\",FromEvoM!AL617)","v":""},{"$f":"IF(ISBLANK(FromEvoM!A617),\"\",IF(AND(AF617=\"y\",AI617=1),\"Y\",\"N\"))","v":""},{"$f":"IF(ISBLANK(FromEvoM!A617),\"\",IF(FromEvoM!AS617=\"Yes\",2,1))","v":""},{"$f":"IF(FromEvoM!W617=1,\"M\",IF(FromEvoM!W617=7,\"W\",\"\"))","v":""},{"$f":"IF(AJ617=\"Y\",0,IF(AJ617=\"N\",FromEvoM!AF617+FromEvoM!AT617,\"\"))","v":""},{"$f":"IF(AJ617=\"Y\",(FromEvoM!AE617+FromEvoM!AF617-FromEvoM!AT617),IF(AJ617=\"N\",FromEvoM!AE617,\"\"))","v":""}]
[{"$f":"IF(ISBLANK(FromEvoM!A618),\"\",Group_Code)","v":""},{"$f":"IF(ISBLANK(FromEvoM!A618),\"\",SUBSTITUTE(FromEvoM!A618,\" \",\"\"))","v":""},{"$f":"IF(ISBLANK(FromEvoM!C618),\"\",SUBSTITUTE(FromEvoM!G618,\" \",\"\"))","v":""},{"$f":"IF(ISBLANK(FromEvoM!D618),\"\",FromEvoM!B618)","v":""},{"$f":"IF(ISBLANK(FromEvoM!D618),\"\",FromEvoM!D618)","v":""},{"$f":"IF(ISBLANK(FromEvoM!C618),\"\",FromEvoM!C618)","v":""},{"$f":"REPLACE(FromEvoM!F618,2,6, )","v":""},{"$f":"IF(ISNUMBER(FromEvoM!E618),FromEvoM!E618,\"\")","v":""},{"$f":"IF(ISBLANK(FromEvoM!I618),\"\",FromEvoM!I618)","v":""},{"$f":"IF(ISBLANK(FromEvoM!J618),\"\",FromEvoM!J618)","v":""},{"$f":"IF(ISBLANK(FromEvoM!K618),\"\",FromEvoM!K618)","v":""},{"$f":"IF(ISBLANK(FromEvoM!L618),\"\",FromEvoM!L618)","v":""},{"$f":"IF(ISBLANK(FromEvoM!M618),\"\",FromEvoM!M618)","v":""},{"$f":"IF(ISBLANK(FromEvoM!P618),\"\",FromEvoM!P618)","v":""},null,{"$f":"IF(ISNUMBER(FromEvoM!X618),FromEvoM!X618,\"\")","v":""},{"$f":"IF(ISNUMBER(FromEvoM!AB618),FromEvoM!AB618,\"\")","v":""},{"$f":"IF(ISNUMBER(FromEvoM!AA618),FromEvoM!AA618,\"\")","v":""},null,"","",null,null,{"$f":"IF(FromEvoM!W618=1,(FromEvoM!AB618*12),IF(FromEvoM!W618=7,(FromEvoM!AR618),\"\"))","v":""},null,null,{"$f":"IF(ISBLANK(FromEvoM!A618),\"\",IF(FromEvoM!AK618=\"y\",\"Y\",\"N\"))","v":""},{"$f":"IF(ISBLANK(FromEvoM!A618),\"\",Category_ID)","v":""},null,null,null,{"$f":"IF(ISBLANK(FromEvoM!AK618),\"\",FromEvoM!AK618)","v":""},{"$f":"IF(ISBLANK(FromEvoM!AM618),\"\",FromEvoM!AM618)","v":""},{"$f":"IF(ISBLANK(FromEvoM!AN618),\"\",FromEvoM!AN618)","v":""},{"$f":"IF(ISBLANK(FromEvoM!AL618),\"\",FromEvoM!AL618)","v":""},{"$f":"IF(ISBLANK(FromEvoM!A618),\"\",IF(AND(AF618=\"y\",AI618=1),\"Y\",\"N\"))","v":""},{"$f":"IF(ISBLANK(FromEvoM!A618),\"\",IF(FromEvoM!AS618=\"Yes\",2,1))","v":""},{"$f":"IF(FromEvoM!W618=1,\"M\",IF(FromEvoM!W618=7,\"W\",\"\"))","v":""},{"$f":"IF(AJ618=\"Y\",0,IF(AJ618=\"N\",FromEvoM!AF618+FromEvoM!AT618,\"\"))","v":""},{"$f":"IF(AJ618=\"Y\",(FromEvoM!AE618+FromEvoM!AF618-FromEvoM!AT618),IF(AJ618=\"N\",FromEvoM!AE618,\"\"))","v":""}]
[{"$f":"IF(ISBLANK(FromEvoM!A619),\"\",Group_Code)","v":""},{"$f":"IF(ISBLANK(FromEvoM!A619),\"\",SUBSTITUTE(FromEvoM!A619,\" \",\"\"))","v":""},{"$f":"IF(ISBLANK(FromEvoM!C619),\"\",SUBSTITUTE(FromEvoM!G619,\" \",\"\"))","v":""},{"$f":"IF(ISBLANK(FromEvoM!D619),\"\",FromEvoM!B619)","v":""},{"$f":"IF(ISBLANK(FromEvoM!D619),\"\",FromEvoM!D619)","v":""},{"$f":"IF(ISBLANK(FromEvoM!C619),\"\",FromEvoM!C619)","v":""},{"$f":"REPLACE(FromEvoM!F619,2,6, )","v":""},{"$f":"IF(ISNUMBER(FromEvoM!E619),FromEvoM!E619,\"\")","v":""},{"$f":"IF(ISBLANK(FromEvoM!I619),\"\",FromEvoM!I619)","v":""},{"$f":"IF(ISBLANK(FromEvoM!J619),\"\",FromEvoM!J619)","v":""},{"$f":"IF(ISBLANK(FromEvoM!K619),\"\",FromEvoM!K619)","v":""},{"$f":"IF(ISBLANK(FromEvoM!L619),\"\",FromEvoM!L619)","v":""},{"$f":"IF(ISBLANK(FromEvoM!M619),\"\",FromEvoM!M619)","v":""},{"$f":"IF(ISBLANK(FromEvoM!P619),\"\",FromEvoM!P619)","v":""},null,{"$f":"IF(ISNUMBER(FromEvoM!X619),FromEvoM!X619,\"\")","v":""},{"$f":"IF(ISNUMBER(FromEvoM!AB619),FromEvoM!AB619,\"\")","v":""},{"$f":"IF(ISNUMBER(FromEvoM!AA619),FromEvoM!AA619,\"\")","v":""},null,"","",null,null,{"$f":"IF(FromEvoM!W619=1,(FromEvoM!AB619*12),IF(FromEvoM!W619=7,(FromEvoM!AR619),\"\"))","v":""},null,null,{"$f":"IF(ISBLANK(FromEvoM!A619),\"\",IF(FromEvoM!AK619=\"y\",\"Y\",\"N\"))","v":""},{"$f":"IF(ISBLANK(FromEvoM!A619),\"\",Category_ID)","v":""},null,null,null,{"$f":"IF(ISBLANK(FromEvoM!AK619),\"\",FromEvoM!AK619)","v":""},{"$f":"IF(ISBLANK(FromEvoM!AM619),\"\",FromEvoM!AM619)","v":""},{"$f":"IF(ISBLANK(FromEvoM!AN619),\"\",FromEvoM!AN619)","v":""},{"$f":"IF(ISBLANK(FromEvoM!AL619),\"\",FromEvoM!AL619)","v":""},{"$f":"IF(ISBLANK(FromEvoM!A619),\"\",IF(AND(AF619=\"y\",AI619=1),\"Y\",\"N\"))","v":""},{"$f":"IF(ISBLANK(FromEvoM!A619),\"\",IF(FromEvoM!AS619=\"Yes\",2,1))","v":""},{"$f":"IF(FromEvoM!W619=1,\"M\",IF(FromEvoM!W619=7,\"W\",\"\"))","v":""},{"$f":"IF(AJ619=\"Y\",0,IF(AJ619=\"N\",FromEvoM!AF619+FromEvoM!AT619,\"\"))","v":""},{"$f":"IF(AJ619=\"Y\",(FromEvoM!AE619+FromEvoM!AF619-FromEvoM!AT619),IF(AJ619=\"N\",FromEvoM!AE619,\"\"))","v":""}]
[{"$f":"IF(ISBLANK(FromEvoM!A620),\"\",Group_Code)","v":""},{"$f":"IF(ISBLANK(FromEvoM!A620),\"\",SUBSTITUTE(FromEvoM!A620,\" \",\"\"))","v":""},{"$f":"IF(ISBLANK(FromEvoM!C620),\"\",SUBSTITUTE(FromEvoM!G620,\" \",\"\"))","v":""},{"$f":"IF(ISBLANK(FromEvoM!D620),\"\",FromEvoM!B620)","v":""},{"$f":"IF(ISBLANK(FromEvoM!D620),\"\",FromEvoM!D620)","v":""},{"$f":"IF(ISBLANK(FromEvoM!C620),\"\",FromEvoM!C620)","v":""},{"$f":"REPLACE(FromEvoM!F620,2,6, )","v":""},{"$f":"IF(ISNUMBER(FromEvoM!E620),FromEvoM!E620,\"\")","v":""},{"$f":"IF(ISBLANK(FromEvoM!I620),\"\",FromEvoM!I620)","v":""},{"$f":"IF(ISBLANK(FromEvoM!J620),\"\",FromEvoM!J620)","v":""},{"$f":"IF(ISBLANK(FromEvoM!K620),\"\",FromEvoM!K620)","v":""},{"$f":"IF(ISBLANK(FromEvoM!L620),\"\",FromEvoM!L620)","v":""},{"$f":"IF(ISBLANK(FromEvoM!M620),\"\",FromEvoM!M620)","v":""},{"$f":"IF(ISBLANK(FromEvoM!P620),\"\",FromEvoM!P620)","v":""},null,{"$f":"IF(ISNUMBER(FromEvoM!X620),FromEvoM!X620,\"\")","v":""},{"$f":"IF(ISNUMBER(FromEvoM!AB620),FromEvoM!AB620,\"\")","v":""},{"$f":"IF(ISNUMBER(FromEvoM!AA620),FromEvoM!AA620,\"\")","v":""},null,"","",null,null,{"$f":"IF(FromEvoM!W620=1,(FromEvoM!AB620*12),IF(FromEvoM!W620=7,(FromEvoM!AR620),\"\"))","v":""},null,null,{"$f":"IF(ISBLANK(FromEvoM!A620),\"\",IF(FromEvoM!AK620=\"y\",\"Y\",\"N\"))","v":""},{"$f":"IF(ISBLANK(FromEvoM!A620),\"\",Category_ID)","v":""},null,null,null,{"$f":"IF(ISBLANK(FromEvoM!AK620),\"\",FromEvoM!AK620)","v":""},{"$f":"IF(ISBLANK(FromEvoM!AM620),\"\",FromEvoM!AM620)","v":""},{"$f":"IF(ISBLANK(FromEvoM!AN620),\"\",FromEvoM!AN620)","v":""},{"$f":"IF(ISBLANK(FromEvoM!AL620),\"\",FromEvoM!AL620)","v":""},{"$f":"IF(ISBLANK(FromEvoM!A620),\"\",IF(AND(AF620=\"y\",AI620=1),\"Y\",\"N\"))","v":""},{"$f":"IF(ISBLANK(FromEvoM!A620),\"\",IF(FromEvoM!AS620=\"Yes\",2,1))","v":""},{"$f":"IF(FromEvoM!W620=1,\"M\",IF(FromEvoM!W620=7,\"W\",\"\"))","v":""},{"$f":"IF(AJ620=\"Y\",0,IF(AJ620=\"N\",FromEvoM!AF620+FromEvoM!AT620,\"\"))","v":""},{"$f":"IF(AJ620=\"Y\",(FromEvoM!AE620+FromEvoM!AF620-FromEvoM!AT620),IF(AJ620=\"N\",FromEvoM!AE620,\"\"))","v":""}]
[{"$f":"IF(ISBLANK(FromEvoM!A621),\"\",Group_Code)","v":""},{"$f":"IF(ISBLANK(FromEvoM!A621),\"\",SUBSTITUTE(FromEvoM!A621,\" \",\"\"))","v":""},{"$f":"IF(ISBLANK(FromEvoM!C621),\"\",SUBSTITUTE(FromEvoM!G621,\" \",\"\"))","v":""},{"$f":"IF(ISBLANK(FromEvoM!D621),\"\",FromEvoM!B621)","v":""},{"$f":"IF(ISBLANK(FromEvoM!D621),\"\",FromEvoM!D621)","v":""},{"$f":"IF(ISBLANK(FromEvoM!C621),\"\",FromEvoM!C621)","v":""},{"$f":"REPLACE(FromEvoM!F621,2,6, )","v":""},{"$f":"IF(ISNUMBER(FromEvoM!E621),FromEvoM!E621,\"\")","v":""},{"$f":"IF(ISBLANK(FromEvoM!I621),\"\",FromEvoM!I621)","v":""},{"$f":"IF(ISBLANK(FromEvoM!J621),\"\",FromEvoM!J621)","v":""},{"$f":"IF(ISBLANK(FromEvoM!K621),\"\",FromEvoM!K621)","v":""},{"$f":"IF(ISBLANK(FromEvoM!L621),\"\",FromEvoM!L621)","v":""},{"$f":"IF(ISBLANK(FromEvoM!M621),\"\",FromEvoM!M621)","v":""},{"$f":"IF(ISBLANK(FromEvoM!P621),\"\",FromEvoM!P621)","v":""},null,{"$f":"IF(ISNUMBER(FromEvoM!X621),FromEvoM!X621,\"\")","v":""},{"$f":"IF(ISNUMBER(FromEvoM!AB621),FromEvoM!AB621,\"\")","v":""},{"$f":"IF(ISNUMBER(FromEvoM!AA621),FromEvoM!AA621,\"\")","v":""},null,"","",null,null,{"$f":"IF(FromEvoM!W621=1,(FromEvoM!AB621*12),IF(FromEvoM!W621=7,(FromEvoM!AR621),\"\"))","v":""},null,null,{"$f":"IF(ISBLANK(FromEvoM!A621),\"\",IF(FromEvoM!AK621=\"y\",\"Y\",\"N\"))","v":""},{"$f":"IF(ISBLANK(FromEvoM!A621),\"\",Category_ID)","v":""},null,null,null,{"$f":"IF(ISBLANK(FromEvoM!AK621),\"\",FromEvoM!AK621)","v":""},{"$f":"IF(ISBLANK(FromEvoM!AM621),\"\",FromEvoM!AM621)","v":""},{"$f":"IF(ISBLANK(FromEvoM!AN621),\"\",FromEvoM!AN621)","v":""},{"$f":"IF(ISBLANK(FromEvoM!AL621),\"\",FromEvoM!AL621)","v":""},{"$f":"IF(ISBLANK(FromEvoM!A621),\"\",IF(AND(AF621=\"y\",AI621=1),\"Y\",\"N\"))","v":""},{"$f":"IF(ISBLANK(FromEvoM!A621),\"\",IF(FromEvoM!AS621=\"Yes\",2,1))","v":""},{"$f":"IF(FromEvoM!W621=1,\"M\",IF(FromEvoM!W621=7,\"W\",\"\"))","v":""},{"$f":"IF(AJ621=\"Y\",0,IF(AJ621=\"N\",FromEvoM!AF621+FromEvoM!AT621,\"\"))","v":""},{"$f":"IF(AJ621=\"Y\",(FromEvoM!AE621+FromEvoM!AF621-FromEvoM!AT621),IF(AJ621=\"N\",FromEvoM!AE621,\"\"))","v":""}]
[{"$f":"IF(ISBLANK(FromEvoM!A622),\"\",Group_Code)","v":""},{"$f":"IF(ISBLANK(FromEvoM!A622),\"\",SUBSTITUTE(FromEvoM!A622,\" \",\"\"))","v":""},{"$f":"IF(ISBLANK(FromEvoM!C622),\"\",SUBSTITUTE(FromEvoM!G622,\" \",\"\"))","v":""},{"$f":"IF(ISBLANK(FromEvoM!D622),\"\",FromEvoM!B622)","v":""},{"$f":"IF(ISBLANK(FromEvoM!D622),\"\",FromEvoM!D622)","v":""},{"$f":"IF(ISBLANK(FromEvoM!C622),\"\",FromEvoM!C622)","v":""},{"$f":"REPLACE(FromEvoM!F622,2,6, )","v":""},{"$f":"IF(ISNUMBER(FromEvoM!E622),FromEvoM!E622,\"\")","v":""},{"$f":"IF(ISBLANK(FromEvoM!I622),\"\",FromEvoM!I622)","v":""},{"$f":"IF(ISBLANK(FromEvoM!J622),\"\",FromEvoM!J622)","v":""},{"$f":"IF(ISBLANK(FromEvoM!K622),\"\",FromEvoM!K622)","v":""},{"$f":"IF(ISBLANK(FromEvoM!L622),\"\",FromEvoM!L622)","v":""},{"$f":"IF(ISBLANK(FromEvoM!M622),\"\",FromEvoM!M622)","v":""},{"$f":"IF(ISBLANK(FromEvoM!P622),\"\",FromEvoM!P622)","v":""},null,{"$f":"IF(ISNUMBER(FromEvoM!X622),FromEvoM!X622,\"\")","v":""},{"$f":"IF(ISNUMBER(FromEvoM!AB622),FromEvoM!AB622,\"\")","v":""},{"$f":"IF(ISNUMBER(FromEvoM!AA622),FromEvoM!AA622,\"\")","v":""},null,"","",null,null,{"$f":"IF(FromEvoM!W622=1,(FromEvoM!AB622*12),IF(FromEvoM!W622=7,(FromEvoM!AR622),\"\"))","v":""},null,null,{"$f":"IF(ISBLANK(FromEvoM!A622),\"\",IF(FromEvoM!AK622=\"y\",\"Y\",\"N\"))","v":""},{"$f":"IF(ISBLANK(FromEvoM!A622),\"\",Category_ID)","v":""},null,null,null,{"$f":"IF(ISBLANK(FromEvoM!AK622),\"\",FromEvoM!AK622)","v":""},{"$f":"IF(ISBLANK(FromEvoM!AM622),\"\",FromEvoM!AM622)","v":""},{"$f":"IF(ISBLANK(FromEvoM!AN622),\"\",FromEvoM!AN622)","v":""},{"$f":"IF(ISBLANK(FromEvoM!AL622),\"\",FromEvoM!AL622)","v":""},{"$f":"IF(ISBLANK(FromEvoM!A622),\"\",IF(AND(AF622=\"y\",AI622=1),\"Y\",\"N\"))","v":""},{"$f":"IF(ISBLANK(FromEvoM!A622),\"\",IF(FromEvoM!AS622=\"Yes\",2,1))","v":""},{"$f":"IF(FromEvoM!W622=1,\"M\",IF(FromEvoM!W622=7,\"W\",\"\"))","v":""},{"$f":"IF(AJ622=\"Y\",0,IF(AJ622=\"N\",FromEvoM!AF622+FromEvoM!AT622,\"\"))","v":""},{"$f":"IF(AJ622=\"Y\",(FromEvoM!AE622+FromEvoM!AF622-FromEvoM!AT622),IF(AJ622=\"N\",FromEvoM!AE622,\"\"))","v":""}]
[{"$f":"IF(ISBLANK(FromEvoM!A623),\"\",Group_Code)","v":""},{"$f":"IF(ISBLANK(FromEvoM!A623),\"\",SUBSTITUTE(FromEvoM!A623,\" \",\"\"))","v":""},{"$f":"IF(ISBLANK(FromEvoM!C623),\"\",SUBSTITUTE(FromEvoM!G623,\" \",\"\"))","v":""},{"$f":"IF(ISBLANK(FromEvoM!D623),\"\",FromEvoM!B623)","v":""},{"$f":"IF(ISBLANK(FromEvoM!D623),\"\",FromEvoM!D623)","v":""},{"$f":"IF(ISBLANK(FromEvoM!C623),\"\",FromEvoM!C623)","v":""},{"$f":"REPLACE(FromEvoM!F623,2,6, )","v":""},{"$f":"IF(ISNUMBER(FromEvoM!E623),FromEvoM!E623,\"\")","v":""},{"$f":"IF(ISBLANK(FromEvoM!I623),\"\",FromEvoM!I623)","v":""},{"$f":"IF(ISBLANK(FromEvoM!J623),\"\",FromEvoM!J623)","v":""},{"$f":"IF(ISBLANK(FromEvoM!K623),\"\",FromEvoM!K623)","v":""},{"$f":"IF(ISBLANK(FromEvoM!L623),\"\",FromEvoM!L623)","v":""},{"$f":"IF(ISBLANK(FromEvoM!M623),\"\",FromEvoM!M623)","v":""},{"$f":"IF(ISBLANK(FromEvoM!P623),\"\",FromEvoM!P623)","v":""},null,{"$f":"IF(ISNUMBER(FromEvoM!X623),FromEvoM!X623,\"\")","v":""},{"$f":"IF(ISNUMBER(FromEvoM!AB623),FromEvoM!AB623,\"\")","v":""},{"$f":"IF(ISNUMBER(FromEvoM!AA623),FromEvoM!AA623,\"\")","v":""},null,"","",null,null,{"$f":"IF(FromEvoM!W623=1,(FromEvoM!AB623*12),IF(FromEvoM!W623=7,(FromEvoM!AR623),\"\"))","v":""},null,null,{"$f":"IF(ISBLANK(FromEvoM!A623),\"\",IF(FromEvoM!AK623=\"y\",\"Y\",\"N\"))","v":""},{"$f":"IF(ISBLANK(FromEvoM!A623),\"\",Category_ID)","v":""},null,null,null,{"$f":"IF(ISBLANK(FromEvoM!AK623),\"\",FromEvoM!AK623)","v":""},{"$f":"IF(ISBLANK(FromEvoM!AM623),\"\",FromEvoM!AM623)","v":""},{"$f":"IF(ISBLANK(FromEvoM!AN623),\"\",FromEvoM!AN623)","v":""},{"$f":"IF(ISBLANK(FromEvoM!AL623),\"\",FromEvoM!AL623)","v":""},{"$f":"IF(ISBLANK(FromEvoM!A623),\"\",IF(AND(AF623=\"y\",AI623=1),\"Y\",\"N\"))","v":""},{"$f":"IF(ISBLANK(FromEvoM!A623),\"\",IF(FromEvoM!AS623=\"Yes\",2,1))","v":""},{"$f":"IF(FromEvoM!W623=1,\"M\",IF(FromEvoM!W623=7,\"W\",\"\"))","v":""},{"$f":"IF(AJ623=\"Y\",0,IF(AJ623=\"N\",FromEvoM!AF623+FromEvoM!AT623,\"\"))","v":""},{"$f":"IF(AJ623=\"Y\",(FromEvoM!AE623+FromEvoM!AF623-FromEvoM!AT623),IF(AJ623=\"N\",FromEvoM!AE623,\"\"))","v":""}]
[{"$f":"IF(ISBLANK(FromEvoM!A624),\"\",Group_Code)","v":""},{"$f":"IF(ISBLANK(FromEvoM!A624),\"\",SUBSTITUTE(FromEvoM!A624,\" \",\"\"))","v":""},{"$f":"IF(ISBLANK(FromEvoM!C624),\"\",SUBSTITUTE(FromEvoM!G624,\" \",\"\"))","v":""},{"$f":"IF(ISBLANK(FromEvoM!D624),\"\",FromEvoM!B624)","v":""},{"$f":"IF(ISBLANK(FromEvoM!D624),\"\",FromEvoM!D624)","v":""},{"$f":"IF(ISBLANK(FromEvoM!C624),\"\",FromEvoM!C624)","v":""},{"$f":"REPLACE(FromEvoM!F624,2,6, )","v":""},{"$f":"IF(ISNUMBER(FromEvoM!E624),FromEvoM!E624,\"\")","v":""},{"$f":"IF(ISBLANK(FromEvoM!I624),\"\",FromEvoM!I624)","v":""},{"$f":"IF(ISBLANK(FromEvoM!J624),\"\",FromEvoM!J624)","v":""},{"$f":"IF(ISBLANK(FromEvoM!K624),\"\",FromEvoM!K624)","v":""},{"$f":"IF(ISBLANK(FromEvoM!L624),\"\",FromEvoM!L624)","v":""},{"$f":"IF(ISBLANK(FromEvoM!M624),\"\",FromEvoM!M624)","v":""},{"$f":"IF(ISBLANK(FromEvoM!P624),\"\",FromEvoM!P624)","v":""},null,{"$f":"IF(ISNUMBER(FromEvoM!X624),FromEvoM!X624,\"\")","v":""},{"$f":"IF(ISNUMBER(FromEvoM!AB624),FromEvoM!AB624,\"\")","v":""},{"$f":"IF(ISNUMBER(FromEvoM!AA624),FromEvoM!AA624,\"\")","v":""},null,"","",null,null,{"$f":"IF(FromEvoM!W624=1,(FromEvoM!AB624*12),IF(FromEvoM!W624=7,(FromEvoM!AR624),\"\"))","v":""},null,null,{"$f":"IF(ISBLANK(FromEvoM!A624),\"\",IF(FromEvoM!AK624=\"y\",\"Y\",\"N\"))","v":""},{"$f":"IF(ISBLANK(FromEvoM!A624),\"\",Category_ID)","v":""},null,null,null,{"$f":"IF(ISBLANK(FromEvoM!AK624),\"\",FromEvoM!AK624)","v":""},{"$f":"IF(ISBLANK(FromEvoM!AM624),\"\",FromEvoM!AM624)","v":""},{"$f":"IF(ISBLANK(FromEvoM!AN624),\"\",FromEvoM!AN624)","v":""},{"$f":"IF(ISBLANK(FromEvoM!AL624),\"\",FromEvoM!AL624)","v":""},{"$f":"IF(ISBLANK(FromEvoM!A624),\"\",IF(AND(AF624=\"y\",AI624=1),\"Y\",\"N\"))","v":""},{"$f":"IF(ISBLANK(FromEvoM!A624),\"\",IF(FromEvoM!AS624=\"Yes\",2,1))","v":""},{"$f":"IF(FromEvoM!W624=1,\"M\",IF(FromEvoM!W624=7,\"W\",\"\"))","v":""},{"$f":"IF(AJ624=\"Y\",0,IF(AJ624=\"N\",FromEvoM!AF624+FromEvoM!AT624,\"\"))","v":""},{"$f":"IF(AJ624=\"Y\",(FromEvoM!AE624+FromEvoM!AF624-FromEvoM!AT624),IF(AJ624=\"N\",FromEvoM!AE624,\"\"))","v":""}]
[{"$f":"IF(ISBLANK(FromEvoM!A625),\"\",Group_Code)","v":""},{"$f":"IF(ISBLANK(FromEvoM!A625),\"\",SUBSTITUTE(FromEvoM!A625,\" \",\"\"))","v":""},{"$f":"IF(ISBLANK(FromEvoM!C625),\"\",SUBSTITUTE(FromEvoM!G625,\" \",\"\"))","v":""},{"$f":"IF(ISBLANK(FromEvoM!D625),\"\",FromEvoM!B625)","v":""},{"$f":"IF(ISBLANK(FromEvoM!D625),\"\",FromEvoM!D625)","v":""},{"$f":"IF(ISBLANK(FromEvoM!C625),\"\",FromEvoM!C625)","v":""},{"$f":"REPLACE(FromEvoM!F625,2,6, )","v":""},{"$f":"IF(ISNUMBER(FromEvoM!E625),FromEvoM!E625,\"\")","v":""},{"$f":"IF(ISBLANK(FromEvoM!I625),\"\",FromEvoM!I625)","v":""},{"$f":"IF(ISBLANK(FromEvoM!J625),\"\",FromEvoM!J625)","v":""},{"$f":"IF(ISBLANK(FromEvoM!K625),\"\",FromEvoM!K625)","v":""},{"$f":"IF(ISBLANK(FromEvoM!L625),\"\",FromEvoM!L625)","v":""},{"$f":"IF(ISBLANK(FromEvoM!M625),\"\",FromEvoM!M625)","v":""},{"$f":"IF(ISBLANK(FromEvoM!P625),\"\",FromEvoM!P625)","v":""},null,{"$f":"IF(ISNUMBER(FromEvoM!X625),FromEvoM!X625,\"\")","v":""},{"$f":"IF(ISNUMBER(FromEvoM!AB625),FromEvoM!AB625,\"\")","v":""},{"$f":"IF(ISNUMBER(FromEvoM!AA625),FromEvoM!AA625,\"\")","v":""},null,"","",null,null,{"$f":"IF(FromEvoM!W625=1,(FromEvoM!AB625*12),IF(FromEvoM!W625=7,(FromEvoM!AR625),\"\"))","v":""},null,null,{"$f":"IF(ISBLANK(FromEvoM!A625),\"\",IF(FromEvoM!AK625=\"y\",\"Y\",\"N\"))","v":""},{"$f":"IF(ISBLANK(FromEvoM!A625),\"\",Category_ID)","v":""},null,null,null,{"$f":"IF(ISBLANK(FromEvoM!AK625),\"\",FromEvoM!AK625)","v":""},{"$f":"IF(ISBLANK(FromEvoM!AM625),\"\",FromEvoM!AM625)","v":""},{"$f":"IF(ISBLANK(FromEvoM!AN625),\"\",FromEvoM!AN625)","v":""},{"$f":"IF(ISBLANK(FromEvoM!AL625),\"\",FromEvoM!AL625)","v":""},{"$f":"IF(ISBLANK(FromEvoM!A625),\"\",IF(AND(AF625=\"y\",AI625=1),\"Y\",\"N\"))","v":""},{"$f":"IF(ISBLANK(FromEvoM!A625),\"\",IF(FromEvoM!AS625=\"Yes\",2,1))","v":""},{"$f":"IF(FromEvoM!W625=1,\"M\",IF(FromEvoM!W625=7,\"W\",\"\"))","v":""},{"$f":"IF(AJ625=\"Y\",0,IF(AJ625=\"N\",FromEvoM!AF625+FromEvoM!AT625,\"\"))","v":""},{"$f":"IF(AJ625=\"Y\",(FromEvoM!AE625+FromEvoM!AF625-FromEvoM!AT625),IF(AJ625=\"N\",FromEvoM!AE625,\"\"))","v":""}]
[{"$f":"IF(ISBLANK(FromEvoM!A626),\"\",Group_Code)","v":""},{"$f":"IF(ISBLANK(FromEvoM!A626),\"\",SUBSTITUTE(FromEvoM!A626,\" \",\"\"))","v":""},{"$f":"IF(ISBLANK(FromEvoM!C626),\"\",SUBSTITUTE(FromEvoM!G626,\" \",\"\"))","v":""},{"$f":"IF(ISBLANK(FromEvoM!D626),\"\",FromEvoM!B626)","v":""},{"$f":"IF(ISBLANK(FromEvoM!D626),\"\",FromEvoM!D626)","v":""},{"$f":"IF(ISBLANK(FromEvoM!C626),\"\",FromEvoM!C626)","v":""},{"$f":"REPLACE(FromEvoM!F626,2,6, )","v":""},{"$f":"IF(ISNUMBER(FromEvoM!E626),FromEvoM!E626,\"\")","v":""},{"$f":"IF(ISBLANK(FromEvoM!I626),\"\",FromEvoM!I626)","v":""},{"$f":"IF(ISBLANK(FromEvoM!J626),\"\",FromEvoM!J626)","v":""},{"$f":"IF(ISBLANK(FromEvoM!K626),\"\",FromEvoM!K626)","v":""},{"$f":"IF(ISBLANK(FromEvoM!L626),\"\",FromEvoM!L626)","v":""},{"$f":"IF(ISBLANK(FromEvoM!M626),\"\",FromEvoM!M626)","v":""},{"$f":"IF(ISBLANK(FromEvoM!P626),\"\",FromEvoM!P626)","v":""},null,{"$f":"IF(ISNUMBER(FromEvoM!X626),FromEvoM!X626,\"\")","v":""},{"$f":"IF(ISNUMBER(FromEvoM!AB626),FromEvoM!AB626,\"\")","v":""},{"$f":"IF(ISNUMBER(FromEvoM!AA626),FromEvoM!AA626,\"\")","v":""},null,"","",null,null,{"$f":"IF(FromEvoM!W626=1,(FromEvoM!AB626*12),IF(FromEvoM!W626=7,(FromEvoM!AR626),\"\"))","v":""},null,null,{"$f":"IF(ISBLANK(FromEvoM!A626),\"\",IF(FromEvoM!AK626=\"y\",\"Y\",\"N\"))","v":""},{"$f":"IF(ISBLANK(FromEvoM!A626),\"\",Category_ID)","v":""},null,null,null,{"$f":"IF(ISBLANK(FromEvoM!AK626),\"\",FromEvoM!AK626)","v":""},{"$f":"IF(ISBLANK(FromEvoM!AM626),\"\",FromEvoM!AM626)","v":""},{"$f":"IF(ISBLANK(FromEvoM!AN626),\"\",FromEvoM!AN626)","v":""},{"$f":"IF(ISBLANK(FromEvoM!AL626),\"\",FromEvoM!AL626)","v":""},{"$f":"IF(ISBLANK(FromEvoM!A626),\"\",IF(AND(AF626=\"y\",AI626=1),\"Y\",\"N\"))","v":""},{"$f":"IF(ISBLANK(FromEvoM!A626),\"\",IF(FromEvoM!AS626=\"Yes\",2,1))","v":""},{"$f":"IF(FromEvoM!W626=1,\"M\",IF(FromEvoM!W626=7,\"W\",\"\"))","v":""},{"$f":"IF(AJ626=\"Y\",0,IF(AJ626=\"N\",FromEvoM!AF626+FromEvoM!AT626,\"\"))","v":""},{"$f":"IF(AJ626=\"Y\",(FromEvoM!AE626+FromEvoM!AF626-FromEvoM!AT626),IF(AJ626=\"N\",FromEvoM!AE626,\"\"))","v":""}]
[{"$f":"IF(ISBLANK(FromEvoM!A627),\"\",Group_Code)","v":""},{"$f":"IF(ISBLANK(FromEvoM!A627),\"\",SUBSTITUTE(FromEvoM!A627,\" \",\"\"))","v":""},{"$f":"IF(ISBLANK(FromEvoM!C627),\"\",SUBSTITUTE(FromEvoM!G627,\" \",\"\"))","v":""},{"$f":"IF(ISBLANK(FromEvoM!D627),\"\",FromEvoM!B627)","v":""},{"$f":"IF(ISBLANK(FromEvoM!D627),\"\",FromEvoM!D627)","v":""},{"$f":"IF(ISBLANK(FromEvoM!C627),\"\",FromEvoM!C627)","v":""},{"$f":"REPLACE(FromEvoM!F627,2,6, )","v":""},{"$f":"IF(ISNUMBER(FromEvoM!E627),FromEvoM!E627,\"\")","v":""},{"$f":"IF(ISBLANK(FromEvoM!I627),\"\",FromEvoM!I627)","v":""},{"$f":"IF(ISBLANK(FromEvoM!J627),\"\",FromEvoM!J627)","v":""},{"$f":"IF(ISBLANK(FromEvoM!K627),\"\",FromEvoM!K627)","v":""},{"$f":"IF(ISBLANK(FromEvoM!L627),\"\",FromEvoM!L627)","v":""},{"$f":"IF(ISBLANK(FromEvoM!M627),\"\",FromEvoM!M627)","v":""},{"$f":"IF(ISBLANK(FromEvoM!P627),\"\",FromEvoM!P627)","v":""},null,{"$f":"IF(ISNUMBER(FromEvoM!X627),FromEvoM!X627,\"\")","v":""},{"$f":"IF(ISNUMBER(FromEvoM!AB627),FromEvoM!AB627,\"\")","v":""},{"$f":"IF(ISNUMBER(FromEvoM!AA627),FromEvoM!AA627,\"\")","v":""},null,"","",null,null,{"$f":"IF(FromEvoM!W627=1,(FromEvoM!AB627*12),IF(FromEvoM!W627=7,(FromEvoM!AR627),\"\"))","v":""},null,null,{"$f":"IF(ISBLANK(FromEvoM!A627),\"\",IF(FromEvoM!AK627=\"y\",\"Y\",\"N\"))","v":""},{"$f":"IF(ISBLANK(FromEvoM!A627),\"\",Category_ID)","v":""},null,null,null,{"$f":"IF(ISBLANK(FromEvoM!AK627),\"\",FromEvoM!AK627)","v":""},{"$f":"IF(ISBLANK(FromEvoM!AM627),\"\",FromEvoM!AM627)","v":""},{"$f":"IF(ISBLANK(FromEvoM!AN627),\"\",FromEvoM!AN627)","v":""},{"$f":"IF(ISBLANK(FromEvoM!AL627),\"\",FromEvoM!AL627)","v":""},{"$f":"IF(ISBLANK(FromEvoM!A627),\"\",IF(AND(AF627=\"y\",AI627=1),\"Y\",\"N\"))","v":""},{"$f":"IF(ISBLANK(FromEvoM!A627),\"\",IF(FromEvoM!AS627=\"Yes\",2,1))","v":""},{"$f":"IF(FromEvoM!W627=1,\"M\",IF(FromEvoM!W627=7,\"W\",\"\"))","v":""},{"$f":"IF(AJ627=\"Y\",0,IF(AJ627=\"N\",FromEvoM!AF627+FromEvoM!AT627,\"\"))","v":""},{"$f":"IF(AJ627=\"Y\",(FromEvoM!AE627+FromEvoM!AF627-FromEvoM!AT627),IF(AJ627=\"N\",FromEvoM!AE627,\"\"))","v":""}]
[{"$f":"IF(ISBLANK(FromEvoM!A628),\"\",Group_Code)","v":""},{"$f":"IF(ISBLANK(FromEvoM!A628),\"\",SUBSTITUTE(FromEvoM!A628,\" \",\"\"))","v":""},{"$f":"IF(ISBLANK(FromEvoM!C628),\"\",SUBSTITUTE(FromEvoM!G628,\" \",\"\"))","v":""},{"$f":"IF(ISBLANK(FromEvoM!D628),\"\",FromEvoM!B628)","v":""},{"$f":"IF(ISBLANK(FromEvoM!D628),\"\",FromEvoM!D628)","v":""},{"$f":"IF(ISBLANK(FromEvoM!C628),\"\",FromEvoM!C628)","v":""},{"$f":"REPLACE(FromEvoM!F628,2,6, )","v":""},{"$f":"IF(ISNUMBER(FromEvoM!E628),FromEvoM!E628,\"\")","v":""},{"$f":"IF(ISBLANK(FromEvoM!I628),\"\",FromEvoM!I628)","v":""},{"$f":"IF(ISBLANK(FromEvoM!J628),\"\",FromEvoM!J628)","v":""},{"$f":"IF(ISBLANK(FromEvoM!K628),\"\",FromEvoM!K628)","v":""},{"$f":"IF(ISBLANK(FromEvoM!L628),\"\",FromEvoM!L628)","v":""},{"$f":"IF(ISBLANK(FromEvoM!M628),\"\",FromEvoM!M628)","v":""},{"$f":"IF(ISBLANK(FromEvoM!P628),\"\",FromEvoM!P628)","v":""},null,{"$f":"IF(ISNUMBER(FromEvoM!X628),FromEvoM!X628,\"\")","v":""},{"$f":"IF(ISNUMBER(FromEvoM!AB628),FromEvoM!AB628,\"\")","v":""},{"$f":"IF(ISNUMBER(FromEvoM!AA628),FromEvoM!AA628,\"\")","v":""},null,"","",null,null,{"$f":"IF(FromEvoM!W628=1,(FromEvoM!AB628*12),IF(FromEvoM!W628=7,(FromEvoM!AR628),\"\"))","v":""},null,null,{"$f":"IF(ISBLANK(FromEvoM!A628),\"\",IF(FromEvoM!AK628=\"y\",\"Y\",\"N\"))","v":""},{"$f":"IF(ISBLANK(FromEvoM!A628),\"\",Category_ID)","v":""},null,null,null,{"$f":"IF(ISBLANK(FromEvoM!AK628),\"\",FromEvoM!AK628)","v":""},{"$f":"IF(ISBLANK(FromEvoM!AM628),\"\",FromEvoM!AM628)","v":""},{"$f":"IF(ISBLANK(FromEvoM!AN628),\"\",FromEvoM!AN628)","v":""},{"$f":"IF(ISBLANK(FromEvoM!AL628),\"\",FromEvoM!AL628)","v":""},{"$f":"IF(ISBLANK(FromEvoM!A628),\"\",IF(AND(AF628=\"y\",AI628=1),\"Y\",\"N\"))","v":""},{"$f":"IF(ISBLANK(FromEvoM!A628),\"\",IF(FromEvoM!AS628=\"Yes\",2,1))","v":""},{"$f":"IF(FromEvoM!W628=1,\"M\",IF(FromEvoM!W628=7,\"W\",\"\"))","v":""},{"$f":"IF(AJ628=\"Y\",0,IF(AJ628=\"N\",FromEvoM!AF628+FromEvoM!AT628,\"\"))","v":""},{"$f":"IF(AJ628=\"Y\",(FromEvoM!AE628+FromEvoM!AF628-FromEvoM!AT628),IF(AJ628=\"N\",FromEvoM!AE628,\"\"))","v":""}]
[{"$f":"IF(ISBLANK(FromEvoM!A629),\"\",Group_Code)","v":""},{"$f":"IF(ISBLANK(FromEvoM!A629),\"\",SUBSTITUTE(FromEvoM!A629,\" \",\"\"))","v":""},{"$f":"IF(ISBLANK(FromEvoM!C629),\"\",SUBSTITUTE(FromEvoM!G629,\" \",\"\"))","v":""},{"$f":"IF(ISBLANK(FromEvoM!D629),\"\",FromEvoM!B629)","v":""},{"$f":"IF(ISBLANK(FromEvoM!D629),\"\",FromEvoM!D629)","v":""},{"$f":"IF(ISBLANK(FromEvoM!C629),\"\",FromEvoM!C629)","v":""},{"$f":"REPLACE(FromEvoM!F629,2,6, )","v":""},{"$f":"IF(ISNUMBER(FromEvoM!E629),FromEvoM!E629,\"\")","v":""},{"$f":"IF(ISBLANK(FromEvoM!I629),\"\",FromEvoM!I629)","v":""},{"$f":"IF(ISBLANK(FromEvoM!J629),\"\",FromEvoM!J629)","v":""},{"$f":"IF(ISBLANK(FromEvoM!K629),\"\",FromEvoM!K629)","v":""},{"$f":"IF(ISBLANK(FromEvoM!L629),\"\",FromEvoM!L629)","v":""},{"$f":"IF(ISBLANK(FromEvoM!M629),\"\",FromEvoM!M629)","v":""},{"$f":"IF(ISBLANK(FromEvoM!P629),\"\",FromEvoM!P629)","v":""},null,{"$f":"IF(ISNUMBER(FromEvoM!X629),FromEvoM!X629,\"\")","v":""},{"$f":"IF(ISNUMBER(FromEvoM!AB629),FromEvoM!AB629,\"\")","v":""},{"$f":"IF(ISNUMBER(FromEvoM!AA629),FromEvoM!AA629,\"\")","v":""},null,"","",null,null,{"$f":"IF(FromEvoM!W629=1,(FromEvoM!AB629*12),IF(FromEvoM!W629=7,(FromEvoM!AR629),\"\"))","v":""},null,null,{"$f":"IF(ISBLANK(FromEvoM!A629),\"\",IF(FromEvoM!AK629=\"y\",\"Y\",\"N\"))","v":""},{"$f":"IF(ISBLANK(FromEvoM!A629),\"\",Category_ID)","v":""},null,null,null,{"$f":"IF(ISBLANK(FromEvoM!AK629),\"\",FromEvoM!AK629)","v":""},{"$f":"IF(ISBLANK(FromEvoM!AM629),\"\",FromEvoM!AM629)","v":""},{"$f":"IF(ISBLANK(FromEvoM!AN629),\"\",FromEvoM!AN629)","v":""},{"$f":"IF(ISBLANK(FromEvoM!AL629),\"\",FromEvoM!AL629)","v":""},{"$f":"IF(ISBLANK(FromEvoM!A629),\"\",IF(AND(AF629=\"y\",AI629=1),\"Y\",\"N\"))","v":""},{"$f":"IF(ISBLANK(FromEvoM!A629),\"\",IF(FromEvoM!AS629=\"Yes\",2,1))","v":""},{"$f":"IF(FromEvoM!W629=1,\"M\",IF(FromEvoM!W629=7,\"W\",\"\"))","v":""},{"$f":"IF(AJ629=\"Y\",0,IF(AJ629=\"N\",FromEvoM!AF629+FromEvoM!AT629,\"\"))","v":""},{"$f":"IF(AJ629=\"Y\",(FromEvoM!AE629+FromEvoM!AF629-FromEvoM!AT629),IF(AJ629=\"N\",FromEvoM!AE629,\"\"))","v":""}]
[{"$f":"IF(ISBLANK(FromEvoM!A630),\"\",Group_Code)","v":""},{"$f":"IF(ISBLANK(FromEvoM!A630),\"\",SUBSTITUTE(FromEvoM!A630,\" \",\"\"))","v":""},{"$f":"IF(ISBLANK(FromEvoM!C630),\"\",SUBSTITUTE(FromEvoM!G630,\" \",\"\"))","v":""},{"$f":"IF(ISBLANK(FromEvoM!D630),\"\",FromEvoM!B630)","v":""},{"$f":"IF(ISBLANK(FromEvoM!D630),\"\",FromEvoM!D630)","v":""},{"$f":"IF(ISBLANK(FromEvoM!C630),\"\",FromEvoM!C630)","v":""},{"$f":"REPLACE(FromEvoM!F630,2,6, )","v":""},{"$f":"IF(ISNUMBER(FromEvoM!E630),FromEvoM!E630,\"\")","v":""},{"$f":"IF(ISBLANK(FromEvoM!I630),\"\",FromEvoM!I630)","v":""},{"$f":"IF(ISBLANK(FromEvoM!J630),\"\",FromEvoM!J630)","v":""},{"$f":"IF(ISBLANK(FromEvoM!K630),\"\",FromEvoM!K630)","v":""},{"$f":"IF(ISBLANK(FromEvoM!L630),\"\",FromEvoM!L630)","v":""},{"$f":"IF(ISBLANK(FromEvoM!M630),\"\",FromEvoM!M630)","v":""},{"$f":"IF(ISBLANK(FromEvoM!P630),\"\",FromEvoM!P630)","v":""},null,{"$f":"IF(ISNUMBER(FromEvoM!X630),FromEvoM!X630,\"\")","v":""},{"$f":"IF(ISNUMBER(FromEvoM!AB630),FromEvoM!AB630,\"\")","v":""},{"$f":"IF(ISNUMBER(FromEvoM!AA630),FromEvoM!AA630,\"\")","v":""},null,"","",null,null,{"$f":"IF(FromEvoM!W630=1,(FromEvoM!AB630*12),IF(FromEvoM!W630=7,(FromEvoM!AR630),\"\"))","v":""},null,null,{"$f":"IF(ISBLANK(FromEvoM!A630),\"\",IF(FromEvoM!AK630=\"y\",\"Y\",\"N\"))","v":""},{"$f":"IF(ISBLANK(FromEvoM!A630),\"\",Category_ID)","v":""},null,null,null,{"$f":"IF(ISBLANK(FromEvoM!AK630),\"\",FromEvoM!AK630)","v":""},{"$f":"IF(ISBLANK(FromEvoM!AM630),\"\",FromEvoM!AM630)","v":""},{"$f":"IF(ISBLANK(FromEvoM!AN630),\"\",FromEvoM!AN630)","v":""},{"$f":"IF(ISBLANK(FromEvoM!AL630),\"\",FromEvoM!AL630)","v":""},{"$f":"IF(ISBLANK(FromEvoM!A630),\"\",IF(AND(AF630=\"y\",AI630=1),\"Y\",\"N\"))","v":""},{"$f":"IF(ISBLANK(FromEvoM!A630),\"\",IF(FromEvoM!AS630=\"Yes\",2,1))","v":""},{"$f":"IF(FromEvoM!W630=1,\"M\",IF(FromEvoM!W630=7,\"W\",\"\"))","v":""},{"$f":"IF(AJ630=\"Y\",0,IF(AJ630=\"N\",FromEvoM!AF630+FromEvoM!AT630,\"\"))","v":""},{"$f":"IF(AJ630=\"Y\",(FromEvoM!AE630+FromEvoM!AF630-FromEvoM!AT630),IF(AJ630=\"N\",FromEvoM!AE630,\"\"))","v":""}]
[{"$f":"IF(ISBLANK(FromEvoM!A631),\"\",Group_Code)","v":""},{"$f":"IF(ISBLANK(FromEvoM!A631),\"\",SUBSTITUTE(FromEvoM!A631,\" \",\"\"))","v":""},{"$f":"IF(ISBLANK(FromEvoM!C631),\"\",SUBSTITUTE(FromEvoM!G631,\" \",\"\"))","v":""},{"$f":"IF(ISBLANK(FromEvoM!D631),\"\",FromEvoM!B631)","v":""},{"$f":"IF(ISBLANK(FromEvoM!D631),\"\",FromEvoM!D631)","v":""},{"$f":"IF(ISBLANK(FromEvoM!C631),\"\",FromEvoM!C631)","v":""},{"$f":"REPLACE(FromEvoM!F631,2,6, )","v":""},{"$f":"IF(ISNUMBER(FromEvoM!E631),FromEvoM!E631,\"\")","v":""},{"$f":"IF(ISBLANK(FromEvoM!I631),\"\",FromEvoM!I631)","v":""},{"$f":"IF(ISBLANK(FromEvoM!J631),\"\",FromEvoM!J631)","v":""},{"$f":"IF(ISBLANK(FromEvoM!K631),\"\",FromEvoM!K631)","v":""},{"$f":"IF(ISBLANK(FromEvoM!L631),\"\",FromEvoM!L631)","v":""},{"$f":"IF(ISBLANK(FromEvoM!M631),\"\",FromEvoM!M631)","v":""},{"$f":"IF(ISBLANK(FromEvoM!P631),\"\",FromEvoM!P631)","v":""},null,{"$f":"IF(ISNUMBER(FromEvoM!X631),FromEvoM!X631,\"\")","v":""},{"$f":"IF(ISNUMBER(FromEvoM!AB631),FromEvoM!AB631,\"\")","v":""},{"$f":"IF(ISNUMBER(FromEvoM!AA631),FromEvoM!AA631,\"\")","v":""},null,"","",null,null,{"$f":"IF(FromEvoM!W631=1,(FromEvoM!AB631*12),IF(FromEvoM!W631=7,(FromEvoM!AR631),\"\"))","v":""},null,null,{"$f":"IF(ISBLANK(FromEvoM!A631),\"\",IF(FromEvoM!AK631=\"y\",\"Y\",\"N\"))","v":""},{"$f":"IF(ISBLANK(FromEvoM!A631),\"\",Category_ID)","v":""},null,null,null,{"$f":"IF(ISBLANK(FromEvoM!AK631),\"\",FromEvoM!AK631)","v":""},{"$f":"IF(ISBLANK(FromEvoM!AM631),\"\",FromEvoM!AM631)","v":""},{"$f":"IF(ISBLANK(FromEvoM!AN631),\"\",FromEvoM!AN631)","v":""},{"$f":"IF(ISBLANK(FromEvoM!AL631),\"\",FromEvoM!AL631)","v":""},{"$f":"IF(ISBLANK(FromEvoM!A631),\"\",IF(AND(AF631=\"y\",AI631=1),\"Y\",\"N\"))","v":""},{"$f":"IF(ISBLANK(FromEvoM!A631),\"\",IF(FromEvoM!AS631=\"Yes\",2,1))","v":""},{"$f":"IF(FromEvoM!W631=1,\"M\",IF(FromEvoM!W631=7,\"W\",\"\"))","v":""},{"$f":"IF(AJ631=\"Y\",0,IF(AJ631=\"N\",FromEvoM!AF631+FromEvoM!AT631,\"\"))","v":""},{"$f":"IF(AJ631=\"Y\",(FromEvoM!AE631+FromEvoM!AF631-FromEvoM!AT631),IF(AJ631=\"N\",FromEvoM!AE631,\"\"))","v":""}]
[{"$f":"IF(ISBLANK(FromEvoM!A632),\"\",Group_Code)","v":""},{"$f":"IF(ISBLANK(FromEvoM!A632),\"\",SUBSTITUTE(FromEvoM!A632,\" \",\"\"))","v":""},{"$f":"IF(ISBLANK(FromEvoM!C632),\"\",SUBSTITUTE(FromEvoM!G632,\" \",\"\"))","v":""},{"$f":"IF(ISBLANK(FromEvoM!D632),\"\",FromEvoM!B632)","v":""},{"$f":"IF(ISBLANK(FromEvoM!D632),\"\",FromEvoM!D632)","v":""},{"$f":"IF(ISBLANK(FromEvoM!C632),\"\",FromEvoM!C632)","v":""},{"$f":"REPLACE(FromEvoM!F632,2,6, )","v":""},{"$f":"IF(ISNUMBER(FromEvoM!E632),FromEvoM!E632,\"\")","v":""},{"$f":"IF(ISBLANK(FromEvoM!I632),\"\",FromEvoM!I632)","v":""},{"$f":"IF(ISBLANK(FromEvoM!J632),\"\",FromEvoM!J632)","v":""},{"$f":"IF(ISBLANK(FromEvoM!K632),\"\",FromEvoM!K632)","v":""},{"$f":"IF(ISBLANK(FromEvoM!L632),\"\",FromEvoM!L632)","v":""},{"$f":"IF(ISBLANK(FromEvoM!M632),\"\",FromEvoM!M632)","v":""},{"$f":"IF(ISBLANK(FromEvoM!P632),\"\",FromEvoM!P632)","v":""},null,{"$f":"IF(ISNUMBER(FromEvoM!X632),FromEvoM!X632,\"\")","v":""},{"$f":"IF(ISNUMBER(FromEvoM!AB632),FromEvoM!AB632,\"\")","v":""},{"$f":"IF(ISNUMBER(FromEvoM!AA632),FromEvoM!AA632,\"\")","v":""},null,"","",null,null,{"$f":"IF(FromEvoM!W632=1,(FromEvoM!AB632*12),IF(FromEvoM!W632=7,(FromEvoM!AR632),\"\"))","v":""},null,null,{"$f":"IF(ISBLANK(FromEvoM!A632),\"\",IF(FromEvoM!AK632=\"y\",\"Y\",\"N\"))","v":""},{"$f":"IF(ISBLANK(FromEvoM!A632),\"\",Category_ID)","v":""},null,null,null,{"$f":"IF(ISBLANK(FromEvoM!AK632),\"\",FromEvoM!AK632)","v":""},{"$f":"IF(ISBLANK(FromEvoM!AM632),\"\",FromEvoM!AM632)","v":""},{"$f":"IF(ISBLANK(FromEvoM!AN632),\"\",FromEvoM!AN632)","v":""},{"$f":"IF(ISBLANK(FromEvoM!AL632),\"\",FromEvoM!AL632)","v":""},{"$f":"IF(ISBLANK(FromEvoM!A632),\"\",IF(AND(AF632=\"y\",AI632=1),\"Y\",\"N\"))","v":""},{"$f":"IF(ISBLANK(FromEvoM!A632),\"\",IF(FromEvoM!AS632=\"Yes\",2,1))","v":""},{"$f":"IF(FromEvoM!W632=1,\"M\",IF(FromEvoM!W632=7,\"W\",\"\"))","v":""},{"$f":"IF(AJ632=\"Y\",0,IF(AJ632=\"N\",FromEvoM!AF632+FromEvoM!AT632,\"\"))","v":""},{"$f":"IF(AJ632=\"Y\",(FromEvoM!AE632+FromEvoM!AF632-FromEvoM!AT632),IF(AJ632=\"N\",FromEvoM!AE632,\"\"))","v":""}]
[{"$f":"IF(ISBLANK(FromEvoM!A633),\"\",Group_Code)","v":""},{"$f":"IF(ISBLANK(FromEvoM!A633),\"\",SUBSTITUTE(FromEvoM!A633,\" \",\"\"))","v":""},{"$f":"IF(ISBLANK(FromEvoM!C633),\"\",SUBSTITUTE(FromEvoM!G633,\" \",\"\"))","v":""},{"$f":"IF(ISBLANK(FromEvoM!D633),\"\",FromEvoM!B633)","v":""},{"$f":"IF(ISBLANK(FromEvoM!D633),\"\",FromEvoM!D633)","v":""},{"$f":"IF(ISBLANK(FromEvoM!C633),\"\",FromEvoM!C633)","v":""},{"$f":"REPLACE(FromEvoM!F633,2,6, )","v":""},{"$f":"IF(ISNUMBER(FromEvoM!E633),FromEvoM!E633,\"\")","v":""},{"$f":"IF(ISBLANK(FromEvoM!I633),\"\",FromEvoM!I633)","v":""},{"$f":"IF(ISBLANK(FromEvoM!J633),\"\",FromEvoM!J633)","v":""},{"$f":"IF(ISBLANK(FromEvoM!K633),\"\",FromEvoM!K633)","v":""},{"$f":"IF(ISBLANK(FromEvoM!L633),\"\",FromEvoM!L633)","v":""},{"$f":"IF(ISBLANK(FromEvoM!M633),\"\",FromEvoM!M633)","v":""},{"$f":"IF(ISBLANK(FromEvoM!P633),\"\",FromEvoM!P633)","v":""},null,{"$f":"IF(ISNUMBER(FromEvoM!X633),FromEvoM!X633,\"\")","v":""},{"$f":"IF(ISNUMBER(FromEvoM!AB633),FromEvoM!AB633,\"\")","v":""},{"$f":"IF(ISNUMBER(FromEvoM!AA633),FromEvoM!AA633,\"\")","v":""},null,"","",null,null,{"$f":"IF(FromEvoM!W633=1,(FromEvoM!AB633*12),IF(FromEvoM!W633=7,(FromEvoM!AR633),\"\"))","v":""},null,null,{"$f":"IF(ISBLANK(FromEvoM!A633),\"\",IF(FromEvoM!AK633=\"y\",\"Y\",\"N\"))","v":""},{"$f":"IF(ISBLANK(FromEvoM!A633),\"\",Category_ID)","v":""},null,null,null,{"$f":"IF(ISBLANK(FromEvoM!AK633),\"\",FromEvoM!AK633)","v":""},{"$f":"IF(ISBLANK(FromEvoM!AM633),\"\",FromEvoM!AM633)","v":""},{"$f":"IF(ISBLANK(FromEvoM!AN633),\"\",FromEvoM!AN633)","v":""},{"$f":"IF(ISBLANK(FromEvoM!AL633),\"\",FromEvoM!AL633)","v":""},{"$f":"IF(ISBLANK(FromEvoM!A633),\"\",IF(AND(AF633=\"y\",AI633=1),\"Y\",\"N\"))","v":""},{"$f":"IF(ISBLANK(FromEvoM!A633),\"\",IF(FromEvoM!AS633=\"Yes\",2,1))","v":""},{"$f":"IF(FromEvoM!W633=1,\"M\",IF(FromEvoM!W633=7,\"W\",\"\"))","v":""},{"$f":"IF(AJ633=\"Y\",0,IF(AJ633=\"N\",FromEvoM!AF633+FromEvoM!AT633,\"\"))","v":""},{"$f":"IF(AJ633=\"Y\",(FromEvoM!AE633+FromEvoM!AF633-FromEvoM!AT633),IF(AJ633=\"N\",FromEvoM!AE633,\"\"))","v":""}]
[{"$f":"IF(ISBLANK(FromEvoM!A634),\"\",Group_Code)","v":""},{"$f":"IF(ISBLANK(FromEvoM!A634),\"\",SUBSTITUTE(FromEvoM!A634,\" \",\"\"))","v":""},{"$f":"IF(ISBLANK(FromEvoM!C634),\"\",SUBSTITUTE(FromEvoM!G634,\" \",\"\"))","v":""},{"$f":"IF(ISBLANK(FromEvoM!D634),\"\",FromEvoM!B634)","v":""},{"$f":"IF(ISBLANK(FromEvoM!D634),\"\",FromEvoM!D634)","v":""},{"$f":"IF(ISBLANK(FromEvoM!C634),\"\",FromEvoM!C634)","v":""},{"$f":"REPLACE(FromEvoM!F634,2,6, )","v":""},{"$f":"IF(ISNUMBER(FromEvoM!E634),FromEvoM!E634,\"\")","v":""},{"$f":"IF(ISBLANK(FromEvoM!I634),\"\",FromEvoM!I634)","v":""},{"$f":"IF(ISBLANK(FromEvoM!J634),\"\",FromEvoM!J634)","v":""},{"$f":"IF(ISBLANK(FromEvoM!K634),\"\",FromEvoM!K634)","v":""},{"$f":"IF(ISBLANK(FromEvoM!L634),\"\",FromEvoM!L634)","v":""},{"$f":"IF(ISBLANK(FromEvoM!M634),\"\",FromEvoM!M634)","v":""},{"$f":"IF(ISBLANK(FromEvoM!P634),\"\",FromEvoM!P634)","v":""},null,{"$f":"IF(ISNUMBER(FromEvoM!X634),FromEvoM!X634,\"\")","v":""},{"$f":"IF(ISNUMBER(FromEvoM!AB634),FromEvoM!AB634,\"\")","v":""},{"$f":"IF(ISNUMBER(FromEvoM!AA634),FromEvoM!AA634,\"\")","v":""},null,"","",null,null,{"$f":"IF(FromEvoM!W634=1,(FromEvoM!AB634*12),IF(FromEvoM!W634=7,(FromEvoM!AR634),\"\"))","v":""},null,null,{"$f":"IF(ISBLANK(FromEvoM!A634),\"\",IF(FromEvoM!AK634=\"y\",\"Y\",\"N\"))","v":""},{"$f":"IF(ISBLANK(FromEvoM!A634),\"\",Category_ID)","v":""},null,null,null,{"$f":"IF(ISBLANK(FromEvoM!AK634),\"\",FromEvoM!AK634)","v":""},{"$f":"IF(ISBLANK(FromEvoM!AM634),\"\",FromEvoM!AM634)","v":""},{"$f":"IF(ISBLANK(FromEvoM!AN634),\"\",FromEvoM!AN634)","v":""},{"$f":"IF(ISBLANK(FromEvoM!AL634),\"\",FromEvoM!AL634)","v":""},{"$f":"IF(ISBLANK(FromEvoM!A634),\"\",IF(AND(AF634=\"y\",AI634=1),\"Y\",\"N\"))","v":""},{"$f":"IF(ISBLANK(FromEvoM!A634),\"\",IF(FromEvoM!AS634=\"Yes\",2,1))","v":""},{"$f":"IF(FromEvoM!W634=1,\"M\",IF(FromEvoM!W634=7,\"W\",\"\"))","v":""},{"$f":"IF(AJ634=\"Y\",0,IF(AJ634=\"N\",FromEvoM!AF634+FromEvoM!AT634,\"\"))","v":""},{"$f":"IF(AJ634=\"Y\",(FromEvoM!AE634+FromEvoM!AF634-FromEvoM!AT634),IF(AJ634=\"N\",FromEvoM!AE634,\"\"))","v":""}]
[{"$f":"IF(ISBLANK(FromEvoM!A635),\"\",Group_Code)","v":""},{"$f":"IF(ISBLANK(FromEvoM!A635),\"\",SUBSTITUTE(FromEvoM!A635,\" \",\"\"))","v":""},{"$f":"IF(ISBLANK(FromEvoM!C635),\"\",SUBSTITUTE(FromEvoM!G635,\" \",\"\"))","v":""},{"$f":"IF(ISBLANK(FromEvoM!D635),\"\",FromEvoM!B635)","v":""},{"$f":"IF(ISBLANK(FromEvoM!D635),\"\",FromEvoM!D635)","v":""},{"$f":"IF(ISBLANK(FromEvoM!C635),\"\",FromEvoM!C635)","v":""},{"$f":"REPLACE(FromEvoM!F635,2,6, )","v":""},{"$f":"IF(ISNUMBER(FromEvoM!E635),FromEvoM!E635,\"\")","v":""},{"$f":"IF(ISBLANK(FromEvoM!I635),\"\",FromEvoM!I635)","v":""},{"$f":"IF(ISBLANK(FromEvoM!J635),\"\",FromEvoM!J635)","v":""},{"$f":"IF(ISBLANK(FromEvoM!K635),\"\",FromEvoM!K635)","v":""},{"$f":"IF(ISBLANK(FromEvoM!L635),\"\",FromEvoM!L635)","v":""},{"$f":"IF(ISBLANK(FromEvoM!M635),\"\",FromEvoM!M635)","v":""},{"$f":"IF(ISBLANK(FromEvoM!P635),\"\",FromEvoM!P635)","v":""},null,{"$f":"IF(ISNUMBER(FromEvoM!X635),FromEvoM!X635,\"\")","v":""},{"$f":"IF(ISNUMBER(FromEvoM!AB635),FromEvoM!AB635,\"\")","v":""},{"$f":"IF(ISNUMBER(FromEvoM!AA635),FromEvoM!AA635,\"\")","v":""},null,"","",null,null,{"$f":"IF(FromEvoM!W635=1,(FromEvoM!AB635*12),IF(FromEvoM!W635=7,(FromEvoM!AR635),\"\"))","v":""},null,null,{"$f":"IF(ISBLANK(FromEvoM!A635),\"\",IF(FromEvoM!AK635=\"y\",\"Y\",\"N\"))","v":""},{"$f":"IF(ISBLANK(FromEvoM!A635),\"\",Category_ID)","v":""},null,null,null,{"$f":"IF(ISBLANK(FromEvoM!AK635),\"\",FromEvoM!AK635)","v":""},{"$f":"IF(ISBLANK(FromEvoM!AM635),\"\",FromEvoM!AM635)","v":""},{"$f":"IF(ISBLANK(FromEvoM!AN635),\"\",FromEvoM!AN635)","v":""},{"$f":"IF(ISBLANK(FromEvoM!AL635),\"\",FromEvoM!AL635)","v":""},{"$f":"IF(ISBLANK(FromEvoM!A635),\"\",IF(AND(AF635=\"y\",AI635=1),\"Y\",\"N\"))","v":""},{"$f":"IF(ISBLANK(FromEvoM!A635),\"\",IF(FromEvoM!AS635=\"Yes\",2,1))","v":""},{"$f":"IF(FromEvoM!W635=1,\"M\",IF(FromEvoM!W635=7,\"W\",\"\"))","v":""},{"$f":"IF(AJ635=\"Y\",0,IF(AJ635=\"N\",FromEvoM!AF635+FromEvoM!AT635,\"\"))","v":""},{"$f":"IF(AJ635=\"Y\",(FromEvoM!AE635+FromEvoM!AF635-FromEvoM!AT635),IF(AJ635=\"N\",FromEvoM!AE635,\"\"))","v":""}]
[{"$f":"IF(ISBLANK(FromEvoM!A636),\"\",Group_Code)","v":""},{"$f":"IF(ISBLANK(FromEvoM!A636),\"\",SUBSTITUTE(FromEvoM!A636,\" \",\"\"))","v":""},{"$f":"IF(ISBLANK(FromEvoM!C636),\"\",SUBSTITUTE(FromEvoM!G636,\" \",\"\"))","v":""},{"$f":"IF(ISBLANK(FromEvoM!D636),\"\",FromEvoM!B636)","v":""},{"$f":"IF(ISBLANK(FromEvoM!D636),\"\",FromEvoM!D636)","v":""},{"$f":"IF(ISBLANK(FromEvoM!C636),\"\",FromEvoM!C636)","v":""},{"$f":"REPLACE(FromEvoM!F636,2,6, )","v":""},{"$f":"IF(ISNUMBER(FromEvoM!E636),FromEvoM!E636,\"\")","v":""},{"$f":"IF(ISBLANK(FromEvoM!I636),\"\",FromEvoM!I636)","v":""},{"$f":"IF(ISBLANK(FromEvoM!J636),\"\",FromEvoM!J636)","v":""},{"$f":"IF(ISBLANK(FromEvoM!K636),\"\",FromEvoM!K636)","v":""},{"$f":"IF(ISBLANK(FromEvoM!L636),\"\",FromEvoM!L636)","v":""},{"$f":"IF(ISBLANK(FromEvoM!M636),\"\",FromEvoM!M636)","v":""},{"$f":"IF(ISBLANK(FromEvoM!P636),\"\",FromEvoM!P636)","v":""},null,{"$f":"IF(ISNUMBER(FromEvoM!X636),FromEvoM!X636,\"\")","v":""},{"$f":"IF(ISNUMBER(FromEvoM!AB636),FromEvoM!AB636,\"\")","v":""},{"$f":"IF(ISNUMBER(FromEvoM!AA636),FromEvoM!AA636,\"\")","v":""},null,"","",null,null,{"$f":"IF(FromEvoM!W636=1,(FromEvoM!AB636*12),IF(FromEvoM!W636=7,(FromEvoM!AR636),\"\"))","v":""},null,null,{"$f":"IF(ISBLANK(FromEvoM!A636),\"\",IF(FromEvoM!AK636=\"y\",\"Y\",\"N\"))","v":""},{"$f":"IF(ISBLANK(FromEvoM!A636),\"\",Category_ID)","v":""},null,null,null,{"$f":"IF(ISBLANK(FromEvoM!AK636),\"\",FromEvoM!AK636)","v":""},{"$f":"IF(ISBLANK(FromEvoM!AM636),\"\",FromEvoM!AM636)","v":""},{"$f":"IF(ISBLANK(FromEvoM!AN636),\"\",FromEvoM!AN636)","v":""},{"$f":"IF(ISBLANK(FromEvoM!AL636),\"\",FromEvoM!AL636)","v":""},{"$f":"IF(ISBLANK(FromEvoM!A636),\"\",IF(AND(AF636=\"y\",AI636=1),\"Y\",\"N\"))","v":""},{"$f":"IF(ISBLANK(FromEvoM!A636),\"\",IF(FromEvoM!AS636=\"Yes\",2,1))","v":""},{"$f":"IF(FromEvoM!W636=1,\"M\",IF(FromEvoM!W636=7,\"W\",\"\"))","v":""},{"$f":"IF(AJ636=\"Y\",0,IF(AJ636=\"N\",FromEvoM!AF636+FromEvoM!AT636,\"\"))","v":""},{"$f":"IF(AJ636=\"Y\",(FromEvoM!AE636+FromEvoM!AF636-FromEvoM!AT636),IF(AJ636=\"N\",FromEvoM!AE636,\"\"))","v":""}]
[{"$f":"IF(ISBLANK(FromEvoM!A637),\"\",Group_Code)","v":""},{"$f":"IF(ISBLANK(FromEvoM!A637),\"\",SUBSTITUTE(FromEvoM!A637,\" \",\"\"))","v":""},{"$f":"IF(ISBLANK(FromEvoM!C637),\"\",SUBSTITUTE(FromEvoM!G637,\" \",\"\"))","v":""},{"$f":"IF(ISBLANK(FromEvoM!D637),\"\",FromEvoM!B637)","v":""},{"$f":"IF(ISBLANK(FromEvoM!D637),\"\",FromEvoM!D637)","v":""},{"$f":"IF(ISBLANK(FromEvoM!C637),\"\",FromEvoM!C637)","v":""},{"$f":"REPLACE(FromEvoM!F637,2,6, )","v":""},{"$f":"IF(ISNUMBER(FromEvoM!E637),FromEvoM!E637,\"\")","v":""},{"$f":"IF(ISBLANK(FromEvoM!I637),\"\",FromEvoM!I637)","v":""},{"$f":"IF(ISBLANK(FromEvoM!J637),\"\",FromEvoM!J637)","v":""},{"$f":"IF(ISBLANK(FromEvoM!K637),\"\",FromEvoM!K637)","v":""},{"$f":"IF(ISBLANK(FromEvoM!L637),\"\",FromEvoM!L637)","v":""},{"$f":"IF(ISBLANK(FromEvoM!M637),\"\",FromEvoM!M637)","v":""},{"$f":"IF(ISBLANK(FromEvoM!P637),\"\",FromEvoM!P637)","v":""},null,{"$f":"IF(ISNUMBER(FromEvoM!X637),FromEvoM!X637,\"\")","v":""},{"$f":"IF(ISNUMBER(FromEvoM!AB637),FromEvoM!AB637,\"\")","v":""},{"$f":"IF(ISNUMBER(FromEvoM!AA637),FromEvoM!AA637,\"\")","v":""},null,"","",null,null,{"$f":"IF(FromEvoM!W637=1,(FromEvoM!AB637*12),IF(FromEvoM!W637=7,(FromEvoM!AR637),\"\"))","v":""},null,null,{"$f":"IF(ISBLANK(FromEvoM!A637),\"\",IF(FromEvoM!AK637=\"y\",\"Y\",\"N\"))","v":""},{"$f":"IF(ISBLANK(FromEvoM!A637),\"\",Category_ID)","v":""},null,null,null,{"$f":"IF(ISBLANK(FromEvoM!AK637),\"\",FromEvoM!AK637)","v":""},{"$f":"IF(ISBLANK(FromEvoM!AM637),\"\",FromEvoM!AM637)","v":""},{"$f":"IF(ISBLANK(FromEvoM!AN637),\"\",FromEvoM!AN637)","v":""},{"$f":"IF(ISBLANK(FromEvoM!AL637),\"\",FromEvoM!AL637)","v":""},{"$f":"IF(ISBLANK(FromEvoM!A637),\"\",IF(AND(AF637=\"y\",AI637=1),\"Y\",\"N\"))","v":""},{"$f":"IF(ISBLANK(FromEvoM!A637),\"\",IF(FromEvoM!AS637=\"Yes\",2,1))","v":""},{"$f":"IF(FromEvoM!W637=1,\"M\",IF(FromEvoM!W637=7,\"W\",\"\"))","v":""},{"$f":"IF(AJ637=\"Y\",0,IF(AJ637=\"N\",FromEvoM!AF637+FromEvoM!AT637,\"\"))","v":""},{"$f":"IF(AJ637=\"Y\",(FromEvoM!AE637+FromEvoM!AF637-FromEvoM!AT637),IF(AJ637=\"N\",FromEvoM!AE637,\"\"))","v":""}]
[{"$f":"IF(ISBLANK(FromEvoM!A638),\"\",Group_Code)","v":""},{"$f":"IF(ISBLANK(FromEvoM!A638),\"\",SUBSTITUTE(FromEvoM!A638,\" \",\"\"))","v":""},{"$f":"IF(ISBLANK(FromEvoM!C638),\"\",SUBSTITUTE(FromEvoM!G638,\" \",\"\"))","v":""},{"$f":"IF(ISBLANK(FromEvoM!D638),\"\",FromEvoM!B638)","v":""},{"$f":"IF(ISBLANK(FromEvoM!D638),\"\",FromEvoM!D638)","v":""},{"$f":"IF(ISBLANK(FromEvoM!C638),\"\",FromEvoM!C638)","v":""},{"$f":"REPLACE(FromEvoM!F638,2,6, )","v":""},{"$f":"IF(ISNUMBER(FromEvoM!E638),FromEvoM!E638,\"\")","v":""},{"$f":"IF(ISBLANK(FromEvoM!I638),\"\",FromEvoM!I638)","v":""},{"$f":"IF(ISBLANK(FromEvoM!J638),\"\",FromEvoM!J638)","v":""},{"$f":"IF(ISBLANK(FromEvoM!K638),\"\",FromEvoM!K638)","v":""},{"$f":"IF(ISBLANK(FromEvoM!L638),\"\",FromEvoM!L638)","v":""},{"$f":"IF(ISBLANK(FromEvoM!M638),\"\",FromEvoM!M638)","v":""},{"$f":"IF(ISBLANK(FromEvoM!P638),\"\",FromEvoM!P638)","v":""},null,{"$f":"IF(ISNUMBER(FromEvoM!X638),FromEvoM!X638,\"\")","v":""},{"$f":"IF(ISNUMBER(FromEvoM!AB638),FromEvoM!AB638,\"\")","v":""},{"$f":"IF(ISNUMBER(FromEvoM!AA638),FromEvoM!AA638,\"\")","v":""},null,"","",null,null,{"$f":"IF(FromEvoM!W638=1,(FromEvoM!AB638*12),IF(FromEvoM!W638=7,(FromEvoM!AR638),\"\"))","v":""},null,null,{"$f":"IF(ISBLANK(FromEvoM!A638),\"\",IF(FromEvoM!AK638=\"y\",\"Y\",\"N\"))","v":""},{"$f":"IF(ISBLANK(FromEvoM!A638),\"\",Category_ID)","v":""},null,null,null,{"$f":"IF(ISBLANK(FromEvoM!AK638),\"\",FromEvoM!AK638)","v":""},{"$f":"IF(ISBLANK(FromEvoM!AM638),\"\",FromEvoM!AM638)","v":""},{"$f":"IF(ISBLANK(FromEvoM!AN638),\"\",FromEvoM!AN638)","v":""},{"$f":"IF(ISBLANK(FromEvoM!AL638),\"\",FromEvoM!AL638)","v":""},{"$f":"IF(ISBLANK(FromEvoM!A638),\"\",IF(AND(AF638=\"y\",AI638=1),\"Y\",\"N\"))","v":""},{"$f":"IF(ISBLANK(FromEvoM!A638),\"\",IF(FromEvoM!AS638=\"Yes\",2,1))","v":""},{"$f":"IF(FromEvoM!W638=1,\"M\",IF(FromEvoM!W638=7,\"W\",\"\"))","v":""},{"$f":"IF(AJ638=\"Y\",0,IF(AJ638=\"N\",FromEvoM!AF638+FromEvoM!AT638,\"\"))","v":""},{"$f":"IF(AJ638=\"Y\",(FromEvoM!AE638+FromEvoM!AF638-FromEvoM!AT638),IF(AJ638=\"N\",FromEvoM!AE638,\"\"))","v":""}]
[{"$f":"IF(ISBLANK(FromEvoM!A639),\"\",Group_Code)","v":""},{"$f":"IF(ISBLANK(FromEvoM!A639),\"\",SUBSTITUTE(FromEvoM!A639,\" \",\"\"))","v":""},{"$f":"IF(ISBLANK(FromEvoM!C639),\"\",SUBSTITUTE(FromEvoM!G639,\" \",\"\"))","v":""},{"$f":"IF(ISBLANK(FromEvoM!D639),\"\",FromEvoM!B639)","v":""},{"$f":"IF(ISBLANK(FromEvoM!D639),\"\",FromEvoM!D639)","v":""},{"$f":"IF(ISBLANK(FromEvoM!C639),\"\",FromEvoM!C639)","v":""},{"$f":"REPLACE(FromEvoM!F639,2,6, )","v":""},{"$f":"IF(ISNUMBER(FromEvoM!E639),FromEvoM!E639,\"\")","v":""},{"$f":"IF(ISBLANK(FromEvoM!I639),\"\",FromEvoM!I639)","v":""},{"$f":"IF(ISBLANK(FromEvoM!J639),\"\",FromEvoM!J639)","v":""},{"$f":"IF(ISBLANK(FromEvoM!K639),\"\",FromEvoM!K639)","v":""},{"$f":"IF(ISBLANK(FromEvoM!L639),\"\",FromEvoM!L639)","v":""},{"$f":"IF(ISBLANK(FromEvoM!M639),\"\",FromEvoM!M639)","v":""},{"$f":"IF(ISBLANK(FromEvoM!P639),\"\",FromEvoM!P639)","v":""},null,{"$f":"IF(ISNUMBER(FromEvoM!X639),FromEvoM!X639,\"\")","v":""},{"$f":"IF(ISNUMBER(FromEvoM!AB639),FromEvoM!AB639,\"\")","v":""},{"$f":"IF(ISNUMBER(FromEvoM!AA639),FromEvoM!AA639,\"\")","v":""},null,"","",null,null,{"$f":"IF(FromEvoM!W639=1,(FromEvoM!AB639*12),IF(FromEvoM!W639=7,(FromEvoM!AR639),\"\"))","v":""},null,null,{"$f":"IF(ISBLANK(FromEvoM!A639),\"\",IF(FromEvoM!AK639=\"y\",\"Y\",\"N\"))","v":""},{"$f":"IF(ISBLANK(FromEvoM!A639),\"\",Category_ID)","v":""},null,null,null,{"$f":"IF(ISBLANK(FromEvoM!AK639),\"\",FromEvoM!AK639)","v":""},{"$f":"IF(ISBLANK(FromEvoM!AM639),\"\",FromEvoM!AM639)","v":""},{"$f":"IF(ISBLANK(FromEvoM!AN639),\"\",FromEvoM!AN639)","v":""},{"$f":"IF(ISBLANK(FromEvoM!AL639),\"\",FromEvoM!AL639)","v":""},{"$f":"IF(ISBLANK(FromEvoM!A639),\"\",IF(AND(AF639=\"y\",AI639=1),\"Y\",\"N\"))","v":""},{"$f":"IF(ISBLANK(FromEvoM!A639),\"\",IF(FromEvoM!AS639=\"Yes\",2,1))","v":""},{"$f":"IF(FromEvoM!W639=1,\"M\",IF(FromEvoM!W639=7,\"W\",\"\"))","v":""},{"$f":"IF(AJ639=\"Y\",0,IF(AJ639=\"N\",FromEvoM!AF639+FromEvoM!AT639,\"\"))","v":""},{"$f":"IF(AJ639=\"Y\",(FromEvoM!AE639+FromEvoM!AF639-FromEvoM!AT639),IF(AJ639=\"N\",FromEvoM!AE639,\"\"))","v":""}]
[{"$f":"IF(ISBLANK(FromEvoM!A640),\"\",Group_Code)","v":""},{"$f":"IF(ISBLANK(FromEvoM!A640),\"\",SUBSTITUTE(FromEvoM!A640,\" \",\"\"))","v":""},{"$f":"IF(ISBLANK(FromEvoM!C640),\"\",SUBSTITUTE(FromEvoM!G640,\" \",\"\"))","v":""},{"$f":"IF(ISBLANK(FromEvoM!D640),\"\",FromEvoM!B640)","v":""},{"$f":"IF(ISBLANK(FromEvoM!D640),\"\",FromEvoM!D640)","v":""},{"$f":"IF(ISBLANK(FromEvoM!C640),\"\",FromEvoM!C640)","v":""},{"$f":"REPLACE(FromEvoM!F640,2,6, )","v":""},{"$f":"IF(ISNUMBER(FromEvoM!E640),FromEvoM!E640,\"\")","v":""},{"$f":"IF(ISBLANK(FromEvoM!I640),\"\",FromEvoM!I640)","v":""},{"$f":"IF(ISBLANK(FromEvoM!J640),\"\",FromEvoM!J640)","v":""},{"$f":"IF(ISBLANK(FromEvoM!K640),\"\",FromEvoM!K640)","v":""},{"$f":"IF(ISBLANK(FromEvoM!L640),\"\",FromEvoM!L640)","v":""},{"$f":"IF(ISBLANK(FromEvoM!M640),\"\",FromEvoM!M640)","v":""},{"$f":"IF(ISBLANK(FromEvoM!P640),\"\",FromEvoM!P640)","v":""},null,{"$f":"IF(ISNUMBER(FromEvoM!X640),FromEvoM!X640,\"\")","v":""},{"$f":"IF(ISNUMBER(FromEvoM!AB640),FromEvoM!AB640,\"\")","v":""},{"$f":"IF(ISNUMBER(FromEvoM!AA640),FromEvoM!AA640,\"\")","v":""},null,"","",null,null,{"$f":"IF(FromEvoM!W640=1,(FromEvoM!AB640*12),IF(FromEvoM!W640=7,(FromEvoM!AR640),\"\"))","v":""},null,null,{"$f":"IF(ISBLANK(FromEvoM!A640),\"\",IF(FromEvoM!AK640=\"y\",\"Y\",\"N\"))","v":""},{"$f":"IF(ISBLANK(FromEvoM!A640),\"\",Category_ID)","v":""},null,null,null,{"$f":"IF(ISBLANK(FromEvoM!AK640),\"\",FromEvoM!AK640)","v":""},{"$f":"IF(ISBLANK(FromEvoM!AM640),\"\",FromEvoM!AM640)","v":""},{"$f":"IF(ISBLANK(FromEvoM!AN640),\"\",FromEvoM!AN640)","v":""},{"$f":"IF(ISBLANK(FromEvoM!AL640),\"\",FromEvoM!AL640)","v":""},{"$f":"IF(ISBLANK(FromEvoM!A640),\"\",IF(AND(AF640=\"y\",AI640=1),\"Y\",\"N\"))","v":""},{"$f":"IF(ISBLANK(FromEvoM!A640),\"\",IF(FromEvoM!AS640=\"Yes\",2,1))","v":""},{"$f":"IF(FromEvoM!W640=1,\"M\",IF(FromEvoM!W640=7,\"W\",\"\"))","v":""},{"$f":"IF(AJ640=\"Y\",0,IF(AJ640=\"N\",FromEvoM!AF640+FromEvoM!AT640,\"\"))","v":""},{"$f":"IF(AJ640=\"Y\",(FromEvoM!AE640+FromEvoM!AF640-FromEvoM!AT640),IF(AJ640=\"N\",FromEvoM!AE640,\"\"))","v":""}]
[{"$f":"IF(ISBLANK(FromEvoM!A641),\"\",Group_Code)","v":""},{"$f":"IF(ISBLANK(FromEvoM!A641),\"\",SUBSTITUTE(FromEvoM!A641,\" \",\"\"))","v":""},{"$f":"IF(ISBLANK(FromEvoM!C641),\"\",SUBSTITUTE(FromEvoM!G641,\" \",\"\"))","v":""},{"$f":"IF(ISBLANK(FromEvoM!D641),\"\",FromEvoM!B641)","v":""},{"$f":"IF(ISBLANK(FromEvoM!D641),\"\",FromEvoM!D641)","v":""},{"$f":"IF(ISBLANK(FromEvoM!C641),\"\",FromEvoM!C641)","v":""},{"$f":"REPLACE(FromEvoM!F641,2,6, )","v":""},{"$f":"IF(ISNUMBER(FromEvoM!E641),FromEvoM!E641,\"\")","v":""},{"$f":"IF(ISBLANK(FromEvoM!I641),\"\",FromEvoM!I641)","v":""},{"$f":"IF(ISBLANK(FromEvoM!J641),\"\",FromEvoM!J641)","v":""},{"$f":"IF(ISBLANK(FromEvoM!K641),\"\",FromEvoM!K641)","v":""},{"$f":"IF(ISBLANK(FromEvoM!L641),\"\",FromEvoM!L641)","v":""},{"$f":"IF(ISBLANK(FromEvoM!M641),\"\",FromEvoM!M641)","v":""},{"$f":"IF(ISBLANK(FromEvoM!P641),\"\",FromEvoM!P641)","v":""},null,{"$f":"IF(ISNUMBER(FromEvoM!X641),FromEvoM!X641,\"\")","v":""},{"$f":"IF(ISNUMBER(FromEvoM!AB641),FromEvoM!AB641,\"\")","v":""},{"$f":"IF(ISNUMBER(FromEvoM!AA641),FromEvoM!AA641,\"\")","v":""},null,"","",null,null,{"$f":"IF(FromEvoM!W641=1,(FromEvoM!AB641*12),IF(FromEvoM!W641=7,(FromEvoM!AR641),\"\"))","v":""},null,null,{"$f":"IF(ISBLANK(FromEvoM!A641),\"\",IF(FromEvoM!AK641=\"y\",\"Y\",\"N\"))","v":""},{"$f":"IF(ISBLANK(FromEvoM!A641),\"\",Category_ID)","v":""},null,null,null,{"$f":"IF(ISBLANK(FromEvoM!AK641),\"\",FromEvoM!AK641)","v":""},{"$f":"IF(ISBLANK(FromEvoM!AM641),\"\",FromEvoM!AM641)","v":""},{"$f":"IF(ISBLANK(FromEvoM!AN641),\"\",FromEvoM!AN641)","v":""},{"$f":"IF(ISBLANK(FromEvoM!AL641),\"\",FromEvoM!AL641)","v":""},{"$f":"IF(ISBLANK(FromEvoM!A641),\"\",IF(AND(AF641=\"y\",AI641=1),\"Y\",\"N\"))","v":""},{"$f":"IF(ISBLANK(FromEvoM!A641),\"\",IF(FromEvoM!AS641=\"Yes\",2,1))","v":""},{"$f":"IF(FromEvoM!W641=1,\"M\",IF(FromEvoM!W641=7,\"W\",\"\"))","v":""},{"$f":"IF(AJ641=\"Y\",0,IF(AJ641=\"N\",FromEvoM!AF641+FromEvoM!AT641,\"\"))","v":""},{"$f":"IF(AJ641=\"Y\",(FromEvoM!AE641+FromEvoM!AF641-FromEvoM!AT641),IF(AJ641=\"N\",FromEvoM!AE641,\"\"))","v":""}]
[{"$f":"IF(ISBLANK(FromEvoM!A642),\"\",Group_Code)","v":""},{"$f":"IF(ISBLANK(FromEvoM!A642),\"\",SUBSTITUTE(FromEvoM!A642,\" \",\"\"))","v":""},{"$f":"IF(ISBLANK(FromEvoM!C642),\"\",SUBSTITUTE(FromEvoM!G642,\" \",\"\"))","v":""},{"$f":"IF(ISBLANK(FromEvoM!D642),\"\",FromEvoM!B642)","v":""},{"$f":"IF(ISBLANK(FromEvoM!D642),\"\",FromEvoM!D642)","v":""},{"$f":"IF(ISBLANK(FromEvoM!C642),\"\",FromEvoM!C642)","v":""},{"$f":"REPLACE(FromEvoM!F642,2,6, )","v":""},{"$f":"IF(ISNUMBER(FromEvoM!E642),FromEvoM!E642,\"\")","v":""},{"$f":"IF(ISBLANK(FromEvoM!I642),\"\",FromEvoM!I642)","v":""},{"$f":"IF(ISBLANK(FromEvoM!J642),\"\",FromEvoM!J642)","v":""},{"$f":"IF(ISBLANK(FromEvoM!K642),\"\",FromEvoM!K642)","v":""},{"$f":"IF(ISBLANK(FromEvoM!L642),\"\",FromEvoM!L642)","v":""},{"$f":"IF(ISBLANK(FromEvoM!M642),\"\",FromEvoM!M642)","v":""},{"$f":"IF(ISBLANK(FromEvoM!P642),\"\",FromEvoM!P642)","v":""},null,{"$f":"IF(ISNUMBER(FromEvoM!X642),FromEvoM!X642,\"\")","v":""},{"$f":"IF(ISNUMBER(FromEvoM!AB642),FromEvoM!AB642,\"\")","v":""},{"$f":"IF(ISNUMBER(FromEvoM!AA642),FromEvoM!AA642,\"\")","v":""},null,"","",null,null,{"$f":"IF(FromEvoM!W642=1,(FromEvoM!AB642*12),IF(FromEvoM!W642=7,(FromEvoM!AR642),\"\"))","v":""},null,null,{"$f":"IF(ISBLANK(FromEvoM!A642),\"\",IF(FromEvoM!AK642=\"y\",\"Y\",\"N\"))","v":""},{"$f":"IF(ISBLANK(FromEvoM!A642),\"\",Category_ID)","v":""},null,null,null,{"$f":"IF(ISBLANK(FromEvoM!AK642),\"\",FromEvoM!AK642)","v":""},{"$f":"IF(ISBLANK(FromEvoM!AM642),\"\",FromEvoM!AM642)","v":""},{"$f":"IF(ISBLANK(FromEvoM!AN642),\"\",FromEvoM!AN642)","v":""},{"$f":"IF(ISBLANK(FromEvoM!AL642),\"\",FromEvoM!AL642)","v":""},{"$f":"IF(ISBLANK(FromEvoM!A642),\"\",IF(AND(AF642=\"y\",AI642=1),\"Y\",\"N\"))","v":""},{"$f":"IF(ISBLANK(FromEvoM!A642),\"\",IF(FromEvoM!AS642=\"Yes\",2,1))","v":""},{"$f":"IF(FromEvoM!W642=1,\"M\",IF(FromEvoM!W642=7,\"W\",\"\"))","v":""},{"$f":"IF(AJ642=\"Y\",0,IF(AJ642=\"N\",FromEvoM!AF642+FromEvoM!AT642,\"\"))","v":""},{"$f":"IF(AJ642=\"Y\",(FromEvoM!AE642+FromEvoM!AF642-FromEvoM!AT642),IF(AJ642=\"N\",FromEvoM!AE642,\"\"))","v":""}]
[{"$f":"IF(ISBLANK(FromEvoM!A643),\"\",Group_Code)","v":""},{"$f":"IF(ISBLANK(FromEvoM!A643),\"\",SUBSTITUTE(FromEvoM!A643,\" \",\"\"))","v":""},{"$f":"IF(ISBLANK(FromEvoM!C643),\"\",SUBSTITUTE(FromEvoM!G643,\" \",\"\"))","v":""},{"$f":"IF(ISBLANK(FromEvoM!D643),\"\",FromEvoM!B643)","v":""},{"$f":"IF(ISBLANK(FromEvoM!D643),\"\",FromEvoM!D643)","v":""},{"$f":"IF(ISBLANK(FromEvoM!C643),\"\",FromEvoM!C643)","v":""},{"$f":"REPLACE(FromEvoM!F643,2,6, )","v":""},{"$f":"IF(ISNUMBER(FromEvoM!E643),FromEvoM!E643,\"\")","v":""},{"$f":"IF(ISBLANK(FromEvoM!I643),\"\",FromEvoM!I643)","v":""},{"$f":"IF(ISBLANK(FromEvoM!J643),\"\",FromEvoM!J643)","v":""},{"$f":"IF(ISBLANK(FromEvoM!K643),\"\",FromEvoM!K643)","v":""},{"$f":"IF(ISBLANK(FromEvoM!L643),\"\",FromEvoM!L643)","v":""},{"$f":"IF(ISBLANK(FromEvoM!M643),\"\",FromEvoM!M643)","v":""},{"$f":"IF(ISBLANK(FromEvoM!P643),\"\",FromEvoM!P643)","v":""},null,{"$f":"IF(ISNUMBER(FromEvoM!X643),FromEvoM!X643,\"\")","v":""},{"$f":"IF(ISNUMBER(FromEvoM!AB643),FromEvoM!AB643,\"\")","v":""},{"$f":"IF(ISNUMBER(FromEvoM!AA643),FromEvoM!AA643,\"\")","v":""},null,{"$f":"AM643","v":""},{"$f":"AN643","v":""},null,null,{"$f":"IF(FromEvoM!W643=1,(FromEvoM!AB643*12),IF(FromEvoM!W643=7,(FromEvoM!AR643),\"\"))","v":""},null,null,{"$f":"IF(ISBLANK(FromEvoM!A643),\"\",IF(FromEvoM!AK643=\"y\",\"Y\",\"N\"))","v":""},{"$f":"IF(ISBLANK(FromEvoM!A643),\"\",Category_ID)","v":""},null,null,null,{"$f":"IF(ISBLANK(FromEvoM!AK643),\"\",FromEvoM!AK643)","v":""},{"$f":"IF(ISBLANK(FromEvoM!AM643),\"\",FromEvoM!AM643)","v":""},{"$f":"IF(ISBLANK(FromEvoM!AN643),\"\",FromEvoM!AN643)","v":""},{"$f":"IF(ISBLANK(FromEvoM!AL643),\"\",FromEvoM!AL643)","v":""},{"$f":"IF(ISBLANK(FromEvoM!A643),\"\",IF(AND(AF643=\"y\",AI643=1),\"Y\",\"N\"))","v":""},{"$f":"IF(ISBLANK(FromEvoM!A643),\"\",IF(FromEvoM!AS643=\"Yes\",2,1))","v":""},{"$f":"IF(FromEvoM!W643=1,\"M\",IF(FromEvoM!W643=7,\"W\",\"\"))","v":""},{"$f":"IF(AJ643=\"Y\",0,IF(AJ643=\"N\",FromEvoM!AF643+FromEvoM!AT643,\"\"))","v":""},{"$f":"IF(AJ643=\"Y\",(FromEvoM!AE643+FromEvoM!AF643-FromEvoM!AT643),IF(AJ643=\"N\",FromEvoM!AE643,\"\"))","v":""}]
[{"$f":"IF(ISBLANK(FromEvoM!A644),\"\",Group_Code)","v":""},{"$f":"IF(ISBLANK(FromEvoM!A644),\"\",SUBSTITUTE(FromEvoM!A644,\" \",\"\"))","v":""},{"$f":"IF(ISBLANK(FromEvoM!C644),\"\",SUBSTITUTE(FromEvoM!G644,\" \",\"\"))","v":""},{"$f":"IF(ISBLANK(FromEvoM!D644),\"\",FromEvoM!B644)","v":""},{"$f":"IF(ISBLANK(FromEvoM!D644),\"\",FromEvoM!D644)","v":""},{"$f":"IF(ISBLANK(FromEvoM!C644),\"\",FromEvoM!C644)","v":""},{"$f":"REPLACE(FromEvoM!F644,2,6, )","v":""},{"$f":"IF(ISNUMBER(FromEvoM!E644),FromEvoM!E644,\"\")","v":""},{"$f":"IF(ISBLANK(FromEvoM!I644),\"\",FromEvoM!I644)","v":""},{"$f":"IF(ISBLANK(FromEvoM!J644),\"\",FromEvoM!J644)","v":""},{"$f":"IF(ISBLANK(FromEvoM!K644),\"\",FromEvoM!K644)","v":""},{"$f":"IF(ISBLANK(FromEvoM!L644),\"\",FromEvoM!L644)","v":""},{"$f":"IF(ISBLANK(FromEvoM!M644),\"\",FromEvoM!M644)","v":""},{"$f":"IF(ISBLANK(FromEvoM!P644),\"\",FromEvoM!P644)","v":""},null,{"$f":"IF(ISNUMBER(FromEvoM!X644),FromEvoM!X644,\"\")","v":""},{"$f":"IF(ISNUMBER(FromEvoM!AB644),FromEvoM!AB644,\"\")","v":""},{"$f":"IF(ISNUMBER(FromEvoM!AA644),FromEvoM!AA644,\"\")","v":""},null,"","",null,null,{"$f":"IF(FromEvoM!W644=1,(FromEvoM!AB644*12),IF(FromEvoM!W644=7,(FromEvoM!AR644),\"\"))","v":""},null,null,{"$f":"IF(ISBLANK(FromEvoM!A644),\"\",IF(FromEvoM!AK644=\"y\",\"Y\",\"N\"))","v":""},{"$f":"IF(ISBLANK(FromEvoM!A644),\"\",Category_ID)","v":""},null,null,null,{"$f":"IF(ISBLANK(FromEvoM!AK644),\"\",FromEvoM!AK644)","v":""},{"$f":"IF(ISBLANK(FromEvoM!AM644),\"\",FromEvoM!AM644)","v":""},{"$f":"IF(ISBLANK(FromEvoM!AN644),\"\",FromEvoM!AN644)","v":""},{"$f":"IF(ISBLANK(FromEvoM!AL644),\"\",FromEvoM!AL644)","v":""},{"$f":"IF(ISBLANK(FromEvoM!A644),\"\",IF(AND(AF644=\"y\",AI644=1),\"Y\",\"N\"))","v":""},{"$f":"IF(ISBLANK(FromEvoM!A644),\"\",IF(FromEvoM!AS644=\"Yes\",2,1))","v":""},{"$f":"IF(FromEvoM!W644=1,\"M\",IF(FromEvoM!W644=7,\"W\",\"\"))","v":""},{"$f":"IF(AJ644=\"Y\",0,IF(AJ644=\"N\",FromEvoM!AF644+FromEvoM!AT644,\"\"))","v":""},{"$f":"IF(AJ644=\"Y\",(FromEvoM!AE644+FromEvoM!AF644-FromEvoM!AT644),IF(AJ644=\"N\",FromEvoM!AE644,\"\"))","v":""}]
[{"$f":"IF(ISBLANK(FromEvoM!A645),\"\",Group_Code)","v":""},{"$f":"IF(ISBLANK(FromEvoM!A645),\"\",SUBSTITUTE(FromEvoM!A645,\" \",\"\"))","v":""},{"$f":"IF(ISBLANK(FromEvoM!C645),\"\",SUBSTITUTE(FromEvoM!G645,\" \",\"\"))","v":""},{"$f":"IF(ISBLANK(FromEvoM!D645),\"\",FromEvoM!B645)","v":""},{"$f":"IF(ISBLANK(FromEvoM!D645),\"\",FromEvoM!D645)","v":""},{"$f":"IF(ISBLANK(FromEvoM!C645),\"\",FromEvoM!C645)","v":""},{"$f":"REPLACE(FromEvoM!F645,2,6, )","v":""},{"$f":"IF(ISNUMBER(FromEvoM!E645),FromEvoM!E645,\"\")","v":""},{"$f":"IF(ISBLANK(FromEvoM!I645),\"\",FromEvoM!I645)","v":""},{"$f":"IF(ISBLANK(FromEvoM!J645),\"\",FromEvoM!J645)","v":""},{"$f":"IF(ISBLANK(FromEvoM!K645),\"\",FromEvoM!K645)","v":""},{"$f":"IF(ISBLANK(FromEvoM!L645),\"\",FromEvoM!L645)","v":""},{"$f":"IF(ISBLANK(FromEvoM!M645),\"\",FromEvoM!M645)","v":""},{"$f":"IF(ISBLANK(FromEvoM!P645),\"\",FromEvoM!P645)","v":""},null,{"$f":"IF(ISNUMBER(FromEvoM!X645),FromEvoM!X645,\"\")","v":""},{"$f":"IF(ISNUMBER(FromEvoM!AB645),FromEvoM!AB645,\"\")","v":""},{"$f":"IF(ISNUMBER(FromEvoM!AA645),FromEvoM!AA645,\"\")","v":""},null,"","",null,null,{"$f":"IF(FromEvoM!W645=1,(FromEvoM!AB645*12),IF(FromEvoM!W645=7,(FromEvoM!AR645),\"\"))","v":""},null,null,{"$f":"IF(ISBLANK(FromEvoM!A645),\"\",IF(FromEvoM!AK645=\"y\",\"Y\",\"N\"))","v":""},{"$f":"IF(ISBLANK(FromEvoM!A645),\"\",Category_ID)","v":""},null,null,null,{"$f":"IF(ISBLANK(FromEvoM!AK645),\"\",FromEvoM!AK645)","v":""},{"$f":"IF(ISBLANK(FromEvoM!AM645),\"\",FromEvoM!AM645)","v":""},{"$f":"IF(ISBLANK(FromEvoM!AN645),\"\",FromEvoM!AN645)","v":""},{"$f":"IF(ISBLANK(FromEvoM!AL645),\"\",FromEvoM!AL645)","v":""},{"$f":"IF(ISBLANK(FromEvoM!A645),\"\",IF(AND(AF645=\"y\",AI645=1),\"Y\",\"N\"))","v":""},{"$f":"IF(ISBLANK(FromEvoM!A645),\"\",IF(FromEvoM!AS645=\"Yes\",2,1))","v":""},{"$f":"IF(FromEvoM!W645=1,\"M\",IF(FromEvoM!W645=7,\"W\",\"\"))","v":""},{"$f":"IF(AJ645=\"Y\",0,IF(AJ645=\"N\",FromEvoM!AF645+FromEvoM!AT645,\"\"))","v":""},{"$f":"IF(AJ645=\"Y\",(FromEvoM!AE645+FromEvoM!AF645-FromEvoM!AT645),IF(AJ645=\"N\",FromEvoM!AE645,\"\"))","v":""}]
[{"$f":"IF(ISBLANK(FromEvoM!A646),\"\",Group_Code)","v":""},{"$f":"IF(ISBLANK(FromEvoM!A646),\"\",SUBSTITUTE(FromEvoM!A646,\" \",\"\"))","v":""},{"$f":"IF(ISBLANK(FromEvoM!C646),\"\",SUBSTITUTE(FromEvoM!G646,\" \",\"\"))","v":""},{"$f":"IF(ISBLANK(FromEvoM!D646),\"\",FromEvoM!B646)","v":""},{"$f":"IF(ISBLANK(FromEvoM!D646),\"\",FromEvoM!D646)","v":""},{"$f":"IF(ISBLANK(FromEvoM!C646),\"\",FromEvoM!C646)","v":""},{"$f":"REPLACE(FromEvoM!F646,2,6, )","v":""},{"$f":"IF(ISNUMBER(FromEvoM!E646),FromEvoM!E646,\"\")","v":""},{"$f":"IF(ISBLANK(FromEvoM!I646),\"\",FromEvoM!I646)","v":""},{"$f":"IF(ISBLANK(FromEvoM!J646),\"\",FromEvoM!J646)","v":""},{"$f":"IF(ISBLANK(FromEvoM!K646),\"\",FromEvoM!K646)","v":""},{"$f":"IF(ISBLANK(FromEvoM!L646),\"\",FromEvoM!L646)","v":""},{"$f":"IF(ISBLANK(FromEvoM!M646),\"\",FromEvoM!M646)","v":""},{"$f":"IF(ISBLANK(FromEvoM!P646),\"\",FromEvoM!P646)","v":""},null,{"$f":"IF(ISNUMBER(FromEvoM!X646),FromEvoM!X646,\"\")","v":""},{"$f":"IF(ISNUMBER(FromEvoM!AB646),FromEvoM!AB646,\"\")","v":""},{"$f":"IF(ISNUMBER(FromEvoM!AA646),FromEvoM!AA646,\"\")","v":""},null,"","",null,null,{"$f":"IF(FromEvoM!W646=1,(FromEvoM!AB646*12),IF(FromEvoM!W646=7,(FromEvoM!AR646),\"\"))","v":""},null,null,{"$f":"IF(ISBLANK(FromEvoM!A646),\"\",IF(FromEvoM!AK646=\"y\",\"Y\",\"N\"))","v":""},{"$f":"IF(ISBLANK(FromEvoM!A646),\"\",Category_ID)","v":""},null,null,null,{"$f":"IF(ISBLANK(FromEvoM!AK646),\"\",FromEvoM!AK646)","v":""},{"$f":"IF(ISBLANK(FromEvoM!AM646),\"\",FromEvoM!AM646)","v":""},{"$f":"IF(ISBLANK(FromEvoM!AN646),\"\",FromEvoM!AN646)","v":""},{"$f":"IF(ISBLANK(FromEvoM!AL646),\"\",FromEvoM!AL646)","v":""},{"$f":"IF(ISBLANK(FromEvoM!A646),\"\",IF(AND(AF646=\"y\",AI646=1),\"Y\",\"N\"))","v":""},{"$f":"IF(ISBLANK(FromEvoM!A646),\"\",IF(FromEvoM!AS646=\"Yes\",2,1))","v":""},{"$f":"IF(FromEvoM!W646=1,\"M\",IF(FromEvoM!W646=7,\"W\",\"\"))","v":""},{"$f":"IF(AJ646=\"Y\",0,IF(AJ646=\"N\",FromEvoM!AF646+FromEvoM!AT646,\"\"))","v":""},{"$f":"IF(AJ646=\"Y\",(FromEvoM!AE646+FromEvoM!AF646-FromEvoM!AT646),IF(AJ646=\"N\",FromEvoM!AE646,\"\"))","v":""}]
[{"$f":"IF(ISBLANK(FromEvoM!A647),\"\",Group_Code)","v":""},{"$f":"IF(ISBLANK(FromEvoM!A647),\"\",SUBSTITUTE(FromEvoM!A647,\" \",\"\"))","v":""},{"$f":"IF(ISBLANK(FromEvoM!C647),\"\",SUBSTITUTE(FromEvoM!G647,\" \",\"\"))","v":""},{"$f":"IF(ISBLANK(FromEvoM!D647),\"\",FromEvoM!B647)","v":""},{"$f":"IF(ISBLANK(FromEvoM!D647),\"\",FromEvoM!D647)","v":""},{"$f":"IF(ISBLANK(FromEvoM!C647),\"\",FromEvoM!C647)","v":""},{"$f":"REPLACE(FromEvoM!F647,2,6, )","v":""},{"$f":"IF(ISNUMBER(FromEvoM!E647),FromEvoM!E647,\"\")","v":""},{"$f":"IF(ISBLANK(FromEvoM!I647),\"\",FromEvoM!I647)","v":""},{"$f":"IF(ISBLANK(FromEvoM!J647),\"\",FromEvoM!J647)","v":""},{"$f":"IF(ISBLANK(FromEvoM!K647),\"\",FromEvoM!K647)","v":""},{"$f":"IF(ISBLANK(FromEvoM!L647),\"\",FromEvoM!L647)","v":""},{"$f":"IF(ISBLANK(FromEvoM!M647),\"\",FromEvoM!M647)","v":""},{"$f":"IF(ISBLANK(FromEvoM!P647),\"\",FromEvoM!P647)","v":""},null,{"$f":"IF(ISNUMBER(FromEvoM!X647),FromEvoM!X647,\"\")","v":""},{"$f":"IF(ISNUMBER(FromEvoM!AB647),FromEvoM!AB647,\"\")","v":""},{"$f":"IF(ISNUMBER(FromEvoM!AA647),FromEvoM!AA647,\"\")","v":""},null,"","",null,null,{"$f":"IF(FromEvoM!W647=1,(FromEvoM!AB647*12),IF(FromEvoM!W647=7,(FromEvoM!AR647),\"\"))","v":""},null,null,{"$f":"IF(ISBLANK(FromEvoM!A647),\"\",IF(FromEvoM!AK647=\"y\",\"Y\",\"N\"))","v":""},{"$f":"IF(ISBLANK(FromEvoM!A647),\"\",Category_ID)","v":""},null,null,null,{"$f":"IF(ISBLANK(FromEvoM!AK647),\"\",FromEvoM!AK647)","v":""},{"$f":"IF(ISBLANK(FromEvoM!AM647),\"\",FromEvoM!AM647)","v":""},{"$f":"IF(ISBLANK(FromEvoM!AN647),\"\",FromEvoM!AN647)","v":""},{"$f":"IF(ISBLANK(FromEvoM!AL647),\"\",FromEvoM!AL647)","v":""},{"$f":"IF(ISBLANK(FromEvoM!A647),\"\",IF(AND(AF647=\"y\",AI647=1),\"Y\",\"N\"))","v":""},{"$f":"IF(ISBLANK(FromEvoM!A647),\"\",IF(FromEvoM!AS647=\"Yes\",2,1))","v":""},{"$f":"IF(FromEvoM!W647=1,\"M\",IF(FromEvoM!W647=7,\"W\",\"\"))","v":""},{"$f":"IF(AJ647=\"Y\",0,IF(AJ647=\"N\",FromEvoM!AF647+FromEvoM!AT647,\"\"))","v":""},{"$f":"IF(AJ647=\"Y\",(FromEvoM!AE647+FromEvoM!AF647-FromEvoM!AT647),IF(AJ647=\"N\",FromEvoM!AE647,\"\"))","v":""}]
[{"$f":"IF(ISBLANK(FromEvoM!A648),\"\",Group_Code)","v":""},{"$f":"IF(ISBLANK(FromEvoM!A648),\"\",SUBSTITUTE(FromEvoM!A648,\" \",\"\"))","v":""},{"$f":"IF(ISBLANK(FromEvoM!C648),\"\",SUBSTITUTE(FromEvoM!G648,\" \",\"\"))","v":""},{"$f":"IF(ISBLANK(FromEvoM!D648),\"\",FromEvoM!B648)","v":""},{"$f":"IF(ISBLANK(FromEvoM!D648),\"\",FromEvoM!D648)","v":""},{"$f":"IF(ISBLANK(FromEvoM!C648),\"\",FromEvoM!C648)","v":""},{"$f":"REPLACE(FromEvoM!F648,2,6, )","v":""},{"$f":"IF(ISNUMBER(FromEvoM!E648),FromEvoM!E648,\"\")","v":""},{"$f":"IF(ISBLANK(FromEvoM!I648),\"\",FromEvoM!I648)","v":""},{"$f":"IF(ISBLANK(FromEvoM!J648),\"\",FromEvoM!J648)","v":""},{"$f":"IF(ISBLANK(FromEvoM!K648),\"\",FromEvoM!K648)","v":""},{"$f":"IF(ISBLANK(FromEvoM!L648),\"\",FromEvoM!L648)","v":""},{"$f":"IF(ISBLANK(FromEvoM!M648),\"\",FromEvoM!M648)","v":""},{"$f":"IF(ISBLANK(FromEvoM!P648),\"\",FromEvoM!P648)","v":""},null,{"$f":"IF(ISNUMBER(FromEvoM!X648),FromEvoM!X648,\"\")","v":""},{"$f":"IF(ISNUMBER(FromEvoM!AB648),FromEvoM!AB648,\"\")","v":""},{"$f":"IF(ISNUMBER(FromEvoM!AA648),FromEvoM!AA648,\"\")","v":""},null,"","",null,null,{"$f":"IF(FromEvoM!W648=1,(FromEvoM!AB648*12),IF(FromEvoM!W648=7,(FromEvoM!AR648),\"\"))","v":""},null,null,{"$f":"IF(ISBLANK(FromEvoM!A648),\"\",IF(FromEvoM!AK648=\"y\",\"Y\",\"N\"))","v":""},{"$f":"IF(ISBLANK(FromEvoM!A648),\"\",Category_ID)","v":""},null,null,null,{"$f":"IF(ISBLANK(FromEvoM!AK648),\"\",FromEvoM!AK648)","v":""},{"$f":"IF(ISBLANK(FromEvoM!AM648),\"\",FromEvoM!AM648)","v":""},{"$f":"IF(ISBLANK(FromEvoM!AN648),\"\",FromEvoM!AN648)","v":""},{"$f":"IF(ISBLANK(FromEvoM!AL648),\"\",FromEvoM!AL648)","v":""},{"$f":"IF(ISBLANK(FromEvoM!A648),\"\",IF(AND(AF648=\"y\",AI648=1),\"Y\",\"N\"))","v":""},{"$f":"IF(ISBLANK(FromEvoM!A648),\"\",IF(FromEvoM!AS648=\"Yes\",2,1))","v":""},{"$f":"IF(FromEvoM!W648=1,\"M\",IF(FromEvoM!W648=7,\"W\",\"\"))","v":""},{"$f":"IF(AJ648=\"Y\",0,IF(AJ648=\"N\",FromEvoM!AF648+FromEvoM!AT648,\"\"))","v":""},{"$f":"IF(AJ648=\"Y\",(FromEvoM!AE648+FromEvoM!AF648-FromEvoM!AT648),IF(AJ648=\"N\",FromEvoM!AE648,\"\"))","v":""}]
[{"$f":"IF(ISBLANK(FromEvoM!A649),\"\",Group_Code)","v":""},{"$f":"IF(ISBLANK(FromEvoM!A649),\"\",SUBSTITUTE(FromEvoM!A649,\" \",\"\"))","v":""},{"$f":"IF(ISBLANK(FromEvoM!C649),\"\",SUBSTITUTE(FromEvoM!G649,\" \",\"\"))","v":""},{"$f":"IF(ISBLANK(FromEvoM!D649),\"\",FromEvoM!B649)","v":""},{"$f":"IF(ISBLANK(FromEvoM!D649),\"\",FromEvoM!D649)","v":""},{"$f":"IF(ISBLANK(FromEvoM!C649),\"\",FromEvoM!C649)","v":""},{"$f":"REPLACE(FromEvoM!F649,2,6, )","v":""},{"$f":"IF(ISNUMBER(FromEvoM!E649),FromEvoM!E649,\"\")","v":""},{"$f":"IF(ISBLANK(FromEvoM!I649),\"\",FromEvoM!I649)","v":""},{"$f":"IF(ISBLANK(FromEvoM!J649),\"\",FromEvoM!J649)","v":""},{"$f":"IF(ISBLANK(FromEvoM!K649),\"\",FromEvoM!K649)","v":""},{"$f":"IF(ISBLANK(FromEvoM!L649),\"\",FromEvoM!L649)","v":""},{"$f":"IF(ISBLANK(FromEvoM!M649),\"\",FromEvoM!M649)","v":""},{"$f":"IF(ISBLANK(FromEvoM!P649),\"\",FromEvoM!P649)","v":""},null,{"$f":"IF(ISNUMBER(FromEvoM!X649),FromEvoM!X649,\"\")","v":""},{"$f":"IF(ISNUMBER(FromEvoM!AB649),FromEvoM!AB649,\"\")","v":""},{"$f":"IF(ISNUMBER(FromEvoM!AA649),FromEvoM!AA649,\"\")","v":""},null,"","",null,null,{"$f":"IF(FromEvoM!W649=1,(FromEvoM!AB649*12),IF(FromEvoM!W649=7,(FromEvoM!AR649),\"\"))","v":""},null,null,{"$f":"IF(ISBLANK(FromEvoM!A649),\"\",IF(FromEvoM!AK649=\"y\",\"Y\",\"N\"))","v":""},{"$f":"IF(ISBLANK(FromEvoM!A649),\"\",Category_ID)","v":""},null,null,null,{"$f":"IF(ISBLANK(FromEvoM!AK649),\"\",FromEvoM!AK649)","v":""},{"$f":"IF(ISBLANK(FromEvoM!AM649),\"\",FromEvoM!AM649)","v":""},{"$f":"IF(ISBLANK(FromEvoM!AN649),\"\",FromEvoM!AN649)","v":""},{"$f":"IF(ISBLANK(FromEvoM!AL649),\"\",FromEvoM!AL649)","v":""},{"$f":"IF(ISBLANK(FromEvoM!A649),\"\",IF(AND(AF649=\"y\",AI649=1),\"Y\",\"N\"))","v":""},{"$f":"IF(ISBLANK(FromEvoM!A649),\"\",IF(FromEvoM!AS649=\"Yes\",2,1))","v":""},{"$f":"IF(FromEvoM!W649=1,\"M\",IF(FromEvoM!W649=7,\"W\",\"\"))","v":""},{"$f":"IF(AJ649=\"Y\",0,IF(AJ649=\"N\",FromEvoM!AF649+FromEvoM!AT649,\"\"))","v":""},{"$f":"IF(AJ649=\"Y\",(FromEvoM!AE649+FromEvoM!AF649-FromEvoM!AT649),IF(AJ649=\"N\",FromEvoM!AE649,\"\"))","v":""}]
[{"$f":"IF(ISBLANK(FromEvoM!A650),\"\",Group_Code)","v":""},{"$f":"IF(ISBLANK(FromEvoM!A650),\"\",SUBSTITUTE(FromEvoM!A650,\" \",\"\"))","v":""},{"$f":"IF(ISBLANK(FromEvoM!C650),\"\",SUBSTITUTE(FromEvoM!G650,\" \",\"\"))","v":""},{"$f":"IF(ISBLANK(FromEvoM!D650),\"\",FromEvoM!B650)","v":""},{"$f":"IF(ISBLANK(FromEvoM!D650),\"\",FromEvoM!D650)","v":""},{"$f":"IF(ISBLANK(FromEvoM!C650),\"\",FromEvoM!C650)","v":""},{"$f":"REPLACE(FromEvoM!F650,2,6, )","v":""},{"$f":"IF(ISNUMBER(FromEvoM!E650),FromEvoM!E650,\"\")","v":""},{"$f":"IF(ISBLANK(FromEvoM!I650),\"\",FromEvoM!I650)","v":""},{"$f":"IF(ISBLANK(FromEvoM!J650),\"\",FromEvoM!J650)","v":""},{"$f":"IF(ISBLANK(FromEvoM!K650),\"\",FromEvoM!K650)","v":""},{"$f":"IF(ISBLANK(FromEvoM!L650),\"\",FromEvoM!L650)","v":""},{"$f":"IF(ISBLANK(FromEvoM!M650),\"\",FromEvoM!M650)","v":""},{"$f":"IF(ISBLANK(FromEvoM!P650),\"\",FromEvoM!P650)","v":""},null,{"$f":"IF(ISNUMBER(FromEvoM!X650),FromEvoM!X650,\"\")","v":""},{"$f":"IF(ISNUMBER(FromEvoM!AB650),FromEvoM!AB650,\"\")","v":""},{"$f":"IF(ISNUMBER(FromEvoM!AA650),FromEvoM!AA650,\"\")","v":""},null,"","",null,null,{"$f":"IF(FromEvoM!W650=1,(FromEvoM!AB650*12),IF(FromEvoM!W650=7,(FromEvoM!AR650),\"\"))","v":""},null,null,{"$f":"IF(ISBLANK(FromEvoM!A650),\"\",IF(FromEvoM!AK650=\"y\",\"Y\",\"N\"))","v":""},{"$f":"IF(ISBLANK(FromEvoM!A650),\"\",Category_ID)","v":""},null,null,null,{"$f":"IF(ISBLANK(FromEvoM!AK650),\"\",FromEvoM!AK650)","v":""},{"$f":"IF(ISBLANK(FromEvoM!AM650),\"\",FromEvoM!AM650)","v":""},{"$f":"IF(ISBLANK(FromEvoM!AN650),\"\",FromEvoM!AN650)","v":""},{"$f":"IF(ISBLANK(FromEvoM!AL650),\"\",FromEvoM!AL650)","v":""},{"$f":"IF(ISBLANK(FromEvoM!A650),\"\",IF(AND(AF650=\"y\",AI650=1),\"Y\",\"N\"))","v":""},{"$f":"IF(ISBLANK(FromEvoM!A650),\"\",IF(FromEvoM!AS650=\"Yes\",2,1))","v":""},{"$f":"IF(FromEvoM!W650=1,\"M\",IF(FromEvoM!W650=7,\"W\",\"\"))","v":""},{"$f":"IF(AJ650=\"Y\",0,IF(AJ650=\"N\",FromEvoM!AF650+FromEvoM!AT650,\"\"))","v":""},{"$f":"IF(AJ650=\"Y\",(FromEvoM!AE650+FromEvoM!AF650-FromEvoM!AT650),IF(AJ650=\"N\",FromEvoM!AE650,\"\"))","v":""}]
[{"$f":"IF(ISBLANK(FromEvoM!A651),\"\",Group_Code)","v":""},{"$f":"IF(ISBLANK(FromEvoM!A651),\"\",SUBSTITUTE(FromEvoM!A651,\" \",\"\"))","v":""},{"$f":"IF(ISBLANK(FromEvoM!C651),\"\",SUBSTITUTE(FromEvoM!G651,\" \",\"\"))","v":""},{"$f":"IF(ISBLANK(FromEvoM!D651),\"\",FromEvoM!B651)","v":""},{"$f":"IF(ISBLANK(FromEvoM!D651),\"\",FromEvoM!D651)","v":""},{"$f":"IF(ISBLANK(FromEvoM!C651),\"\",FromEvoM!C651)","v":""},{"$f":"REPLACE(FromEvoM!F651,2,6, )","v":""},{"$f":"IF(ISNUMBER(FromEvoM!E651),FromEvoM!E651,\"\")","v":""},{"$f":"IF(ISBLANK(FromEvoM!I651),\"\",FromEvoM!I651)","v":""},{"$f":"IF(ISBLANK(FromEvoM!J651),\"\",FromEvoM!J651)","v":""},{"$f":"IF(ISBLANK(FromEvoM!K651),\"\",FromEvoM!K651)","v":""},{"$f":"IF(ISBLANK(FromEvoM!L651),\"\",FromEvoM!L651)","v":""},{"$f":"IF(ISBLANK(FromEvoM!M651),\"\",FromEvoM!M651)","v":""},{"$f":"IF(ISBLANK(FromEvoM!P651),\"\",FromEvoM!P651)","v":""},null,{"$f":"IF(ISNUMBER(FromEvoM!X651),FromEvoM!X651,\"\")","v":""},{"$f":"IF(ISNUMBER(FromEvoM!AB651),FromEvoM!AB651,\"\")","v":""},{"$f":"IF(ISNUMBER(FromEvoM!AA651),FromEvoM!AA651,\"\")","v":""},null,"","",null,null,{"$f":"IF(FromEvoM!W651=1,(FromEvoM!AB651*12),IF(FromEvoM!W651=7,(FromEvoM!AR651),\"\"))","v":""},null,null,{"$f":"IF(ISBLANK(FromEvoM!A651),\"\",IF(FromEvoM!AK651=\"y\",\"Y\",\"N\"))","v":""},{"$f":"IF(ISBLANK(FromEvoM!A651),\"\",Category_ID)","v":""},null,null,null,{"$f":"IF(ISBLANK(FromEvoM!AK651),\"\",FromEvoM!AK651)","v":""},{"$f":"IF(ISBLANK(FromEvoM!AM651),\"\",FromEvoM!AM651)","v":""},{"$f":"IF(ISBLANK(FromEvoM!AN651),\"\",FromEvoM!AN651)","v":""},{"$f":"IF(ISBLANK(FromEvoM!AL651),\"\",FromEvoM!AL651)","v":""},{"$f":"IF(ISBLANK(FromEvoM!A651),\"\",IF(AND(AF651=\"y\",AI651=1),\"Y\",\"N\"))","v":""},{"$f":"IF(ISBLANK(FromEvoM!A651),\"\",IF(FromEvoM!AS651=\"Yes\",2,1))","v":""},{"$f":"IF(FromEvoM!W651=1,\"M\",IF(FromEvoM!W651=7,\"W\",\"\"))","v":""},{"$f":"IF(AJ651=\"Y\",0,IF(AJ651=\"N\",FromEvoM!AF651+FromEvoM!AT651,\"\"))","v":""},{"$f":"IF(AJ651=\"Y\",(FromEvoM!AE651+FromEvoM!AF651-FromEvoM!AT651),IF(AJ651=\"N\",FromEvoM!AE651,\"\"))","v":""}]
[{"$f":"IF(ISBLANK(FromEvoM!A652),\"\",Group_Code)","v":""},{"$f":"IF(ISBLANK(FromEvoM!A652),\"\",SUBSTITUTE(FromEvoM!A652,\" \",\"\"))","v":""},{"$f":"IF(ISBLANK(FromEvoM!C652),\"\",SUBSTITUTE(FromEvoM!G652,\" \",\"\"))","v":""},{"$f":"IF(ISBLANK(FromEvoM!D652),\"\",FromEvoM!B652)","v":""},{"$f":"IF(ISBLANK(FromEvoM!D652),\"\",FromEvoM!D652)","v":""},{"$f":"IF(ISBLANK(FromEvoM!C652),\"\",FromEvoM!C652)","v":""},{"$f":"REPLACE(FromEvoM!F652,2,6, )","v":""},{"$f":"IF(ISNUMBER(FromEvoM!E652),FromEvoM!E652,\"\")","v":""},{"$f":"IF(ISBLANK(FromEvoM!I652),\"\",FromEvoM!I652)","v":""},{"$f":"IF(ISBLANK(FromEvoM!J652),\"\",FromEvoM!J652)","v":""},{"$f":"IF(ISBLANK(FromEvoM!K652),\"\",FromEvoM!K652)","v":""},{"$f":"IF(ISBLANK(FromEvoM!L652),\"\",FromEvoM!L652)","v":""},{"$f":"IF(ISBLANK(FromEvoM!M652),\"\",FromEvoM!M652)","v":""},{"$f":"IF(ISBLANK(FromEvoM!P652),\"\",FromEvoM!P652)","v":""},null,{"$f":"IF(ISNUMBER(FromEvoM!X652),FromEvoM!X652,\"\")","v":""},{"$f":"IF(ISNUMBER(FromEvoM!AB652),FromEvoM!AB652,\"\")","v":""},{"$f":"IF(ISNUMBER(FromEvoM!AA652),FromEvoM!AA652,\"\")","v":""},null,"","",null,null,{"$f":"IF(FromEvoM!W652=1,(FromEvoM!AB652*12),IF(FromEvoM!W652=7,(FromEvoM!AR652),\"\"))","v":""},null,null,{"$f":"IF(ISBLANK(FromEvoM!A652),\"\",IF(FromEvoM!AK652=\"y\",\"Y\",\"N\"))","v":""},{"$f":"IF(ISBLANK(FromEvoM!A652),\"\",Category_ID)","v":""},null,null,null,{"$f":"IF(ISBLANK(FromEvoM!AK652),\"\",FromEvoM!AK652)","v":""},{"$f":"IF(ISBLANK(FromEvoM!AM652),\"\",FromEvoM!AM652)","v":""},{"$f":"IF(ISBLANK(FromEvoM!AN652),\"\",FromEvoM!AN652)","v":""},{"$f":"IF(ISBLANK(FromEvoM!AL652),\"\",FromEvoM!AL652)","v":""},{"$f":"IF(ISBLANK(FromEvoM!A652),\"\",IF(AND(AF652=\"y\",AI652=1),\"Y\",\"N\"))","v":""},{"$f":"IF(ISBLANK(FromEvoM!A652),\"\",IF(FromEvoM!AS652=\"Yes\",2,1))","v":""},{"$f":"IF(FromEvoM!W652=1,\"M\",IF(FromEvoM!W652=7,\"W\",\"\"))","v":""},{"$f":"IF(AJ652=\"Y\",0,IF(AJ652=\"N\",FromEvoM!AF652+FromEvoM!AT652,\"\"))","v":""},{"$f":"IF(AJ652=\"Y\",(FromEvoM!AE652+FromEvoM!AF652-FromEvoM!AT652),IF(AJ652=\"N\",FromEvoM!AE652,\"\"))","v":""}]
[{"$f":"IF(ISBLANK(FromEvoM!A653),\"\",Group_Code)","v":""},{"$f":"IF(ISBLANK(FromEvoM!A653),\"\",SUBSTITUTE(FromEvoM!A653,\" \",\"\"))","v":""},{"$f":"IF(ISBLANK(FromEvoM!C653),\"\",SUBSTITUTE(FromEvoM!G653,\" \",\"\"))","v":""},{"$f":"IF(ISBLANK(FromEvoM!D653),\"\",FromEvoM!B653)","v":""},{"$f":"IF(ISBLANK(FromEvoM!D653),\"\",FromEvoM!D653)","v":""},{"$f":"IF(ISBLANK(FromEvoM!C653),\"\",FromEvoM!C653)","v":""},{"$f":"REPLACE(FromEvoM!F653,2,6, )","v":""},{"$f":"IF(ISNUMBER(FromEvoM!E653),FromEvoM!E653,\"\")","v":""},{"$f":"IF(ISBLANK(FromEvoM!I653),\"\",FromEvoM!I653)","v":""},{"$f":"IF(ISBLANK(FromEvoM!J653),\"\",FromEvoM!J653)","v":""},{"$f":"IF(ISBLANK(FromEvoM!K653),\"\",FromEvoM!K653)","v":""},{"$f":"IF(ISBLANK(FromEvoM!L653),\"\",FromEvoM!L653)","v":""},{"$f":"IF(ISBLANK(FromEvoM!M653),\"\",FromEvoM!M653)","v":""},{"$f":"IF(ISBLANK(FromEvoM!P653),\"\",FromEvoM!P653)","v":""},null,{"$f":"IF(ISNUMBER(FromEvoM!X653),FromEvoM!X653,\"\")","v":""},{"$f":"IF(ISNUMBER(FromEvoM!AB653),FromEvoM!AB653,\"\")","v":""},{"$f":"IF(ISNUMBER(FromEvoM!AA653),FromEvoM!AA653,\"\")","v":""},null,"","",null,null,{"$f":"IF(FromEvoM!W653=1,(FromEvoM!AB653*12),IF(FromEvoM!W653=7,(FromEvoM!AR653),\"\"))","v":""},null,null,{"$f":"IF(ISBLANK(FromEvoM!A653),\"\",IF(FromEvoM!AK653=\"y\",\"Y\",\"N\"))","v":""},{"$f":"IF(ISBLANK(FromEvoM!A653),\"\",Category_ID)","v":""},null,null,null,{"$f":"IF(ISBLANK(FromEvoM!AK653),\"\",FromEvoM!AK653)","v":""},{"$f":"IF(ISBLANK(FromEvoM!AM653),\"\",FromEvoM!AM653)","v":""},{"$f":"IF(ISBLANK(FromEvoM!AN653),\"\",FromEvoM!AN653)","v":""},{"$f":"IF(ISBLANK(FromEvoM!AL653),\"\",FromEvoM!AL653)","v":""},{"$f":"IF(ISBLANK(FromEvoM!A653),\"\",IF(AND(AF653=\"y\",AI653=1),\"Y\",\"N\"))","v":""},{"$f":"IF(ISBLANK(FromEvoM!A653),\"\",IF(FromEvoM!AS653=\"Yes\",2,1))","v":""},{"$f":"IF(FromEvoM!W653=1,\"M\",IF(FromEvoM!W653=7,\"W\",\"\"))","v":""},{"$f":"IF(AJ653=\"Y\",0,IF(AJ653=\"N\",FromEvoM!AF653+FromEvoM!AT653,\"\"))","v":""},{"$f":"IF(AJ653=\"Y\",(FromEvoM!AE653+FromEvoM!AF653-FromEvoM!AT653),IF(AJ653=\"N\",FromEvoM!AE653,\"\"))","v":""}]
[{"$f":"IF(ISBLANK(FromEvoM!A654),\"\",Group_Code)","v":""},{"$f":"IF(ISBLANK(FromEvoM!A654),\"\",SUBSTITUTE(FromEvoM!A654,\" \",\"\"))","v":""},{"$f":"IF(ISBLANK(FromEvoM!C654),\"\",SUBSTITUTE(FromEvoM!G654,\" \",\"\"))","v":""},{"$f":"IF(ISBLANK(FromEvoM!D654),\"\",FromEvoM!B654)","v":""},{"$f":"IF(ISBLANK(FromEvoM!D654),\"\",FromEvoM!D654)","v":""},{"$f":"IF(ISBLANK(FromEvoM!C654),\"\",FromEvoM!C654)","v":""},{"$f":"REPLACE(FromEvoM!F654,2,6, )","v":""},{"$f":"IF(ISNUMBER(FromEvoM!E654),FromEvoM!E654,\"\")","v":""},{"$f":"IF(ISBLANK(FromEvoM!I654),\"\",FromEvoM!I654)","v":""},{"$f":"IF(ISBLANK(FromEvoM!J654),\"\",FromEvoM!J654)","v":""},{"$f":"IF(ISBLANK(FromEvoM!K654),\"\",FromEvoM!K654)","v":""},{"$f":"IF(ISBLANK(FromEvoM!L654),\"\",FromEvoM!L654)","v":""},{"$f":"IF(ISBLANK(FromEvoM!M654),\"\",FromEvoM!M654)","v":""},{"$f":"IF(ISBLANK(FromEvoM!P654),\"\",FromEvoM!P654)","v":""},null,{"$f":"IF(ISNUMBER(FromEvoM!X654),FromEvoM!X654,\"\")","v":""},{"$f":"IF(ISNUMBER(FromEvoM!AB654),FromEvoM!AB654,\"\")","v":""},{"$f":"IF(ISNUMBER(FromEvoM!AA654),FromEvoM!AA654,\"\")","v":""},null,"","",null,null,{"$f":"IF(FromEvoM!W654=1,(FromEvoM!AB654*12),IF(FromEvoM!W654=7,(FromEvoM!AR654),\"\"))","v":""},null,null,{"$f":"IF(ISBLANK(FromEvoM!A654),\"\",IF(FromEvoM!AK654=\"y\",\"Y\",\"N\"))","v":""},{"$f":"IF(ISBLANK(FromEvoM!A654),\"\",Category_ID)","v":""},null,null,null,{"$f":"IF(ISBLANK(FromEvoM!AK654),\"\",FromEvoM!AK654)","v":""},{"$f":"IF(ISBLANK(FromEvoM!AM654),\"\",FromEvoM!AM654)","v":""},{"$f":"IF(ISBLANK(FromEvoM!AN654),\"\",FromEvoM!AN654)","v":""},{"$f":"IF(ISBLANK(FromEvoM!AL654),\"\",FromEvoM!AL654)","v":""},{"$f":"IF(ISBLANK(FromEvoM!A654),\"\",IF(AND(AF654=\"y\",AI654=1),\"Y\",\"N\"))","v":""},{"$f":"IF(ISBLANK(FromEvoM!A654),\"\",IF(FromEvoM!AS654=\"Yes\",2,1))","v":""},{"$f":"IF(FromEvoM!W654=1,\"M\",IF(FromEvoM!W654=7,\"W\",\"\"))","v":""},{"$f":"IF(AJ654=\"Y\",0,IF(AJ654=\"N\",FromEvoM!AF654+FromEvoM!AT654,\"\"))","v":""},{"$f":"IF(AJ654=\"Y\",(FromEvoM!AE654+FromEvoM!AF654-FromEvoM!AT654),IF(AJ654=\"N\",FromEvoM!AE654,\"\"))","v":""}]
[{"$f":"IF(ISBLANK(FromEvoM!A655),\"\",Group_Code)","v":""},{"$f":"IF(ISBLANK(FromEvoM!A655),\"\",SUBSTITUTE(FromEvoM!A655,\" \",\"\"))","v":""},{"$f":"IF(ISBLANK(FromEvoM!C655),\"\",SUBSTITUTE(FromEvoM!G655,\" \",\"\"))","v":""},{"$f":"IF(ISBLANK(FromEvoM!D655),\"\",FromEvoM!B655)","v":""},{"$f":"IF(ISBLANK(FromEvoM!D655),\"\",FromEvoM!D655)","v":""},{"$f":"IF(ISBLANK(FromEvoM!C655),\"\",FromEvoM!C655)","v":""},{"$f":"REPLACE(FromEvoM!F655,2,6, )","v":""},{"$f":"IF(ISNUMBER(FromEvoM!E655),FromEvoM!E655,\"\")","v":""},{"$f":"IF(ISBLANK(FromEvoM!I655),\"\",FromEvoM!I655)","v":""},{"$f":"IF(ISBLANK(FromEvoM!J655),\"\",FromEvoM!J655)","v":""},{"$f":"IF(ISBLANK(FromEvoM!K655),\"\",FromEvoM!K655)","v":""},{"$f":"IF(ISBLANK(FromEvoM!L655),\"\",FromEvoM!L655)","v":""},{"$f":"IF(ISBLANK(FromEvoM!M655),\"\",FromEvoM!M655)","v":""},{"$f":"IF(ISBLANK(FromEvoM!P655),\"\",FromEvoM!P655)","v":""},null,{"$f":"IF(ISNUMBER(FromEvoM!X655),FromEvoM!X655,\"\")","v":""},{"$f":"IF(ISNUMBER(FromEvoM!AB655),FromEvoM!AB655,\"\")","v":""},{"$f":"IF(ISNUMBER(FromEvoM!AA655),FromEvoM!AA655,\"\")","v":""},null,"","",null,null,{"$f":"IF(FromEvoM!W655=1,(FromEvoM!AB655*12),IF(FromEvoM!W655=7,(FromEvoM!AR655),\"\"))","v":""},null,null,{"$f":"IF(ISBLANK(FromEvoM!A655),\"\",IF(FromEvoM!AK655=\"y\",\"Y\",\"N\"))","v":""},{"$f":"IF(ISBLANK(FromEvoM!A655),\"\",Category_ID)","v":""},null,null,null,{"$f":"IF(ISBLANK(FromEvoM!AK655),\"\",FromEvoM!AK655)","v":""},{"$f":"IF(ISBLANK(FromEvoM!AM655),\"\",FromEvoM!AM655)","v":""},{"$f":"IF(ISBLANK(FromEvoM!AN655),\"\",FromEvoM!AN655)","v":""},{"$f":"IF(ISBLANK(FromEvoM!AL655),\"\",FromEvoM!AL655)","v":""},{"$f":"IF(ISBLANK(FromEvoM!A655),\"\",IF(AND(AF655=\"y\",AI655=1),\"Y\",\"N\"))","v":""},{"$f":"IF(ISBLANK(FromEvoM!A655),\"\",IF(FromEvoM!AS655=\"Yes\",2,1))","v":""},{"$f":"IF(FromEvoM!W655=1,\"M\",IF(FromEvoM!W655=7,\"W\",\"\"))","v":""},{"$f":"IF(AJ655=\"Y\",0,IF(AJ655=\"N\",FromEvoM!AF655+FromEvoM!AT655,\"\"))","v":""},{"$f":"IF(AJ655=\"Y\",(FromEvoM!AE655+FromEvoM!AF655-FromEvoM!AT655),IF(AJ655=\"N\",FromEvoM!AE655,\"\"))","v":""}]
[{"$f":"IF(ISBLANK(FromEvoM!A656),\"\",Group_Code)","v":""},{"$f":"IF(ISBLANK(FromEvoM!A656),\"\",SUBSTITUTE(FromEvoM!A656,\" \",\"\"))","v":""},{"$f":"IF(ISBLANK(FromEvoM!C656),\"\",SUBSTITUTE(FromEvoM!G656,\" \",\"\"))","v":""},{"$f":"IF(ISBLANK(FromEvoM!D656),\"\",FromEvoM!B656)","v":""},{"$f":"IF(ISBLANK(FromEvoM!D656),\"\",FromEvoM!D656)","v":""},{"$f":"IF(ISBLANK(FromEvoM!C656),\"\",FromEvoM!C656)","v":""},{"$f":"REPLACE(FromEvoM!F656,2,6, )","v":""},{"$f":"IF(ISNUMBER(FromEvoM!E656),FromEvoM!E656,\"\")","v":""},{"$f":"IF(ISBLANK(FromEvoM!I656),\"\",FromEvoM!I656)","v":""},{"$f":"IF(ISBLANK(FromEvoM!J656),\"\",FromEvoM!J656)","v":""},{"$f":"IF(ISBLANK(FromEvoM!K656),\"\",FromEvoM!K656)","v":""},{"$f":"IF(ISBLANK(FromEvoM!L656),\"\",FromEvoM!L656)","v":""},{"$f":"IF(ISBLANK(FromEvoM!M656),\"\",FromEvoM!M656)","v":""},{"$f":"IF(ISBLANK(FromEvoM!P656),\"\",FromEvoM!P656)","v":""},null,{"$f":"IF(ISNUMBER(FromEvoM!X656),FromEvoM!X656,\"\")","v":""},{"$f":"IF(ISNUMBER(FromEvoM!AB656),FromEvoM!AB656,\"\")","v":""},{"$f":"IF(ISNUMBER(FromEvoM!AA656),FromEvoM!AA656,\"\")","v":""},null,"","",null,null,{"$f":"IF(FromEvoM!W656=1,(FromEvoM!AB656*12),IF(FromEvoM!W656=7,(FromEvoM!AR656),\"\"))","v":""},null,null,{"$f":"IF(ISBLANK(FromEvoM!A656),\"\",IF(FromEvoM!AK656=\"y\",\"Y\",\"N\"))","v":""},{"$f":"IF(ISBLANK(FromEvoM!A656),\"\",Category_ID)","v":""},null,null,null,{"$f":"IF(ISBLANK(FromEvoM!AK656),\"\",FromEvoM!AK656)","v":""},{"$f":"IF(ISBLANK(FromEvoM!AM656),\"\",FromEvoM!AM656)","v":""},{"$f":"IF(ISBLANK(FromEvoM!AN656),\"\",FromEvoM!AN656)","v":""},{"$f":"IF(ISBLANK(FromEvoM!AL656),\"\",FromEvoM!AL656)","v":""},{"$f":"IF(ISBLANK(FromEvoM!A656),\"\",IF(AND(AF656=\"y\",AI656=1),\"Y\",\"N\"))","v":""},{"$f":"IF(ISBLANK(FromEvoM!A656),\"\",IF(FromEvoM!AS656=\"Yes\",2,1))","v":""},{"$f":"IF(FromEvoM!W656=1,\"M\",IF(FromEvoM!W656=7,\"W\",\"\"))","v":""},{"$f":"IF(AJ656=\"Y\",0,IF(AJ656=\"N\",FromEvoM!AF656+FromEvoM!AT656,\"\"))","v":""},{"$f":"IF(AJ656=\"Y\",(FromEvoM!AE656+FromEvoM!AF656-FromEvoM!AT656),IF(AJ656=\"N\",FromEvoM!AE656,\"\"))","v":""}]
[{"$f":"IF(ISBLANK(FromEvoM!A657),\"\",Group_Code)","v":""},{"$f":"IF(ISBLANK(FromEvoM!A657),\"\",SUBSTITUTE(FromEvoM!A657,\" \",\"\"))","v":""},{"$f":"IF(ISBLANK(FromEvoM!C657),\"\",SUBSTITUTE(FromEvoM!G657,\" \",\"\"))","v":""},{"$f":"IF(ISBLANK(FromEvoM!D657),\"\",FromEvoM!B657)","v":""},{"$f":"IF(ISBLANK(FromEvoM!D657),\"\",FromEvoM!D657)","v":""},{"$f":"IF(ISBLANK(FromEvoM!C657),\"\",FromEvoM!C657)","v":""},{"$f":"REPLACE(FromEvoM!F657,2,6, )","v":""},{"$f":"IF(ISNUMBER(FromEvoM!E657),FromEvoM!E657,\"\")","v":""},{"$f":"IF(ISBLANK(FromEvoM!I657),\"\",FromEvoM!I657)","v":""},{"$f":"IF(ISBLANK(FromEvoM!J657),\"\",FromEvoM!J657)","v":""},{"$f":"IF(ISBLANK(FromEvoM!K657),\"\",FromEvoM!K657)","v":""},{"$f":"IF(ISBLANK(FromEvoM!L657),\"\",FromEvoM!L657)","v":""},{"$f":"IF(ISBLANK(FromEvoM!M657),\"\",FromEvoM!M657)","v":""},{"$f":"IF(ISBLANK(FromEvoM!P657),\"\",FromEvoM!P657)","v":""},null,{"$f":"IF(ISNUMBER(FromEvoM!X657),FromEvoM!X657,\"\")","v":""},{"$f":"IF(ISNUMBER(FromEvoM!AB657),FromEvoM!AB657,\"\")","v":""},{"$f":"IF(ISNUMBER(FromEvoM!AA657),FromEvoM!AA657,\"\")","v":""},null,"","",null,null,{"$f":"IF(FromEvoM!W657=1,(FromEvoM!AB657*12),IF(FromEvoM!W657=7,(FromEvoM!AR657),\"\"))","v":""},null,null,{"$f":"IF(ISBLANK(FromEvoM!A657),\"\",IF(FromEvoM!AK657=\"y\",\"Y\",\"N\"))","v":""},{"$f":"IF(ISBLANK(FromEvoM!A657),\"\",Category_ID)","v":""},null,null,null,{"$f":"IF(ISBLANK(FromEvoM!AK657),\"\",FromEvoM!AK657)","v":""},{"$f":"IF(ISBLANK(FromEvoM!AM657),\"\",FromEvoM!AM657)","v":""},{"$f":"IF(ISBLANK(FromEvoM!AN657),\"\",FromEvoM!AN657)","v":""},{"$f":"IF(ISBLANK(FromEvoM!AL657),\"\",FromEvoM!AL657)","v":""},{"$f":"IF(ISBLANK(FromEvoM!A657),\"\",IF(AND(AF657=\"y\",AI657=1),\"Y\",\"N\"))","v":""},{"$f":"IF(ISBLANK(FromEvoM!A657),\"\",IF(FromEvoM!AS657=\"Yes\",2,1))","v":""},{"$f":"IF(FromEvoM!W657=1,\"M\",IF(FromEvoM!W657=7,\"W\",\"\"))","v":""},{"$f":"IF(AJ657=\"Y\",0,IF(AJ657=\"N\",FromEvoM!AF657+FromEvoM!AT657,\"\"))","v":""},{"$f":"IF(AJ657=\"Y\",(FromEvoM!AE657+FromEvoM!AF657-FromEvoM!AT657),IF(AJ657=\"N\",FromEvoM!AE657,\"\"))","v":""}]
[{"$f":"IF(ISBLANK(FromEvoM!A658),\"\",Group_Code)","v":""},{"$f":"IF(ISBLANK(FromEvoM!A658),\"\",SUBSTITUTE(FromEvoM!A658,\" \",\"\"))","v":""},{"$f":"IF(ISBLANK(FromEvoM!C658),\"\",SUBSTITUTE(FromEvoM!G658,\" \",\"\"))","v":""},{"$f":"IF(ISBLANK(FromEvoM!D658),\"\",FromEvoM!B658)","v":""},{"$f":"IF(ISBLANK(FromEvoM!D658),\"\",FromEvoM!D658)","v":""},{"$f":"IF(ISBLANK(FromEvoM!C658),\"\",FromEvoM!C658)","v":""},{"$f":"REPLACE(FromEvoM!F658,2,6, )","v":""},{"$f":"IF(ISNUMBER(FromEvoM!E658),FromEvoM!E658,\"\")","v":""},{"$f":"IF(ISBLANK(FromEvoM!I658),\"\",FromEvoM!I658)","v":""},{"$f":"IF(ISBLANK(FromEvoM!J658),\"\",FromEvoM!J658)","v":""},{"$f":"IF(ISBLANK(FromEvoM!K658),\"\",FromEvoM!K658)","v":""},{"$f":"IF(ISBLANK(FromEvoM!L658),\"\",FromEvoM!L658)","v":""},{"$f":"IF(ISBLANK(FromEvoM!M658),\"\",FromEvoM!M658)","v":""},{"$f":"IF(ISBLANK(FromEvoM!P658),\"\",FromEvoM!P658)","v":""},null,{"$f":"IF(ISNUMBER(FromEvoM!X658),FromEvoM!X658,\"\")","v":""},{"$f":"IF(ISNUMBER(FromEvoM!AB658),FromEvoM!AB658,\"\")","v":""},{"$f":"IF(ISNUMBER(FromEvoM!AA658),FromEvoM!AA658,\"\")","v":""},null,"","",null,null,{"$f":"IF(FromEvoM!W658=1,(FromEvoM!AB658*12),IF(FromEvoM!W658=7,(FromEvoM!AR658),\"\"))","v":""},null,null,{"$f":"IF(ISBLANK(FromEvoM!A658),\"\",IF(FromEvoM!AK658=\"y\",\"Y\",\"N\"))","v":""},{"$f":"IF(ISBLANK(FromEvoM!A658),\"\",Category_ID)","v":""},null,null,null,{"$f":"IF(ISBLANK(FromEvoM!AK658),\"\",FromEvoM!AK658)","v":""},{"$f":"IF(ISBLANK(FromEvoM!AM658),\"\",FromEvoM!AM658)","v":""},{"$f":"IF(ISBLANK(FromEvoM!AN658),\"\",FromEvoM!AN658)","v":""},{"$f":"IF(ISBLANK(FromEvoM!AL658),\"\",FromEvoM!AL658)","v":""},{"$f":"IF(ISBLANK(FromEvoM!A658),\"\",IF(AND(AF658=\"y\",AI658=1),\"Y\",\"N\"))","v":""},{"$f":"IF(ISBLANK(FromEvoM!A658),\"\",IF(FromEvoM!AS658=\"Yes\",2,1))","v":""},{"$f":"IF(FromEvoM!W658=1,\"M\",IF(FromEvoM!W658=7,\"W\",\"\"))","v":""},{"$f":"IF(AJ658=\"Y\",0,IF(AJ658=\"N\",FromEvoM!AF658+FromEvoM!AT658,\"\"))","v":""},{"$f":"IF(AJ658=\"Y\",(FromEvoM!AE658+FromEvoM!AF658-FromEvoM!AT658),IF(AJ658=\"N\",FromEvoM!AE658,\"\"))","v":""}]
[{"$f":"IF(ISBLANK(FromEvoM!A659),\"\",Group_Code)","v":""},{"$f":"IF(ISBLANK(FromEvoM!A659),\"\",SUBSTITUTE(FromEvoM!A659,\" \",\"\"))","v":""},{"$f":"IF(ISBLANK(FromEvoM!C659),\"\",SUBSTITUTE(FromEvoM!G659,\" \",\"\"))","v":""},{"$f":"IF(ISBLANK(FromEvoM!D659),\"\",FromEvoM!B659)","v":""},{"$f":"IF(ISBLANK(FromEvoM!D659),\"\",FromEvoM!D659)","v":""},{"$f":"IF(ISBLANK(FromEvoM!C659),\"\",FromEvoM!C659)","v":""},{"$f":"REPLACE(FromEvoM!F659,2,6, )","v":""},{"$f":"IF(ISNUMBER(FromEvoM!E659),FromEvoM!E659,\"\")","v":""},{"$f":"IF(ISBLANK(FromEvoM!I659),\"\",FromEvoM!I659)","v":""},{"$f":"IF(ISBLANK(FromEvoM!J659),\"\",FromEvoM!J659)","v":""},{"$f":"IF(ISBLANK(FromEvoM!K659),\"\",FromEvoM!K659)","v":""},{"$f":"IF(ISBLANK(FromEvoM!L659),\"\",FromEvoM!L659)","v":""},{"$f":"IF(ISBLANK(FromEvoM!M659),\"\",FromEvoM!M659)","v":""},{"$f":"IF(ISBLANK(FromEvoM!P659),\"\",FromEvoM!P659)","v":""},null,{"$f":"IF(ISNUMBER(FromEvoM!X659),FromEvoM!X659,\"\")","v":""},{"$f":"IF(ISNUMBER(FromEvoM!AB659),FromEvoM!AB659,\"\")","v":""},{"$f":"IF(ISNUMBER(FromEvoM!AA659),FromEvoM!AA659,\"\")","v":""},null,"","",null,null,{"$f":"IF(FromEvoM!W659=1,(FromEvoM!AB659*12),IF(FromEvoM!W659=7,(FromEvoM!AR659),\"\"))","v":""},null,null,{"$f":"IF(ISBLANK(FromEvoM!A659),\"\",IF(FromEvoM!AK659=\"y\",\"Y\",\"N\"))","v":""},{"$f":"IF(ISBLANK(FromEvoM!A659),\"\",Category_ID)","v":""},null,null,null,{"$f":"IF(ISBLANK(FromEvoM!AK659),\"\",FromEvoM!AK659)","v":""},{"$f":"IF(ISBLANK(FromEvoM!AM659),\"\",FromEvoM!AM659)","v":""},{"$f":"IF(ISBLANK(FromEvoM!AN659),\"\",FromEvoM!AN659)","v":""},{"$f":"IF(ISBLANK(FromEvoM!AL659),\"\",FromEvoM!AL659)","v":""},{"$f":"IF(ISBLANK(FromEvoM!A659),\"\",IF(AND(AF659=\"y\",AI659=1),\"Y\",\"N\"))","v":""},{"$f":"IF(ISBLANK(FromEvoM!A659),\"\",IF(FromEvoM!AS659=\"Yes\",2,1))","v":""},{"$f":"IF(FromEvoM!W659=1,\"M\",IF(FromEvoM!W659=7,\"W\",\"\"))","v":""},{"$f":"IF(AJ659=\"Y\",0,IF(AJ659=\"N\",FromEvoM!AF659+FromEvoM!AT659,\"\"))","v":""},{"$f":"IF(AJ659=\"Y\",(FromEvoM!AE659+FromEvoM!AF659-FromEvoM!AT659),IF(AJ659=\"N\",FromEvoM!AE659,\"\"))","v":""}]
[{"$f":"IF(ISBLANK(FromEvoM!A660),\"\",Group_Code)","v":""},{"$f":"IF(ISBLANK(FromEvoM!A660),\"\",SUBSTITUTE(FromEvoM!A660,\" \",\"\"))","v":""},{"$f":"IF(ISBLANK(FromEvoM!C660),\"\",SUBSTITUTE(FromEvoM!G660,\" \",\"\"))","v":""},{"$f":"IF(ISBLANK(FromEvoM!D660),\"\",FromEvoM!B660)","v":""},{"$f":"IF(ISBLANK(FromEvoM!D660),\"\",FromEvoM!D660)","v":""},{"$f":"IF(ISBLANK(FromEvoM!C660),\"\",FromEvoM!C660)","v":""},{"$f":"REPLACE(FromEvoM!F660,2,6, )","v":""},{"$f":"IF(ISNUMBER(FromEvoM!E660),FromEvoM!E660,\"\")","v":""},{"$f":"IF(ISBLANK(FromEvoM!I660),\"\",FromEvoM!I660)","v":""},{"$f":"IF(ISBLANK(FromEvoM!J660),\"\",FromEvoM!J660)","v":""},{"$f":"IF(ISBLANK(FromEvoM!K660),\"\",FromEvoM!K660)","v":""},{"$f":"IF(ISBLANK(FromEvoM!L660),\"\",FromEvoM!L660)","v":""},{"$f":"IF(ISBLANK(FromEvoM!M660),\"\",FromEvoM!M660)","v":""},{"$f":"IF(ISBLANK(FromEvoM!P660),\"\",FromEvoM!P660)","v":""},null,{"$f":"IF(ISNUMBER(FromEvoM!X660),FromEvoM!X660,\"\")","v":""},{"$f":"IF(ISNUMBER(FromEvoM!AB660),FromEvoM!AB660,\"\")","v":""},{"$f":"IF(ISNUMBER(FromEvoM!AA660),FromEvoM!AA660,\"\")","v":""},null,"","",null,null,{"$f":"IF(FromEvoM!W660=1,(FromEvoM!AB660*12),IF(FromEvoM!W660=7,(FromEvoM!AR660),\"\"))","v":""},null,null,{"$f":"IF(ISBLANK(FromEvoM!A660),\"\",IF(FromEvoM!AK660=\"y\",\"Y\",\"N\"))","v":""},{"$f":"IF(ISBLANK(FromEvoM!A660),\"\",Category_ID)","v":""},null,null,null,{"$f":"IF(ISBLANK(FromEvoM!AK660),\"\",FromEvoM!AK660)","v":""},{"$f":"IF(ISBLANK(FromEvoM!AM660),\"\",FromEvoM!AM660)","v":""},{"$f":"IF(ISBLANK(FromEvoM!AN660),\"\",FromEvoM!AN660)","v":""},{"$f":"IF(ISBLANK(FromEvoM!AL660),\"\",FromEvoM!AL660)","v":""},{"$f":"IF(ISBLANK(FromEvoM!A660),\"\",IF(AND(AF660=\"y\",AI660=1),\"Y\",\"N\"))","v":""},{"$f":"IF(ISBLANK(FromEvoM!A660),\"\",IF(FromEvoM!AS660=\"Yes\",2,1))","v":""},{"$f":"IF(FromEvoM!W660=1,\"M\",IF(FromEvoM!W660=7,\"W\",\"\"))","v":""},{"$f":"IF(AJ660=\"Y\",0,IF(AJ660=\"N\",FromEvoM!AF660+FromEvoM!AT660,\"\"))","v":""},{"$f":"IF(AJ660=\"Y\",(FromEvoM!AE660+FromEvoM!AF660-FromEvoM!AT660),IF(AJ660=\"N\",FromEvoM!AE660,\"\"))","v":""}]
[{"$f":"IF(ISBLANK(FromEvoM!A661),\"\",Group_Code)","v":""},{"$f":"IF(ISBLANK(FromEvoM!A661),\"\",SUBSTITUTE(FromEvoM!A661,\" \",\"\"))","v":""},{"$f":"IF(ISBLANK(FromEvoM!C661),\"\",SUBSTITUTE(FromEvoM!G661,\" \",\"\"))","v":""},{"$f":"IF(ISBLANK(FromEvoM!D661),\"\",FromEvoM!B661)","v":""},{"$f":"IF(ISBLANK(FromEvoM!D661),\"\",FromEvoM!D661)","v":""},{"$f":"IF(ISBLANK(FromEvoM!C661),\"\",FromEvoM!C661)","v":""},{"$f":"REPLACE(FromEvoM!F661,2,6, )","v":""},{"$f":"IF(ISNUMBER(FromEvoM!E661),FromEvoM!E661,\"\")","v":""},{"$f":"IF(ISBLANK(FromEvoM!I661),\"\",FromEvoM!I661)","v":""},{"$f":"IF(ISBLANK(FromEvoM!J661),\"\",FromEvoM!J661)","v":""},{"$f":"IF(ISBLANK(FromEvoM!K661),\"\",FromEvoM!K661)","v":""},{"$f":"IF(ISBLANK(FromEvoM!L661),\"\",FromEvoM!L661)","v":""},{"$f":"IF(ISBLANK(FromEvoM!M661),\"\",FromEvoM!M661)","v":""},{"$f":"IF(ISBLANK(FromEvoM!P661),\"\",FromEvoM!P661)","v":""},null,{"$f":"IF(ISNUMBER(FromEvoM!X661),FromEvoM!X661,\"\")","v":""},{"$f":"IF(ISNUMBER(FromEvoM!AB661),FromEvoM!AB661,\"\")","v":""},{"$f":"IF(ISNUMBER(FromEvoM!AA661),FromEvoM!AA661,\"\")","v":""},null,"","",null,null,{"$f":"IF(FromEvoM!W661=1,(FromEvoM!AB661*12),IF(FromEvoM!W661=7,(FromEvoM!AR661),\"\"))","v":""},null,null,{"$f":"IF(ISBLANK(FromEvoM!A661),\"\",IF(FromEvoM!AK661=\"y\",\"Y\",\"N\"))","v":""},{"$f":"IF(ISBLANK(FromEvoM!A661),\"\",Category_ID)","v":""},null,null,null,{"$f":"IF(ISBLANK(FromEvoM!AK661),\"\",FromEvoM!AK661)","v":""},{"$f":"IF(ISBLANK(FromEvoM!AM661),\"\",FromEvoM!AM661)","v":""},{"$f":"IF(ISBLANK(FromEvoM!AN661),\"\",FromEvoM!AN661)","v":""},{"$f":"IF(ISBLANK(FromEvoM!AL661),\"\",FromEvoM!AL661)","v":""},{"$f":"IF(ISBLANK(FromEvoM!A661),\"\",IF(AND(AF661=\"y\",AI661=1),\"Y\",\"N\"))","v":""},{"$f":"IF(ISBLANK(FromEvoM!A661),\"\",IF(FromEvoM!AS661=\"Yes\",2,1))","v":""},{"$f":"IF(FromEvoM!W661=1,\"M\",IF(FromEvoM!W661=7,\"W\",\"\"))","v":""},{"$f":"IF(AJ661=\"Y\",0,IF(AJ661=\"N\",FromEvoM!AF661+FromEvoM!AT661,\"\"))","v":""},{"$f":"IF(AJ661=\"Y\",(FromEvoM!AE661+FromEvoM!AF661-FromEvoM!AT661),IF(AJ661=\"N\",FromEvoM!AE661,\"\"))","v":""}]
[{"$f":"IF(ISBLANK(FromEvoM!A662),\"\",Group_Code)","v":""},{"$f":"IF(ISBLANK(FromEvoM!A662),\"\",SUBSTITUTE(FromEvoM!A662,\" \",\"\"))","v":""},{"$f":"IF(ISBLANK(FromEvoM!C662),\"\",SUBSTITUTE(FromEvoM!G662,\" \",\"\"))","v":""},{"$f":"IF(ISBLANK(FromEvoM!D662),\"\",FromEvoM!B662)","v":""},{"$f":"IF(ISBLANK(FromEvoM!D662),\"\",FromEvoM!D662)","v":""},{"$f":"IF(ISBLANK(FromEvoM!C662),\"\",FromEvoM!C662)","v":""},{"$f":"REPLACE(FromEvoM!F662,2,6, )","v":""},{"$f":"IF(ISNUMBER(FromEvoM!E662),FromEvoM!E662,\"\")","v":""},{"$f":"IF(ISBLANK(FromEvoM!I662),\"\",FromEvoM!I662)","v":""},{"$f":"IF(ISBLANK(FromEvoM!J662),\"\",FromEvoM!J662)","v":""},{"$f":"IF(ISBLANK(FromEvoM!K662),\"\",FromEvoM!K662)","v":""},{"$f":"IF(ISBLANK(FromEvoM!L662),\"\",FromEvoM!L662)","v":""},{"$f":"IF(ISBLANK(FromEvoM!M662),\"\",FromEvoM!M662)","v":""},{"$f":"IF(ISBLANK(FromEvoM!P662),\"\",FromEvoM!P662)","v":""},null,{"$f":"IF(ISNUMBER(FromEvoM!X662),FromEvoM!X662,\"\")","v":""},{"$f":"IF(ISNUMBER(FromEvoM!AB662),FromEvoM!AB662,\"\")","v":""},{"$f":"IF(ISNUMBER(FromEvoM!AA662),FromEvoM!AA662,\"\")","v":""},null,"","",null,null,{"$f":"IF(FromEvoM!W662=1,(FromEvoM!AB662*12),IF(FromEvoM!W662=7,(FromEvoM!AR662),\"\"))","v":""},null,null,{"$f":"IF(ISBLANK(FromEvoM!A662),\"\",IF(FromEvoM!AK662=\"y\",\"Y\",\"N\"))","v":""},{"$f":"IF(ISBLANK(FromEvoM!A662),\"\",Category_ID)","v":""},null,null,null,{"$f":"IF(ISBLANK(FromEvoM!AK662),\"\",FromEvoM!AK662)","v":""},{"$f":"IF(ISBLANK(FromEvoM!AM662),\"\",FromEvoM!AM662)","v":""},{"$f":"IF(ISBLANK(FromEvoM!AN662),\"\",FromEvoM!AN662)","v":""},{"$f":"IF(ISBLANK(FromEvoM!AL662),\"\",FromEvoM!AL662)","v":""},{"$f":"IF(ISBLANK(FromEvoM!A662),\"\",IF(AND(AF662=\"y\",AI662=1),\"Y\",\"N\"))","v":""},{"$f":"IF(ISBLANK(FromEvoM!A662),\"\",IF(FromEvoM!AS662=\"Yes\",2,1))","v":""},{"$f":"IF(FromEvoM!W662=1,\"M\",IF(FromEvoM!W662=7,\"W\",\"\"))","v":""},{"$f":"IF(AJ662=\"Y\",0,IF(AJ662=\"N\",FromEvoM!AF662+FromEvoM!AT662,\"\"))","v":""},{"$f":"IF(AJ662=\"Y\",(FromEvoM!AE662+FromEvoM!AF662-FromEvoM!AT662),IF(AJ662=\"N\",FromEvoM!AE662,\"\"))","v":""}]
[{"$f":"IF(ISBLANK(FromEvoM!A663),\"\",Group_Code)","v":""},{"$f":"IF(ISBLANK(FromEvoM!A663),\"\",SUBSTITUTE(FromEvoM!A663,\" \",\"\"))","v":""},{"$f":"IF(ISBLANK(FromEvoM!C663),\"\",SUBSTITUTE(FromEvoM!G663,\" \",\"\"))","v":""},{"$f":"IF(ISBLANK(FromEvoM!D663),\"\",FromEvoM!B663)","v":""},{"$f":"IF(ISBLANK(FromEvoM!D663),\"\",FromEvoM!D663)","v":""},{"$f":"IF(ISBLANK(FromEvoM!C663),\"\",FromEvoM!C663)","v":""},{"$f":"REPLACE(FromEvoM!F663,2,6, )","v":""},{"$f":"IF(ISNUMBER(FromEvoM!E663),FromEvoM!E663,\"\")","v":""},{"$f":"IF(ISBLANK(FromEvoM!I663),\"\",FromEvoM!I663)","v":""},{"$f":"IF(ISBLANK(FromEvoM!J663),\"\",FromEvoM!J663)","v":""},{"$f":"IF(ISBLANK(FromEvoM!K663),\"\",FromEvoM!K663)","v":""},{"$f":"IF(ISBLANK(FromEvoM!L663),\"\",FromEvoM!L663)","v":""},{"$f":"IF(ISBLANK(FromEvoM!M663),\"\",FromEvoM!M663)","v":""},{"$f":"IF(ISBLANK(FromEvoM!P663),\"\",FromEvoM!P663)","v":""},null,{"$f":"IF(ISNUMBER(FromEvoM!X663),FromEvoM!X663,\"\")","v":""},{"$f":"IF(ISNUMBER(FromEvoM!AB663),FromEvoM!AB663,\"\")","v":""},{"$f":"IF(ISNUMBER(FromEvoM!AA663),FromEvoM!AA663,\"\")","v":""},null,"","",null,null,{"$f":"IF(FromEvoM!W663=1,(FromEvoM!AB663*12),IF(FromEvoM!W663=7,(FromEvoM!AR663),\"\"))","v":""},null,null,{"$f":"IF(ISBLANK(FromEvoM!A663),\"\",IF(FromEvoM!AK663=\"y\",\"Y\",\"N\"))","v":""},{"$f":"IF(ISBLANK(FromEvoM!A663),\"\",Category_ID)","v":""},null,null,null,{"$f":"IF(ISBLANK(FromEvoM!AK663),\"\",FromEvoM!AK663)","v":""},{"$f":"IF(ISBLANK(FromEvoM!AM663),\"\",FromEvoM!AM663)","v":""},{"$f":"IF(ISBLANK(FromEvoM!AN663),\"\",FromEvoM!AN663)","v":""},{"$f":"IF(ISBLANK(FromEvoM!AL663),\"\",FromEvoM!AL663)","v":""},{"$f":"IF(ISBLANK(FromEvoM!A663),\"\",IF(AND(AF663=\"y\",AI663=1),\"Y\",\"N\"))","v":""},{"$f":"IF(ISBLANK(FromEvoM!A663),\"\",IF(FromEvoM!AS663=\"Yes\",2,1))","v":""},{"$f":"IF(FromEvoM!W663=1,\"M\",IF(FromEvoM!W663=7,\"W\",\"\"))","v":""},{"$f":"IF(AJ663=\"Y\",0,IF(AJ663=\"N\",FromEvoM!AF663+FromEvoM!AT663,\"\"))","v":""},{"$f":"IF(AJ663=\"Y\",(FromEvoM!AE663+FromEvoM!AF663-FromEvoM!AT663),IF(AJ663=\"N\",FromEvoM!AE663,\"\"))","v":""}]
[{"$f":"IF(ISBLANK(FromEvoM!A664),\"\",Group_Code)","v":""},{"$f":"IF(ISBLANK(FromEvoM!A664),\"\",SUBSTITUTE(FromEvoM!A664,\" \",\"\"))","v":""},{"$f":"IF(ISBLANK(FromEvoM!C664),\"\",SUBSTITUTE(FromEvoM!G664,\" \",\"\"))","v":""},{"$f":"IF(ISBLANK(FromEvoM!D664),\"\",FromEvoM!B664)","v":""},{"$f":"IF(ISBLANK(FromEvoM!D664),\"\",FromEvoM!D664)","v":""},{"$f":"IF(ISBLANK(FromEvoM!C664),\"\",FromEvoM!C664)","v":""},{"$f":"REPLACE(FromEvoM!F664,2,6, )","v":""},{"$f":"IF(ISNUMBER(FromEvoM!E664),FromEvoM!E664,\"\")","v":""},{"$f":"IF(ISBLANK(FromEvoM!I664),\"\",FromEvoM!I664)","v":""},{"$f":"IF(ISBLANK(FromEvoM!J664),\"\",FromEvoM!J664)","v":""},{"$f":"IF(ISBLANK(FromEvoM!K664),\"\",FromEvoM!K664)","v":""},{"$f":"IF(ISBLANK(FromEvoM!L664),\"\",FromEvoM!L664)","v":""},{"$f":"IF(ISBLANK(FromEvoM!M664),\"\",FromEvoM!M664)","v":""},{"$f":"IF(ISBLANK(FromEvoM!P664),\"\",FromEvoM!P664)","v":""},null,{"$f":"IF(ISNUMBER(FromEvoM!X664),FromEvoM!X664,\"\")","v":""},{"$f":"IF(ISNUMBER(FromEvoM!AB664),FromEvoM!AB664,\"\")","v":""},{"$f":"IF(ISNUMBER(FromEvoM!AA664),FromEvoM!AA664,\"\")","v":""},null,"","",null,null,{"$f":"IF(FromEvoM!W664=1,(FromEvoM!AB664*12),IF(FromEvoM!W664=7,(FromEvoM!AR664),\"\"))","v":""},null,null,{"$f":"IF(ISBLANK(FromEvoM!A664),\"\",IF(FromEvoM!AK664=\"y\",\"Y\",\"N\"))","v":""},{"$f":"IF(ISBLANK(FromEvoM!A664),\"\",Category_ID)","v":""},null,null,null,{"$f":"IF(ISBLANK(FromEvoM!AK664),\"\",FromEvoM!AK664)","v":""},{"$f":"IF(ISBLANK(FromEvoM!AM664),\"\",FromEvoM!AM664)","v":""},{"$f":"IF(ISBLANK(FromEvoM!AN664),\"\",FromEvoM!AN664)","v":""},{"$f":"IF(ISBLANK(FromEvoM!AL664),\"\",FromEvoM!AL664)","v":""},{"$f":"IF(ISBLANK(FromEvoM!A664),\"\",IF(AND(AF664=\"y\",AI664=1),\"Y\",\"N\"))","v":""},{"$f":"IF(ISBLANK(FromEvoM!A664),\"\",IF(FromEvoM!AS664=\"Yes\",2,1))","v":""},{"$f":"IF(FromEvoM!W664=1,\"M\",IF(FromEvoM!W664=7,\"W\",\"\"))","v":""},{"$f":"IF(AJ664=\"Y\",0,IF(AJ664=\"N\",FromEvoM!AF664+FromEvoM!AT664,\"\"))","v":""},{"$f":"IF(AJ664=\"Y\",(FromEvoM!AE664+FromEvoM!AF664-FromEvoM!AT664),IF(AJ664=\"N\",FromEvoM!AE664,\"\"))","v":""}]
[{"$f":"IF(ISBLANK(FromEvoM!A665),\"\",Group_Code)","v":""},{"$f":"IF(ISBLANK(FromEvoM!A665),\"\",SUBSTITUTE(FromEvoM!A665,\" \",\"\"))","v":""},{"$f":"IF(ISBLANK(FromEvoM!C665),\"\",SUBSTITUTE(FromEvoM!G665,\" \",\"\"))","v":""},{"$f":"IF(ISBLANK(FromEvoM!D665),\"\",FromEvoM!B665)","v":""},{"$f":"IF(ISBLANK(FromEvoM!D665),\"\",FromEvoM!D665)","v":""},{"$f":"IF(ISBLANK(FromEvoM!C665),\"\",FromEvoM!C665)","v":""},{"$f":"REPLACE(FromEvoM!F665,2,6, )","v":""},{"$f":"IF(ISNUMBER(FromEvoM!E665),FromEvoM!E665,\"\")","v":""},{"$f":"IF(ISBLANK(FromEvoM!I665),\"\",FromEvoM!I665)","v":""},{"$f":"IF(ISBLANK(FromEvoM!J665),\"\",FromEvoM!J665)","v":""},{"$f":"IF(ISBLANK(FromEvoM!K665),\"\",FromEvoM!K665)","v":""},{"$f":"IF(ISBLANK(FromEvoM!L665),\"\",FromEvoM!L665)","v":""},{"$f":"IF(ISBLANK(FromEvoM!M665),\"\",FromEvoM!M665)","v":""},{"$f":"IF(ISBLANK(FromEvoM!P665),\"\",FromEvoM!P665)","v":""},null,{"$f":"IF(ISNUMBER(FromEvoM!X665),FromEvoM!X665,\"\")","v":""},{"$f":"IF(ISNUMBER(FromEvoM!AB665),FromEvoM!AB665,\"\")","v":""},{"$f":"IF(ISNUMBER(FromEvoM!AA665),FromEvoM!AA665,\"\")","v":""},null,"","",null,null,{"$f":"IF(FromEvoM!W665=1,(FromEvoM!AB665*12),IF(FromEvoM!W665=7,(FromEvoM!AR665),\"\"))","v":""},null,null,{"$f":"IF(ISBLANK(FromEvoM!A665),\"\",IF(FromEvoM!AK665=\"y\",\"Y\",\"N\"))","v":""},{"$f":"IF(ISBLANK(FromEvoM!A665),\"\",Category_ID)","v":""},null,null,null,{"$f":"IF(ISBLANK(FromEvoM!AK665),\"\",FromEvoM!AK665)","v":""},{"$f":"IF(ISBLANK(FromEvoM!AM665),\"\",FromEvoM!AM665)","v":""},{"$f":"IF(ISBLANK(FromEvoM!AN665),\"\",FromEvoM!AN665)","v":""},{"$f":"IF(ISBLANK(FromEvoM!AL665),\"\",FromEvoM!AL665)","v":""},{"$f":"IF(ISBLANK(FromEvoM!A665),\"\",IF(AND(AF665=\"y\",AI665=1),\"Y\",\"N\"))","v":""},{"$f":"IF(ISBLANK(FromEvoM!A665),\"\",IF(FromEvoM!AS665=\"Yes\",2,1))","v":""},{"$f":"IF(FromEvoM!W665=1,\"M\",IF(FromEvoM!W665=7,\"W\",\"\"))","v":""},{"$f":"IF(AJ665=\"Y\",0,IF(AJ665=\"N\",FromEvoM!AF665+FromEvoM!AT665,\"\"))","v":""},{"$f":"IF(AJ665=\"Y\",(FromEvoM!AE665+FromEvoM!AF665-FromEvoM!AT665),IF(AJ665=\"N\",FromEvoM!AE665,\"\"))","v":""}]
[{"$f":"IF(ISBLANK(FromEvoM!A666),\"\",Group_Code)","v":""},{"$f":"IF(ISBLANK(FromEvoM!A666),\"\",SUBSTITUTE(FromEvoM!A666,\" \",\"\"))","v":""},{"$f":"IF(ISBLANK(FromEvoM!C666),\"\",SUBSTITUTE(FromEvoM!G666,\" \",\"\"))","v":""},{"$f":"IF(ISBLANK(FromEvoM!D666),\"\",FromEvoM!B666)","v":""},{"$f":"IF(ISBLANK(FromEvoM!D666),\"\",FromEvoM!D666)","v":""},{"$f":"IF(ISBLANK(FromEvoM!C666),\"\",FromEvoM!C666)","v":""},{"$f":"REPLACE(FromEvoM!F666,2,6, )","v":""},{"$f":"IF(ISNUMBER(FromEvoM!E666),FromEvoM!E666,\"\")","v":""},{"$f":"IF(ISBLANK(FromEvoM!I666),\"\",FromEvoM!I666)","v":""},{"$f":"IF(ISBLANK(FromEvoM!J666),\"\",FromEvoM!J666)","v":""},{"$f":"IF(ISBLANK(FromEvoM!K666),\"\",FromEvoM!K666)","v":""},{"$f":"IF(ISBLANK(FromEvoM!L666),\"\",FromEvoM!L666)","v":""},{"$f":"IF(ISBLANK(FromEvoM!M666),\"\",FromEvoM!M666)","v":""},{"$f":"IF(ISBLANK(FromEvoM!P666),\"\",FromEvoM!P666)","v":""},null,{"$f":"IF(ISNUMBER(FromEvoM!X666),FromEvoM!X666,\"\")","v":""},{"$f":"IF(ISNUMBER(FromEvoM!AB666),FromEvoM!AB666,\"\")","v":""},{"$f":"IF(ISNUMBER(FromEvoM!AA666),FromEvoM!AA666,\"\")","v":""},null,"","",null,null,{"$f":"IF(FromEvoM!W666=1,(FromEvoM!AB666*12),IF(FromEvoM!W666=7,(FromEvoM!AR666),\"\"))","v":""},null,null,{"$f":"IF(ISBLANK(FromEvoM!A666),\"\",IF(FromEvoM!AK666=\"y\",\"Y\",\"N\"))","v":""},{"$f":"IF(ISBLANK(FromEvoM!A666),\"\",Category_ID)","v":""},null,null,null,{"$f":"IF(ISBLANK(FromEvoM!AK666),\"\",FromEvoM!AK666)","v":""},{"$f":"IF(ISBLANK(FromEvoM!AM666),\"\",FromEvoM!AM666)","v":""},{"$f":"IF(ISBLANK(FromEvoM!AN666),\"\",FromEvoM!AN666)","v":""},{"$f":"IF(ISBLANK(FromEvoM!AL666),\"\",FromEvoM!AL666)","v":""},{"$f":"IF(ISBLANK(FromEvoM!A666),\"\",IF(AND(AF666=\"y\",AI666=1),\"Y\",\"N\"))","v":""},{"$f":"IF(ISBLANK(FromEvoM!A666),\"\",IF(FromEvoM!AS666=\"Yes\",2,1))","v":""},{"$f":"IF(FromEvoM!W666=1,\"M\",IF(FromEvoM!W666=7,\"W\",\"\"))","v":""},{"$f":"IF(AJ666=\"Y\",0,IF(AJ666=\"N\",FromEvoM!AF666+FromEvoM!AT666,\"\"))","v":""},{"$f":"IF(AJ666=\"Y\",(FromEvoM!AE666+FromEvoM!AF666-FromEvoM!AT666),IF(AJ666=\"N\",FromEvoM!AE666,\"\"))","v":""}]
[{"$f":"IF(ISBLANK(FromEvoM!A667),\"\",Group_Code)","v":""},{"$f":"IF(ISBLANK(FromEvoM!A667),\"\",SUBSTITUTE(FromEvoM!A667,\" \",\"\"))","v":""},{"$f":"IF(ISBLANK(FromEvoM!C667),\"\",SUBSTITUTE(FromEvoM!G667,\" \",\"\"))","v":""},{"$f":"IF(ISBLANK(FromEvoM!D667),\"\",FromEvoM!B667)","v":""},{"$f":"IF(ISBLANK(FromEvoM!D667),\"\",FromEvoM!D667)","v":""},{"$f":"IF(ISBLANK(FromEvoM!C667),\"\",FromEvoM!C667)","v":""},{"$f":"REPLACE(FromEvoM!F667,2,6, )","v":""},{"$f":"IF(ISNUMBER(FromEvoM!E667),FromEvoM!E667,\"\")","v":""},{"$f":"IF(ISBLANK(FromEvoM!I667),\"\",FromEvoM!I667)","v":""},{"$f":"IF(ISBLANK(FromEvoM!J667),\"\",FromEvoM!J667)","v":""},{"$f":"IF(ISBLANK(FromEvoM!K667),\"\",FromEvoM!K667)","v":""},{"$f":"IF(ISBLANK(FromEvoM!L667),\"\",FromEvoM!L667)","v":""},{"$f":"IF(ISBLANK(FromEvoM!M667),\"\",FromEvoM!M667)","v":""},{"$f":"IF(ISBLANK(FromEvoM!P667),\"\",FromEvoM!P667)","v":""},null,{"$f":"IF(ISNUMBER(FromEvoM!X667),FromEvoM!X667,\"\")","v":""},{"$f":"IF(ISNUMBER(FromEvoM!AB667),FromEvoM!AB667,\"\")","v":""},{"$f":"IF(ISNUMBER(FromEvoM!AA667),FromEvoM!AA667,\"\")","v":""},null,"","",null,null,{"$f":"IF(FromEvoM!W667=1,(FromEvoM!AB667*12),IF(FromEvoM!W667=7,(FromEvoM!AR667),\"\"))","v":""},null,null,{"$f":"IF(ISBLANK(FromEvoM!A667),\"\",IF(FromEvoM!AK667=\"y\",\"Y\",\"N\"))","v":""},{"$f":"IF(ISBLANK(FromEvoM!A667),\"\",Category_ID)","v":""},null,null,null,{"$f":"IF(ISBLANK(FromEvoM!AK667),\"\",FromEvoM!AK667)","v":""},{"$f":"IF(ISBLANK(FromEvoM!AM667),\"\",FromEvoM!AM667)","v":""},{"$f":"IF(ISBLANK(FromEvoM!AN667),\"\",FromEvoM!AN667)","v":""},{"$f":"IF(ISBLANK(FromEvoM!AL667),\"\",FromEvoM!AL667)","v":""},{"$f":"IF(ISBLANK(FromEvoM!A667),\"\",IF(AND(AF667=\"y\",AI667=1),\"Y\",\"N\"))","v":""},{"$f":"IF(ISBLANK(FromEvoM!A667),\"\",IF(FromEvoM!AS667=\"Yes\",2,1))","v":""},{"$f":"IF(FromEvoM!W667=1,\"M\",IF(FromEvoM!W667=7,\"W\",\"\"))","v":""},{"$f":"IF(AJ667=\"Y\",0,IF(AJ667=\"N\",FromEvoM!AF667+FromEvoM!AT667,\"\"))","v":""},{"$f":"IF(AJ667=\"Y\",(FromEvoM!AE667+FromEvoM!AF667-FromEvoM!AT667),IF(AJ667=\"N\",FromEvoM!AE667,\"\"))","v":""}]
[{"$f":"IF(ISBLANK(FromEvoM!A668),\"\",Group_Code)","v":""},{"$f":"IF(ISBLANK(FromEvoM!A668),\"\",SUBSTITUTE(FromEvoM!A668,\" \",\"\"))","v":""},{"$f":"IF(ISBLANK(FromEvoM!C668),\"\",SUBSTITUTE(FromEvoM!G668,\" \",\"\"))","v":""},{"$f":"IF(ISBLANK(FromEvoM!D668),\"\",FromEvoM!B668)","v":""},{"$f":"IF(ISBLANK(FromEvoM!D668),\"\",FromEvoM!D668)","v":""},{"$f":"IF(ISBLANK(FromEvoM!C668),\"\",FromEvoM!C668)","v":""},{"$f":"REPLACE(FromEvoM!F668,2,6, )","v":""},{"$f":"IF(ISNUMBER(FromEvoM!E668),FromEvoM!E668,\"\")","v":""},{"$f":"IF(ISBLANK(FromEvoM!I668),\"\",FromEvoM!I668)","v":""},{"$f":"IF(ISBLANK(FromEvoM!J668),\"\",FromEvoM!J668)","v":""},{"$f":"IF(ISBLANK(FromEvoM!K668),\"\",FromEvoM!K668)","v":""},{"$f":"IF(ISBLANK(FromEvoM!L668),\"\",FromEvoM!L668)","v":""},{"$f":"IF(ISBLANK(FromEvoM!M668),\"\",FromEvoM!M668)","v":""},{"$f":"IF(ISBLANK(FromEvoM!P668),\"\",FromEvoM!P668)","v":""},null,{"$f":"IF(ISNUMBER(FromEvoM!X668),FromEvoM!X668,\"\")","v":""},{"$f":"IF(ISNUMBER(FromEvoM!AB668),FromEvoM!AB668,\"\")","v":""},{"$f":"IF(ISNUMBER(FromEvoM!AA668),FromEvoM!AA668,\"\")","v":""},null,"","",null,null,{"$f":"IF(FromEvoM!W668=1,(FromEvoM!AB668*12),IF(FromEvoM!W668=7,(FromEvoM!AR668),\"\"))","v":""},null,null,{"$f":"IF(ISBLANK(FromEvoM!A668),\"\",IF(FromEvoM!AK668=\"y\",\"Y\",\"N\"))","v":""},{"$f":"IF(ISBLANK(FromEvoM!A668),\"\",Category_ID)","v":""},null,null,null,{"$f":"IF(ISBLANK(FromEvoM!AK668),\"\",FromEvoM!AK668)","v":""},{"$f":"IF(ISBLANK(FromEvoM!AM668),\"\",FromEvoM!AM668)","v":""},{"$f":"IF(ISBLANK(FromEvoM!AN668),\"\",FromEvoM!AN668)","v":""},{"$f":"IF(ISBLANK(FromEvoM!AL668),\"\",FromEvoM!AL668)","v":""},{"$f":"IF(ISBLANK(FromEvoM!A668),\"\",IF(AND(AF668=\"y\",AI668=1),\"Y\",\"N\"))","v":""},{"$f":"IF(ISBLANK(FromEvoM!A668),\"\",IF(FromEvoM!AS668=\"Yes\",2,1))","v":""},{"$f":"IF(FromEvoM!W668=1,\"M\",IF(FromEvoM!W668=7,\"W\",\"\"))","v":""},{"$f":"IF(AJ668=\"Y\",0,IF(AJ668=\"N\",FromEvoM!AF668+FromEvoM!AT668,\"\"))","v":""},{"$f":"IF(AJ668=\"Y\",(FromEvoM!AE668+FromEvoM!AF668-FromEvoM!AT668),IF(AJ668=\"N\",FromEvoM!AE668,\"\"))","v":""}]
[{"$f":"IF(ISBLANK(FromEvoM!A669),\"\",Group_Code)","v":""},{"$f":"IF(ISBLANK(FromEvoM!A669),\"\",SUBSTITUTE(FromEvoM!A669,\" \",\"\"))","v":""},{"$f":"IF(ISBLANK(FromEvoM!C669),\"\",SUBSTITUTE(FromEvoM!G669,\" \",\"\"))","v":""},{"$f":"IF(ISBLANK(FromEvoM!D669),\"\",FromEvoM!B669)","v":""},{"$f":"IF(ISBLANK(FromEvoM!D669),\"\",FromEvoM!D669)","v":""},{"$f":"IF(ISBLANK(FromEvoM!C669),\"\",FromEvoM!C669)","v":""},{"$f":"REPLACE(FromEvoM!F669,2,6, )","v":""},{"$f":"IF(ISNUMBER(FromEvoM!E669),FromEvoM!E669,\"\")","v":""},{"$f":"IF(ISBLANK(FromEvoM!I669),\"\",FromEvoM!I669)","v":""},{"$f":"IF(ISBLANK(FromEvoM!J669),\"\",FromEvoM!J669)","v":""},{"$f":"IF(ISBLANK(FromEvoM!K669),\"\",FromEvoM!K669)","v":""},{"$f":"IF(ISBLANK(FromEvoM!L669),\"\",FromEvoM!L669)","v":""},{"$f":"IF(ISBLANK(FromEvoM!M669),\"\",FromEvoM!M669)","v":""},{"$f":"IF(ISBLANK(FromEvoM!P669),\"\",FromEvoM!P669)","v":""},null,{"$f":"IF(ISNUMBER(FromEvoM!X669),FromEvoM!X669,\"\")","v":""},{"$f":"IF(ISNUMBER(FromEvoM!AB669),FromEvoM!AB669,\"\")","v":""},{"$f":"IF(ISNUMBER(FromEvoM!AA669),FromEvoM!AA669,\"\")","v":""},null,"","",null,null,{"$f":"IF(FromEvoM!W669=1,(FromEvoM!AB669*12),IF(FromEvoM!W669=7,(FromEvoM!AR669),\"\"))","v":""},null,null,{"$f":"IF(ISBLANK(FromEvoM!A669),\"\",IF(FromEvoM!AK669=\"y\",\"Y\",\"N\"))","v":""},{"$f":"IF(ISBLANK(FromEvoM!A669),\"\",Category_ID)","v":""},null,null,null,{"$f":"IF(ISBLANK(FromEvoM!AK669),\"\",FromEvoM!AK669)","v":""},{"$f":"IF(ISBLANK(FromEvoM!AM669),\"\",FromEvoM!AM669)","v":""},{"$f":"IF(ISBLANK(FromEvoM!AN669),\"\",FromEvoM!AN669)","v":""},{"$f":"IF(ISBLANK(FromEvoM!AL669),\"\",FromEvoM!AL669)","v":""},{"$f":"IF(ISBLANK(FromEvoM!A669),\"\",IF(AND(AF669=\"y\",AI669=1),\"Y\",\"N\"))","v":""},{"$f":"IF(ISBLANK(FromEvoM!A669),\"\",IF(FromEvoM!AS669=\"Yes\",2,1))","v":""},{"$f":"IF(FromEvoM!W669=1,\"M\",IF(FromEvoM!W669=7,\"W\",\"\"))","v":""},{"$f":"IF(AJ669=\"Y\",0,IF(AJ669=\"N\",FromEvoM!AF669+FromEvoM!AT669,\"\"))","v":""},{"$f":"IF(AJ669=\"Y\",(FromEvoM!AE669+FromEvoM!AF669-FromEvoM!AT669),IF(AJ669=\"N\",FromEvoM!AE669,\"\"))","v":""}]
[{"$f":"IF(ISBLANK(FromEvoM!A670),\"\",Group_Code)","v":""},{"$f":"IF(ISBLANK(FromEvoM!A670),\"\",SUBSTITUTE(FromEvoM!A670,\" \",\"\"))","v":""},{"$f":"IF(ISBLANK(FromEvoM!C670),\"\",SUBSTITUTE(FromEvoM!G670,\" \",\"\"))","v":""},{"$f":"IF(ISBLANK(FromEvoM!D670),\"\",FromEvoM!B670)","v":""},{"$f":"IF(ISBLANK(FromEvoM!D670),\"\",FromEvoM!D670)","v":""},{"$f":"IF(ISBLANK(FromEvoM!C670),\"\",FromEvoM!C670)","v":""},{"$f":"REPLACE(FromEvoM!F670,2,6, )","v":""},{"$f":"IF(ISNUMBER(FromEvoM!E670),FromEvoM!E670,\"\")","v":""},{"$f":"IF(ISBLANK(FromEvoM!I670),\"\",FromEvoM!I670)","v":""},{"$f":"IF(ISBLANK(FromEvoM!J670),\"\",FromEvoM!J670)","v":""},{"$f":"IF(ISBLANK(FromEvoM!K670),\"\",FromEvoM!K670)","v":""},{"$f":"IF(ISBLANK(FromEvoM!L670),\"\",FromEvoM!L670)","v":""},{"$f":"IF(ISBLANK(FromEvoM!M670),\"\",FromEvoM!M670)","v":""},{"$f":"IF(ISBLANK(FromEvoM!P670),\"\",FromEvoM!P670)","v":""},null,{"$f":"IF(ISNUMBER(FromEvoM!X670),FromEvoM!X670,\"\")","v":""},{"$f":"IF(ISNUMBER(FromEvoM!AB670),FromEvoM!AB670,\"\")","v":""},{"$f":"IF(ISNUMBER(FromEvoM!AA670),FromEvoM!AA670,\"\")","v":""},null,"","",null,null,{"$f":"IF(FromEvoM!W670=1,(FromEvoM!AB670*12),IF(FromEvoM!W670=7,(FromEvoM!AR670),\"\"))","v":""},null,null,{"$f":"IF(ISBLANK(FromEvoM!A670),\"\",IF(FromEvoM!AK670=\"y\",\"Y\",\"N\"))","v":""},{"$f":"IF(ISBLANK(FromEvoM!A670),\"\",Category_ID)","v":""},null,null,null,{"$f":"IF(ISBLANK(FromEvoM!AK670),\"\",FromEvoM!AK670)","v":""},{"$f":"IF(ISBLANK(FromEvoM!AM670),\"\",FromEvoM!AM670)","v":""},{"$f":"IF(ISBLANK(FromEvoM!AN670),\"\",FromEvoM!AN670)","v":""},{"$f":"IF(ISBLANK(FromEvoM!AL670),\"\",FromEvoM!AL670)","v":""},{"$f":"IF(ISBLANK(FromEvoM!A670),\"\",IF(AND(AF670=\"y\",AI670=1),\"Y\",\"N\"))","v":""},{"$f":"IF(ISBLANK(FromEvoM!A670),\"\",IF(FromEvoM!AS670=\"Yes\",2,1))","v":""},{"$f":"IF(FromEvoM!W670=1,\"M\",IF(FromEvoM!W670=7,\"W\",\"\"))","v":""},{"$f":"IF(AJ670=\"Y\",0,IF(AJ670=\"N\",FromEvoM!AF670+FromEvoM!AT670,\"\"))","v":""},{"$f":"IF(AJ670=\"Y\",(FromEvoM!AE670+FromEvoM!AF670-FromEvoM!AT670),IF(AJ670=\"N\",FromEvoM!AE670,\"\"))","v":""}]
[{"$f":"IF(ISBLANK(FromEvoM!A671),\"\",Group_Code)","v":""},{"$f":"IF(ISBLANK(FromEvoM!A671),\"\",SUBSTITUTE(FromEvoM!A671,\" \",\"\"))","v":""},{"$f":"IF(ISBLANK(FromEvoM!C671),\"\",SUBSTITUTE(FromEvoM!G671,\" \",\"\"))","v":""},{"$f":"IF(ISBLANK(FromEvoM!D671),\"\",FromEvoM!B671)","v":""},{"$f":"IF(ISBLANK(FromEvoM!D671),\"\",FromEvoM!D671)","v":""},{"$f":"IF(ISBLANK(FromEvoM!C671),\"\",FromEvoM!C671)","v":""},{"$f":"REPLACE(FromEvoM!F671,2,6, )","v":""},{"$f":"IF(ISNUMBER(FromEvoM!E671),FromEvoM!E671,\"\")","v":""},{"$f":"IF(ISBLANK(FromEvoM!I671),\"\",FromEvoM!I671)","v":""},{"$f":"IF(ISBLANK(FromEvoM!J671),\"\",FromEvoM!J671)","v":""},{"$f":"IF(ISBLANK(FromEvoM!K671),\"\",FromEvoM!K671)","v":""},{"$f":"IF(ISBLANK(FromEvoM!L671),\"\",FromEvoM!L671)","v":""},{"$f":"IF(ISBLANK(FromEvoM!M671),\"\",FromEvoM!M671)","v":""},{"$f":"IF(ISBLANK(FromEvoM!P671),\"\",FromEvoM!P671)","v":""},null,{"$f":"IF(ISNUMBER(FromEvoM!X671),FromEvoM!X671,\"\")","v":""},{"$f":"IF(ISNUMBER(FromEvoM!AB671),FromEvoM!AB671,\"\")","v":""},{"$f":"IF(ISNUMBER(FromEvoM!AA671),FromEvoM!AA671,\"\")","v":""},null,"","",null,null,{"$f":"IF(FromEvoM!W671=1,(FromEvoM!AB671*12),IF(FromEvoM!W671=7,(FromEvoM!AR671),\"\"))","v":""},null,null,{"$f":"IF(ISBLANK(FromEvoM!A671),\"\",IF(FromEvoM!AK671=\"y\",\"Y\",\"N\"))","v":""},{"$f":"IF(ISBLANK(FromEvoM!A671),\"\",Category_ID)","v":""},null,null,null,{"$f":"IF(ISBLANK(FromEvoM!AK671),\"\",FromEvoM!AK671)","v":""},{"$f":"IF(ISBLANK(FromEvoM!AM671),\"\",FromEvoM!AM671)","v":""},{"$f":"IF(ISBLANK(FromEvoM!AN671),\"\",FromEvoM!AN671)","v":""},{"$f":"IF(ISBLANK(FromEvoM!AL671),\"\",FromEvoM!AL671)","v":""},{"$f":"IF(ISBLANK(FromEvoM!A671),\"\",IF(AND(AF671=\"y\",AI671=1),\"Y\",\"N\"))","v":""},{"$f":"IF(ISBLANK(FromEvoM!A671),\"\",IF(FromEvoM!AS671=\"Yes\",2,1))","v":""},{"$f":"IF(FromEvoM!W671=1,\"M\",IF(FromEvoM!W671=7,\"W\",\"\"))","v":""},{"$f":"IF(AJ671=\"Y\",0,IF(AJ671=\"N\",FromEvoM!AF671+FromEvoM!AT671,\"\"))","v":""},{"$f":"IF(AJ671=\"Y\",(FromEvoM!AE671+FromEvoM!AF671-FromEvoM!AT671),IF(AJ671=\"N\",FromEvoM!AE671,\"\"))","v":""}]
[{"$f":"IF(ISBLANK(FromEvoM!A672),\"\",Group_Code)","v":""},{"$f":"IF(ISBLANK(FromEvoM!A672),\"\",SUBSTITUTE(FromEvoM!A672,\" \",\"\"))","v":""},{"$f":"IF(ISBLANK(FromEvoM!C672),\"\",SUBSTITUTE(FromEvoM!G672,\" \",\"\"))","v":""},{"$f":"IF(ISBLANK(FromEvoM!D672),\"\",FromEvoM!B672)","v":""},{"$f":"IF(ISBLANK(FromEvoM!D672),\"\",FromEvoM!D672)","v":""},{"$f":"IF(ISBLANK(FromEvoM!C672),\"\",FromEvoM!C672)","v":""},{"$f":"REPLACE(FromEvoM!F672,2,6, )","v":""},{"$f":"IF(ISNUMBER(FromEvoM!E672),FromEvoM!E672,\"\")","v":""},{"$f":"IF(ISBLANK(FromEvoM!I672),\"\",FromEvoM!I672)","v":""},{"$f":"IF(ISBLANK(FromEvoM!J672),\"\",FromEvoM!J672)","v":""},{"$f":"IF(ISBLANK(FromEvoM!K672),\"\",FromEvoM!K672)","v":""},{"$f":"IF(ISBLANK(FromEvoM!L672),\"\",FromEvoM!L672)","v":""},{"$f":"IF(ISBLANK(FromEvoM!M672),\"\",FromEvoM!M672)","v":""},{"$f":"IF(ISBLANK(FromEvoM!P672),\"\",FromEvoM!P672)","v":""},null,{"$f":"IF(ISNUMBER(FromEvoM!X672),FromEvoM!X672,\"\")","v":""},{"$f":"IF(ISNUMBER(FromEvoM!AB672),FromEvoM!AB672,\"\")","v":""},{"$f":"IF(ISNUMBER(FromEvoM!AA672),FromEvoM!AA672,\"\")","v":""},null,"","",null,null,{"$f":"IF(FromEvoM!W672=1,(FromEvoM!AB672*12),IF(FromEvoM!W672=7,(FromEvoM!AR672),\"\"))","v":""},null,null,{"$f":"IF(ISBLANK(FromEvoM!A672),\"\",IF(FromEvoM!AK672=\"y\",\"Y\",\"N\"))","v":""},{"$f":"IF(ISBLANK(FromEvoM!A672),\"\",Category_ID)","v":""},null,null,null,{"$f":"IF(ISBLANK(FromEvoM!AK672),\"\",FromEvoM!AK672)","v":""},{"$f":"IF(ISBLANK(FromEvoM!AM672),\"\",FromEvoM!AM672)","v":""},{"$f":"IF(ISBLANK(FromEvoM!AN672),\"\",FromEvoM!AN672)","v":""},{"$f":"IF(ISBLANK(FromEvoM!AL672),\"\",FromEvoM!AL672)","v":""},{"$f":"IF(ISBLANK(FromEvoM!A672),\"\",IF(AND(AF672=\"y\",AI672=1),\"Y\",\"N\"))","v":""},{"$f":"IF(ISBLANK(FromEvoM!A672),\"\",IF(FromEvoM!AS672=\"Yes\",2,1))","v":""},{"$f":"IF(FromEvoM!W672=1,\"M\",IF(FromEvoM!W672=7,\"W\",\"\"))","v":""},{"$f":"IF(AJ672=\"Y\",0,IF(AJ672=\"N\",FromEvoM!AF672+FromEvoM!AT672,\"\"))","v":""},{"$f":"IF(AJ672=\"Y\",(FromEvoM!AE672+FromEvoM!AF672-FromEvoM!AT672),IF(AJ672=\"N\",FromEvoM!AE672,\"\"))","v":""}]
[{"$f":"IF(ISBLANK(FromEvoM!A673),\"\",Group_Code)","v":""},{"$f":"IF(ISBLANK(FromEvoM!A673),\"\",SUBSTITUTE(FromEvoM!A673,\" \",\"\"))","v":""},{"$f":"IF(ISBLANK(FromEvoM!C673),\"\",SUBSTITUTE(FromEvoM!G673,\" \",\"\"))","v":""},{"$f":"IF(ISBLANK(FromEvoM!D673),\"\",FromEvoM!B673)","v":""},{"$f":"IF(ISBLANK(FromEvoM!D673),\"\",FromEvoM!D673)","v":""},{"$f":"IF(ISBLANK(FromEvoM!C673),\"\",FromEvoM!C673)","v":""},{"$f":"REPLACE(FromEvoM!F673,2,6, )","v":""},{"$f":"IF(ISNUMBER(FromEvoM!E673),FromEvoM!E673,\"\")","v":""},{"$f":"IF(ISBLANK(FromEvoM!I673),\"\",FromEvoM!I673)","v":""},{"$f":"IF(ISBLANK(FromEvoM!J673),\"\",FromEvoM!J673)","v":""},{"$f":"IF(ISBLANK(FromEvoM!K673),\"\",FromEvoM!K673)","v":""},{"$f":"IF(ISBLANK(FromEvoM!L673),\"\",FromEvoM!L673)","v":""},{"$f":"IF(ISBLANK(FromEvoM!M673),\"\",FromEvoM!M673)","v":""},{"$f":"IF(ISBLANK(FromEvoM!P673),\"\",FromEvoM!P673)","v":""},null,{"$f":"IF(ISNUMBER(FromEvoM!X673),FromEvoM!X673,\"\")","v":""},{"$f":"IF(ISNUMBER(FromEvoM!AB673),FromEvoM!AB673,\"\")","v":""},{"$f":"IF(ISNUMBER(FromEvoM!AA673),FromEvoM!AA673,\"\")","v":""},null,"","",null,null,{"$f":"IF(FromEvoM!W673=1,(FromEvoM!AB673*12),IF(FromEvoM!W673=7,(FromEvoM!AR673),\"\"))","v":""},null,null,{"$f":"IF(ISBLANK(FromEvoM!A673),\"\",IF(FromEvoM!AK673=\"y\",\"Y\",\"N\"))","v":""},{"$f":"IF(ISBLANK(FromEvoM!A673),\"\",Category_ID)","v":""},null,null,null,{"$f":"IF(ISBLANK(FromEvoM!AK673),\"\",FromEvoM!AK673)","v":""},{"$f":"IF(ISBLANK(FromEvoM!AM673),\"\",FromEvoM!AM673)","v":""},{"$f":"IF(ISBLANK(FromEvoM!AN673),\"\",FromEvoM!AN673)","v":""},{"$f":"IF(ISBLANK(FromEvoM!AL673),\"\",FromEvoM!AL673)","v":""},{"$f":"IF(ISBLANK(FromEvoM!A673),\"\",IF(AND(AF673=\"y\",AI673=1),\"Y\",\"N\"))","v":""},{"$f":"IF(ISBLANK(FromEvoM!A673),\"\",IF(FromEvoM!AS673=\"Yes\",2,1))","v":""},{"$f":"IF(FromEvoM!W673=1,\"M\",IF(FromEvoM!W673=7,\"W\",\"\"))","v":""},{"$f":"IF(AJ673=\"Y\",0,IF(AJ673=\"N\",FromEvoM!AF673+FromEvoM!AT673,\"\"))","v":""},{"$f":"IF(AJ673=\"Y\",(FromEvoM!AE673+FromEvoM!AF673-FromEvoM!AT673),IF(AJ673=\"N\",FromEvoM!AE673,\"\"))","v":""}]
[{"$f":"IF(ISBLANK(FromEvoM!A674),\"\",Group_Code)","v":""},{"$f":"IF(ISBLANK(FromEvoM!A674),\"\",SUBSTITUTE(FromEvoM!A674,\" \",\"\"))","v":""},{"$f":"IF(ISBLANK(FromEvoM!C674),\"\",SUBSTITUTE(FromEvoM!G674,\" \",\"\"))","v":""},{"$f":"IF(ISBLANK(FromEvoM!D674),\"\",FromEvoM!B674)","v":""},{"$f":"IF(ISBLANK(FromEvoM!D674),\"\",FromEvoM!D674)","v":""},{"$f":"IF(ISBLANK(FromEvoM!C674),\"\",FromEvoM!C674)","v":""},{"$f":"REPLACE(FromEvoM!F674,2,6, )","v":""},{"$f":"IF(ISNUMBER(FromEvoM!E674),FromEvoM!E674,\"\")","v":""},{"$f":"IF(ISBLANK(FromEvoM!I674),\"\",FromEvoM!I674)","v":""},{"$f":"IF(ISBLANK(FromEvoM!J674),\"\",FromEvoM!J674)","v":""},{"$f":"IF(ISBLANK(FromEvoM!K674),\"\",FromEvoM!K674)","v":""},{"$f":"IF(ISBLANK(FromEvoM!L674),\"\",FromEvoM!L674)","v":""},{"$f":"IF(ISBLANK(FromEvoM!M674),\"\",FromEvoM!M674)","v":""},{"$f":"IF(ISBLANK(FromEvoM!P674),\"\",FromEvoM!P674)","v":""},null,{"$f":"IF(ISNUMBER(FromEvoM!X674),FromEvoM!X674,\"\")","v":""},{"$f":"IF(ISNUMBER(FromEvoM!AB674),FromEvoM!AB674,\"\")","v":""},{"$f":"IF(ISNUMBER(FromEvoM!AA674),FromEvoM!AA674,\"\")","v":""},null,"","",null,null,{"$f":"IF(FromEvoM!W674=1,(FromEvoM!AB674*12),IF(FromEvoM!W674=7,(FromEvoM!AR674),\"\"))","v":""},null,null,{"$f":"IF(ISBLANK(FromEvoM!A674),\"\",IF(FromEvoM!AK674=\"y\",\"Y\",\"N\"))","v":""},{"$f":"IF(ISBLANK(FromEvoM!A674),\"\",Category_ID)","v":""},null,null,null,{"$f":"IF(ISBLANK(FromEvoM!AK674),\"\",FromEvoM!AK674)","v":""},{"$f":"IF(ISBLANK(FromEvoM!AM674),\"\",FromEvoM!AM674)","v":""},{"$f":"IF(ISBLANK(FromEvoM!AN674),\"\",FromEvoM!AN674)","v":""},{"$f":"IF(ISBLANK(FromEvoM!AL674),\"\",FromEvoM!AL674)","v":""},{"$f":"IF(ISBLANK(FromEvoM!A674),\"\",IF(AND(AF674=\"y\",AI674=1),\"Y\",\"N\"))","v":""},{"$f":"IF(ISBLANK(FromEvoM!A674),\"\",IF(FromEvoM!AS674=\"Yes\",2,1))","v":""},{"$f":"IF(FromEvoM!W674=1,\"M\",IF(FromEvoM!W674=7,\"W\",\"\"))","v":""},{"$f":"IF(AJ674=\"Y\",0,IF(AJ674=\"N\",FromEvoM!AF674+FromEvoM!AT674,\"\"))","v":""},{"$f":"IF(AJ674=\"Y\",(FromEvoM!AE674+FromEvoM!AF674-FromEvoM!AT674),IF(AJ674=\"N\",FromEvoM!AE674,\"\"))","v":""}]
[{"$f":"IF(ISBLANK(FromEvoM!A675),\"\",Group_Code)","v":""},{"$f":"IF(ISBLANK(FromEvoM!A675),\"\",SUBSTITUTE(FromEvoM!A675,\" \",\"\"))","v":""},{"$f":"IF(ISBLANK(FromEvoM!C675),\"\",SUBSTITUTE(FromEvoM!G675,\" \",\"\"))","v":""},{"$f":"IF(ISBLANK(FromEvoM!D675),\"\",FromEvoM!B675)","v":""},{"$f":"IF(ISBLANK(FromEvoM!D675),\"\",FromEvoM!D675)","v":""},{"$f":"IF(ISBLANK(FromEvoM!C675),\"\",FromEvoM!C675)","v":""},{"$f":"REPLACE(FromEvoM!F675,2,6, )","v":""},{"$f":"IF(ISNUMBER(FromEvoM!E675),FromEvoM!E675,\"\")","v":""},{"$f":"IF(ISBLANK(FromEvoM!I675),\"\",FromEvoM!I675)","v":""},{"$f":"IF(ISBLANK(FromEvoM!J675),\"\",FromEvoM!J675)","v":""},{"$f":"IF(ISBLANK(FromEvoM!K675),\"\",FromEvoM!K675)","v":""},{"$f":"IF(ISBLANK(FromEvoM!L675),\"\",FromEvoM!L675)","v":""},{"$f":"IF(ISBLANK(FromEvoM!M675),\"\",FromEvoM!M675)","v":""},{"$f":"IF(ISBLANK(FromEvoM!P675),\"\",FromEvoM!P675)","v":""},null,{"$f":"IF(ISNUMBER(FromEvoM!X675),FromEvoM!X675,\"\")","v":""},{"$f":"IF(ISNUMBER(FromEvoM!AB675),FromEvoM!AB675,\"\")","v":""},{"$f":"IF(ISNUMBER(FromEvoM!AA675),FromEvoM!AA675,\"\")","v":""},null,"","",null,null,{"$f":"IF(FromEvoM!W675=1,(FromEvoM!AB675*12),IF(FromEvoM!W675=7,(FromEvoM!AR675),\"\"))","v":""},null,null,{"$f":"IF(ISBLANK(FromEvoM!A675),\"\",IF(FromEvoM!AK675=\"y\",\"Y\",\"N\"))","v":""},{"$f":"IF(ISBLANK(FromEvoM!A675),\"\",Category_ID)","v":""},null,null,null,{"$f":"IF(ISBLANK(FromEvoM!AK675),\"\",FromEvoM!AK675)","v":""},{"$f":"IF(ISBLANK(FromEvoM!AM675),\"\",FromEvoM!AM675)","v":""},{"$f":"IF(ISBLANK(FromEvoM!AN675),\"\",FromEvoM!AN675)","v":""},{"$f":"IF(ISBLANK(FromEvoM!AL675),\"\",FromEvoM!AL675)","v":""},{"$f":"IF(ISBLANK(FromEvoM!A675),\"\",IF(AND(AF675=\"y\",AI675=1),\"Y\",\"N\"))","v":""},{"$f":"IF(ISBLANK(FromEvoM!A675),\"\",IF(FromEvoM!AS675=\"Yes\",2,1))","v":""},{"$f":"IF(FromEvoM!W675=1,\"M\",IF(FromEvoM!W675=7,\"W\",\"\"))","v":""},{"$f":"IF(AJ675=\"Y\",0,IF(AJ675=\"N\",FromEvoM!AF675+FromEvoM!AT675,\"\"))","v":""},{"$f":"IF(AJ675=\"Y\",(FromEvoM!AE675+FromEvoM!AF675-FromEvoM!AT675),IF(AJ675=\"N\",FromEvoM!AE675,\"\"))","v":""}]
[{"$f":"IF(ISBLANK(FromEvoM!A676),\"\",Group_Code)","v":""},{"$f":"IF(ISBLANK(FromEvoM!A676),\"\",SUBSTITUTE(FromEvoM!A676,\" \",\"\"))","v":""},{"$f":"IF(ISBLANK(FromEvoM!C676),\"\",SUBSTITUTE(FromEvoM!G676,\" \",\"\"))","v":""},{"$f":"IF(ISBLANK(FromEvoM!D676),\"\",FromEvoM!B676)","v":""},{"$f":"IF(ISBLANK(FromEvoM!D676),\"\",FromEvoM!D676)","v":""},{"$f":"IF(ISBLANK(FromEvoM!C676),\"\",FromEvoM!C676)","v":""},{"$f":"REPLACE(FromEvoM!F676,2,6, )","v":""},{"$f":"IF(ISNUMBER(FromEvoM!E676),FromEvoM!E676,\"\")","v":""},{"$f":"IF(ISBLANK(FromEvoM!I676),\"\",FromEvoM!I676)","v":""},{"$f":"IF(ISBLANK(FromEvoM!J676),\"\",FromEvoM!J676)","v":""},{"$f":"IF(ISBLANK(FromEvoM!K676),\"\",FromEvoM!K676)","v":""},{"$f":"IF(ISBLANK(FromEvoM!L676),\"\",FromEvoM!L676)","v":""},{"$f":"IF(ISBLANK(FromEvoM!M676),\"\",FromEvoM!M676)","v":""},{"$f":"IF(ISBLANK(FromEvoM!P676),\"\",FromEvoM!P676)","v":""},null,{"$f":"IF(ISNUMBER(FromEvoM!X676),FromEvoM!X676,\"\")","v":""},{"$f":"IF(ISNUMBER(FromEvoM!AB676),FromEvoM!AB676,\"\")","v":""},{"$f":"IF(ISNUMBER(FromEvoM!AA676),FromEvoM!AA676,\"\")","v":""},null,"","",null,null,{"$f":"IF(FromEvoM!W676=1,(FromEvoM!AB676*12),IF(FromEvoM!W676=7,(FromEvoM!AR676),\"\"))","v":""},null,null,{"$f":"IF(ISBLANK(FromEvoM!A676),\"\",IF(FromEvoM!AK676=\"y\",\"Y\",\"N\"))","v":""},{"$f":"IF(ISBLANK(FromEvoM!A676),\"\",Category_ID)","v":""},null,null,null,{"$f":"IF(ISBLANK(FromEvoM!AK676),\"\",FromEvoM!AK676)","v":""},{"$f":"IF(ISBLANK(FromEvoM!AM676),\"\",FromEvoM!AM676)","v":""},{"$f":"IF(ISBLANK(FromEvoM!AN676),\"\",FromEvoM!AN676)","v":""},{"$f":"IF(ISBLANK(FromEvoM!AL676),\"\",FromEvoM!AL676)","v":""},{"$f":"IF(ISBLANK(FromEvoM!A676),\"\",IF(AND(AF676=\"y\",AI676=1),\"Y\",\"N\"))","v":""},{"$f":"IF(ISBLANK(FromEvoM!A676),\"\",IF(FromEvoM!AS676=\"Yes\",2,1))","v":""},{"$f":"IF(FromEvoM!W676=1,\"M\",IF(FromEvoM!W676=7,\"W\",\"\"))","v":""},{"$f":"IF(AJ676=\"Y\",0,IF(AJ676=\"N\",FromEvoM!AF676+FromEvoM!AT676,\"\"))","v":""},{"$f":"IF(AJ676=\"Y\",(FromEvoM!AE676+FromEvoM!AF676-FromEvoM!AT676),IF(AJ676=\"N\",FromEvoM!AE676,\"\"))","v":""}]
[{"$f":"IF(ISBLANK(FromEvoM!A677),\"\",Group_Code)","v":""},{"$f":"IF(ISBLANK(FromEvoM!A677),\"\",SUBSTITUTE(FromEvoM!A677,\" \",\"\"))","v":""},{"$f":"IF(ISBLANK(FromEvoM!C677),\"\",SUBSTITUTE(FromEvoM!G677,\" \",\"\"))","v":""},{"$f":"IF(ISBLANK(FromEvoM!D677),\"\",FromEvoM!B677)","v":""},{"$f":"IF(ISBLANK(FromEvoM!D677),\"\",FromEvoM!D677)","v":""},{"$f":"IF(ISBLANK(FromEvoM!C677),\"\",FromEvoM!C677)","v":""},{"$f":"REPLACE(FromEvoM!F677,2,6, )","v":""},{"$f":"IF(ISNUMBER(FromEvoM!E677),FromEvoM!E677,\"\")","v":""},{"$f":"IF(ISBLANK(FromEvoM!I677),\"\",FromEvoM!I677)","v":""},{"$f":"IF(ISBLANK(FromEvoM!J677),\"\",FromEvoM!J677)","v":""},{"$f":"IF(ISBLANK(FromEvoM!K677),\"\",FromEvoM!K677)","v":""},{"$f":"IF(ISBLANK(FromEvoM!L677),\"\",FromEvoM!L677)","v":""},{"$f":"IF(ISBLANK(FromEvoM!M677),\"\",FromEvoM!M677)","v":""},{"$f":"IF(ISBLANK(FromEvoM!P677),\"\",FromEvoM!P677)","v":""},null,{"$f":"IF(ISNUMBER(FromEvoM!X677),FromEvoM!X677,\"\")","v":""},{"$f":"IF(ISNUMBER(FromEvoM!AB677),FromEvoM!AB677,\"\")","v":""},{"$f":"IF(ISNUMBER(FromEvoM!AA677),FromEvoM!AA677,\"\")","v":""},null,"","",null,null,{"$f":"IF(FromEvoM!W677=1,(FromEvoM!AB677*12),IF(FromEvoM!W677=7,(FromEvoM!AR677),\"\"))","v":""},null,null,{"$f":"IF(ISBLANK(FromEvoM!A677),\"\",IF(FromEvoM!AK677=\"y\",\"Y\",\"N\"))","v":""},{"$f":"IF(ISBLANK(FromEvoM!A677),\"\",Category_ID)","v":""},null,null,null,{"$f":"IF(ISBLANK(FromEvoM!AK677),\"\",FromEvoM!AK677)","v":""},{"$f":"IF(ISBLANK(FromEvoM!AM677),\"\",FromEvoM!AM677)","v":""},{"$f":"IF(ISBLANK(FromEvoM!AN677),\"\",FromEvoM!AN677)","v":""},{"$f":"IF(ISBLANK(FromEvoM!AL677),\"\",FromEvoM!AL677)","v":""},{"$f":"IF(ISBLANK(FromEvoM!A677),\"\",IF(AND(AF677=\"y\",AI677=1),\"Y\",\"N\"))","v":""},{"$f":"IF(ISBLANK(FromEvoM!A677),\"\",IF(FromEvoM!AS677=\"Yes\",2,1))","v":""},{"$f":"IF(FromEvoM!W677=1,\"M\",IF(FromEvoM!W677=7,\"W\",\"\"))","v":""},{"$f":"IF(AJ677=\"Y\",0,IF(AJ677=\"N\",FromEvoM!AF677+FromEvoM!AT677,\"\"))","v":""},{"$f":"IF(AJ677=\"Y\",(FromEvoM!AE677+FromEvoM!AF677-FromEvoM!AT677),IF(AJ677=\"N\",FromEvoM!AE677,\"\"))","v":""}]
[{"$f":"IF(ISBLANK(FromEvoM!A678),\"\",Group_Code)","v":""},{"$f":"IF(ISBLANK(FromEvoM!A678),\"\",SUBSTITUTE(FromEvoM!A678,\" \",\"\"))","v":""},{"$f":"IF(ISBLANK(FromEvoM!C678),\"\",SUBSTITUTE(FromEvoM!G678,\" \",\"\"))","v":""},{"$f":"IF(ISBLANK(FromEvoM!D678),\"\",FromEvoM!B678)","v":""},{"$f":"IF(ISBLANK(FromEvoM!D678),\"\",FromEvoM!D678)","v":""},{"$f":"IF(ISBLANK(FromEvoM!C678),\"\",FromEvoM!C678)","v":""},{"$f":"REPLACE(FromEvoM!F678,2,6, )","v":""},{"$f":"IF(ISNUMBER(FromEvoM!E678),FromEvoM!E678,\"\")","v":""},{"$f":"IF(ISBLANK(FromEvoM!I678),\"\",FromEvoM!I678)","v":""},{"$f":"IF(ISBLANK(FromEvoM!J678),\"\",FromEvoM!J678)","v":""},{"$f":"IF(ISBLANK(FromEvoM!K678),\"\",FromEvoM!K678)","v":""},{"$f":"IF(ISBLANK(FromEvoM!L678),\"\",FromEvoM!L678)","v":""},{"$f":"IF(ISBLANK(FromEvoM!M678),\"\",FromEvoM!M678)","v":""},{"$f":"IF(ISBLANK(FromEvoM!P678),\"\",FromEvoM!P678)","v":""},null,{"$f":"IF(ISNUMBER(FromEvoM!X678),FromEvoM!X678,\"\")","v":""},{"$f":"IF(ISNUMBER(FromEvoM!AB678),FromEvoM!AB678,\"\")","v":""},{"$f":"IF(ISNUMBER(FromEvoM!AA678),FromEvoM!AA678,\"\")","v":""},null,"","",null,null,{"$f":"IF(FromEvoM!W678=1,(FromEvoM!AB678*12),IF(FromEvoM!W678=7,(FromEvoM!AR678),\"\"))","v":""},null,null,{"$f":"IF(ISBLANK(FromEvoM!A678),\"\",IF(FromEvoM!AK678=\"y\",\"Y\",\"N\"))","v":""},{"$f":"IF(ISBLANK(FromEvoM!A678),\"\",Category_ID)","v":""},null,null,null,{"$f":"IF(ISBLANK(FromEvoM!AK678),\"\",FromEvoM!AK678)","v":""},{"$f":"IF(ISBLANK(FromEvoM!AM678),\"\",FromEvoM!AM678)","v":""},{"$f":"IF(ISBLANK(FromEvoM!AN678),\"\",FromEvoM!AN678)","v":""},{"$f":"IF(ISBLANK(FromEvoM!AL678),\"\",FromEvoM!AL678)","v":""},{"$f":"IF(ISBLANK(FromEvoM!A678),\"\",IF(AND(AF678=\"y\",AI678=1),\"Y\",\"N\"))","v":""},{"$f":"IF(ISBLANK(FromEvoM!A678),\"\",IF(FromEvoM!AS678=\"Yes\",2,1))","v":""},{"$f":"IF(FromEvoM!W678=1,\"M\",IF(FromEvoM!W678=7,\"W\",\"\"))","v":""},{"$f":"IF(AJ678=\"Y\",0,IF(AJ678=\"N\",FromEvoM!AF678+FromEvoM!AT678,\"\"))","v":""},{"$f":"IF(AJ678=\"Y\",(FromEvoM!AE678+FromEvoM!AF678-FromEvoM!AT678),IF(AJ678=\"N\",FromEvoM!AE678,\"\"))","v":""}]
[{"$f":"IF(ISBLANK(FromEvoM!A679),\"\",Group_Code)","v":""},{"$f":"IF(ISBLANK(FromEvoM!A679),\"\",SUBSTITUTE(FromEvoM!A679,\" \",\"\"))","v":""},{"$f":"IF(ISBLANK(FromEvoM!C679),\"\",SUBSTITUTE(FromEvoM!G679,\" \",\"\"))","v":""},{"$f":"IF(ISBLANK(FromEvoM!D679),\"\",FromEvoM!B679)","v":""},{"$f":"IF(ISBLANK(FromEvoM!D679),\"\",FromEvoM!D679)","v":""},{"$f":"IF(ISBLANK(FromEvoM!C679),\"\",FromEvoM!C679)","v":""},{"$f":"REPLACE(FromEvoM!F679,2,6, )","v":""},{"$f":"IF(ISNUMBER(FromEvoM!E679),FromEvoM!E679,\"\")","v":""},{"$f":"IF(ISBLANK(FromEvoM!I679),\"\",FromEvoM!I679)","v":""},{"$f":"IF(ISBLANK(FromEvoM!J679),\"\",FromEvoM!J679)","v":""},{"$f":"IF(ISBLANK(FromEvoM!K679),\"\",FromEvoM!K679)","v":""},{"$f":"IF(ISBLANK(FromEvoM!L679),\"\",FromEvoM!L679)","v":""},{"$f":"IF(ISBLANK(FromEvoM!M679),\"\",FromEvoM!M679)","v":""},{"$f":"IF(ISBLANK(FromEvoM!P679),\"\",FromEvoM!P679)","v":""},null,{"$f":"IF(ISNUMBER(FromEvoM!X679),FromEvoM!X679,\"\")","v":""},{"$f":"IF(ISNUMBER(FromEvoM!AB679),FromEvoM!AB679,\"\")","v":""},{"$f":"IF(ISNUMBER(FromEvoM!AA679),FromEvoM!AA679,\"\")","v":""},null,"","",null,null,{"$f":"IF(FromEvoM!W679=1,(FromEvoM!AB679*12),IF(FromEvoM!W679=7,(FromEvoM!AR679),\"\"))","v":""},null,null,{"$f":"IF(ISBLANK(FromEvoM!A679),\"\",IF(FromEvoM!AK679=\"y\",\"Y\",\"N\"))","v":""},{"$f":"IF(ISBLANK(FromEvoM!A679),\"\",Category_ID)","v":""},null,null,null,{"$f":"IF(ISBLANK(FromEvoM!AK679),\"\",FromEvoM!AK679)","v":""},{"$f":"IF(ISBLANK(FromEvoM!AM679),\"\",FromEvoM!AM679)","v":""},{"$f":"IF(ISBLANK(FromEvoM!AN679),\"\",FromEvoM!AN679)","v":""},{"$f":"IF(ISBLANK(FromEvoM!AL679),\"\",FromEvoM!AL679)","v":""},{"$f":"IF(ISBLANK(FromEvoM!A679),\"\",IF(AND(AF679=\"y\",AI679=1),\"Y\",\"N\"))","v":""},{"$f":"IF(ISBLANK(FromEvoM!A679),\"\",IF(FromEvoM!AS679=\"Yes\",2,1))","v":""},{"$f":"IF(FromEvoM!W679=1,\"M\",IF(FromEvoM!W679=7,\"W\",\"\"))","v":""},{"$f":"IF(AJ679=\"Y\",0,IF(AJ679=\"N\",FromEvoM!AF679+FromEvoM!AT679,\"\"))","v":""},{"$f":"IF(AJ679=\"Y\",(FromEvoM!AE679+FromEvoM!AF679-FromEvoM!AT679),IF(AJ679=\"N\",FromEvoM!AE679,\"\"))","v":""}]
[{"$f":"IF(ISBLANK(FromEvoM!A680),\"\",Group_Code)","v":""},{"$f":"IF(ISBLANK(FromEvoM!A680),\"\",SUBSTITUTE(FromEvoM!A680,\" \",\"\"))","v":""},{"$f":"IF(ISBLANK(FromEvoM!C680),\"\",SUBSTITUTE(FromEvoM!G680,\" \",\"\"))","v":""},{"$f":"IF(ISBLANK(FromEvoM!D680),\"\",FromEvoM!B680)","v":""},{"$f":"IF(ISBLANK(FromEvoM!D680),\"\",FromEvoM!D680)","v":""},{"$f":"IF(ISBLANK(FromEvoM!C680),\"\",FromEvoM!C680)","v":""},{"$f":"REPLACE(FromEvoM!F680,2,6, )","v":""},{"$f":"IF(ISNUMBER(FromEvoM!E680),FromEvoM!E680,\"\")","v":""},{"$f":"IF(ISBLANK(FromEvoM!I680),\"\",FromEvoM!I680)","v":""},{"$f":"IF(ISBLANK(FromEvoM!J680),\"\",FromEvoM!J680)","v":""},{"$f":"IF(ISBLANK(FromEvoM!K680),\"\",FromEvoM!K680)","v":""},{"$f":"IF(ISBLANK(FromEvoM!L680),\"\",FromEvoM!L680)","v":""},{"$f":"IF(ISBLANK(FromEvoM!M680),\"\",FromEvoM!M680)","v":""},{"$f":"IF(ISBLANK(FromEvoM!P680),\"\",FromEvoM!P680)","v":""},null,{"$f":"IF(ISNUMBER(FromEvoM!X680),FromEvoM!X680,\"\")","v":""},{"$f":"IF(ISNUMBER(FromEvoM!AB680),FromEvoM!AB680,\"\")","v":""},{"$f":"IF(ISNUMBER(FromEvoM!AA680),FromEvoM!AA680,\"\")","v":""},null,"","",null,null,{"$f":"IF(FromEvoM!W680=1,(FromEvoM!AB680*12),IF(FromEvoM!W680=7,(FromEvoM!AR680),\"\"))","v":""},null,null,{"$f":"IF(ISBLANK(FromEvoM!A680),\"\",IF(FromEvoM!AK680=\"y\",\"Y\",\"N\"))","v":""},{"$f":"IF(ISBLANK(FromEvoM!A680),\"\",Category_ID)","v":""},null,null,null,{"$f":"IF(ISBLANK(FromEvoM!AK680),\"\",FromEvoM!AK680)","v":""},{"$f":"IF(ISBLANK(FromEvoM!AM680),\"\",FromEvoM!AM680)","v":""},{"$f":"IF(ISBLANK(FromEvoM!AN680),\"\",FromEvoM!AN680)","v":""},{"$f":"IF(ISBLANK(FromEvoM!AL680),\"\",FromEvoM!AL680)","v":""},{"$f":"IF(ISBLANK(FromEvoM!A680),\"\",IF(AND(AF680=\"y\",AI680=1),\"Y\",\"N\"))","v":""},{"$f":"IF(ISBLANK(FromEvoM!A680),\"\",IF(FromEvoM!AS680=\"Yes\",2,1))","v":""},{"$f":"IF(FromEvoM!W680=1,\"M\",IF(FromEvoM!W680=7,\"W\",\"\"))","v":""},{"$f":"IF(AJ680=\"Y\",0,IF(AJ680=\"N\",FromEvoM!AF680+FromEvoM!AT680,\"\"))","v":""},{"$f":"IF(AJ680=\"Y\",(FromEvoM!AE680+FromEvoM!AF680-FromEvoM!AT680),IF(AJ680=\"N\",FromEvoM!AE680,\"\"))","v":""}]
[{"$f":"IF(ISBLANK(FromEvoM!A681),\"\",Group_Code)","v":""},{"$f":"IF(ISBLANK(FromEvoM!A681),\"\",SUBSTITUTE(FromEvoM!A681,\" \",\"\"))","v":""},{"$f":"IF(ISBLANK(FromEvoM!C681),\"\",SUBSTITUTE(FromEvoM!G681,\" \",\"\"))","v":""},{"$f":"IF(ISBLANK(FromEvoM!D681),\"\",FromEvoM!B681)","v":""},{"$f":"IF(ISBLANK(FromEvoM!D681),\"\",FromEvoM!D681)","v":""},{"$f":"IF(ISBLANK(FromEvoM!C681),\"\",FromEvoM!C681)","v":""},{"$f":"REPLACE(FromEvoM!F681,2,6, )","v":""},{"$f":"IF(ISNUMBER(FromEvoM!E681),FromEvoM!E681,\"\")","v":""},{"$f":"IF(ISBLANK(FromEvoM!I681),\"\",FromEvoM!I681)","v":""},{"$f":"IF(ISBLANK(FromEvoM!J681),\"\",FromEvoM!J681)","v":""},{"$f":"IF(ISBLANK(FromEvoM!K681),\"\",FromEvoM!K681)","v":""},{"$f":"IF(ISBLANK(FromEvoM!L681),\"\",FromEvoM!L681)","v":""},{"$f":"IF(ISBLANK(FromEvoM!M681),\"\",FromEvoM!M681)","v":""},{"$f":"IF(ISBLANK(FromEvoM!P681),\"\",FromEvoM!P681)","v":""},null,{"$f":"IF(ISNUMBER(FromEvoM!X681),FromEvoM!X681,\"\")","v":""},{"$f":"IF(ISNUMBER(FromEvoM!AB681),FromEvoM!AB681,\"\")","v":""},{"$f":"IF(ISNUMBER(FromEvoM!AA681),FromEvoM!AA681,\"\")","v":""},null,"","",null,null,{"$f":"IF(FromEvoM!W681=1,(FromEvoM!AB681*12),IF(FromEvoM!W681=7,(FromEvoM!AR681),\"\"))","v":""},null,null,{"$f":"IF(ISBLANK(FromEvoM!A681),\"\",IF(FromEvoM!AK681=\"y\",\"Y\",\"N\"))","v":""},{"$f":"IF(ISBLANK(FromEvoM!A681),\"\",Category_ID)","v":""},null,null,null,{"$f":"IF(ISBLANK(FromEvoM!AK681),\"\",FromEvoM!AK681)","v":""},{"$f":"IF(ISBLANK(FromEvoM!AM681),\"\",FromEvoM!AM681)","v":""},{"$f":"IF(ISBLANK(FromEvoM!AN681),\"\",FromEvoM!AN681)","v":""},{"$f":"IF(ISBLANK(FromEvoM!AL681),\"\",FromEvoM!AL681)","v":""},{"$f":"IF(ISBLANK(FromEvoM!A681),\"\",IF(AND(AF681=\"y\",AI681=1),\"Y\",\"N\"))","v":""},{"$f":"IF(ISBLANK(FromEvoM!A681),\"\",IF(FromEvoM!AS681=\"Yes\",2,1))","v":""},{"$f":"IF(FromEvoM!W681=1,\"M\",IF(FromEvoM!W681=7,\"W\",\"\"))","v":""},{"$f":"IF(AJ681=\"Y\",0,IF(AJ681=\"N\",FromEvoM!AF681+FromEvoM!AT681,\"\"))","v":""},{"$f":"IF(AJ681=\"Y\",(FromEvoM!AE681+FromEvoM!AF681-FromEvoM!AT681),IF(AJ681=\"N\",FromEvoM!AE681,\"\"))","v":""}]
[{"$f":"IF(ISBLANK(FromEvoM!A682),\"\",Group_Code)","v":""},{"$f":"IF(ISBLANK(FromEvoM!A682),\"\",SUBSTITUTE(FromEvoM!A682,\" \",\"\"))","v":""},{"$f":"IF(ISBLANK(FromEvoM!C682),\"\",SUBSTITUTE(FromEvoM!G682,\" \",\"\"))","v":""},{"$f":"IF(ISBLANK(FromEvoM!D682),\"\",FromEvoM!B682)","v":""},{"$f":"IF(ISBLANK(FromEvoM!D682),\"\",FromEvoM!D682)","v":""},{"$f":"IF(ISBLANK(FromEvoM!C682),\"\",FromEvoM!C682)","v":""},{"$f":"REPLACE(FromEvoM!F682,2,6, )","v":""},{"$f":"IF(ISNUMBER(FromEvoM!E682),FromEvoM!E682,\"\")","v":""},{"$f":"IF(ISBLANK(FromEvoM!I682),\"\",FromEvoM!I682)","v":""},{"$f":"IF(ISBLANK(FromEvoM!J682),\"\",FromEvoM!J682)","v":""},{"$f":"IF(ISBLANK(FromEvoM!K682),\"\",FromEvoM!K682)","v":""},{"$f":"IF(ISBLANK(FromEvoM!L682),\"\",FromEvoM!L682)","v":""},{"$f":"IF(ISBLANK(FromEvoM!M682),\"\",FromEvoM!M682)","v":""},{"$f":"IF(ISBLANK(FromEvoM!P682),\"\",FromEvoM!P682)","v":""},null,{"$f":"IF(ISNUMBER(FromEvoM!X682),FromEvoM!X682,\"\")","v":""},{"$f":"IF(ISNUMBER(FromEvoM!AB682),FromEvoM!AB682,\"\")","v":""},{"$f":"IF(ISNUMBER(FromEvoM!AA682),FromEvoM!AA682,\"\")","v":""},null,"","",null,null,{"$f":"IF(FromEvoM!W682=1,(FromEvoM!AB682*12),IF(FromEvoM!W682=7,(FromEvoM!AR682),\"\"))","v":""},null,null,{"$f":"IF(ISBLANK(FromEvoM!A682),\"\",IF(FromEvoM!AK682=\"y\",\"Y\",\"N\"))","v":""},{"$f":"IF(ISBLANK(FromEvoM!A682),\"\",Category_ID)","v":""},null,null,null,{"$f":"IF(ISBLANK(FromEvoM!AK682),\"\",FromEvoM!AK682)","v":""},{"$f":"IF(ISBLANK(FromEvoM!AM682),\"\",FromEvoM!AM682)","v":""},{"$f":"IF(ISBLANK(FromEvoM!AN682),\"\",FromEvoM!AN682)","v":""},{"$f":"IF(ISBLANK(FromEvoM!AL682),\"\",FromEvoM!AL682)","v":""},{"$f":"IF(ISBLANK(FromEvoM!A682),\"\",IF(AND(AF682=\"y\",AI682=1),\"Y\",\"N\"))","v":""},{"$f":"IF(ISBLANK(FromEvoM!A682),\"\",IF(FromEvoM!AS682=\"Yes\",2,1))","v":""},{"$f":"IF(FromEvoM!W682=1,\"M\",IF(FromEvoM!W682=7,\"W\",\"\"))","v":""},{"$f":"IF(AJ682=\"Y\",0,IF(AJ682=\"N\",FromEvoM!AF682+FromEvoM!AT682,\"\"))","v":""},{"$f":"IF(AJ682=\"Y\",(FromEvoM!AE682+FromEvoM!AF682-FromEvoM!AT682),IF(AJ682=\"N\",FromEvoM!AE682,\"\"))","v":""}]
[{"$f":"IF(ISBLANK(FromEvoM!A683),\"\",Group_Code)","v":""},{"$f":"IF(ISBLANK(FromEvoM!A683),\"\",SUBSTITUTE(FromEvoM!A683,\" \",\"\"))","v":""},{"$f":"IF(ISBLANK(FromEvoM!C683),\"\",SUBSTITUTE(FromEvoM!G683,\" \",\"\"))","v":""},{"$f":"IF(ISBLANK(FromEvoM!D683),\"\",FromEvoM!B683)","v":""},{"$f":"IF(ISBLANK(FromEvoM!D683),\"\",FromEvoM!D683)","v":""},{"$f":"IF(ISBLANK(FromEvoM!C683),\"\",FromEvoM!C683)","v":""},{"$f":"REPLACE(FromEvoM!F683,2,6, )","v":""},{"$f":"IF(ISNUMBER(FromEvoM!E683),FromEvoM!E683,\"\")","v":""},{"$f":"IF(ISBLANK(FromEvoM!I683),\"\",FromEvoM!I683)","v":""},{"$f":"IF(ISBLANK(FromEvoM!J683),\"\",FromEvoM!J683)","v":""},{"$f":"IF(ISBLANK(FromEvoM!K683),\"\",FromEvoM!K683)","v":""},{"$f":"IF(ISBLANK(FromEvoM!L683),\"\",FromEvoM!L683)","v":""},{"$f":"IF(ISBLANK(FromEvoM!M683),\"\",FromEvoM!M683)","v":""},{"$f":"IF(ISBLANK(FromEvoM!P683),\"\",FromEvoM!P683)","v":""},null,{"$f":"IF(ISNUMBER(FromEvoM!X683),FromEvoM!X683,\"\")","v":""},{"$f":"IF(ISNUMBER(FromEvoM!AB683),FromEvoM!AB683,\"\")","v":""},{"$f":"IF(ISNUMBER(FromEvoM!AA683),FromEvoM!AA683,\"\")","v":""},null,"","",null,null,{"$f":"IF(FromEvoM!W683=1,(FromEvoM!AB683*12),IF(FromEvoM!W683=7,(FromEvoM!AR683),\"\"))","v":""},null,null,{"$f":"IF(ISBLANK(FromEvoM!A683),\"\",IF(FromEvoM!AK683=\"y\",\"Y\",\"N\"))","v":""},{"$f":"IF(ISBLANK(FromEvoM!A683),\"\",Category_ID)","v":""},null,null,null,{"$f":"IF(ISBLANK(FromEvoM!AK683),\"\",FromEvoM!AK683)","v":""},{"$f":"IF(ISBLANK(FromEvoM!AM683),\"\",FromEvoM!AM683)","v":""},{"$f":"IF(ISBLANK(FromEvoM!AN683),\"\",FromEvoM!AN683)","v":""},{"$f":"IF(ISBLANK(FromEvoM!AL683),\"\",FromEvoM!AL683)","v":""},{"$f":"IF(ISBLANK(FromEvoM!A683),\"\",IF(AND(AF683=\"y\",AI683=1),\"Y\",\"N\"))","v":""},{"$f":"IF(ISBLANK(FromEvoM!A683),\"\",IF(FromEvoM!AS683=\"Yes\",2,1))","v":""},{"$f":"IF(FromEvoM!W683=1,\"M\",IF(FromEvoM!W683=7,\"W\",\"\"))","v":""},{"$f":"IF(AJ683=\"Y\",0,IF(AJ683=\"N\",FromEvoM!AF683+FromEvoM!AT683,\"\"))","v":""},{"$f":"IF(AJ683=\"Y\",(FromEvoM!AE683+FromEvoM!AF683-FromEvoM!AT683),IF(AJ683=\"N\",FromEvoM!AE683,\"\"))","v":""}]
[{"$f":"IF(ISBLANK(FromEvoM!A684),\"\",Group_Code)","v":""},{"$f":"IF(ISBLANK(FromEvoM!A684),\"\",SUBSTITUTE(FromEvoM!A684,\" \",\"\"))","v":""},{"$f":"IF(ISBLANK(FromEvoM!C684),\"\",SUBSTITUTE(FromEvoM!G684,\" \",\"\"))","v":""},{"$f":"IF(ISBLANK(FromEvoM!D684),\"\",FromEvoM!B684)","v":""},{"$f":"IF(ISBLANK(FromEvoM!D684),\"\",FromEvoM!D684)","v":""},{"$f":"IF(ISBLANK(FromEvoM!C684),\"\",FromEvoM!C684)","v":""},{"$f":"REPLACE(FromEvoM!F684,2,6, )","v":""},{"$f":"IF(ISNUMBER(FromEvoM!E684),FromEvoM!E684,\"\")","v":""},{"$f":"IF(ISBLANK(FromEvoM!I684),\"\",FromEvoM!I684)","v":""},{"$f":"IF(ISBLANK(FromEvoM!J684),\"\",FromEvoM!J684)","v":""},{"$f":"IF(ISBLANK(FromEvoM!K684),\"\",FromEvoM!K684)","v":""},{"$f":"IF(ISBLANK(FromEvoM!L684),\"\",FromEvoM!L684)","v":""},{"$f":"IF(ISBLANK(FromEvoM!M684),\"\",FromEvoM!M684)","v":""},{"$f":"IF(ISBLANK(FromEvoM!P684),\"\",FromEvoM!P684)","v":""},null,{"$f":"IF(ISNUMBER(FromEvoM!X684),FromEvoM!X684,\"\")","v":""},{"$f":"IF(ISNUMBER(FromEvoM!AB684),FromEvoM!AB684,\"\")","v":""},{"$f":"IF(ISNUMBER(FromEvoM!AA684),FromEvoM!AA684,\"\")","v":""},null,"","",null,null,{"$f":"IF(FromEvoM!W684=1,(FromEvoM!AB684*12),IF(FromEvoM!W684=7,(FromEvoM!AR684),\"\"))","v":""},null,null,{"$f":"IF(ISBLANK(FromEvoM!A684),\"\",IF(FromEvoM!AK684=\"y\",\"Y\",\"N\"))","v":""},{"$f":"IF(ISBLANK(FromEvoM!A684),\"\",Category_ID)","v":""},null,null,null,{"$f":"IF(ISBLANK(FromEvoM!AK684),\"\",FromEvoM!AK684)","v":""},{"$f":"IF(ISBLANK(FromEvoM!AM684),\"\",FromEvoM!AM684)","v":""},{"$f":"IF(ISBLANK(FromEvoM!AN684),\"\",FromEvoM!AN684)","v":""},{"$f":"IF(ISBLANK(FromEvoM!AL684),\"\",FromEvoM!AL684)","v":""},{"$f":"IF(ISBLANK(FromEvoM!A684),\"\",IF(AND(AF684=\"y\",AI684=1),\"Y\",\"N\"))","v":""},{"$f":"IF(ISBLANK(FromEvoM!A684),\"\",IF(FromEvoM!AS684=\"Yes\",2,1))","v":""},{"$f":"IF(FromEvoM!W684=1,\"M\",IF(FromEvoM!W684=7,\"W\",\"\"))","v":""},{"$f":"IF(AJ684=\"Y\",0,IF(AJ684=\"N\",FromEvoM!AF684+FromEvoM!AT684,\"\"))","v":""},{"$f":"IF(AJ684=\"Y\",(FromEvoM!AE684+FromEvoM!AF684-FromEvoM!AT684),IF(AJ684=\"N\",FromEvoM!AE684,\"\"))","v":""}]
[{"$f":"IF(ISBLANK(FromEvoM!A685),\"\",Group_Code)","v":""},{"$f":"IF(ISBLANK(FromEvoM!A685),\"\",SUBSTITUTE(FromEvoM!A685,\" \",\"\"))","v":""},{"$f":"IF(ISBLANK(FromEvoM!C685),\"\",SUBSTITUTE(FromEvoM!G685,\" \",\"\"))","v":""},{"$f":"IF(ISBLANK(FromEvoM!D685),\"\",FromEvoM!B685)","v":""},{"$f":"IF(ISBLANK(FromEvoM!D685),\"\",FromEvoM!D685)","v":""},{"$f":"IF(ISBLANK(FromEvoM!C685),\"\",FromEvoM!C685)","v":""},{"$f":"REPLACE(FromEvoM!F685,2,6, )","v":""},{"$f":"IF(ISNUMBER(FromEvoM!E685),FromEvoM!E685,\"\")","v":""},{"$f":"IF(ISBLANK(FromEvoM!I685),\"\",FromEvoM!I685)","v":""},{"$f":"IF(ISBLANK(FromEvoM!J685),\"\",FromEvoM!J685)","v":""},{"$f":"IF(ISBLANK(FromEvoM!K685),\"\",FromEvoM!K685)","v":""},{"$f":"IF(ISBLANK(FromEvoM!L685),\"\",FromEvoM!L685)","v":""},{"$f":"IF(ISBLANK(FromEvoM!M685),\"\",FromEvoM!M685)","v":""},{"$f":"IF(ISBLANK(FromEvoM!P685),\"\",FromEvoM!P685)","v":""},null,{"$f":"IF(ISNUMBER(FromEvoM!X685),FromEvoM!X685,\"\")","v":""},{"$f":"IF(ISNUMBER(FromEvoM!AB685),FromEvoM!AB685,\"\")","v":""},{"$f":"IF(ISNUMBER(FromEvoM!AA685),FromEvoM!AA685,\"\")","v":""},null,"","",null,null,{"$f":"IF(FromEvoM!W685=1,(FromEvoM!AB685*12),IF(FromEvoM!W685=7,(FromEvoM!AR685),\"\"))","v":""},null,null,{"$f":"IF(ISBLANK(FromEvoM!A685),\"\",IF(FromEvoM!AK685=\"y\",\"Y\",\"N\"))","v":""},{"$f":"IF(ISBLANK(FromEvoM!A685),\"\",Category_ID)","v":""},null,null,null,{"$f":"IF(ISBLANK(FromEvoM!AK685),\"\",FromEvoM!AK685)","v":""},{"$f":"IF(ISBLANK(FromEvoM!AM685),\"\",FromEvoM!AM685)","v":""},{"$f":"IF(ISBLANK(FromEvoM!AN685),\"\",FromEvoM!AN685)","v":""},{"$f":"IF(ISBLANK(FromEvoM!AL685),\"\",FromEvoM!AL685)","v":""},{"$f":"IF(ISBLANK(FromEvoM!A685),\"\",IF(AND(AF685=\"y\",AI685=1),\"Y\",\"N\"))","v":""},{"$f":"IF(ISBLANK(FromEvoM!A685),\"\",IF(FromEvoM!AS685=\"Yes\",2,1))","v":""},{"$f":"IF(FromEvoM!W685=1,\"M\",IF(FromEvoM!W685=7,\"W\",\"\"))","v":""},{"$f":"IF(AJ685=\"Y\",0,IF(AJ685=\"N\",FromEvoM!AF685+FromEvoM!AT685,\"\"))","v":""},{"$f":"IF(AJ685=\"Y\",(FromEvoM!AE685+FromEvoM!AF685-FromEvoM!AT685),IF(AJ685=\"N\",FromEvoM!AE685,\"\"))","v":""}]
[{"$f":"IF(ISBLANK(FromEvoM!A686),\"\",Group_Code)","v":""},{"$f":"IF(ISBLANK(FromEvoM!A686),\"\",SUBSTITUTE(FromEvoM!A686,\" \",\"\"))","v":""},{"$f":"IF(ISBLANK(FromEvoM!C686),\"\",SUBSTITUTE(FromEvoM!G686,\" \",\"\"))","v":""},{"$f":"IF(ISBLANK(FromEvoM!D686),\"\",FromEvoM!B686)","v":""},{"$f":"IF(ISBLANK(FromEvoM!D686),\"\",FromEvoM!D686)","v":""},{"$f":"IF(ISBLANK(FromEvoM!C686),\"\",FromEvoM!C686)","v":""},{"$f":"REPLACE(FromEvoM!F686,2,6, )","v":""},{"$f":"IF(ISNUMBER(FromEvoM!E686),FromEvoM!E686,\"\")","v":""},{"$f":"IF(ISBLANK(FromEvoM!I686),\"\",FromEvoM!I686)","v":""},{"$f":"IF(ISBLANK(FromEvoM!J686),\"\",FromEvoM!J686)","v":""},{"$f":"IF(ISBLANK(FromEvoM!K686),\"\",FromEvoM!K686)","v":""},{"$f":"IF(ISBLANK(FromEvoM!L686),\"\",FromEvoM!L686)","v":""},{"$f":"IF(ISBLANK(FromEvoM!M686),\"\",FromEvoM!M686)","v":""},{"$f":"IF(ISBLANK(FromEvoM!P686),\"\",FromEvoM!P686)","v":""},null,{"$f":"IF(ISNUMBER(FromEvoM!X686),FromEvoM!X686,\"\")","v":""},{"$f":"IF(ISNUMBER(FromEvoM!AB686),FromEvoM!AB686,\"\")","v":""},{"$f":"IF(ISNUMBER(FromEvoM!AA686),FromEvoM!AA686,\"\")","v":""},null,"","",null,null,{"$f":"IF(FromEvoM!W686=1,(FromEvoM!AB686*12),IF(FromEvoM!W686=7,(FromEvoM!AR686),\"\"))","v":""},null,null,{"$f":"IF(ISBLANK(FromEvoM!A686),\"\",IF(FromEvoM!AK686=\"y\",\"Y\",\"N\"))","v":""},{"$f":"IF(ISBLANK(FromEvoM!A686),\"\",Category_ID)","v":""},null,null,null,{"$f":"IF(ISBLANK(FromEvoM!AK686),\"\",FromEvoM!AK686)","v":""},{"$f":"IF(ISBLANK(FromEvoM!AM686),\"\",FromEvoM!AM686)","v":""},{"$f":"IF(ISBLANK(FromEvoM!AN686),\"\",FromEvoM!AN686)","v":""},{"$f":"IF(ISBLANK(FromEvoM!AL686),\"\",FromEvoM!AL686)","v":""},{"$f":"IF(ISBLANK(FromEvoM!A686),\"\",IF(AND(AF686=\"y\",AI686=1),\"Y\",\"N\"))","v":""},{"$f":"IF(ISBLANK(FromEvoM!A686),\"\",IF(FromEvoM!AS686=\"Yes\",2,1))","v":""},{"$f":"IF(FromEvoM!W686=1,\"M\",IF(FromEvoM!W686=7,\"W\",\"\"))","v":""},{"$f":"IF(AJ686=\"Y\",0,IF(AJ686=\"N\",FromEvoM!AF686+FromEvoM!AT686,\"\"))","v":""},{"$f":"IF(AJ686=\"Y\",(FromEvoM!AE686+FromEvoM!AF686-FromEvoM!AT686),IF(AJ686=\"N\",FromEvoM!AE686,\"\"))","v":""}]
[{"$f":"IF(ISBLANK(FromEvoM!A687),\"\",Group_Code)","v":""},{"$f":"IF(ISBLANK(FromEvoM!A687),\"\",SUBSTITUTE(FromEvoM!A687,\" \",\"\"))","v":""},{"$f":"IF(ISBLANK(FromEvoM!C687),\"\",SUBSTITUTE(FromEvoM!G687,\" \",\"\"))","v":""},{"$f":"IF(ISBLANK(FromEvoM!D687),\"\",FromEvoM!B687)","v":""},{"$f":"IF(ISBLANK(FromEvoM!D687),\"\",FromEvoM!D687)","v":""},{"$f":"IF(ISBLANK(FromEvoM!C687),\"\",FromEvoM!C687)","v":""},{"$f":"REPLACE(FromEvoM!F687,2,6, )","v":""},{"$f":"IF(ISNUMBER(FromEvoM!E687),FromEvoM!E687,\"\")","v":""},{"$f":"IF(ISBLANK(FromEvoM!I687),\"\",FromEvoM!I687)","v":""},{"$f":"IF(ISBLANK(FromEvoM!J687),\"\",FromEvoM!J687)","v":""},{"$f":"IF(ISBLANK(FromEvoM!K687),\"\",FromEvoM!K687)","v":""},{"$f":"IF(ISBLANK(FromEvoM!L687),\"\",FromEvoM!L687)","v":""},{"$f":"IF(ISBLANK(FromEvoM!M687),\"\",FromEvoM!M687)","v":""},{"$f":"IF(ISBLANK(FromEvoM!P687),\"\",FromEvoM!P687)","v":""},null,{"$f":"IF(ISNUMBER(FromEvoM!X687),FromEvoM!X687,\"\")","v":""},{"$f":"IF(ISNUMBER(FromEvoM!AB687),FromEvoM!AB687,\"\")","v":""},{"$f":"IF(ISNUMBER(FromEvoM!AA687),FromEvoM!AA687,\"\")","v":""},null,"","",null,null,{"$f":"IF(FromEvoM!W687=1,(FromEvoM!AB687*12),IF(FromEvoM!W687=7,(FromEvoM!AR687),\"\"))","v":""},null,null,{"$f":"IF(ISBLANK(FromEvoM!A687),\"\",IF(FromEvoM!AK687=\"y\",\"Y\",\"N\"))","v":""},{"$f":"IF(ISBLANK(FromEvoM!A687),\"\",Category_ID)","v":""},null,null,null,{"$f":"IF(ISBLANK(FromEvoM!AK687),\"\",FromEvoM!AK687)","v":""},{"$f":"IF(ISBLANK(FromEvoM!AM687),\"\",FromEvoM!AM687)","v":""},{"$f":"IF(ISBLANK(FromEvoM!AN687),\"\",FromEvoM!AN687)","v":""},{"$f":"IF(ISBLANK(FromEvoM!AL687),\"\",FromEvoM!AL687)","v":""},{"$f":"IF(ISBLANK(FromEvoM!A687),\"\",IF(AND(AF687=\"y\",AI687=1),\"Y\",\"N\"))","v":""},{"$f":"IF(ISBLANK(FromEvoM!A687),\"\",IF(FromEvoM!AS687=\"Yes\",2,1))","v":""},{"$f":"IF(FromEvoM!W687=1,\"M\",IF(FromEvoM!W687=7,\"W\",\"\"))","v":""},{"$f":"IF(AJ687=\"Y\",0,IF(AJ687=\"N\",FromEvoM!AF687+FromEvoM!AT687,\"\"))","v":""},{"$f":"IF(AJ687=\"Y\",(FromEvoM!AE687+FromEvoM!AF687-FromEvoM!AT687),IF(AJ687=\"N\",FromEvoM!AE687,\"\"))","v":""}]
[{"$f":"IF(ISBLANK(FromEvoM!A688),\"\",Group_Code)","v":""},{"$f":"IF(ISBLANK(FromEvoM!A688),\"\",SUBSTITUTE(FromEvoM!A688,\" \",\"\"))","v":""},{"$f":"IF(ISBLANK(FromEvoM!C688),\"\",SUBSTITUTE(FromEvoM!G688,\" \",\"\"))","v":""},{"$f":"IF(ISBLANK(FromEvoM!D688),\"\",FromEvoM!B688)","v":""},{"$f":"IF(ISBLANK(FromEvoM!D688),\"\",FromEvoM!D688)","v":""},{"$f":"IF(ISBLANK(FromEvoM!C688),\"\",FromEvoM!C688)","v":""},{"$f":"REPLACE(FromEvoM!F688,2,6, )","v":""},{"$f":"IF(ISNUMBER(FromEvoM!E688),FromEvoM!E688,\"\")","v":""},{"$f":"IF(ISBLANK(FromEvoM!I688),\"\",FromEvoM!I688)","v":""},{"$f":"IF(ISBLANK(FromEvoM!J688),\"\",FromEvoM!J688)","v":""},{"$f":"IF(ISBLANK(FromEvoM!K688),\"\",FromEvoM!K688)","v":""},{"$f":"IF(ISBLANK(FromEvoM!L688),\"\",FromEvoM!L688)","v":""},{"$f":"IF(ISBLANK(FromEvoM!M688),\"\",FromEvoM!M688)","v":""},{"$f":"IF(ISBLANK(FromEvoM!P688),\"\",FromEvoM!P688)","v":""},null,{"$f":"IF(ISNUMBER(FromEvoM!X688),FromEvoM!X688,\"\")","v":""},{"$f":"IF(ISNUMBER(FromEvoM!AB688),FromEvoM!AB688,\"\")","v":""},{"$f":"IF(ISNUMBER(FromEvoM!AA688),FromEvoM!AA688,\"\")","v":""},null,"","",null,null,{"$f":"IF(FromEvoM!W688=1,(FromEvoM!AB688*12),IF(FromEvoM!W688=7,(FromEvoM!AR688),\"\"))","v":""},null,null,{"$f":"IF(ISBLANK(FromEvoM!A688),\"\",IF(FromEvoM!AK688=\"y\",\"Y\",\"N\"))","v":""},{"$f":"IF(ISBLANK(FromEvoM!A688),\"\",Category_ID)","v":""},null,null,null,{"$f":"IF(ISBLANK(FromEvoM!AK688),\"\",FromEvoM!AK688)","v":""},{"$f":"IF(ISBLANK(FromEvoM!AM688),\"\",FromEvoM!AM688)","v":""},{"$f":"IF(ISBLANK(FromEvoM!AN688),\"\",FromEvoM!AN688)","v":""},{"$f":"IF(ISBLANK(FromEvoM!AL688),\"\",FromEvoM!AL688)","v":""},{"$f":"IF(ISBLANK(FromEvoM!A688),\"\",IF(AND(AF688=\"y\",AI688=1),\"Y\",\"N\"))","v":""},{"$f":"IF(ISBLANK(FromEvoM!A688),\"\",IF(FromEvoM!AS688=\"Yes\",2,1))","v":""},{"$f":"IF(FromEvoM!W688=1,\"M\",IF(FromEvoM!W688=7,\"W\",\"\"))","v":""},{"$f":"IF(AJ688=\"Y\",0,IF(AJ688=\"N\",FromEvoM!AF688+FromEvoM!AT688,\"\"))","v":""},{"$f":"IF(AJ688=\"Y\",(FromEvoM!AE688+FromEvoM!AF688-FromEvoM!AT688),IF(AJ688=\"N\",FromEvoM!AE688,\"\"))","v":""}]
[{"$f":"IF(ISBLANK(FromEvoM!A689),\"\",Group_Code)","v":""},{"$f":"IF(ISBLANK(FromEvoM!A689),\"\",SUBSTITUTE(FromEvoM!A689,\" \",\"\"))","v":""},{"$f":"IF(ISBLANK(FromEvoM!C689),\"\",SUBSTITUTE(FromEvoM!G689,\" \",\"\"))","v":""},{"$f":"IF(ISBLANK(FromEvoM!D689),\"\",FromEvoM!B689)","v":""},{"$f":"IF(ISBLANK(FromEvoM!D689),\"\",FromEvoM!D689)","v":""},{"$f":"IF(ISBLANK(FromEvoM!C689),\"\",FromEvoM!C689)","v":""},{"$f":"REPLACE(FromEvoM!F689,2,6, )","v":""},{"$f":"IF(ISNUMBER(FromEvoM!E689),FromEvoM!E689,\"\")","v":""},{"$f":"IF(ISBLANK(FromEvoM!I689),\"\",FromEvoM!I689)","v":""},{"$f":"IF(ISBLANK(FromEvoM!J689),\"\",FromEvoM!J689)","v":""},{"$f":"IF(ISBLANK(FromEvoM!K689),\"\",FromEvoM!K689)","v":""},{"$f":"IF(ISBLANK(FromEvoM!L689),\"\",FromEvoM!L689)","v":""},{"$f":"IF(ISBLANK(FromEvoM!M689),\"\",FromEvoM!M689)","v":""},{"$f":"IF(ISBLANK(FromEvoM!P689),\"\",FromEvoM!P689)","v":""},null,{"$f":"IF(ISNUMBER(FromEvoM!X689),FromEvoM!X689,\"\")","v":""},{"$f":"IF(ISNUMBER(FromEvoM!AB689),FromEvoM!AB689,\"\")","v":""},{"$f":"IF(ISNUMBER(FromEvoM!AA689),FromEvoM!AA689,\"\")","v":""},null,"","",null,null,{"$f":"IF(FromEvoM!W689=1,(FromEvoM!AB689*12),IF(FromEvoM!W689=7,(FromEvoM!AR689),\"\"))","v":""},null,null,{"$f":"IF(ISBLANK(FromEvoM!A689),\"\",IF(FromEvoM!AK689=\"y\",\"Y\",\"N\"))","v":""},{"$f":"IF(ISBLANK(FromEvoM!A689),\"\",Category_ID)","v":""},null,null,null,{"$f":"IF(ISBLANK(FromEvoM!AK689),\"\",FromEvoM!AK689)","v":""},{"$f":"IF(ISBLANK(FromEvoM!AM689),\"\",FromEvoM!AM689)","v":""},{"$f":"IF(ISBLANK(FromEvoM!AN689),\"\",FromEvoM!AN689)","v":""},{"$f":"IF(ISBLANK(FromEvoM!AL689),\"\",FromEvoM!AL689)","v":""},{"$f":"IF(ISBLANK(FromEvoM!A689),\"\",IF(AND(AF689=\"y\",AI689=1),\"Y\",\"N\"))","v":""},{"$f":"IF(ISBLANK(FromEvoM!A689),\"\",IF(FromEvoM!AS689=\"Yes\",2,1))","v":""},{"$f":"IF(FromEvoM!W689=1,\"M\",IF(FromEvoM!W689=7,\"W\",\"\"))","v":""},{"$f":"IF(AJ689=\"Y\",0,IF(AJ689=\"N\",FromEvoM!AF689+FromEvoM!AT689,\"\"))","v":""},{"$f":"IF(AJ689=\"Y\",(FromEvoM!AE689+FromEvoM!AF689-FromEvoM!AT689),IF(AJ689=\"N\",FromEvoM!AE689,\"\"))","v":""}]
[{"$f":"IF(ISBLANK(FromEvoM!A690),\"\",Group_Code)","v":""},{"$f":"IF(ISBLANK(FromEvoM!A690),\"\",SUBSTITUTE(FromEvoM!A690,\" \",\"\"))","v":""},{"$f":"IF(ISBLANK(FromEvoM!C690),\"\",SUBSTITUTE(FromEvoM!G690,\" \",\"\"))","v":""},{"$f":"IF(ISBLANK(FromEvoM!D690),\"\",FromEvoM!B690)","v":""},{"$f":"IF(ISBLANK(FromEvoM!D690),\"\",FromEvoM!D690)","v":""},{"$f":"IF(ISBLANK(FromEvoM!C690),\"\",FromEvoM!C690)","v":""},{"$f":"REPLACE(FromEvoM!F690,2,6, )","v":""},{"$f":"IF(ISNUMBER(FromEvoM!E690),FromEvoM!E690,\"\")","v":""},{"$f":"IF(ISBLANK(FromEvoM!I690),\"\",FromEvoM!I690)","v":""},{"$f":"IF(ISBLANK(FromEvoM!J690),\"\",FromEvoM!J690)","v":""},{"$f":"IF(ISBLANK(FromEvoM!K690),\"\",FromEvoM!K690)","v":""},{"$f":"IF(ISBLANK(FromEvoM!L690),\"\",FromEvoM!L690)","v":""},{"$f":"IF(ISBLANK(FromEvoM!M690),\"\",FromEvoM!M690)","v":""},{"$f":"IF(ISBLANK(FromEvoM!P690),\"\",FromEvoM!P690)","v":""},null,{"$f":"IF(ISNUMBER(FromEvoM!X690),FromEvoM!X690,\"\")","v":""},{"$f":"IF(ISNUMBER(FromEvoM!AB690),FromEvoM!AB690,\"\")","v":""},{"$f":"IF(ISNUMBER(FromEvoM!AA690),FromEvoM!AA690,\"\")","v":""},null,"","",null,null,{"$f":"IF(FromEvoM!W690=1,(FromEvoM!AB690*12),IF(FromEvoM!W690=7,(FromEvoM!AR690),\"\"))","v":""},null,null,{"$f":"IF(ISBLANK(FromEvoM!A690),\"\",IF(FromEvoM!AK690=\"y\",\"Y\",\"N\"))","v":""},{"$f":"IF(ISBLANK(FromEvoM!A690),\"\",Category_ID)","v":""},null,null,null,{"$f":"IF(ISBLANK(FromEvoM!AK690),\"\",FromEvoM!AK690)","v":""},{"$f":"IF(ISBLANK(FromEvoM!AM690),\"\",FromEvoM!AM690)","v":""},{"$f":"IF(ISBLANK(FromEvoM!AN690),\"\",FromEvoM!AN690)","v":""},{"$f":"IF(ISBLANK(FromEvoM!AL690),\"\",FromEvoM!AL690)","v":""},{"$f":"IF(ISBLANK(FromEvoM!A690),\"\",IF(AND(AF690=\"y\",AI690=1),\"Y\",\"N\"))","v":""},{"$f":"IF(ISBLANK(FromEvoM!A690),\"\",IF(FromEvoM!AS690=\"Yes\",2,1))","v":""},{"$f":"IF(FromEvoM!W690=1,\"M\",IF(FromEvoM!W690=7,\"W\",\"\"))","v":""},{"$f":"IF(AJ690=\"Y\",0,IF(AJ690=\"N\",FromEvoM!AF690+FromEvoM!AT690,\"\"))","v":""},{"$f":"IF(AJ690=\"Y\",(FromEvoM!AE690+FromEvoM!AF690-FromEvoM!AT690),IF(AJ690=\"N\",FromEvoM!AE690,\"\"))","v":""}]
[{"$f":"IF(ISBLANK(FromEvoM!A691),\"\",Group_Code)","v":""},{"$f":"IF(ISBLANK(FromEvoM!A691),\"\",SUBSTITUTE(FromEvoM!A691,\" \",\"\"))","v":""},{"$f":"IF(ISBLANK(FromEvoM!C691),\"\",SUBSTITUTE(FromEvoM!G691,\" \",\"\"))","v":""},{"$f":"IF(ISBLANK(FromEvoM!D691),\"\",FromEvoM!B691)","v":""},{"$f":"IF(ISBLANK(FromEvoM!D691),\"\",FromEvoM!D691)","v":""},{"$f":"IF(ISBLANK(FromEvoM!C691),\"\",FromEvoM!C691)","v":""},{"$f":"REPLACE(FromEvoM!F691,2,6, )","v":""},{"$f":"IF(ISNUMBER(FromEvoM!E691),FromEvoM!E691,\"\")","v":""},{"$f":"IF(ISBLANK(FromEvoM!I691),\"\",FromEvoM!I691)","v":""},{"$f":"IF(ISBLANK(FromEvoM!J691),\"\",FromEvoM!J691)","v":""},{"$f":"IF(ISBLANK(FromEvoM!K691),\"\",FromEvoM!K691)","v":""},{"$f":"IF(ISBLANK(FromEvoM!L691),\"\",FromEvoM!L691)","v":""},{"$f":"IF(ISBLANK(FromEvoM!M691),\"\",FromEvoM!M691)","v":""},{"$f":"IF(ISBLANK(FromEvoM!P691),\"\",FromEvoM!P691)","v":""},null,{"$f":"IF(ISNUMBER(FromEvoM!X691),FromEvoM!X691,\"\")","v":""},{"$f":"IF(ISNUMBER(FromEvoM!AB691),FromEvoM!AB691,\"\")","v":""},{"$f":"IF(ISNUMBER(FromEvoM!AA691),FromEvoM!AA691,\"\")","v":""},null,"","",null,null,{"$f":"IF(FromEvoM!W691=1,(FromEvoM!AB691*12),IF(FromEvoM!W691=7,(FromEvoM!AR691),\"\"))","v":""},null,null,{"$f":"IF(ISBLANK(FromEvoM!A691),\"\",IF(FromEvoM!AK691=\"y\",\"Y\",\"N\"))","v":""},{"$f":"IF(ISBLANK(FromEvoM!A691),\"\",Category_ID)","v":""},null,null,null,{"$f":"IF(ISBLANK(FromEvoM!AK691),\"\",FromEvoM!AK691)","v":""},{"$f":"IF(ISBLANK(FromEvoM!AM691),\"\",FromEvoM!AM691)","v":""},{"$f":"IF(ISBLANK(FromEvoM!AN691),\"\",FromEvoM!AN691)","v":""},{"$f":"IF(ISBLANK(FromEvoM!AL691),\"\",FromEvoM!AL691)","v":""},{"$f":"IF(ISBLANK(FromEvoM!A691),\"\",IF(AND(AF691=\"y\",AI691=1),\"Y\",\"N\"))","v":""},{"$f":"IF(ISBLANK(FromEvoM!A691),\"\",IF(FromEvoM!AS691=\"Yes\",2,1))","v":""},{"$f":"IF(FromEvoM!W691=1,\"M\",IF(FromEvoM!W691=7,\"W\",\"\"))","v":""},{"$f":"IF(AJ691=\"Y\",0,IF(AJ691=\"N\",FromEvoM!AF691+FromEvoM!AT691,\"\"))","v":""},{"$f":"IF(AJ691=\"Y\",(FromEvoM!AE691+FromEvoM!AF691-FromEvoM!AT691),IF(AJ691=\"N\",FromEvoM!AE691,\"\"))","v":""}]
[{"$f":"IF(ISBLANK(FromEvoM!A692),\"\",Group_Code)","v":""},{"$f":"IF(ISBLANK(FromEvoM!A692),\"\",SUBSTITUTE(FromEvoM!A692,\" \",\"\"))","v":""},{"$f":"IF(ISBLANK(FromEvoM!C692),\"\",SUBSTITUTE(FromEvoM!G692,\" \",\"\"))","v":""},{"$f":"IF(ISBLANK(FromEvoM!D692),\"\",FromEvoM!B692)","v":""},{"$f":"IF(ISBLANK(FromEvoM!D692),\"\",FromEvoM!D692)","v":""},{"$f":"IF(ISBLANK(FromEvoM!C692),\"\",FromEvoM!C692)","v":""},{"$f":"REPLACE(FromEvoM!F692,2,6, )","v":""},{"$f":"IF(ISNUMBER(FromEvoM!E692),FromEvoM!E692,\"\")","v":""},{"$f":"IF(ISBLANK(FromEvoM!I692),\"\",FromEvoM!I692)","v":""},{"$f":"IF(ISBLANK(FromEvoM!J692),\"\",FromEvoM!J692)","v":""},{"$f":"IF(ISBLANK(FromEvoM!K692),\"\",FromEvoM!K692)","v":""},{"$f":"IF(ISBLANK(FromEvoM!L692),\"\",FromEvoM!L692)","v":""},{"$f":"IF(ISBLANK(FromEvoM!M692),\"\",FromEvoM!M692)","v":""},{"$f":"IF(ISBLANK(FromEvoM!P692),\"\",FromEvoM!P692)","v":""},null,{"$f":"IF(ISNUMBER(FromEvoM!X692),FromEvoM!X692,\"\")","v":""},{"$f":"IF(ISNUMBER(FromEvoM!AB692),FromEvoM!AB692,\"\")","v":""},{"$f":"IF(ISNUMBER(FromEvoM!AA692),FromEvoM!AA692,\"\")","v":""},null,"","",null,null,{"$f":"IF(FromEvoM!W692=1,(FromEvoM!AB692*12),IF(FromEvoM!W692=7,(FromEvoM!AR692),\"\"))","v":""},null,null,{"$f":"IF(ISBLANK(FromEvoM!A692),\"\",IF(FromEvoM!AK692=\"y\",\"Y\",\"N\"))","v":""},{"$f":"IF(ISBLANK(FromEvoM!A692),\"\",Category_ID)","v":""},null,null,null,{"$f":"IF(ISBLANK(FromEvoM!AK692),\"\",FromEvoM!AK692)","v":""},{"$f":"IF(ISBLANK(FromEvoM!AM692),\"\",FromEvoM!AM692)","v":""},{"$f":"IF(ISBLANK(FromEvoM!AN692),\"\",FromEvoM!AN692)","v":""},{"$f":"IF(ISBLANK(FromEvoM!AL692),\"\",FromEvoM!AL692)","v":""},{"$f":"IF(ISBLANK(FromEvoM!A692),\"\",IF(AND(AF692=\"y\",AI692=1),\"Y\",\"N\"))","v":""},{"$f":"IF(ISBLANK(FromEvoM!A692),\"\",IF(FromEvoM!AS692=\"Yes\",2,1))","v":""},{"$f":"IF(FromEvoM!W692=1,\"M\",IF(FromEvoM!W692=7,\"W\",\"\"))","v":""},{"$f":"IF(AJ692=\"Y\",0,IF(AJ692=\"N\",FromEvoM!AF692+FromEvoM!AT692,\"\"))","v":""},{"$f":"IF(AJ692=\"Y\",(FromEvoM!AE692+FromEvoM!AF692-FromEvoM!AT692),IF(AJ692=\"N\",FromEvoM!AE692,\"\"))","v":""}]
[{"$f":"IF(ISBLANK(FromEvoM!A693),\"\",Group_Code)","v":""},{"$f":"IF(ISBLANK(FromEvoM!A693),\"\",SUBSTITUTE(FromEvoM!A693,\" \",\"\"))","v":""},{"$f":"IF(ISBLANK(FromEvoM!C693),\"\",SUBSTITUTE(FromEvoM!G693,\" \",\"\"))","v":""},{"$f":"IF(ISBLANK(FromEvoM!D693),\"\",FromEvoM!B693)","v":""},{"$f":"IF(ISBLANK(FromEvoM!D693),\"\",FromEvoM!D693)","v":""},{"$f":"IF(ISBLANK(FromEvoM!C693),\"\",FromEvoM!C693)","v":""},{"$f":"REPLACE(FromEvoM!F693,2,6, )","v":""},{"$f":"IF(ISNUMBER(FromEvoM!E693),FromEvoM!E693,\"\")","v":""},{"$f":"IF(ISBLANK(FromEvoM!I693),\"\",FromEvoM!I693)","v":""},{"$f":"IF(ISBLANK(FromEvoM!J693),\"\",FromEvoM!J693)","v":""},{"$f":"IF(ISBLANK(FromEvoM!K693),\"\",FromEvoM!K693)","v":""},{"$f":"IF(ISBLANK(FromEvoM!L693),\"\",FromEvoM!L693)","v":""},{"$f":"IF(ISBLANK(FromEvoM!M693),\"\",FromEvoM!M693)","v":""},{"$f":"IF(ISBLANK(FromEvoM!P693),\"\",FromEvoM!P693)","v":""},null,{"$f":"IF(ISNUMBER(FromEvoM!X693),FromEvoM!X693,\"\")","v":""},{"$f":"IF(ISNUMBER(FromEvoM!AB693),FromEvoM!AB693,\"\")","v":""},{"$f":"IF(ISNUMBER(FromEvoM!AA693),FromEvoM!AA693,\"\")","v":""},null,"","",null,null,{"$f":"IF(FromEvoM!W693=1,(FromEvoM!AB693*12),IF(FromEvoM!W693=7,(FromEvoM!AR693),\"\"))","v":""},null,null,{"$f":"IF(ISBLANK(FromEvoM!A693),\"\",IF(FromEvoM!AK693=\"y\",\"Y\",\"N\"))","v":""},{"$f":"IF(ISBLANK(FromEvoM!A693),\"\",Category_ID)","v":""},null,null,null,{"$f":"IF(ISBLANK(FromEvoM!AK693),\"\",FromEvoM!AK693)","v":""},{"$f":"IF(ISBLANK(FromEvoM!AM693),\"\",FromEvoM!AM693)","v":""},{"$f":"IF(ISBLANK(FromEvoM!AN693),\"\",FromEvoM!AN693)","v":""},{"$f":"IF(ISBLANK(FromEvoM!AL693),\"\",FromEvoM!AL693)","v":""},{"$f":"IF(ISBLANK(FromEvoM!A693),\"\",IF(AND(AF693=\"y\",AI693=1),\"Y\",\"N\"))","v":""},{"$f":"IF(ISBLANK(FromEvoM!A693),\"\",IF(FromEvoM!AS693=\"Yes\",2,1))","v":""},{"$f":"IF(FromEvoM!W693=1,\"M\",IF(FromEvoM!W693=7,\"W\",\"\"))","v":""},{"$f":"IF(AJ693=\"Y\",0,IF(AJ693=\"N\",FromEvoM!AF693+FromEvoM!AT693,\"\"))","v":""},{"$f":"IF(AJ693=\"Y\",(FromEvoM!AE693+FromEvoM!AF693-FromEvoM!AT693),IF(AJ693=\"N\",FromEvoM!AE693,\"\"))","v":""}]
[{"$f":"IF(ISBLANK(FromEvoM!A694),\"\",Group_Code)","v":""},{"$f":"IF(ISBLANK(FromEvoM!A694),\"\",SUBSTITUTE(FromEvoM!A694,\" \",\"\"))","v":""},{"$f":"IF(ISBLANK(FromEvoM!C694),\"\",SUBSTITUTE(FromEvoM!G694,\" \",\"\"))","v":""},{"$f":"IF(ISBLANK(FromEvoM!D694),\"\",FromEvoM!B694)","v":""},{"$f":"IF(ISBLANK(FromEvoM!D694),\"\",FromEvoM!D694)","v":""},{"$f":"IF(ISBLANK(FromEvoM!C694),\"\",FromEvoM!C694)","v":""},{"$f":"REPLACE(FromEvoM!F694,2,6, )","v":""},{"$f":"IF(ISNUMBER(FromEvoM!E694),FromEvoM!E694,\"\")","v":""},{"$f":"IF(ISBLANK(FromEvoM!I694),\"\",FromEvoM!I694)","v":""},{"$f":"IF(ISBLANK(FromEvoM!J694),\"\",FromEvoM!J694)","v":""},{"$f":"IF(ISBLANK(FromEvoM!K694),\"\",FromEvoM!K694)","v":""},{"$f":"IF(ISBLANK(FromEvoM!L694),\"\",FromEvoM!L694)","v":""},{"$f":"IF(ISBLANK(FromEvoM!M694),\"\",FromEvoM!M694)","v":""},{"$f":"IF(ISBLANK(FromEvoM!P694),\"\",FromEvoM!P694)","v":""},null,{"$f":"IF(ISNUMBER(FromEvoM!X694),FromEvoM!X694,\"\")","v":""},{"$f":"IF(ISNUMBER(FromEvoM!AB694),FromEvoM!AB694,\"\")","v":""},{"$f":"IF(ISNUMBER(FromEvoM!AA694),FromEvoM!AA694,\"\")","v":""},null,"","",null,null,{"$f":"IF(FromEvoM!W694=1,(FromEvoM!AB694*12),IF(FromEvoM!W694=7,(FromEvoM!AR694),\"\"))","v":""},null,null,{"$f":"IF(ISBLANK(FromEvoM!A694),\"\",IF(FromEvoM!AK694=\"y\",\"Y\",\"N\"))","v":""},{"$f":"IF(ISBLANK(FromEvoM!A694),\"\",Category_ID)","v":""},null,null,null,{"$f":"IF(ISBLANK(FromEvoM!AK694),\"\",FromEvoM!AK694)","v":""},{"$f":"IF(ISBLANK(FromEvoM!AM694),\"\",FromEvoM!AM694)","v":""},{"$f":"IF(ISBLANK(FromEvoM!AN694),\"\",FromEvoM!AN694)","v":""},{"$f":"IF(ISBLANK(FromEvoM!AL694),\"\",FromEvoM!AL694)","v":""},{"$f":"IF(ISBLANK(FromEvoM!A694),\"\",IF(AND(AF694=\"y\",AI694=1),\"Y\",\"N\"))","v":""},{"$f":"IF(ISBLANK(FromEvoM!A694),\"\",IF(FromEvoM!AS694=\"Yes\",2,1))","v":""},{"$f":"IF(FromEvoM!W694=1,\"M\",IF(FromEvoM!W694=7,\"W\",\"\"))","v":""},{"$f":"IF(AJ694=\"Y\",0,IF(AJ694=\"N\",FromEvoM!AF694+FromEvoM!AT694,\"\"))","v":""},{"$f":"IF(AJ694=\"Y\",(FromEvoM!AE694+FromEvoM!AF694-FromEvoM!AT694),IF(AJ694=\"N\",FromEvoM!AE694,\"\"))","v":""}]
[{"$f":"IF(ISBLANK(FromEvoM!A695),\"\",Group_Code)","v":""},{"$f":"IF(ISBLANK(FromEvoM!A695),\"\",SUBSTITUTE(FromEvoM!A695,\" \",\"\"))","v":""},{"$f":"IF(ISBLANK(FromEvoM!C695),\"\",SUBSTITUTE(FromEvoM!G695,\" \",\"\"))","v":""},{"$f":"IF(ISBLANK(FromEvoM!D695),\"\",FromEvoM!B695)","v":""},{"$f":"IF(ISBLANK(FromEvoM!D695),\"\",FromEvoM!D695)","v":""},{"$f":"IF(ISBLANK(FromEvoM!C695),\"\",FromEvoM!C695)","v":""},{"$f":"REPLACE(FromEvoM!F695,2,6, )","v":""},{"$f":"IF(ISNUMBER(FromEvoM!E695),FromEvoM!E695,\"\")","v":""},{"$f":"IF(ISBLANK(FromEvoM!I695),\"\",FromEvoM!I695)","v":""},{"$f":"IF(ISBLANK(FromEvoM!J695),\"\",FromEvoM!J695)","v":""},{"$f":"IF(ISBLANK(FromEvoM!K695),\"\",FromEvoM!K695)","v":""},{"$f":"IF(ISBLANK(FromEvoM!L695),\"\",FromEvoM!L695)","v":""},{"$f":"IF(ISBLANK(FromEvoM!M695),\"\",FromEvoM!M695)","v":""},{"$f":"IF(ISBLANK(FromEvoM!P695),\"\",FromEvoM!P695)","v":""},null,{"$f":"IF(ISNUMBER(FromEvoM!X695),FromEvoM!X695,\"\")","v":""},{"$f":"IF(ISNUMBER(FromEvoM!AB695),FromEvoM!AB695,\"\")","v":""},{"$f":"IF(ISNUMBER(FromEvoM!AA695),FromEvoM!AA695,\"\")","v":""},null,"","",null,null,{"$f":"IF(FromEvoM!W695=1,(FromEvoM!AB695*12),IF(FromEvoM!W695=7,(FromEvoM!AR695),\"\"))","v":""},null,null,{"$f":"IF(ISBLANK(FromEvoM!A695),\"\",IF(FromEvoM!AK695=\"y\",\"Y\",\"N\"))","v":""},{"$f":"IF(ISBLANK(FromEvoM!A695),\"\",Category_ID)","v":""},null,null,null,{"$f":"IF(ISBLANK(FromEvoM!AK695),\"\",FromEvoM!AK695)","v":""},{"$f":"IF(ISBLANK(FromEvoM!AM695),\"\",FromEvoM!AM695)","v":""},{"$f":"IF(ISBLANK(FromEvoM!AN695),\"\",FromEvoM!AN695)","v":""},{"$f":"IF(ISBLANK(FromEvoM!AL695),\"\",FromEvoM!AL695)","v":""},{"$f":"IF(ISBLANK(FromEvoM!A695),\"\",IF(AND(AF695=\"y\",AI695=1),\"Y\",\"N\"))","v":""},{"$f":"IF(ISBLANK(FromEvoM!A695),\"\",IF(FromEvoM!AS695=\"Yes\",2,1))","v":""},{"$f":"IF(FromEvoM!W695=1,\"M\",IF(FromEvoM!W695=7,\"W\",\"\"))","v":""},{"$f":"IF(AJ695=\"Y\",0,IF(AJ695=\"N\",FromEvoM!AF695+FromEvoM!AT695,\"\"))","v":""},{"$f":"IF(AJ695=\"Y\",(FromEvoM!AE695+FromEvoM!AF695-FromEvoM!AT695),IF(AJ695=\"N\",FromEvoM!AE695,\"\"))","v":""}]
[{"$f":"IF(ISBLANK(FromEvoM!A696),\"\",Group_Code)","v":""},{"$f":"IF(ISBLANK(FromEvoM!A696),\"\",SUBSTITUTE(FromEvoM!A696,\" \",\"\"))","v":""},{"$f":"IF(ISBLANK(FromEvoM!C696),\"\",SUBSTITUTE(FromEvoM!G696,\" \",\"\"))","v":""},{"$f":"IF(ISBLANK(FromEvoM!D696),\"\",FromEvoM!B696)","v":""},{"$f":"IF(ISBLANK(FromEvoM!D696),\"\",FromEvoM!D696)","v":""},{"$f":"IF(ISBLANK(FromEvoM!C696),\"\",FromEvoM!C696)","v":""},{"$f":"REPLACE(FromEvoM!F696,2,6, )","v":""},{"$f":"IF(ISNUMBER(FromEvoM!E696),FromEvoM!E696,\"\")","v":""},{"$f":"IF(ISBLANK(FromEvoM!I696),\"\",FromEvoM!I696)","v":""},{"$f":"IF(ISBLANK(FromEvoM!J696),\"\",FromEvoM!J696)","v":""},{"$f":"IF(ISBLANK(FromEvoM!K696),\"\",FromEvoM!K696)","v":""},{"$f":"IF(ISBLANK(FromEvoM!L696),\"\",FromEvoM!L696)","v":""},{"$f":"IF(ISBLANK(FromEvoM!M696),\"\",FromEvoM!M696)","v":""},{"$f":"IF(ISBLANK(FromEvoM!P696),\"\",FromEvoM!P696)","v":""},null,{"$f":"IF(ISNUMBER(FromEvoM!X696),FromEvoM!X696,\"\")","v":""},{"$f":"IF(ISNUMBER(FromEvoM!AB696),FromEvoM!AB696,\"\")","v":""},{"$f":"IF(ISNUMBER(FromEvoM!AA696),FromEvoM!AA696,\"\")","v":""},null,"","",null,null,{"$f":"IF(FromEvoM!W696=1,(FromEvoM!AB696*12),IF(FromEvoM!W696=7,(FromEvoM!AR696),\"\"))","v":""},null,null,{"$f":"IF(ISBLANK(FromEvoM!A696),\"\",IF(FromEvoM!AK696=\"y\",\"Y\",\"N\"))","v":""},{"$f":"IF(ISBLANK(FromEvoM!A696),\"\",Category_ID)","v":""},null,null,null,{"$f":"IF(ISBLANK(FromEvoM!AK696),\"\",FromEvoM!AK696)","v":""},{"$f":"IF(ISBLANK(FromEvoM!AM696),\"\",FromEvoM!AM696)","v":""},{"$f":"IF(ISBLANK(FromEvoM!AN696),\"\",FromEvoM!AN696)","v":""},{"$f":"IF(ISBLANK(FromEvoM!AL696),\"\",FromEvoM!AL696)","v":""},{"$f":"IF(ISBLANK(FromEvoM!A696),\"\",IF(AND(AF696=\"y\",AI696=1),\"Y\",\"N\"))","v":""},{"$f":"IF(ISBLANK(FromEvoM!A696),\"\",IF(FromEvoM!AS696=\"Yes\",2,1))","v":""},{"$f":"IF(FromEvoM!W696=1,\"M\",IF(FromEvoM!W696=7,\"W\",\"\"))","v":""},{"$f":"IF(AJ696=\"Y\",0,IF(AJ696=\"N\",FromEvoM!AF696+FromEvoM!AT696,\"\"))","v":""},{"$f":"IF(AJ696=\"Y\",(FromEvoM!AE696+FromEvoM!AF696-FromEvoM!AT696),IF(AJ696=\"N\",FromEvoM!AE696,\"\"))","v":""}]
[{"$f":"IF(ISBLANK(FromEvoM!A697),\"\",Group_Code)","v":""},{"$f":"IF(ISBLANK(FromEvoM!A697),\"\",SUBSTITUTE(FromEvoM!A697,\" \",\"\"))","v":""},{"$f":"IF(ISBLANK(FromEvoM!C697),\"\",SUBSTITUTE(FromEvoM!G697,\" \",\"\"))","v":""},{"$f":"IF(ISBLANK(FromEvoM!D697),\"\",FromEvoM!B697)","v":""},{"$f":"IF(ISBLANK(FromEvoM!D697),\"\",FromEvoM!D697)","v":""},{"$f":"IF(ISBLANK(FromEvoM!C697),\"\",FromEvoM!C697)","v":""},{"$f":"REPLACE(FromEvoM!F697,2,6, )","v":""},{"$f":"IF(ISNUMBER(FromEvoM!E697),FromEvoM!E697,\"\")","v":""},{"$f":"IF(ISBLANK(FromEvoM!I697),\"\",FromEvoM!I697)","v":""},{"$f":"IF(ISBLANK(FromEvoM!J697),\"\",FromEvoM!J697)","v":""},{"$f":"IF(ISBLANK(FromEvoM!K697),\"\",FromEvoM!K697)","v":""},{"$f":"IF(ISBLANK(FromEvoM!L697),\"\",FromEvoM!L697)","v":""},{"$f":"IF(ISBLANK(FromEvoM!M697),\"\",FromEvoM!M697)","v":""},{"$f":"IF(ISBLANK(FromEvoM!P697),\"\",FromEvoM!P697)","v":""},null,{"$f":"IF(ISNUMBER(FromEvoM!X697),FromEvoM!X697,\"\")","v":""},{"$f":"IF(ISNUMBER(FromEvoM!AB697),FromEvoM!AB697,\"\")","v":""},{"$f":"IF(ISNUMBER(FromEvoM!AA697),FromEvoM!AA697,\"\")","v":""},null,"","",null,null,{"$f":"IF(FromEvoM!W697=1,(FromEvoM!AB697*12),IF(FromEvoM!W697=7,(FromEvoM!AR697),\"\"))","v":""},null,null,{"$f":"IF(ISBLANK(FromEvoM!A697),\"\",IF(FromEvoM!AK697=\"y\",\"Y\",\"N\"))","v":""},{"$f":"IF(ISBLANK(FromEvoM!A697),\"\",Category_ID)","v":""},null,null,null,{"$f":"IF(ISBLANK(FromEvoM!AK697),\"\",FromEvoM!AK697)","v":""},{"$f":"IF(ISBLANK(FromEvoM!AM697),\"\",FromEvoM!AM697)","v":""},{"$f":"IF(ISBLANK(FromEvoM!AN697),\"\",FromEvoM!AN697)","v":""},{"$f":"IF(ISBLANK(FromEvoM!AL697),\"\",FromEvoM!AL697)","v":""},{"$f":"IF(ISBLANK(FromEvoM!A697),\"\",IF(AND(AF697=\"y\",AI697=1),\"Y\",\"N\"))","v":""},{"$f":"IF(ISBLANK(FromEvoM!A697),\"\",IF(FromEvoM!AS697=\"Yes\",2,1))","v":""},{"$f":"IF(FromEvoM!W697=1,\"M\",IF(FromEvoM!W697=7,\"W\",\"\"))","v":""},{"$f":"IF(AJ697=\"Y\",0,IF(AJ697=\"N\",FromEvoM!AF697+FromEvoM!AT697,\"\"))","v":""},{"$f":"IF(AJ697=\"Y\",(FromEvoM!AE697+FromEvoM!AF697-FromEvoM!AT697),IF(AJ697=\"N\",FromEvoM!AE697,\"\"))","v":""}]
[{"$f":"IF(ISBLANK(FromEvoM!A698),\"\",Group_Code)","v":""},{"$f":"IF(ISBLANK(FromEvoM!A698),\"\",SUBSTITUTE(FromEvoM!A698,\" \",\"\"))","v":""},{"$f":"IF(ISBLANK(FromEvoM!C698),\"\",SUBSTITUTE(FromEvoM!G698,\" \",\"\"))","v":""},{"$f":"IF(ISBLANK(FromEvoM!D698),\"\",FromEvoM!B698)","v":""},{"$f":"IF(ISBLANK(FromEvoM!D698),\"\",FromEvoM!D698)","v":""},{"$f":"IF(ISBLANK(FromEvoM!C698),\"\",FromEvoM!C698)","v":""},{"$f":"REPLACE(FromEvoM!F698,2,6, )","v":""},{"$f":"IF(ISNUMBER(FromEvoM!E698),FromEvoM!E698,\"\")","v":""},{"$f":"IF(ISBLANK(FromEvoM!I698),\"\",FromEvoM!I698)","v":""},{"$f":"IF(ISBLANK(FromEvoM!J698),\"\",FromEvoM!J698)","v":""},{"$f":"IF(ISBLANK(FromEvoM!K698),\"\",FromEvoM!K698)","v":""},{"$f":"IF(ISBLANK(FromEvoM!L698),\"\",FromEvoM!L698)","v":""},{"$f":"IF(ISBLANK(FromEvoM!M698),\"\",FromEvoM!M698)","v":""},{"$f":"IF(ISBLANK(FromEvoM!P698),\"\",FromEvoM!P698)","v":""},null,{"$f":"IF(ISNUMBER(FromEvoM!X698),FromEvoM!X698,\"\")","v":""},{"$f":"IF(ISNUMBER(FromEvoM!AB698),FromEvoM!AB698,\"\")","v":""},{"$f":"IF(ISNUMBER(FromEvoM!AA698),FromEvoM!AA698,\"\")","v":""},null,"","",null,null,{"$f":"IF(FromEvoM!W698=1,(FromEvoM!AB698*12),IF(FromEvoM!W698=7,(FromEvoM!AR698),\"\"))","v":""},null,null,{"$f":"IF(ISBLANK(FromEvoM!A698),\"\",IF(FromEvoM!AK698=\"y\",\"Y\",\"N\"))","v":""},{"$f":"IF(ISBLANK(FromEvoM!A698),\"\",Category_ID)","v":""},null,null,null,{"$f":"IF(ISBLANK(FromEvoM!AK698),\"\",FromEvoM!AK698)","v":""},{"$f":"IF(ISBLANK(FromEvoM!AM698),\"\",FromEvoM!AM698)","v":""},{"$f":"IF(ISBLANK(FromEvoM!AN698),\"\",FromEvoM!AN698)","v":""},{"$f":"IF(ISBLANK(FromEvoM!AL698),\"\",FromEvoM!AL698)","v":""},{"$f":"IF(ISBLANK(FromEvoM!A698),\"\",IF(AND(AF698=\"y\",AI698=1),\"Y\",\"N\"))","v":""},{"$f":"IF(ISBLANK(FromEvoM!A698),\"\",IF(FromEvoM!AS698=\"Yes\",2,1))","v":""},{"$f":"IF(FromEvoM!W698=1,\"M\",IF(FromEvoM!W698=7,\"W\",\"\"))","v":""},{"$f":"IF(AJ698=\"Y\",0,IF(AJ698=\"N\",FromEvoM!AF698+FromEvoM!AT698,\"\"))","v":""},{"$f":"IF(AJ698=\"Y\",(FromEvoM!AE698+FromEvoM!AF698-FromEvoM!AT698),IF(AJ698=\"N\",FromEvoM!AE698,\"\"))","v":""}]
[{"$f":"IF(ISBLANK(FromEvoM!A699),\"\",Group_Code)","v":""},{"$f":"IF(ISBLANK(FromEvoM!A699),\"\",SUBSTITUTE(FromEvoM!A699,\" \",\"\"))","v":""},{"$f":"IF(ISBLANK(FromEvoM!C699),\"\",SUBSTITUTE(FromEvoM!G699,\" \",\"\"))","v":""},{"$f":"IF(ISBLANK(FromEvoM!D699),\"\",FromEvoM!B699)","v":""},{"$f":"IF(ISBLANK(FromEvoM!D699),\"\",FromEvoM!D699)","v":""},{"$f":"IF(ISBLANK(FromEvoM!C699),\"\",FromEvoM!C699)","v":""},{"$f":"REPLACE(FromEvoM!F699,2,6, )","v":""},{"$f":"IF(ISNUMBER(FromEvoM!E699),FromEvoM!E699,\"\")","v":""},{"$f":"IF(ISBLANK(FromEvoM!I699),\"\",FromEvoM!I699)","v":""},{"$f":"IF(ISBLANK(FromEvoM!J699),\"\",FromEvoM!J699)","v":""},{"$f":"IF(ISBLANK(FromEvoM!K699),\"\",FromEvoM!K699)","v":""},{"$f":"IF(ISBLANK(FromEvoM!L699),\"\",FromEvoM!L699)","v":""},{"$f":"IF(ISBLANK(FromEvoM!M699),\"\",FromEvoM!M699)","v":""},{"$f":"IF(ISBLANK(FromEvoM!P699),\"\",FromEvoM!P699)","v":""},null,{"$f":"IF(ISNUMBER(FromEvoM!X699),FromEvoM!X699,\"\")","v":""},{"$f":"IF(ISNUMBER(FromEvoM!AB699),FromEvoM!AB699,\"\")","v":""},{"$f":"IF(ISNUMBER(FromEvoM!AA699),FromEvoM!AA699,\"\")","v":""},null,"","",null,null,{"$f":"IF(FromEvoM!W699=1,(FromEvoM!AB699*12),IF(FromEvoM!W699=7,(FromEvoM!AR699),\"\"))","v":""},null,null,{"$f":"IF(ISBLANK(FromEvoM!A699),\"\",IF(FromEvoM!AK699=\"y\",\"Y\",\"N\"))","v":""},{"$f":"IF(ISBLANK(FromEvoM!A699),\"\",Category_ID)","v":""},null,null,null,{"$f":"IF(ISBLANK(FromEvoM!AK699),\"\",FromEvoM!AK699)","v":""},{"$f":"IF(ISBLANK(FromEvoM!AM699),\"\",FromEvoM!AM699)","v":""},{"$f":"IF(ISBLANK(FromEvoM!AN699),\"\",FromEvoM!AN699)","v":""},{"$f":"IF(ISBLANK(FromEvoM!AL699),\"\",FromEvoM!AL699)","v":""},{"$f":"IF(ISBLANK(FromEvoM!A699),\"\",IF(AND(AF699=\"y\",AI699=1),\"Y\",\"N\"))","v":""},{"$f":"IF(ISBLANK(FromEvoM!A699),\"\",IF(FromEvoM!AS699=\"Yes\",2,1))","v":""},{"$f":"IF(FromEvoM!W699=1,\"M\",IF(FromEvoM!W699=7,\"W\",\"\"))","v":""},{"$f":"IF(AJ699=\"Y\",0,IF(AJ699=\"N\",FromEvoM!AF699+FromEvoM!AT699,\"\"))","v":""},{"$f":"IF(AJ699=\"Y\",(FromEvoM!AE699+FromEvoM!AF699-FromEvoM!AT699),IF(AJ699=\"N\",FromEvoM!AE699,\"\"))","v":""}]
[{"$f":"IF(ISBLANK(FromEvoM!A700),\"\",Group_Code)","v":""},{"$f":"IF(ISBLANK(FromEvoM!A700),\"\",SUBSTITUTE(FromEvoM!A700,\" \",\"\"))","v":""},{"$f":"IF(ISBLANK(FromEvoM!C700),\"\",SUBSTITUTE(FromEvoM!G700,\" \",\"\"))","v":""},{"$f":"IF(ISBLANK(FromEvoM!D700),\"\",FromEvoM!B700)","v":""},{"$f":"IF(ISBLANK(FromEvoM!D700),\"\",FromEvoM!D700)","v":""},{"$f":"IF(ISBLANK(FromEvoM!C700),\"\",FromEvoM!C700)","v":""},{"$f":"REPLACE(FromEvoM!F700,2,6, )","v":""},{"$f":"IF(ISNUMBER(FromEvoM!E700),FromEvoM!E700,\"\")","v":""},{"$f":"IF(ISBLANK(FromEvoM!I700),\"\",FromEvoM!I700)","v":""},{"$f":"IF(ISBLANK(FromEvoM!J700),\"\",FromEvoM!J700)","v":""},{"$f":"IF(ISBLANK(FromEvoM!K700),\"\",FromEvoM!K700)","v":""},{"$f":"IF(ISBLANK(FromEvoM!L700),\"\",FromEvoM!L700)","v":""},{"$f":"IF(ISBLANK(FromEvoM!M700),\"\",FromEvoM!M700)","v":""},{"$f":"IF(ISBLANK(FromEvoM!P700),\"\",FromEvoM!P700)","v":""},null,{"$f":"IF(ISNUMBER(FromEvoM!X700),FromEvoM!X700,\"\")","v":""},{"$f":"IF(ISNUMBER(FromEvoM!AB700),FromEvoM!AB700,\"\")","v":""},{"$f":"IF(ISNUMBER(FromEvoM!AA700),FromEvoM!AA700,\"\")","v":""},null,"","",null,null,{"$f":"IF(FromEvoM!W700=1,(FromEvoM!AB700*12),IF(FromEvoM!W700=7,(FromEvoM!AR700),\"\"))","v":""},null,null,{"$f":"IF(ISBLANK(FromEvoM!A700),\"\",IF(FromEvoM!AK700=\"y\",\"Y\",\"N\"))","v":""},{"$f":"IF(ISBLANK(FromEvoM!A700),\"\",Category_ID)","v":""},null,null,null,{"$f":"IF(ISBLANK(FromEvoM!AK700),\"\",FromEvoM!AK700)","v":""},{"$f":"IF(ISBLANK(FromEvoM!AM700),\"\",FromEvoM!AM700)","v":""},{"$f":"IF(ISBLANK(FromEvoM!AN700),\"\",FromEvoM!AN700)","v":""},{"$f":"IF(ISBLANK(FromEvoM!AL700),\"\",FromEvoM!AL700)","v":""},{"$f":"IF(ISBLANK(FromEvoM!A700),\"\",IF(AND(AF700=\"y\",AI700=1),\"Y\",\"N\"))","v":""},{"$f":"IF(ISBLANK(FromEvoM!A700),\"\",IF(FromEvoM!AS700=\"Yes\",2,1))","v":""},{"$f":"IF(FromEvoM!W700=1,\"M\",IF(FromEvoM!W700=7,\"W\",\"\"))","v":""},{"$f":"IF(AJ700=\"Y\",0,IF(AJ700=\"N\",FromEvoM!AF700+FromEvoM!AT700,\"\"))","v":""},{"$f":"IF(AJ700=\"Y\",(FromEvoM!AE700+FromEvoM!AF700-FromEvoM!AT700),IF(AJ700=\"N\",FromEvoM!AE700,\"\"))","v":""}]

{"sheet":"AME Template","index":3,"n_rows":1,"n_cols":28,"rows_kept":1,"cut":false,"hidden":false,"merged":[]}
["Group_code","Payroll_Reference_Code","NI_Number","Title","Surname","Forename","Gender","DOB","Address1","Address2","Address3","Address4","Postcode","Email","Marital_status","Employment_start_date","Pensionable_earnings(current)","Contractual_Earnings(current)","Noncontractual_Earnings(current)","Employee_pension_payment(current)","Employer_pension_payment(current)","Employee_Single_Contribution","Employer_Single_Contribution","Yearly_Pensionable_Earnings","Daytime_Telephone","Evening_Telephone","Existing_member","Category_ID"]